BEGIN:VCALENDAR
VERSION:2.0
METHOD:PUBLISH
BEGIN:VEVENT
DTSTART;VALUE=DATE:20140313
DTEND;VALUE=DATE:20140314
LOCATION:San Bartolome, 34 Torre Madariaga
UID:r01dpd14473d41b6e1a0157d43d49b504fa2c551e
DTSTAMP:20140227
SUMMARY:Euskal Autonomia Erkidegoko LIFE+ Estuarioak proiektuaren bukaerako jardunaldia
DESCRIPTION:Tokia: Centro de Biodiversidad de EuskadiHelbidea: Busturia (Bizkaia) - 48009 - BusturiaData: 2014/03/13Ordutegia: 09:30 - 18:45\n
PRIORITY:5
CLASS:PUBLIC
END:VEVENT
END:VCALENDAR