BEGIN:VCALENDAR
VERSION:2.0
METHOD:PUBLISH
BEGIN:VEVENT
DTSTART:20261112T090000
DTEND:20261112T130000
LOCATION:REKALDE ZUMARKALEA 28 - BILBAO
UID:
DTSTAMP:20260121
SUMMARY:PROPUESTAS PARA LA MEJORA DEL LENGUAJE ADMINISTRATIVO
DESCRIPTION:Presencial
PRIORITY:5
CLASS:PUBLIC
X-ALT-DESC;FMTTYPE=text/html:<!DOCTYPE HTML PUBLIC ""-//W3C//DTD HTML 3.2//EN""><HTML><BODY><P>Presencial</P></BODY></HTML>
END:VEVENT
BEGIN:VEVENT
DTSTART:20261119T090000
DTEND:20261119T130000
LOCATION:REKALDE ZUMARKALEA 28 - BILBAO
UID:
DTSTAMP:20260121
SUMMARY:PROPUESTAS PARA LA MEJORA DEL LENGUAJE ADMINISTRATIVO
DESCRIPTION:Presencial
PRIORITY:5
CLASS:PUBLIC
X-ALT-DESC;FMTTYPE=text/html:<!DOCTYPE HTML PUBLIC ""-//W3C//DTD HTML 3.2//EN""><HTML><BODY><P>Presencial</P></BODY></HTML>
END:VEVENT
BEGIN:VEVENT
DTSTART:20261126T090000
DTEND:20261126T130000
LOCATION:REKALDE ZUMARKALEA 28 - BILBAO
UID:
DTSTAMP:20260121
SUMMARY:PROPUESTAS PARA LA MEJORA DEL LENGUAJE ADMINISTRATIVO
DESCRIPTION:Presencial
PRIORITY:5
CLASS:PUBLIC
X-ALT-DESC;FMTTYPE=text/html:<!DOCTYPE HTML PUBLIC ""-//W3C//DTD HTML 3.2//EN""><HTML><BODY><P>Presencial</P></BODY></HTML>
END:VEVENT
BEGIN:VEVENT
DTSTART:20261203T090000
DTEND:20261203T130000
LOCATION:REKALDE ZUMARKALEA 28 - BILBAO
UID:
DTSTAMP:20260121
SUMMARY:PROPUESTAS PARA LA MEJORA DEL LENGUAJE ADMINISTRATIVO
DESCRIPTION:Presencial
PRIORITY:5
CLASS:PUBLIC
X-ALT-DESC;FMTTYPE=text/html:<!DOCTYPE HTML PUBLIC ""-//W3C//DTD HTML 3.2//EN""><HTML><BODY><P>Presencial</P></BODY></HTML>
END:VEVENT
END:VCALENDAR