BEGIN:VCALENDAR
VERSION:2.0
METHOD:PUBLISH
BEGIN:VEVENT
DTSTART:20261027T090000
DTEND:20261027T110000
LOCATION:DONOSTIA-SAN SEBASTIÁN 1 - VITORIA-GASTEIZ, CP: 01010
UID:
DTSTAMP:20251218
SUMMARY:3. HE: AHOZKOA BIRZIKLATEKO IKASTAROA
DESCRIPTION:Presencial
PRIORITY:5
CLASS:PUBLIC
X-ALT-DESC;FMTTYPE=text/html:<!DOCTYPE HTML PUBLIC ""-//W3C//DTD HTML 3.2//EN""><HTML><BODY><P>Presencial</P></BODY></HTML>
END:VEVENT
BEGIN:VEVENT
DTSTART:20261029T090000
DTEND:20261029T110000
LOCATION:DONOSTIA-SAN SEBASTIÁN 1 - VITORIA-GASTEIZ, CP: 01010
UID:
DTSTAMP:20251218
SUMMARY:3. HE: AHOZKOA BIRZIKLATEKO IKASTAROA
DESCRIPTION:Presencial
PRIORITY:5
CLASS:PUBLIC
X-ALT-DESC;FMTTYPE=text/html:<!DOCTYPE HTML PUBLIC ""-//W3C//DTD HTML 3.2//EN""><HTML><BODY><P>Presencial</P></BODY></HTML>
END:VEVENT
BEGIN:VEVENT
DTSTART:20261103T090000
DTEND:20261103T110000
LOCATION:DONOSTIA-SAN SEBASTIÁN 1 - VITORIA-GASTEIZ, CP: 01010
UID:
DTSTAMP:20251218
SUMMARY:3. HE: AHOZKOA BIRZIKLATEKO IKASTAROA
DESCRIPTION:Presencial
PRIORITY:5
CLASS:PUBLIC
X-ALT-DESC;FMTTYPE=text/html:<!DOCTYPE HTML PUBLIC ""-//W3C//DTD HTML 3.2//EN""><HTML><BODY><P>Presencial</P></BODY></HTML>
END:VEVENT
BEGIN:VEVENT
DTSTART:20261105T090000
DTEND:20261105T110000
LOCATION:DONOSTIA-SAN SEBASTIÁN 1 - VITORIA-GASTEIZ, CP: 01010
UID:
DTSTAMP:20251218
SUMMARY:3. HE: AHOZKOA BIRZIKLATEKO IKASTAROA
DESCRIPTION:Presencial
PRIORITY:5
CLASS:PUBLIC
X-ALT-DESC;FMTTYPE=text/html:<!DOCTYPE HTML PUBLIC ""-//W3C//DTD HTML 3.2//EN""><HTML><BODY><P>Presencial</P></BODY></HTML>
END:VEVENT
BEGIN:VEVENT
DTSTART:20261110T090000
DTEND:20261110T110000
LOCATION:DONOSTIA-SAN SEBASTIÁN 1 - VITORIA-GASTEIZ, CP: 01010
UID:
DTSTAMP:20251218
SUMMARY:3. HE: AHOZKOA BIRZIKLATEKO IKASTAROA
DESCRIPTION:Presencial
PRIORITY:5
CLASS:PUBLIC
X-ALT-DESC;FMTTYPE=text/html:<!DOCTYPE HTML PUBLIC ""-//W3C//DTD HTML 3.2//EN""><HTML><BODY><P>Presencial</P></BODY></HTML>
END:VEVENT
BEGIN:VEVENT
DTSTART:20261112T090000
DTEND:20261112T110000
LOCATION:DONOSTIA-SAN SEBASTIÁN 1 - VITORIA-GASTEIZ, CP: 01010
UID:
DTSTAMP:20251218
SUMMARY:3. HE: AHOZKOA BIRZIKLATEKO IKASTAROA
DESCRIPTION:Presencial
PRIORITY:5
CLASS:PUBLIC
X-ALT-DESC;FMTTYPE=text/html:<!DOCTYPE HTML PUBLIC ""-//W3C//DTD HTML 3.2//EN""><HTML><BODY><P>Presencial</P></BODY></HTML>
END:VEVENT
BEGIN:VEVENT
DTSTART:20261117T090000
DTEND:20261117T110000
LOCATION:DONOSTIA-SAN SEBASTIÁN 1 - VITORIA-GASTEIZ, CP: 01010
UID:
DTSTAMP:20251218
SUMMARY:3. HE: AHOZKOA BIRZIKLATEKO IKASTAROA
DESCRIPTION:Presencial
PRIORITY:5
CLASS:PUBLIC
X-ALT-DESC;FMTTYPE=text/html:<!DOCTYPE HTML PUBLIC ""-//W3C//DTD HTML 3.2//EN""><HTML><BODY><P>Presencial</P></BODY></HTML>
END:VEVENT
BEGIN:VEVENT
DTSTART:20261119T090000
DTEND:20261119T110000
LOCATION:DONOSTIA-SAN SEBASTIÁN 1 - VITORIA-GASTEIZ, CP: 01010
UID:
DTSTAMP:20251218
SUMMARY:3. HE: AHOZKOA BIRZIKLATEKO IKASTAROA
DESCRIPTION:Presencial
PRIORITY:5
CLASS:PUBLIC
X-ALT-DESC;FMTTYPE=text/html:<!DOCTYPE HTML PUBLIC ""-//W3C//DTD HTML 3.2//EN""><HTML><BODY><P>Presencial</P></BODY></HTML>
END:VEVENT
BEGIN:VEVENT
DTSTART:20261124T090000
DTEND:20261124T110000
LOCATION:DONOSTIA-SAN SEBASTIÁN 1 - VITORIA-GASTEIZ, CP: 01010
UID:
DTSTAMP:20251218
SUMMARY:3. HE: AHOZKOA BIRZIKLATEKO IKASTAROA
DESCRIPTION:Presencial
PRIORITY:5
CLASS:PUBLIC
X-ALT-DESC;FMTTYPE=text/html:<!DOCTYPE HTML PUBLIC ""-//W3C//DTD HTML 3.2//EN""><HTML><BODY><P>Presencial</P></BODY></HTML>
END:VEVENT
BEGIN:VEVENT
DTSTART:20261126T090000
DTEND:20261126T110000
LOCATION:DONOSTIA-SAN SEBASTIÁN 1 - VITORIA-GASTEIZ, CP: 01010
UID:
DTSTAMP:20251218
SUMMARY:3. HE: AHOZKOA BIRZIKLATEKO IKASTAROA
DESCRIPTION:Presencial
PRIORITY:5
CLASS:PUBLIC
X-ALT-DESC;FMTTYPE=text/html:<!DOCTYPE HTML PUBLIC ""-//W3C//DTD HTML 3.2//EN""><HTML><BODY><P>Presencial</P></BODY></HTML>
END:VEVENT
END:VCALENDAR