BEGIN:VCALENDAR
VERSION:2.0
METHOD:PUBLISH
BEGIN:VEVENT
DTSTART:20261014T090000
DTEND:20261014T140000
LOCATION:SAN BARTOLOMÉ 28 - DONOSTIA / SAN SEBASTIÁN, CP: 20007
UID:
DTSTAMP:20251211
SUMMARY:GEOEUSKADI BISOREAREN ERABILERA DONOSTIA
DESCRIPTION:Presencial
PRIORITY:5
CLASS:PUBLIC
X-ALT-DESC;FMTTYPE=text/html:<!DOCTYPE HTML PUBLIC ""-//W3C//DTD HTML 3.2//EN""><HTML><BODY><P>Presencial</P></BODY></HTML>
END:VEVENT
BEGIN:VEVENT
DTSTART:20261015T090000
DTEND:20261015T140000
LOCATION:SAN BARTOLOMÉ 28 - DONOSTIA / SAN SEBASTIÁN, CP: 20007
UID:
DTSTAMP:20251211
SUMMARY:GEOEUSKADI BISOREAREN ERABILERA DONOSTIA
DESCRIPTION:Presencial
PRIORITY:5
CLASS:PUBLIC
X-ALT-DESC;FMTTYPE=text/html:<!DOCTYPE HTML PUBLIC ""-//W3C//DTD HTML 3.2//EN""><HTML><BODY><P>Presencial</P></BODY></HTML>
END:VEVENT
END:VCALENDAR