{"text_format":"1","workbook":"xlsx","n_sheets":19,"sheets":["Instrucciones","Datos generales organización","Alcance 1","Alcance 2","Alcance 3","Hoja de registros","Mi área de trabajo"," Result- RVHdC Declarac","Result- RVHdC Detalle","Result- SGMA","Result- REHdC","Cálculos","Cálculos_5","Datos 1-Factores emisión","Datos 3-Factores de convers","Datos 2-Potenciales calent glob","Fuentes de datos","Actualizaciones","Acrónimos"],"not_rendered":{"charts":20,"images":24,"macros":1,"external_links":0,"defined_names":11,"comments":5,"pivot_tables":0},"unopened":[],"bounds":{"document_bytes":16777216,"sheet_cells":100000,"rows_first":2000,"rows_last":500,"rows_between":2000,"halvings":0,"cell_chars":16384,"cell_head_chars":4096},"cells_cut":0,"cells_raw":0,"read":"whole","date_system":"1900"}

{"sheet":"Instrucciones","index":0,"n_rows":140,"n_cols":17,"rows_kept":140,"cut":false,"hidden":false,"merged":[[5,11,5,12],[5,16,5,17],[138,1,138,5],[5,1,5,7],[7,1,7,7],[9,1,9,7],[11,1,11,7],[13,1,13,7],[15,1,15,7],[17,1,17,7],[59,1,59,6],[31,1,31,7],[33,1,33,7],[35,1,35,7],[100,1,100,6],[109,1,109,6],[0,1,0,9],[45,1,45,5],[46,1,46,6],[49,1,49,5],[50,1,50,6],[19,1,19,7],[21,1,21,7],[23,1,23,7],[29,1,29,7],[27,1,27,7],[25,1,25,7]]}
[null,"HERRAMIENTA DE HUELLA DE CARBONO PARA ORGANIZACIONES. Año de cálculo 2020"]
[]
[]
[null,"PRESENTACIÓN DE LA CALCULADORA",null,null,null,null,null,null,null,null,"INSTRUCCIONES"]
[]
[null,"Datos generales de la organización",null,null,null,null,null,null,null,null,null,"PESTAÑAS",null,null,null,null,"CELDAS"]
[]
[null,"Alcance 1",null,null,null,null,null,null,null,null,"Pestañas a cumplimentar ",null,null,null,null,"Celdas a cumplimentar"]
[]
[null,"Alcance 2",null,null,null,null,null,null,null,null,"Pestañas de resultados",null,null,null,null,"Celdas autocompletadas"]
[]
[null,"Alcance 3",null,null,null,null,null,null,null,null,"Pestañas de motor de cálculo",null,null,null,null,"Celdas informativas"]
[]
[null,"Hoja de registros",null,null,null,null,null,null,null,null,"Pestañas factores, variables…",null,null,null,null,"Celdas informativas"]
[]
[null,"Mi área de trabajo"]
[]
[null,"Resultados - RVHdC Declaración",null,null,null,null,null,null,null,null,"Paso 1 "]
[]
[null,"Resultados - RVHdC Detalle",null,null,null,null,null,null,null,null,"Rellenar checklist para comprobar que se han seguido todos los pasos para completar la herramienta"]
[]
[null,"Resultados - Sistema de Gestión del Medio Ambiente",null,null,null,null,null,null,null,null,"Paso 2 "]
[]
[null,"Resultados - Registro Español de Huella de Carbono",null,null,null,null,null,null,null,null,"Completar la pestaña de Datos generales organización"]
[]
[null,"Cálculos",null,null,null,null,null,null,null,null,"Paso 3"]
[]
[null,"Factores de emisión",null,null,null,null,null,null,null,null,"Completar las pestañas de Alcance 1 y 2 con los datos de actividad"]
[]
[null,"Potencial de calentamiento global",null,null,null,null,null,null,null,null,"Paso 4"]
[]
[null,"Factores de conversión",null,null,null,null,null,null,null,null,"Completar la pestaña Hoja de registros con la información del responsable y fuentes de los datos de actividad "]
[]
[null,"Fuentes de datos"]
[]
[null,"Acrónimos"]
[]
[]
[]
[]
[null,null,null,null,null,null,"Sí"]
[null,null,null,null,null,null,"No"]
[null,null,null,null,null,null,"No aplica"]
[]
[null,"CHECKLIST PARA ASEGURARSE DE QUE SE HAN COMPLETADO TODOS LOS PASOS NECESARIOS PARA EL CÁLCULO DEL INVENTARIO"]
[null,"PASO 1: RESETEAR EL CHECKLIST",null,null,null,null,"¿Realizado?"]
[null,"Instrucciones",null,null,null,null,null,null,"Sí"]
[null,"Para todos los pasos seleccionar en la columna G: \"No\"",null,null,null,null,"No",null,"No Aplica"]
[null,null,null,null,null,null,null,null,"No"]
[null,"PASO 2: COMPLETAR LOS INPUTS",null,null,null,null,"¿Realizado?"]
[null,"Datos generales"]
[null,"Datos básicos (Nombre, CIF/NIF y sector)",null,null,null,null,"No"]
[null,"Responsable del inventario de GEI (Nombre, teléfono y email)",null,null,null,null,"No"]
[null,"Año del inventario",null,null,null,null,"No"]
[null,"Índices de actividad para el año del inventario (superficie, nº de empleados, facturación, etc.)",null,null,null,null,"No"]
[null,"Datos históricos (si existen)",null,null,null,null,"No"]
[null,"Insertar el número de instalaciones o centros de trabajo en el alcance de la huella",null,null,null,null,"No"]
[null,"Sustituir los nombres de cada una de las instalaciones",null,null,null,null,"No"]
[]
[null,"Alcance 1"]
[null,"Combustión fija"]
[null,"Consumo de Biomasa (kg)",null,null,null,null,"No"]
[null,"Consumo de Carbón mineral (kg)",null,null,null,null,"No"]
[null,"Consumo de Coque de petróleo (kg)",null,null,null,null,"No"]
[null,"Consumo de Fueloleo (L)",null,null,null,null,"No"]
[null,"Consumo de Gas butano (L)",null,null,null,null,"No"]
[null,"Consumo de Gas natural (Nm3)",null,null,null,null,"No"]
[null,"Consumo de Gas propano (L)",null,null,null,null,"No"]
[null,"Consumo de Gasóleo C (L)",null,null,null,null,"No"]
[null,"Consumo de GLP genérico (L)",null,null,null,null,"No"]
[null,"Consumo de Queroseno (L)",null,null,null,null,"No"]
[null,"Combustión móvil"]
[null,"Opción 1"]
[null,"Consumo de Gasolina (L)",null,null,null,null,"No"]
[null,"Consumo de Gasoleo A (L)",null,null,null,null,"No"]
[null,"Consumo de E10 (L)",null,null,null,null,"No"]
[null,"Consumo de E85 (L)",null,null,null,null,"No"]
[null,"Consumo de B30 (L)",null,null,null,null,"No"]
[null,"Consumo de B100 (L)",null,null,null,null,"No"]
[null,"Consumo de Gas Natural Comprimido (Nm3)",null,null,null,null,"No"]
[null,"Consumo de Gas Natural Licuado (L)",null,null,null,null,"No"]
[null,"Consumo de GLP genérico (L)",null,null,null,null,"No"]
[null,"Opción 2"]
[null,"Tipo de vehículo",null,null,null,null,"No"]
[null,"Tipo de propulsión",null,null,null,null,"No"]
[null,"Distancia recorrida (km)",null,null,null,null,"No"]
[null,"Emisiones de uso de productos"]
[null,"Consumo de lubricantes (L)",null,null,null,null,"No"]
[null,"Consumo de aceites (L)",null,null,null,null,"No"]
[null,"Tipo de gas refrigerante",null,null,null,null,"No"]
[null,"Recarga anual de gas refrigerante (kg)",null,null,null,null,"No"]
[null,"Otras emisiones específicas no incluidas anteriormente y calculadas aparte"]
[null,"Opción 1"]
[null,"Emisiones de CO2 equivalente",null,null,null,null,"No"]
[null,"Opción 2"]
[null,"Emisiones de CO2",null,null,null,null,"No"]
[null,"Emisiones de CH4",null,null,null,null,"No"]
[null,"Emisiones de N2O",null,null,null,null,"No"]
[null,"Tipo de gas refrigerante",null,null,null,null,"No"]
[null,"Recarga anual de gas refrigerante (kg)",null,null,null,null,"No"]
[null,"Alcance 2"]
[null,"Consumo de electricidad fija"]
[null,"Consumo de electricidad (kWh)",null,null,null,null,"No"]
[null,"Consumo de electricidad móvil (vehículos eléctricos)"]
[null,"Opción 1"]
[null,"Consumo de electricidad (kWh)",null,null,null,null,"No"]
[null,"Opción 2"]
[null,"Tipo de vehículo",null,null,null,null,"No"]
[null,"Distancia recorrida (km)",null,null,null,null,"No"]
[null,"Alcance 3"]
[null,"Movilidad de los trabajadores desde y hasta el puesto de trabajo"]
[null,"Por carretera en vehículo privado"]
[null,"Tipo de vehículo",null,null,null,null,"No"]
[null,"Tipo de propulsión",null,null,null,null,"No"]
[null,"Distancia recorrida (km)",null,null,null,null,"No"]
[null,"Por carretera en vehículo privado"]
[null,"Tipo de transporte público",null,null,null,null,"No"]
[null,"Distancia recorrida (km)",null,null,null,null,"No"]
[null,"Viajes de trabajo"]
[null,"Por carretera en vehículo privado"]
[null,"Tipo de vehículo",null,null,null,null,"No"]
[null,"Tipo de propulsión",null,null,null,null,"No"]
[null,"Distancia recorrida (km)",null,null,null,null,"No"]
[null,"Por carretera en vehículo privado"]
[null,"Tipo de transporte público",null,null,null,null,"No"]
[null,"Distancia recorrida (km)",null,null,null,null,"No"]
[null,"Gestión de residuos"]
[null,"Residuos domiciliarios a vertedero (t)",null,null,null,null,"No"]
[null,"Residuos domiciliarios a incineración (t)",null,null,null,null,"No"]
[null,"Residuos comerciales e industriales a vertedero (t)",null,null,null,null,"No"]
[null,"Residuos comerciales e industriales a incineración (t)",null,null,null,null,"No"]
[null,"Fracción orgánica a compostaje (t)",null,null,null,null,"No"]
[null,"Vidrio a reciclaje (t)",null,null,null,null,"No"]
[null,"Envases a reciclaje (t)",null,null,null,null,"No"]
[null,"Papel y cartón a reciclaje (t)",null,null,null,null,"No"]
[null,"Otras emisiones indirectas diferentes a las anteriores"]
[null,"Emisiones calculadas (tCO2e)",null,null,null,null,"No"]
[]
[null,"PASO 3: COMPLETAR LA HOJA DE REGISTROS",null,null,null,null,"¿Realizado?"]
[null,"¿Hoja de registros completa para todos los datos de actividad?",null,null,null,null,"No"]

{"sheet":"Datos generales organización","index":1,"n_rows":160,"n_cols":11,"rows_kept":160,"cut":false,"hidden":false,"merged":[[7,2,7,3],[3,2,3,3],[15,2,15,4],[12,2,12,3]]}
[null,null,{"$f":"Instrucciones!B1","v":"HERRAMIENTA DE HUELLA DE CARBONO PARA ORGANIZACIONES. Año de cálculo 2020"}]
[null,null,"Datos generales"]
[]
[null,null,"Datos básicos"]
["Datos generales de la organización",null,"Nombre de la organización"]
["Alcance 1",null,"CIF/NIF"]
["Alcance 2"]
["Alcance 3",null,"Responsable del inventario de GEI"]
["Hoja de registros",null,"Nombre y apellidos"]
["Mi área de trabajo",null,"Teléfono de contacto"]
["Resultados: RVHdC Declaración",null,"Email de contacto"]
["Resultados: RVHdC Detalle"]
["Resultados: SGMA",null,"Año del inventario"]
["Resultados: REHdC",null,"Año del inventario","<seleccionar año>"]
["Cálculos"]
["Datos 1: Factores emisión",null,{"$f":"CONCATENATE(\"Índices de actividad para el año \",D14)","v":"Índices de actividad para el año <seleccionar año>"}]
["Datos 2: Potenciales de calent. gl.",null,"Índice  principal","Unidades","Valor"]
["Datos 3: Factores de conversión",null,"Seleccionar índice",{"$f":"LOOKUP(C18,C154:C160,D150:D156)","v":"unidades"}]
["Fuentes de datos",null,"Otro diferente <sustituir si aplica>","<sustituir si aplica>"]
[null,null,{"$f":"IF($C$18=$C$157,C19,C18)","v":"Seleccionar índice"},{"$f":"IF($C$18=$C$157,D19,D18)","v":"unidades"},{"$f":"IF($C$18=$C$157,E19,E18)","v":0}]
[null,null,"Índices auxiliares","Unidades","Valor"]
[null,null,"Superficie ","m2"]
[null,null,"Nº de empleados","uds"]
[null,null,"Facturación ","miles €/año"]
[]
[null,null,"Datos históricos de huella de carbono en términos absolutos (si existen)"]
[null,null,"Datos ","Unidades",{"$f":"F27-1","v":{"$error":"#VALUE!"}},{"$error":"#VALUE!"},{"$error":"#VALUE!"},{"$error":"#VALUE!"},{"$error":"#VALUE!"},{"$f":"K27-1","v":{"$error":"#VALUE!"}},{"$f":"D14-1","v":{"$error":"#VALUE!"}}]
[null,null,"Emisiones directas (alcance 1)","t CO2e"]
[null,null,"Emisiones indirectas por energía (alcance 2)","t CO2e"]
[null,null,"Emisiones alcance 1+2","t CO2e",{"$f":"E28+E29","v":0},{"$f":"F28+F29","v":0},0,0,0,{"$f":"J28+J29","v":0},{"$f":"K28+K29","v":0}]
[null,null,"Absorciones","t CO2e"]
[null,null,"Balance emisiones alcance 1 +2","t CO2e",{"$f":"E30-E31","v":0},{"$f":"F30-F31","v":0},0,0,0,{"$f":"J30-J31","v":0},{"$f":"K30-K31","v":0}]
[null,null,"Emisiones de alcance 3","t CO2e"]
[]
[null,null,"Datos históricos de índice principal (si existen)"]
[null,null,"Índice","Unidades",{"$f":"E27","v":{"$error":"#VALUE!"}},{"$f":"F27","v":{"$error":"#VALUE!"}},{"$error":"#VALUE!"},{"$error":"#VALUE!"},{"$error":"#VALUE!"},{"$f":"J27","v":{"$error":"#VALUE!"}},{"$f":"K27","v":{"$error":"#VALUE!"}}]
[null,null,{"$f":"C20","v":"Seleccionar índice"},{"$f":"D20","v":"unidades"}]
[null,null,"Datos históricos de índices auxiliares (si existen)"]
[null,null,"Índice","Unidades",{"$f":"E27","v":{"$error":"#VALUE!"}},{"$f":"F27","v":{"$error":"#VALUE!"}},{"$error":"#VALUE!"},{"$error":"#VALUE!"},{"$error":"#VALUE!"},{"$f":"J27","v":{"$error":"#VALUE!"}},{"$f":"K27","v":{"$error":"#VALUE!"}}]
[null,null,"Superficie ","m2"]
[null,null,"Nº de empleados","uds"]
[null,null,"Facturación ","miles E/año"]
[]
[null,null,"Datos históricos de huella de carbono en términos relativos para el índice principal (si existen)"]
[null,null,"Datos ","Unidades",{"$f":"E27","v":{"$error":"#VALUE!"}},{"$f":"F27","v":{"$error":"#VALUE!"}},{"$error":"#VALUE!"},{"$error":"#VALUE!"},{"$error":"#VALUE!"},{"$f":"J27","v":{"$error":"#VALUE!"}},{"$error":"#VALUE!"}]
[null,null,"Emisiones directas (alcance 1)",{"$f":"CONCATENATE(\"t CO2e/ \",$D$20)","v":"t CO2e/ unidades"},{"$f":"E28/E$37","v":{"$error":"#DIV/0!"}},{"$f":"F28/F$37","v":{"$error":"#DIV/0!"}},{"$error":"#DIV/0!"},{"$error":"#DIV/0!"},{"$error":"#DIV/0!"},{"$f":"J28/J$37","v":{"$error":"#DIV/0!"}},{"$f":"K28/K$37","v":{"$error":"#DIV/0!"}}]
[null,null,"Emisiones indirectas por energía (alcance 2)",{"$f":"CONCATENATE(\"t CO2e/ \",$D$20)","v":"t CO2e/ unidades"},{"$f":"E29/E$37","v":{"$error":"#DIV/0!"}},{"$error":"#DIV/0!"},{"$error":"#DIV/0!"},{"$error":"#DIV/0!"},{"$error":"#DIV/0!"},{"$f":"J29/J$37","v":{"$error":"#DIV/0!"}},{"$error":"#DIV/0!"}]
[null,null,"Emisiones alcance 1+2","t CO2e/ unidades",{"$f":"E30/E$37","v":{"$error":"#DIV/0!"}},{"$error":"#DIV/0!"},{"$error":"#DIV/0!"},{"$error":"#DIV/0!"},{"$error":"#DIV/0!"},{"$f":"J30/J$37","v":{"$error":"#DIV/0!"}},{"$error":"#DIV/0!"}]
[null,null,"Absorciones","t CO2e/ unidades",{"$f":"E31/E$37","v":{"$error":"#DIV/0!"}},{"$error":"#DIV/0!"},{"$error":"#DIV/0!"},{"$error":"#DIV/0!"},{"$error":"#DIV/0!"},{"$f":"J31/J$37","v":{"$error":"#DIV/0!"}},{"$error":"#DIV/0!"}]
[null,null,"Balance emisiones alcance 1 +2","t CO2e/ unidades",{"$f":"E32/E$37","v":{"$error":"#DIV/0!"}},{"$error":"#DIV/0!"},{"$error":"#DIV/0!"},{"$error":"#DIV/0!"},{"$error":"#DIV/0!"},{"$f":"J32/J$37","v":{"$error":"#DIV/0!"}},{"$error":"#DIV/0!"}]
[null,null,"Emisiones de alcance 3","t CO2e/ unidades",{"$f":"E33/E$37","v":{"$error":"#DIV/0!"}},{"$error":"#DIV/0!"},{"$error":"#DIV/0!"},{"$error":"#DIV/0!"},{"$error":"#DIV/0!"},{"$f":"J33/J$37","v":{"$error":"#DIV/0!"}},{"$error":"#DIV/0!"}]
[]
[]
[null,null,"Centros de trabajo/ Instalación"]
[null,null,"Escribir nombre de centro"]
[]
[]
[]
[]
[]
[]
[]
[]
[]
[]
[]
[]
[]
[]
[]
[]
[]
[]
[]
[]
[]
[]
[]
[]
[]
[]
[]
[]
[]
[]
[]
[]
[]
[]
[]
[]
[]
[]
[]
[]
[]
[]
[]
[]
[]
[]
[]
[]
[]
[]
[]
[]
[]
[]
[]
[]
[]
[]
[]
[]
[]
[]
[]
[]
[]
[]
[]
[]
[]
[]
[]
[]
[]
[]
[]
[null,null,null,"Año del inventario"]
[null,null,"LISTAS DESPLEGABLES","<seleccionar año>"]
[null,null,null,2005]
[null,null,null,2006]
[null,null,null,2007]
[null,null,null,2008]
[null,null,null,2009]
[null,null,null,2010]
[null,null,null,2011]
[null,null,null,2012]
[null,null,null,2013]
[null,null,null,2014]
[null,null,null,2015]
[null,null,null,2016]
[null,null,null,2017]
[null,null,null,2018]
[null,null,null,2019]
[null,null,null,2020]
[]
[null,null,null,"miles E/año"]
[null,null,null,"cliente"]
[null,null,null,"trabajador"]
[null,null,null,"indicar debajo"]
[null,null,"Facturación ","Euro"]
[null,null,"Nº de clientes","unidades"]
[null,null,"Nº de empleados","m2"]
[null,null,"Otro (indicar debajo)"]
[null,null,"Presupuesto"]
[null,null,"Seleccionar índice"]
[null,null,"Superficie "]

{"sheet":"Alcance 1","index":2,"n_rows":248,"n_cols":7,"rows_kept":248,"cut":false,"hidden":false,"merged":[]}
[null,null,{"$f":"Instrucciones!B1","v":"HERRAMIENTA DE HUELLA DE CARBONO PARA ORGANIZACIONES. Año de cálculo 2020"}]
[null,null,"INPUTS ALCANCE 1"]
[]
[null,null,"COMBUSTIÓN FIJA"]
["Datos generales de la organización"]
["Alcance 1",null,"Fuente de energía","Dato de consumo","Unidades",{"$f":"D6","v":"Dato de consumo"}]
["Alcance 2",null,null,"Total (sumatorio de centros)",null,{"$f":"'Datos generales organización'!$C$55","v":"Escribir nombre de centro"}]
["Alcance 3",null,"Biomasa",{"$f":"SUM(F8:K8)","v":0},"kg"]
["Hoja de registros",null,"Carbón mineral",0,"kg"]
["Mi área de trabajo",null,"Coque de petróleo",0,"kg"]
["Resultados: RVHdC Declaración",null,"Fueloleo",0,"L"]
["Resultados: RVHdC Detalle",null,"Gas butano",0,"L"]
["Resultados: SGMA",null,"Gas natural",0,"Nm3"]
["Resultados: REHdC",null,"Gas propano",0,"L"]
["Cálculos",null,"Gasóleo C",0,"L"]
["Datos 1: Factores emisión",null,"GLP genérico",0,"L"]
["Datos 2: Potenciales de calent. gl.",null,"Queroseno",0,"L"]
["Datos 3: Factores de conversión"]
["Fuentes de datos",null,"COMBUSTIÓN MÓVIL"]
[]
[null,null,"Opción 1- Se dispone de datos de consumo de combustible por tipo de combustible"]
[null,null,"Fuente de energía","Dato de consumo","Unidades",{"$f":"D22","v":"Dato de consumo"}]
[null,null,null,"Total (sumatorio de centros)",null,{"$f":"'Datos generales organización'!$C$55","v":"Escribir nombre de centro"}]
[null,null,"Gasolina",{"$f":"SUM(F24:K24)","v":0},"L"]
[null,null,"Gasóleo A y B",0,"L"]
[null,null,"E10",0,"L"]
[null,null,"E85",0,"L"]
[null,null,"B30",0,"L"]
[null,null,"B100",0,"L"]
[null,null,"Gas Natural Comprimido",0,"Nm3"]
[null,null,"Gas Natural Licuado",0,"L"]
[null,null,"GLP genérico",0,"L"]
[]
[null,null,"Opción 2- Se dispone de datos de kilómetros recorridos por tipo de vehículo"]
[null,null,"Tipo de vehículo (seleccionar de la lista)","Propulsión (seleccionar de la lista)","Distancia recorrida","Unidades",{"$f":"E35","v":"Distancia recorrida"}]
[null,null,null,null,"Total (sumatorio de centros)",null,{"$f":"'Datos generales organización'!$C$55","v":"Escribir nombre de centro"}]
[null,null,"Tipo de vehículo","Tipo de propulsión",{"$f":"IF(D37=\"Híbrido enchufable\",SUM(G37:L37)*(100%-$D$51),SUM(G37:L37))","v":0},"km"]
[null,null,"Tipo de vehículo","Tipo de propulsión",0,"km"]
[null,null,"Tipo de vehículo","Tipo de propulsión",0,"km"]
[null,null,"Tipo de vehículo","Tipo de propulsión",0,"km"]
[null,null,"Tipo de vehículo","Tipo de propulsión",0,"km"]
[null,null,"Tipo de vehículo","Tipo de propulsión",0,"km"]
[null,null,"Tipo de vehículo","Tipo de propulsión",0,"km"]
[null,null,"Tipo de vehículo","Tipo de propulsión",0,"km"]
[null,null,"Tipo de vehículo","Tipo de propulsión",0,"km"]
[null,null,"Tipo de vehículo","Tipo de propulsión",0,"km"]
[]
[null,null,"Vehículo híbrido eléctrico enchufable"]
[null,null,"Autonomía motor eléctrico","Rango de uso medio del motor eléctrico","Fuente "]
[null,null,"km","%"]
[null,null,null,{"$f":"1-(25/(25+C51))","v":0},"e"]
[]
[null,null,"EMISIONES DE USO DE PRODUCTOS"]
[]
[null,null,"Lubricantes"]
[null,null,"Emisión de proceso","Consumo","Unidades",{"$f":"D56","v":"Consumo"}]
[null,null,null,"Total (sumatorio de centros)",null,{"$f":"'Datos generales organización'!$C$55","v":"Escribir nombre de centro"}]
[null,null,"Grasas",{"$f":"SUM(F58:K58)","v":0},"L"]
[null,null,"Aceites",{"$f":"SUM(F59:K59)","v":0},"L"]
[]
[null,null,"Gases refrigerantes"]
[null,null,"Tipo de gas (seleccionar de la lista)","Recarga anual","Unidades",{"$f":"D62","v":"Recarga anual"}]
[null,null,null,"Total (sumatorio de centros)",null,{"$f":"'Datos generales organización'!$C$55","v":"Escribir nombre de centro"}]
[null,null,"Tipo de gas fluorado",{"$f":"SUM(F64:K64)","v":0},"kg"]
[null,null,"Tipo de gas fluorado",0,"kg"]
[null,null,"Tipo de gas fluorado",0,"kg"]
[null,null,"Tipo de gas fluorado",0,"kg"]
[null,null,"Tipo de gas fluorado",0,"kg"]
[null,null,"Tipo de gas fluorado",0,"kg"]
[null,null,"Tipo de gas fluorado",0,"kg"]
[null,null,"Tipo de gas fluorado",0,"kg"]
[null,null,"Tipo de gas fluorado",0,"kg"]
[null,null,"Tipo de gas fluorado",0,"kg"]
[]
[null,null,"ABSORCIONES"]
[]
[null,null,"ABSORCIONES"]
[null,null,"Especie","Número de árboles","Unidades",{"$f":"D78","v":"Número de árboles"}]
[null,null,null,"Total (sumatorio de centros)",null,{"$f":"'Datos generales organización'!$C$55","v":"Escribir nombre de centro"}]
[null,null,"Abies alba",{"$f":"SUM(F80:K80)","v":0},"árboles"]
[null,null,"Abies pinsapo",{"$f":"SUM(F81:K81)","v":0},"árboles"]
[null,null,"Acacia spp.",0,"árboles"]
[null,null,"Acer spp.",0,"árboles"]
[null,null,"Ailanthus altissima",0,"árboles"]
[null,null,"Alnus spp.",0,"árboles"]
[null,null,"Amelanchier ovalis",0,"árboles"]
[null,null,"Arbutus unedo",0,"árboles"]
[null,null,"Betula spp.",0,"árboles"]
[null,null,"Carpinus betulus",0,"árboles"]
[null,null,"Castanea sativa",0,"árboles"]
[null,null,"Ceratonia siliqua",0,"árboles"]
[null,null,"Cedrus atlantica",0,"árboles"]
[null,null,"Celtis australis",0,"árboles"]
[null,null,"Chamaecyparis lawsoniana",0,"árboles"]
[null,null,"Cornus sanguinea",0,"árboles"]
[null,null,"Corylus avellana",0,"árboles"]
[null,null,"Crataegus spp.",0,"árboles"]
[null,null,"Cupressus arizonica",0,"árboles"]
[null,null,"Cupressus macrocarpa",0,"árboles"]
[null,null,"Cupressus sempervirens",0,"árboles"]
[null,null,"Erica arborea",0,"árboles"]
[null,null,"Eucalyptus camaldulensis",0,"árboles"]
[null,null,"Eucalyptus globulus",0,"árboles"]
[null,null,"Fagus sylvatica",0,"árboles"]
[null,null,"Fraxinus spp.",0,"árboles"]
[null,null,"Ilex aquifolium",0,"árboles"]
[null,null,"Ilex canariensis",0,"árboles"]
[null,null,"Juglans regia",0,"árboles"]
[null,null,"Juniperus oxycedrus, J. communis",0,"árboles"]
[null,null,"Juniperus phoenicea",0,"árboles"]
[null,null,"Juniperus thurifera",0,"árboles"]
[null,null,"Larix spp.",{"$f":"SUM(F112:K112)","v":0},"árboles"]
[null,null,"Laurus azorica",0,"árboles"]
[null,null,"Laurus nobilis",0,"árboles"]
[null,null,"Malus sylvestris",0,"árboles"]
[null,null,"Myrica faya",0,"árboles"]
[null,null,"Myrtus communis",0,"árboles"]
[null,null,"Olea europaea",0,"árboles"]
[null,null,"Phillyrea latifolia",0,"árboles"]
[null,null,"Phoenix spp.",0,"árboles"]
[null,null,"Picea abies",0,"árboles"]
[null,null,"Pinus canariensis",0,"árboles"]
[null,null,"Pinus halepensis",0,"árboles"]
[null,null,"Pinus nigra Sistema Ibérico",0,"árboles"]
[null,null,"Pinus nigra (Resto)",0,"árboles"]
[null,null,"Pinus pinaster ssp. atlantica Zona Norte interior",0,"árboles"]
[null,null,"Pinus pinaster ssp. atlantica Zona Norte costera",0,"árboles"]
[null,null,"Pinus pinaster ssp. mesogeensis Sistema Central",0,"árboles"]
[null,null,"Pinus pinaster (Resto)",0,"árboles"]
[null,null,"Pinus pinea",0,"árboles"]
[null,null,"Pinus radiata",0,"árboles"]
[null,null,"Pinus sylvestris Sistema Central",0,"árboles"]
[null,null,"Pinus sylvestris Sistema Ibérico",0,"árboles"]
[null,null,"Pinus sylvestris Pirineos",0,"árboles"]
[null,null,"Pinus sylvestris (Resto)",0,"árboles"]
[null,null,"Pinus uncinata",0,"árboles"]
[null,null,"Pistacia terebinthus",0,"árboles"]
[null,null,"Platanus hispanica",0,"árboles"]
[null,null,"Populus alba",0,"árboles"]
[null,null,"Populus nigra",0,"árboles"]
[null,null,"Populus x canadensis",0,"árboles"]
[null,null,"Prunus spp.",0,"árboles"]
[null,null,"Pseudotsuga menziesii",0,"árboles"]
[null,null,"Pyrus spp.",{"$f":"SUM(F144:K144)","v":0},"árboles"]
[null,null,"Quercus canariensis",0,"árboles"]
[null,null,"Quercus faginea",0,"árboles"]
[null,null,"Quercus ilex",0,"árboles"]
[null,null,"Quercus petraea",0,"árboles"]
[null,null,"Quercus pubescens",0,"árboles"]
[null,null,"Quercus pyrenaica",0,"árboles"]
[null,null,"Quercus robur",0,"árboles"]
[null,null,"Quercus rubra",0,"árboles"]
[null,null,"Quercus suber",0,"árboles"]
[null,null,"Rhamnus alaternus",0,"árboles"]
[null,null,"Robinia pseudacacia",0,"árboles"]
[null,null,"Salix spp.",0,"árboles"]
[null,null,"Sorbus spp.",0,"árboles"]
[null,null,"Tamarix spp.",0,"árboles"]
[null,null,"Taxus baccata",0,"árboles"]
[null,null,"Tetraclinis articulata",0,"árboles"]
[null,null,"Thuja spp.",0,"árboles"]
[null,null,"Tilia spp.",0,"árboles"]
[null,null,"Ulmus spp.",0,"árboles"]
[]
[null,null,"OTRAS EMISIONES ESPECÍFICAS NO INCLUIDAS ANTERIORMENTE Y CALCULADAS APARTE"]
[]
[null,null,"Opción 1- Se dispone del CO2 equivalente"]
[null,null,"Fuente de emisión","Dato de consumo","Unidades",{"$f":"D168","v":"Dato de consumo"}]
[null,null,null,"Total (sumatorio de centros)",null,{"$f":"'Datos generales organización'!$C$55","v":"Escribir nombre de centro"}]
[null,null,"CO2 e",{"$f":"SUM(F170:K170)","v":0},"kg CO2 e"]
[]
[null,null,"Opción 2- Se dispone de datos de emisiones por tipo de contaminante"]
[null,null,"Fuente de emisión","Dato de consumo","Unidades",{"$f":"D173","v":"Dato de consumo"}]
[null,null,null,"Total (sumatorio de centros)",null,{"$f":"'Datos generales organización'!$C$55","v":"Escribir nombre de centro"}]
[null,null,"CO2",{"$f":"SUM(F175:K175)","v":0},"kg"]
[null,null,"CH4",0,"kg"]
[null,null,"N2O",0,"kg"]
[null,null,"Tipo de gas fluorado",0,"kg"]
[null,null,"Tipo de gas fluorado",0,"kg"]
[null,null,"Tipo de gas fluorado",0,"kg"]
[null,null,"Tipo de gas fluorado",0,"kg"]
[null,null,"Tipo de gas fluorado",0,"kg"]
[null,null,"Tipo de gas fluorado",0,"kg"]
[null,null,"Tipo de gas fluorado",0,"kg"]
[null,null,"Tipo de gas fluorado",0,"kg"]
[null,null,"Tipo de gas fluorado",0,"kg"]
[null,null,"Tipo de gas fluorado",0,"kg"]
[]
[null,null,"LISTAS DESPLEGABLES"]
[]
[null,null,"Tipo de vehículo","Tipo de propulsión"]
[]
[null,null,"Vehículos","Gasolina"]
[null,null,"Microcoche","Gasóleo A y B"]
[null,null,"Turismo pequeño","Híbrido"]
[null,null,"Turismo medio","Híbrido enchufable"]
[null,null,"Turismo grande","Gas Natural Comprimido"]
[null,null,"Deportivo","Gas Natural Licuado"]
[null,null,"4x4","GLP"]
[null,null,"Motocicleta","B100"]
[null,null,"Furgoneta","B30"]
[null,null,"Camión rígido (de 3,5 a 7,5 toneladas)","E10"]
[null,null,"Camión rígido (de 7,5 a 17 toneladas)","E85"]
[null,null,"Camión rígido (más de 17 toneladas)"]
[null,null,"Camión articulado (de 3,5 a 33 toneladas)"]
[null,null,"Camión articulado (más de 33 toneladas)"]
[null,null,"Bus"]
[]
[null,null,"Tipo de gas fluorado"]
[]
[null,null,"HFC-23"]
[null,null,"HFC-32"]
[null,null,"HFC-41"]
[null,null,"HFC-43-10mee"]
[null,null,"HFC-125"]
[null,null,"HFC-134"]
[null,null,"HFC-134a"]
[null,null,"HFC-143"]
[null,null,"HFC-143a"]
[null,null,"HFC-152"]
[null,null,"HFC-152a"]
[null,null,"HFC-161"]
[null,null,"HFC-227ea"]
[null,null,"HFC-236cb"]
[null,null,"HFC-236ea"]
[null,null,"HFC-236fa"]
[null,null,"HFC-245ca"]
[null,null,"R-404A"]
[null,null,"R-407A"]
[null,null,"R-407B"]
[null,null,"R-407C"]
[null,null,"R-407F"]
[null,null,"R-410A"]
[null,null,"R-410B"]
[null,null,"R-413A"]
[null,null,"R-417A"]
[null,null,"R-417B"]
[null,null,"R-422A"]
[null,null,"R-422D"]
[null,null,"R-424A"]
[null,null,"R-426A"]
[null,null,"R-427A"]
[null,null,"R-428A"]
[null,null,"R-434A"]
[null,null,"R-437A"]
[null,null,"R-438A"]
[null,null,"R-442A"]
[null,null,"R-507A"]

{"sheet":"Alcance 2","index":3,"n_rows":36,"n_cols":7,"rows_kept":36,"cut":false,"hidden":false,"merged":[[7,2,9,2]]}
[null,null,{"$f":"Instrucciones!B1","v":"HERRAMIENTA DE HUELLA DE CARBONO PARA ORGANIZACIONES. Año de cálculo 2020"}]
[null,null,"INPUTS ALCANCE 2"]
[]
[null,null,"CONSUMO DE ELECTRICIDAD FIJA"]
["Datos generales de la organización"]
["Alcance 1",null,"Fuente de energía","Dato de consumo","Unidades","Compañía suministradora (seleccionar)",{"$f":"D6","v":"Dato de consumo"}]
["Alcance 2",null,null,"Total (sumatorio de centros)",null,null,{"$f":"'Datos generales organización'!$C$55","v":"Escribir nombre de centro"}]
["Alcance 3",null,"Electricidad",{"$f":"SUM(G8:L8)","v":0},"kWh","Compañía suministradora"]
["Hoja de registros",null,null,{"$f":"SUM(G9:L9)","v":0},"kWh","Compañía suministradora"]
["Mi área de trabajo",null,null,{"$f":"SUM(G10:L10)","v":0},"kWh","Compañía suministradora"]
["Resultados: RVHdC Declaración"]
["Resultados: RVHdC Detalle",null,"CONSUMO DE ELECTRICIDAD MÓVIL (VEHÍCULOS ELÉCTRICOS)"]
["Resultados: SGMA"]
["Resultados: REHdC",null,"Opción 1- Se dispone de datos de consumo de electricidad"]
["Cálculos",null,"Fuente de energía","Dato de consumo","Unidades","Compañía suministradora (seleccionar)",{"$f":"D15","v":"Dato de consumo"}]
["Datos 1: Factores emisión",null,null,"Total (sumatorio de centros)",null,null,{"$f":"'Datos generales organización'!$C$55","v":"Escribir nombre de centro"}]
["Datos 2: Potenciales de calent. gl.",null,"Electricidad",{"$f":"SUM(G17:L17)","v":0},"kWh","Compañía suministradora"]
["Datos 3: Factores de conversión"]
["Fuentes de datos",null,"Opción 2- Se dispone de datos de kilómetros recorridos por tipo de vehículo"]
[null,null,"Tipo de vehículo (seleccionar de la lista)","Distancia recorrida","Unidades","Compañía suministradora (seleccionar)",{"$f":"D20","v":"Distancia recorrida"}]
[null,null,null,"Total (sumatorio de centros)",null,null,{"$f":"'Datos generales organización'!$C$55","v":"Escribir nombre de centro"}]
[null,null,"Tipo de vehículo",{"$f":"SUM(G22:K22)","v":0},"km","Compañía suministradora"]
[null,null,"Tipo de vehículo",{"$f":"SUM(G23:K23)","v":0},"km","Compañía suministradora"]
[null,null,"Tipo de vehículo",{"$f":"SUM(G24:K24)","v":0},"km","Compañía suministradora"]
[]
[null,null,"Km recorridos por vehículo híbrido enchufable"]
[null,null,"Tipo de vehículo (seleccionar de la lista)","Distancia recorrida","Unidades","Compañía suministradora (seleccionar)"]
[null,null,null,"Total (sumatorio de centros)"]
[null,null,"Híbrido enchufable",{"$f":"IFERROR(VLOOKUP(\"Híbrido enchufable\",'Alcance 1'!D37:E46,2,FALSE)*'Alcance 1'!D51,0)/(1-'Alcance 1'!D51)","v":0},"km","Compañía suministradora"]
[]
[]
[]
[]
[null,null,"Turismo (tipo REVAi o EV11 )"]
[null,null,"Furgoneta pequeña (tipo QUICC)"]
[null,null,"Otro"]

{"sheet":"Alcance 3","index":4,"n_rows":202,"n_cols":14,"rows_kept":202,"cut":false,"hidden":false,"merged":[]}
[null,null,{"$f":"Instrucciones!B1","v":"HERRAMIENTA DE HUELLA DE CARBONO PARA ORGANIZACIONES. Año de cálculo 2020"}]
[null,null,"INPUTS ALCANCE 3"]
[]
[null,null,"A) MOVILIDAD DE LOS TRABAJADORES DESDE Y HASTA EL PUESTO DE TRABAJO"]
["Datos generales de la organización",null,"A.1) POR CARRETERA EN VEHÍCULO PRIVADO"]
["Alcance 1"]
["Alcance 2",null,"A partir de datos de kilómetros recorridos por tipo de vehículo"]
["Alcance 3",null,"Tipo de vehículo (seleccionar de la lista)","Propulsión (seleccionar de la lista)","Distancia recorrida","Unidades",{"$f":"E8","v":"Distancia recorrida"}]
["Hoja de registros",null,null,null,"Total (sumatorio de centros)",null,{"$f":"'Datos generales organización'!$C$55","v":"Escribir nombre de centro"}]
["Mi área de trabajo",null,"Tipo de vehículo","Tipo de propulsión",{"$f":"SUM(G10:N10)","v":0},"km*pasajero"]
["Resultados: RVHdC Declaración",null,"Tipo de vehículo","Tipo de propulsión",0,"km*pasajero"]
["Resultados: RVHdC Detalle",null,"Tipo de vehículo","Tipo de propulsión",0,"km*pasajero"]
["Resultados: SGMA",null,"Tipo de vehículo","Tipo de propulsión",0,"km*pasajero"]
["Resultados: REHdC",null,"Tipo de vehículo","Tipo de propulsión",0,"km*pasajero"]
["Cálculos",null,"Tipo de vehículo","Tipo de propulsión",0,"km*pasajero"]
["Datos 1: Factores emisión",null,"Tipo de vehículo","Tipo de propulsión",0,"km*pasajero"]
["Datos 2: Potenciales de calent. gl.",null,"Tipo de vehículo","Tipo de propulsión",0,"km*pasajero"]
["Datos 3: Factores de conversión",null,"Tipo de vehículo","Tipo de propulsión",0,"km*pasajero"]
["Fuentes de datos"]
[null,null,"A.2) TRANSPORTE PÚBLICO"]
[]
[null,null,"A partir de datos de kilómetros recorridos por tipo de vehículo"]
[null,null,"Tipo de transporte público (seleccionar de la lista)","Distancia recorrida","Unidades",{"$f":"D23","v":"Distancia recorrida"}]
[null,null,null,"Total (sumatorio de centros)",null,{"$f":"'Datos generales organización'!$C$55","v":"Escribir nombre de centro"}]
[null,null,"Autobús urbano",{"$f":"SUM(F25:K25)","v":50},"km*pasajero",50]
[null,null,"Tipo de transporte público",0,"km*pasajero"]
[null,null,"Tipo de transporte público",0,"km*pasajero"]
[null,null,"Tipo de transporte público",0,"km*pasajero"]
[null,null,"Tipo de transporte público",0,"km*pasajero"]
[null,null,"Tipo de transporte público",0,"km*pasajero"]
[null,null,"Tipo de transporte público",0,"km*pasajero"]
[]
[null,null,"B) VIAJES DE TRABAJO"]
[null,null,"B.1) POR CARRETERA EN VEHÍCULO PRIVADO"]
[]
[null,null,"A partir de datos de kilómetros recorridos por tipo de vehículo"]
[null,null,"Tipo de vehículo (seleccionar de la lista)","Propulsión (seleccionar de la lista)","Distancia recorrida","Unidades",{"$f":"E37","v":"Distancia recorrida"}]
[null,null,null,null,"Total (sumatorio de centros)",null,{"$f":"'Datos generales organización'!$C$55","v":"Escribir nombre de centro"}]
[null,null,"Tipo de vehículo","Tipo de propulsión",{"$f":"SUM(G39:N39)","v":0},"km"]
[null,null,"Tipo de vehículo","Tipo de propulsión",0,"km"]
[null,null,"Tipo de vehículo","Tipo de propulsión",0,"km"]
[null,null,"Tipo de vehículo","Tipo de propulsión",0,"km"]
[null,null,"Tipo de vehículo","Tipo de propulsión",0,"km"]
[null,null,"Tipo de vehículo","Tipo de propulsión",0,"km"]
[null,null,"Tipo de vehículo","Tipo de propulsión",0,"km"]
[null,null,"Tipo de vehículo","Tipo de propulsión",0,"km"]
[null,null,"Tipo de vehículo","Tipo de propulsión",0,"km"]
[]
[null,null,"B.2) TRANSPORTE PÚBLICO"]
[]
[null,null,"A partir de datos de kilómetros recorridos por tipo de vehículo"]
[null,null,"Tipo de transporte público (seleccionar de la lista)","Distancia recorrida","Unidades",{"$f":"D52","v":"Distancia recorrida"}]
[null,null,null,"Total (sumatorio de centros)",null,{"$f":"'Datos generales organización'!$C$55","v":"Escribir nombre de centro"}]
[null,null,"Tipo de transporte público",{"$f":"SUM(F54:K54)","v":0},"km"]
[null,null,"Tipo de transporte público",0,"km"]
[null,null,"Tipo de transporte público",0,"km"]
[null,null,"Tipo de transporte público",0,"km"]
[null,null,"Tipo de transporte público",0,"km"]
[null,null,"Tipo de transporte público",0,"km"]
[null,null,"Tipo de transporte público",0,"km"]
[]
[null,null,"C) GESTIÓN DE RESIDUOS"]
[]
[null,null,"Tipo de residuo y tipo de gestión","Masa generada","Unidad",{"$f":"D64","v":"Masa generada"}]
[null,null,null,"Total (sumatorio de centros)",null,{"$f":"'Datos generales organización'!$C$55","v":"Escribir nombre de centro"}]
[null,null,"Residuos domiciliarios a vertedero",{"$f":"SUM(F66:K66)","v":0},"kg"]
[null,null,"Residuos domiciliarios a incineración",0,"kg"]
[null,null,"Residuos comerciales e industriales a vertedero",0,"kg"]
[null,null,"Residuos comerciales e industriales a incineración",0,"kg"]
[null,null,"Fracción orgánica a compostaje",0,"kg"]
[null,null,"Vidrio a reciclaje",0,"kg"]
[null,null,"Envases a reciclaje",0,"kg"]
[null,null,"Papel y cartón a reciclaje",0,"kg"]
[]
[null,null,"D) CONSUMO DE AGUA"]
[]
[null,null,"Fuente de emisión","Consumo","Unidad",{"$f":"D77","v":"Consumo"}]
[null,null,null,"Total (sumatorio de centros)",null,{"$f":"'Datos generales organización'!$C$55","v":"Escribir nombre de centro"}]
[null,null,"Suministro de agua potable",{"$f":"SUM(F79:K79)","v":0},"m3"]
[]
[null,null,"E) CONSUMO DE BIENES Y SERVICIOS "]
[]
[null,null,"Tipos de bienes y servicios","Cantidad de materias","Unidad",{"$f":"D83","v":"Cantidad de materias"}]
[null,null,null,"Total (sumatorio de centros)",null,{"$f":"'Datos generales organización'!C55","v":"Escribir nombre de centro"}]
[null,null,"Router internet",{"$f":"SUM(F85:K85)","v":0},"ud"]
[null,null,"Papel ",0,"kg"]
[null,null,"Ordenador portátil",0,"ud"]
[null,null,"Mesa escritorio",0,"ud"]
[null,null,"Ordenador de mesa completo",0,"ud"]
[null,null,"Cartucho de impresora negro",0,"ud"]
[null,null,"Cartucho de impresora color",0,"ud"]
[null,null,"Material 1",0]
[null,null,"Material 2",0]
[null,null,"Material 3",0]
[null,null,"Material 4",0]
[null,null,"Material 5",0]
[null,null,"Material 6",0]
[null,null,"Material 7",0]
[null,null,"Material 8",0]
[]
[null,null,"F) TRANSPORTE DE VEHÍCULO PRIVADO PROVEEDOR DE BIENES Y SERVICIOS"]
[]
[null,null,"A partir de datos de kilómetros recorridos y masa transportada por tipo de vehículo"]
[null,null,"Tipo de bien y servicio","Tipo de vehículo (seleccionar de la lista)","Distancia recorrida","Unidades","Distancia recorrida"]
[null,null,null,null,"Total (sumatorio de centros)",null,{"$f":"'Datos generales organización'!C55","v":"Escribir nombre de centro"}]
[null,null,{"$f":"C85","v":"Router internet"},"Tipo de transporte de carga",{"$f":"SUM(G106:L106)","v":0},"km"]
[null,null,"Papel ","Tipo de transporte de carga",0,"km"]
[null,null,"Ordenador portátil","Tipo de transporte de carga",0,"km"]
[null,null,"Mesa escritorio","Tipo de transporte de carga",0,"km"]
[null,null,"Ordenador de mesa completo","Tipo de transporte de carga",0,"km"]
[null,null,"Cartucho de impresora negro","Tipo de transporte de carga",0,"km"]
[null,null,"Cartucho de impresora color","Tipo de transporte de carga",0,"km"]
[null,null,"Material 1","Tipo de transporte de carga",0,"km"]
[null,null,"Material 2","Tipo de transporte de carga",0,"km"]
[null,null,"Material 3","Tipo de transporte de carga",0,"km"]
[null,null,"Material 4","Tipo de transporte de carga",0,"km"]
[null,null,"Material 5","Tipo de transporte de carga",0,"km"]
[null,null,"Material 6","Tipo de transporte de carga",0,"km"]
[null,null,"Material 7","Tipo de transporte de carga",0,"km"]
[null,null,"Material 8","Tipo de transporte de carga",0,"km"]
[]
[null,null,"A partir de datos de kilómetros recorridos y masa transportada por tipo de vehículo"]
[null,null,"Tipo de bien y servicio","Tipo de vehículo (seleccionar de la lista)","Masa transportada","Unidades","Masa transportada"]
[null,null,null,null,"Total (sumatorio de centros)",null,{"$f":"'Datos generales organización'!C55","v":"Escribir nombre de centro"}]
[null,null,{"$f":"C106","v":"Router internet"},"Tipo de transporte de carga",{"$f":"SUM(G125:L125)","v":0},"ton"]
[null,null,"Papel ","Tipo de transporte de carga",0,"ton"]
[null,null,"Ordenador portátil","Tipo de transporte de carga",0,"ton"]
[null,null,"Mesa escritorio","Tipo de transporte de carga",0,"ton"]
[null,null,"Ordenador de mesa completo","Tipo de transporte de carga",0,"ton"]
[null,null,"Cartucho de impresora negro","Tipo de transporte de carga",0,"ton"]
[null,null,"Cartucho de impresora color","Tipo de transporte de carga",0,"ton"]
[null,null,"Material 1",{"$f":"D113","v":"Tipo de transporte de carga"},0,"ton"]
[null,null,"Material 2","Tipo de transporte de carga",0,"ton"]
[null,null,"Material 3","Tipo de transporte de carga",0,"ton"]
[null,null,"Material 4","Tipo de transporte de carga",0,"ton"]
[null,null,"Material 5","Tipo de transporte de carga",0,"ton"]
[null,null,"Material 6","Tipo de transporte de carga",0,"ton"]
[null,null,"Material 7","Tipo de transporte de carga",0,"ton"]
[null,null,"Material 8","Tipo de transporte de carga",0,"ton"]
[]
[null,null,"G) DISTRIBUCIÓN DE PRODUCTOS VENDIDOS POR LA ORGANIZACIÓN"]
[]
[null,null,"A partir de datos de kilómetros recorridos por tipo de vehículo"]
[null,null,"Tipo de bien y servicio","Tipo de vehículo (seleccionar de la lista)","Distancia recorrida","Unidades","Distancia recorrida",null,null,null,null,"Unidades",{"$f":"E144","v":"Distancia recorrida"},"Masa transportada"]
[null,null,null,null,"Total (sumatorio de centros)",null,{"$f":"'Datos generales organización'!C55","v":"Escribir nombre de centro"},null,null,null,null,null,{"$f":"'Datos generales organización'!C55","v":"Escribir nombre de centro"},{"$f":"'Datos generales organización'!C55","v":"Escribir nombre de centro"}]
[null,null,"Producto","Tipo de transporte de carga",{"$f":"SUM(G146:L146)","v":0},"km",null,null,null,null,null,"ton"]
[null,null,"Producto","Tipo de transporte de carga",{"$f":"SUM(G147:L147)","v":0},"km",null,null,null,null,null,"ton"]
[null,null,"Producto","Tipo de transporte de carga",{"$f":"SUM(G148:L148)","v":0},"km",null,null,null,null,null,"ton"]
[]
[null,null,"A partir de datos masa de producto transportada "]
[null,null,"Tipo de bien y servicio","Tipo de vehículo (seleccionar de la lista)","Masa transportada","Unidades","Masa transportada",null,null,null,null,"Unidades",{"$f":"E151","v":"Masa transportada"},"Masa transportada"]
[null,null,null,null,"Total (sumatorio de centros)",null,{"$f":"'Datos generales organización'!C55","v":"Escribir nombre de centro"},null,null,null,null,null,{"$f":"'Datos generales organización'!C64","v":0},{"$f":"'Datos generales organización'!C64","v":0}]
[null,null,{"$f":"C146","v":"Producto"},{"$f":"D146","v":"Tipo de transporte de carga"},{"$f":"SUM(G153:L153)","v":0},"ton",null,null,null,null,null,"ton"]
[null,null,{"$f":"C147","v":"Producto"},"Tipo de transporte de carga",{"$f":"SUM(G154:L154)","v":0},"ton",null,null,null,null,null,"ton"]
[null,null,"Producto","Tipo de transporte de carga",{"$f":"SUM(G155:L155)","v":0},"ton",null,null,null,null,null,"ton"]
[]
[null,null,"H) OTRAS EMISIONES INDIRECTAS DIFERENTES A LAS ANTERIORES"]
[]
[null,null,"Tipo de emisión indirecta calculada","Emisiones calculadas","Unidad",{"$f":"D159","v":"Emisiones calculadas"}]
[null,null,null,"Total (sumatorio de centros)",null,{"$f":"'Datos generales organización'!$C$55","v":"Escribir nombre de centro"}]
[null,null,"<Tipo de emisión 1>",{"$f":"SUM(F161:K161)","v":0},"kg CO2e"]
[null,null,"<Tipo de emisión 2>",{"$f":"SUM(F162:K162)","v":0},"kg CO2e"]
[null,null,"<Tipo de emisión 3>",{"$f":"SUM(F163:K163)","v":0},"kg CO2e"]
[]
[]
[]
[]
[]
[]
[]
[]
[]
[]
[null,null,"LISTAS DESPLEGABLES"]
[]
[null,null,"Tipo de vehículo","Tipo de propulsión"]
[]
[null,null,"Vehículos","Gasolina"]
[null,null,"Microcoche","Gasóleo A y B"]
[null,null,"Turismo pequeño","Híbrido"]
[null,null,"Turismo medio","Gas Natural Comprimido"]
[null,null,"Turismo grande","Gas Natural Licuado"]
[null,null,"Deportivo","GLP"]
[null,null,"4x4","B100"]
[null,null,"Motocicleta","B30"]
[null,null,"Furgoneta","E10"]
[null,null,null,"E85"]
[null,null,"Tipo de transporte público"]
[null,null,null,"Tipo de transporte de carga"]
[null,null,"Autobús larga distancia"]
[null,null,"Autobús urbano","Tren de carga"]
[null,null,"Ferry","Camión 3,5 - 7,5 ton EURO 5"]
[null,null,"Metro","Camión 3,5 - 7,5 ton EURO 4"]
[null,null,"Taxis","Camión 7,5-16 ton EURO 5"]
[null,null,"Tranvía","Camión 7,5-16 ton EURO 4"]
[null,null,"Tren","Camión 16 - 32 ton EURO 5"]
[null,null,"Vuelo corta distancia < 3 h","Camión 16 - 32 ton EURO 4"]
[null,null,"Vuelo doméstico","Camión >32 ton EURO 5"]
[null,null,"Vuelos larga distancia > 3h ","Camión >32 ton EURO 4"]
[null,null,null,"Buque de carga transoceánico"]
[null,null,null,"Buque de carga de navegación interior "]
[null,null,null,"Avión de carga"]

{"sheet":"Hoja de registros","index":5,"n_rows":34,"n_cols":7,"rows_kept":34,"cut":false,"hidden":false,"merged":[]}
[null,null,{"$f":"Instrucciones!B1","v":"HERRAMIENTA DE HUELLA DE CARBONO PARA ORGANIZACIONES. Año de cálculo 2020"}]
[null,null,"HOJA DE REGISTROS"]
[]
[null,null,"TRAZABILIDAD DE LOS DATOS DE ACTIVIDAD"]
["Datos generales de la organización"]
["Alcance 1",null,"Tipo de dato de actividad","Instalación","Registro del que se obtiene","Responsable","Comentarios"]
["Alcance 2"]
["Alcance 3"]
["Hoja de registros"]
["Mi área de trabajo"]
["Resultados: RVHdC Declaración"]
["Resultados: RVHdC Detalle"]
["Resultados: SGMA"]
["Resultados: REHdC"]
["Cálculos"]
["Datos 1: Factores emisión"]
["Datos 2: Potenciales de calent. gl."]
["Datos 3: Factores de conversión"]
["Fuentes de datos"]
[]
[]
[]
[]
[]
[]
[]
[]
[]
[]
[]
[]
[]
[]
[null,null,"incluir más filas en caso necesario"]

{"sheet":"Mi área de trabajo","index":6,"n_rows":19,"n_cols":3,"rows_kept":19,"cut":false,"hidden":false,"merged":[]}
[null,null,{"$f":"Instrucciones!B1","v":"HERRAMIENTA DE HUELLA DE CARBONO PARA ORGANIZACIONES. Año de cálculo 2020"}]
[null,null,"ÁREA DE TRABAJO"]
[]
[null,null,"CÁLCULOS AUXILIARES"]
["Datos generales de la organización"]
["Alcance 1"]
["Alcance 2"]
["Alcance 3"]
["Hoja de registros"]
["Mi área de trabajo"]
["Resultados: RVHdC Declaración"]
["Resultados: RVHdC Detalle"]
["Resultados: SGMA"]
["Resultados: REHdC"]
["Cálculos"]
["Datos 1: Factores emisión"]
["Datos 2: Potenciales de calent. gl."]
["Datos 3: Factores de conversión"]
["Fuentes de datos"]

{"sheet":" Result- RVHdC Declarac","index":7,"n_rows":54,"n_cols":11,"rows_kept":54,"cut":false,"hidden":false,"merged":[[31,1,38,1],[13,1,16,1],[18,1,20,1]]}
[null,null,{"$f":"Instrucciones!B1","v":"HERRAMIENTA DE HUELLA DE CARBONO PARA ORGANIZACIONES. Año de cálculo 2020"}]
[null,"RESULTADOS PARA LA DECLARACIÓN DEL REGISTRO VASCO DE HUELLA DE CARBONO Y REDUCCIÓN DE EMISIONES DE GEI"]
[]
[null,"Nombre de la organización",{"$f":"'Datos generales organización'!D5","v":0}]
[null,"Indicador de referencia:",{"$f":"'Datos generales organización'!C20","v":"Seleccionar índice"},{"$f":"'Datos generales organización'!E20","v":0}]
[]
[]
[null,{"$f":"CONCATENATE(\"A) HUELLA DE CARBONO  \",  'Datos generales organización'!D14,\"  (t CO2e/\", C5,\" )\")","v":"A) HUELLA DE CARBONO  <seleccionar año>  (t CO2e/Seleccionar índice )"}]
[null,"A.1) REPORTE OBLIGATORIO: HUELLA DE CARBONO EN ALCANCE 1  Y ALCANCE 2"]
[]
[]
[]
[null,null,null,"Total"]
[null,"EMISIONES DIRECTAS (ALCANCE 1)","Combustión fija",{"$f":"IF(ISNUMBER(ROUND('Result- RVHdC Detalle'!D11/$D$5,3-(1+INT(LOG10(ABS('Result- RVHdC Detalle'!D11/$D$5))))))=TRUE,(ROUND('Result- RVHdC Detalle'!D11/$D$5,2-(1+INT(LOG10(ABS('Result- RVHdC Detalle'!D11/$D$5)))))),0)","v":0}]
[null,null,"Vehículos",{"$f":"IF(ISNUMBER(ROUND('Result- RVHdC Detalle'!D12/$D$5,3-(1+INT(LOG10(ABS('Result- RVHdC Detalle'!D12/$D$5))))))=TRUE,(ROUND('Result- RVHdC Detalle'!D12/$D$5,2-(1+INT(LOG10(ABS('Result- RVHdC Detalle'!D12/$D$5)))))),0)","v":0}]
[null,null,"Refrigerantes y lubricantes",{"$f":"IF(ISNUMBER(ROUND('Result- RVHdC Detalle'!D13/$D$5,2-(1+INT(LOG10(ABS('Result- RVHdC Detalle'!D13/$D$5))))))=TRUE,(ROUND('Result- RVHdC Detalle'!D13/$D$5,2-(1+INT(LOG10(ABS('Result- RVHdC Detalle'!D13/$D$5)))))),0)","v":0}]
[null,"Total","Total ",{"$f":"IF(ISNUMBER(ROUND('Result- RVHdC Detalle'!D14/$D$5,3-(1+INT(LOG10(ABS('Result- RVHdC Detalle'!D14/$D$5))))))=TRUE,(ROUND('Result- RVHdC Detalle'!D14/$D$5,2-(1+INT(LOG10(ABS('Result- RVHdC Detalle'!D14/$D$5)))))),0)","v":0}]
[]
[null,"EMISIONES INDIRECTAS POR ENERGÍA (ALCANCE 2) ","Uso de electricidad o vapor externo",{"$f":"IF(ISNUMBER(ROUND('Result- RVHdC Detalle'!D16/$D$5,3-(1+INT(LOG10(ABS('Result- RVHdC Detalle'!D16/$D$5))))))=TRUE,(ROUND('Result- RVHdC Detalle'!D16/$D$5,2-(1+INT(LOG10(ABS('Result- RVHdC Detalle'!D16/$D$5)))))),0)","v":0}]
[null,null,"Vehículos",{"$f":"IF(ISNUMBER(ROUND('Result- RVHdC Detalle'!D17/$D$5,3-(1+INT(LOG10(ABS('Result- RVHdC Detalle'!D17/$D$5))))))=TRUE,(ROUND('Result- RVHdC Detalle'!D17/$D$5,2-(1+INT(LOG10(ABS('Result- RVHdC Detalle'!D17/$D$5)))))),0)","v":0}]
[null,null,"Total ",{"$f":"IF(ISNUMBER(ROUND('Result- RVHdC Detalle'!D18/$D$5,3-(1+INT(LOG10(ABS('Result- RVHdC Detalle'!D18/$D$5))))))=TRUE,(ROUND('Result- RVHdC Detalle'!D18/$D$5,2-(1+INT(LOG10(ABS('Result- RVHdC Detalle'!D18/$D$5)))))),0)","v":0}]
[]
[null,"EMISIONES DIRECTAS (ALCANCE 1) + EMISIONES INDIRECTAS POR ENERGÍA (ALCANCE 2)","Total ",{"$f":"IF(ISNUMBER(ROUND('Result- RVHdC Detalle'!D20/$D$5,3-(1+INT(LOG10(ABS('Result- RVHdC Detalle'!D20/$D$5))))))=TRUE,(ROUND('Result- RVHdC Detalle'!D20/$D$5,2-(1+INT(LOG10(ABS('Result- RVHdC Detalle'!D20/$D$5)))))),0)","v":0}]
[]
[null,"ABSORCIONES (ALCANCE 1)","Total ",{"$f":"IF(ISNUMBER(ROUND('Result- RVHdC Detalle'!D22/$D$5,3-(1+INT(LOG10(ABS('Result- RVHdC Detalle'!D22/$D$5))))))=TRUE,(ROUND('Result- RVHdC Detalle'!D22/$D$5,2-(1+INT(LOG10(ABS('Result- RVHdC Detalle'!D22/$D$5)))))),0)","v":0}]
[]
[null,"BALANCE ABSORCIONES Y EMISIONES (ALCANCE 1 Y 2)","Total ",{"$f":"IF(ISNUMBER(ROUND('Result- RVHdC Detalle'!D24/$D$5,3-(1+INT(LOG10(ABS('Result- RVHdC Detalle'!D24/$D$5))))))=TRUE,(ROUND('Result- RVHdC Detalle'!D24/$D$5,2-(1+INT(LOG10(ABS('Result- RVHdC Detalle'!D24/$D$5)))))),0)","v":0}]
[]
[null,"A.2) REPORTE OPCIONAL: HUELLA DE CARBONO EN ALCANCE 3"]
[]
[null,null,null,"Total"]
[null,"OTRAS EMISIONES INDIRECTAS (ALCANCE 3)",{"$f":"'Result- RVHdC Detalle'!C29","v":"Movilidad de los trabajadores"},{"$f":"IF(ISNUMBER(ROUND('Result- RVHdC Detalle'!D29/$D$5,3-(1+INT(LOG10(ABS('Result- RVHdC Detalle'!D29/$D$5))))))=TRUE,(ROUND('Result- RVHdC Detalle'!D29/$D$5,3-(1+INT(LOG10(ABS('Result- RVHdC Detalle'!D29/$D$5)))))),0)","v":0}]
[null,null,{"$f":"'Result- RVHdC Detalle'!C30","v":"Viajes de trabajo "},{"$f":"IF(ISNUMBER(ROUND('Result- RVHdC Detalle'!D30/$D$5,3-(1+INT(LOG10(ABS('Result- RVHdC Detalle'!D30/$D$5))))))=TRUE,(ROUND('Result- RVHdC Detalle'!D30/$D$5,3-(1+INT(LOG10(ABS('Result- RVHdC Detalle'!D30/$D$5)))))),0)","v":0}]
[null,null,{"$f":"'Result- RVHdC Detalle'!C31","v":"Gestión de residuos"},{"$f":"IF(ISNUMBER(ROUND('Result- RVHdC Detalle'!D31/$D$5,3-(1+INT(LOG10(ABS('Result- RVHdC Detalle'!D31/$D$5))))))=TRUE,(ROUND('Result- RVHdC Detalle'!D31/$D$5,3-(1+INT(LOG10(ABS('Result- RVHdC Detalle'!D31/$D$5)))))),0)","v":0}]
[null,null,{"$f":"'Result- RVHdC Detalle'!C32","v":"Consumo de agua"},{"$f":"IF(ISNUMBER(ROUND('Result- RVHdC Detalle'!D32/$D$5,3-(1+INT(LOG10(ABS('Result- RVHdC Detalle'!D32/$D$5))))))=TRUE,(ROUND('Result- RVHdC Detalle'!D32/$D$5,3-(1+INT(LOG10(ABS('Result- RVHdC Detalle'!D32/$D$5)))))),0)","v":0}]
[null,null,{"$f":"'Result- RVHdC Detalle'!C33","v":"Consumo de bienes y servicios"},{"$f":"IF(ISNUMBER(ROUND('Result- RVHdC Detalle'!D33/$D$5,3-(1+INT(LOG10(ABS('Result- RVHdC Detalle'!D33/$D$5))))))=TRUE,(ROUND('Result- RVHdC Detalle'!D33/$D$5,3-(1+INT(LOG10(ABS('Result- RVHdC Detalle'!D33/$D$5)))))),0)","v":0}]
[null,null,{"$f":"'Result- RVHdC Detalle'!C34","v":"Transporte desde proveedor"},{"$f":"IF(ISNUMBER(ROUND('Result- RVHdC Detalle'!D34/$D$5,3-(1+INT(LOG10(ABS('Result- RVHdC Detalle'!D34/$D$5))))))=TRUE,(ROUND('Result- RVHdC Detalle'!D34/$D$5,3-(1+INT(LOG10(ABS('Result- RVHdC Detalle'!D34/$D$5)))))),0)","v":0}]
[null,null,{"$f":"'Result- RVHdC Detalle'!C35","v":"Distribución de productos"},{"$f":"IF(ISNUMBER(ROUND('Result- RVHdC Detalle'!D35/$D$5,3-(1+INT(LOG10(ABS('Result- RVHdC Detalle'!D35/$D$5))))))=TRUE,(ROUND('Result- RVHdC Detalle'!D35/$D$5,3-(1+INT(LOG10(ABS('Result- RVHdC Detalle'!D35/$D$5)))))),0)","v":0}]
[null,null,"Total ",{"$f":"SUM(D32:D38)","v":0}]
[]
[null,"A.3) TOTAL: HUELLA DE CARBONO EN ALCANCE 1 + ALCANCE 2+ ALCANCE 3"]
[]
[null,"BALANCE TOTAL DE ABSORCIONES Y EMISIONES (ALCANCE 1 ,  2 Y 3)","Total ",{"$f":"D27+D39","v":0}]
[]
[]
[null,"B) EVOLUCIÓN HISTÓRICA DE LA HUELLA DE CARBONO"]
[]
[null,null,null,{"$f":"'Datos generales organización'!D14","v":"<seleccionar año>"},{"$f":"IF('Datos generales organización'!E45<>\"<Año>\",'Datos generales organización'!E45,NA())","v":{"$error":"#VALUE!"}},{"$f":"IF('Datos generales organización'!F45<>\"<Año>\",'Datos generales organización'!F45,NA())","v":{"$error":"#VALUE!"}},{"$f":"IF('Datos generales organización'!G45<>\"<Año>\",'Datos generales organización'!G45,NA())","v":{"$error":"#VALUE!"}},{"$f":"IF('Datos generales organización'!H45<>\"<Año>\",'Datos generales organización'!H45,NA())","v":{"$error":"#VALUE!"}},{"$f":"IF('Datos generales organización'!I45<>\"<Año>\",'Datos generales organización'!I45,NA())","v":{"$error":"#VALUE!"}},{"$f":"IF('Datos generales organización'!J45<>\"<Año>\",'Datos generales organización'!J45,NA())","v":{"$error":"#VALUE!"}},{"$f":"IF('Datos generales organización'!K45<>\"<Año>\",'Datos generales organización'!K45,NA())","v":{"$error":"#VALUE!"}}]
[null,{"$f":"CONCATENATE(\"Emisiones de alcance 1 / \",'Datos generales organización'!$C$20)","v":"Emisiones de alcance 1 / Seleccionar índice"},{"$f":"CONCATENATE(\"(t CO2e/ \",'Datos generales organización'!$D$20,\"  )\")","v":"(t CO2e/ unidades  )"},{"$f":"IF(ISNUMBER(D17)=TRUE,IF(D17=0,NA(),D17),NA())","v":{"$error":"#N/A"}},{"$f":"IF('Datos generales organización'!E46<>0,ROUND('Datos generales organización'!E46,2-(1+INT(LOG10(ABS('Datos generales organización'!E46))))),NA())","v":{"$error":"#DIV/0!"}},{"$f":"IF('Datos generales organización'!F46<>0,ROUND('Datos generales organización'!F46,2-(1+INT(LOG10(ABS('Datos generales organización'!F46))))),NA())","v":{"$error":"#DIV/0!"}},{"$f":"IF('Datos generales organización'!G46<>0,ROUND('Datos generales organización'!G46,2-(1+INT(LOG10(ABS('Datos generales organización'!G46))))),NA())","v":{"$error":"#DIV/0!"}},{"$f":"IF('Datos generales organización'!H46<>0,ROUND('Datos generales organización'!H46,2-(1+INT(LOG10(ABS('Datos generales organización'!H46))))),NA())","v":{"$error":"#DIV/0!"}},{"$f":"IF('Datos generales organización'!I46<>0,ROUND('Datos generales organización'!I46,2-(1+INT(LOG10(ABS('Datos generales organización'!I46))))),NA())","v":{"$error":"#DIV/0!"}},{"$f":"IF('Datos generales organización'!J46<>0,ROUND('Datos generales organización'!J46,2-(1+INT(LOG10(ABS('Datos generales organización'!J46))))),NA())","v":{"$error":"#DIV/0!"}},{"$f":"IF('Datos generales organización'!K46<>0,ROUND('Datos generales organización'!K46,2-(1+INT(LOG10(ABS('Datos generales organización'!K46))))),NA())","v":{"$error":"#DIV/0!"}}]
[null,{"$f":"CONCATENATE(\"Emisiones de alcance 2 / \",'Datos generales organización'!$C$20)","v":"Emisiones de alcance 2 / Seleccionar índice"},{"$f":"CONCATENATE(\"(t CO2e/ \",'Datos generales organización'!$D$20,\"  )\")","v":"(t CO2e/ unidades  )"},{"$f":"IF(ISNUMBER(D21)=TRUE,IF(D21=0,NA(),D21),NA())","v":{"$error":"#N/A"}},{"$f":"IF('Datos generales organización'!E47<>0,ROUND('Datos generales organización'!E47,2-(1+INT(LOG10(ABS('Datos generales organización'!E47))))),NA())","v":{"$error":"#DIV/0!"}},{"$f":"IF('Datos generales organización'!F47<>0,ROUND('Datos generales organización'!F47,2-(1+INT(LOG10(ABS('Datos generales organización'!F47))))),NA())","v":{"$error":"#DIV/0!"}},{"$f":"IF('Datos generales organización'!G47<>0,ROUND('Datos generales organización'!G47,2-(1+INT(LOG10(ABS('Datos generales organización'!G47))))),NA())","v":{"$error":"#DIV/0!"}},{"$f":"IF('Datos generales organización'!H47<>0,ROUND('Datos generales organización'!H47,2-(1+INT(LOG10(ABS('Datos generales organización'!H47))))),NA())","v":{"$error":"#DIV/0!"}},{"$f":"IF('Datos generales organización'!I47<>0,ROUND('Datos generales organización'!I47,2-(1+INT(LOG10(ABS('Datos generales organización'!I47))))),NA())","v":{"$error":"#DIV/0!"}},{"$f":"IF('Datos generales organización'!J47<>0,ROUND('Datos generales organización'!J47,2-(1+INT(LOG10(ABS('Datos generales organización'!J47))))),NA())","v":{"$error":"#DIV/0!"}},{"$f":"IF('Datos generales organización'!K47<>0,ROUND('Datos generales organización'!K47,2-(1+INT(LOG10(ABS('Datos generales organización'!K47))))),NA())","v":{"$error":"#DIV/0!"}}]
[null,{"$f":"CONCATENATE(\"Absorciones / \",'Datos generales organización'!$C$20)","v":"Absorciones / Seleccionar índice"},{"$f":"CONCATENATE(\"(t CO2e/ \",'Datos generales organización'!$D$20,\"  )\")","v":"(t CO2e/ unidades  )"},{"$f":"IF(ISNUMBER(D25)=TRUE,IF(D25=0,NA(),D25),NA())","v":{"$error":"#N/A"}},{"$f":"IF('Datos generales organización'!E49<>0,ROUND('Datos generales organización'!E49,2-(1+INT(LOG10(ABS('Datos generales organización'!E48))))),NA())","v":{"$error":"#DIV/0!"}},{"$f":"IF('Datos generales organización'!F49<>0,ROUND('Datos generales organización'!F49,2-(1+INT(LOG10(ABS('Datos generales organización'!F48))))),NA())","v":{"$error":"#DIV/0!"}},{"$f":"IF('Datos generales organización'!G49<>0,ROUND('Datos generales organización'!G49,2-(1+INT(LOG10(ABS('Datos generales organización'!G48))))),NA())","v":{"$error":"#DIV/0!"}},{"$f":"IF('Datos generales organización'!H49<>0,ROUND('Datos generales organización'!H49,2-(1+INT(LOG10(ABS('Datos generales organización'!H48))))),NA())","v":{"$error":"#DIV/0!"}},{"$f":"IF('Datos generales organización'!I49<>0,ROUND('Datos generales organización'!I49,2-(1+INT(LOG10(ABS('Datos generales organización'!I48))))),NA())","v":{"$error":"#DIV/0!"}},{"$f":"IF('Datos generales organización'!J49<>0,ROUND('Datos generales organización'!J49,2-(1+INT(LOG10(ABS('Datos generales organización'!J48))))),NA())","v":{"$error":"#DIV/0!"}},{"$f":"IF('Datos generales organización'!K49<>0,ROUND('Datos generales organización'!K49,2-(1+INT(LOG10(ABS('Datos generales organización'!K48))))),NA())","v":{"$error":"#DIV/0!"}}]
[null,{"$f":"CONCATENATE(\"Balance emisiones de alcance 1+2 / \",'Datos generales organización'!$C$20)","v":"Balance emisiones de alcance 1+2 / Seleccionar índice"},{"$f":"CONCATENATE(\"(t CO2e/ \",'Datos generales organización'!$D$20,\"  )\")","v":"(t CO2e/ unidades  )"},{"$f":"IF(ISNUMBER(D27)=TRUE,IF(D27=0,NA(),D27),NA())","v":{"$error":"#N/A"}},{"$f":"IF('Datos generales organización'!E50<>0,ROUND('Datos generales organización'!E50,2-(1+INT(LOG10(ABS('Datos generales organización'!E50))))),NA())","v":{"$error":"#DIV/0!"}},{"$f":"IF('Datos generales organización'!F50<>0,ROUND('Datos generales organización'!F50,2-(1+INT(LOG10(ABS('Datos generales organización'!F50))))),NA())","v":{"$error":"#DIV/0!"}},{"$f":"IF('Datos generales organización'!G50<>0,ROUND('Datos generales organización'!G50,2-(1+INT(LOG10(ABS('Datos generales organización'!G50))))),NA())","v":{"$error":"#DIV/0!"}},{"$f":"IF('Datos generales organización'!H50<>0,ROUND('Datos generales organización'!H50,2-(1+INT(LOG10(ABS('Datos generales organización'!H50))))),NA())","v":{"$error":"#DIV/0!"}},{"$f":"IF('Datos generales organización'!I50<>0,ROUND('Datos generales organización'!I50,2-(1+INT(LOG10(ABS('Datos generales organización'!I50))))),NA())","v":{"$error":"#DIV/0!"}},{"$f":"IF('Datos generales organización'!J50<>0,ROUND('Datos generales organización'!J50,2-(1+INT(LOG10(ABS('Datos generales organización'!J50))))),NA())","v":{"$error":"#DIV/0!"}},{"$f":"IF('Datos generales organización'!K50<>0,ROUND('Datos generales organización'!K50,2-(1+INT(LOG10(ABS('Datos generales organización'!K50))))),NA())","v":{"$error":"#DIV/0!"}}]
[null,{"$f":"CONCATENATE(\"Emisiones de alcance 3 / \",'Datos generales organización'!$C$20)","v":"Emisiones de alcance 3 / Seleccionar índice"},{"$f":"CONCATENATE(\"(t CO2e/ \",'Datos generales organización'!$D$20,\"  )\")","v":"(t CO2e/ unidades  )"},{"$f":"IF(ISNUMBER(D39)=TRUE,IF(D39=0,NA(),D39),NA())","v":{"$error":"#N/A"}},{"$f":"IF('Datos generales organización'!E51<>0,ROUND('Datos generales organización'!E51,2-(1+INT(LOG10(ABS('Datos generales organización'!E51))))),NA())","v":{"$error":"#DIV/0!"}},{"$f":"IF('Datos generales organización'!F51<>0,ROUND('Datos generales organización'!F51,2-(1+INT(LOG10(ABS('Datos generales organización'!F51))))),NA())","v":{"$error":"#DIV/0!"}},{"$f":"IF('Datos generales organización'!G51<>0,ROUND('Datos generales organización'!G51,2-(1+INT(LOG10(ABS('Datos generales organización'!G51))))),NA())","v":{"$error":"#DIV/0!"}},{"$f":"IF('Datos generales organización'!H51<>0,ROUND('Datos generales organización'!H51,2-(1+INT(LOG10(ABS('Datos generales organización'!H51))))),NA())","v":{"$error":"#DIV/0!"}},{"$f":"IF('Datos generales organización'!I51<>0,ROUND('Datos generales organización'!I51,2-(1+INT(LOG10(ABS('Datos generales organización'!I51))))),NA())","v":{"$error":"#DIV/0!"}},{"$f":"IF('Datos generales organización'!J51<>0,ROUND('Datos generales organización'!J51,2-(1+INT(LOG10(ABS('Datos generales organización'!J51))))),NA())","v":{"$error":"#DIV/0!"}},{"$f":"IF('Datos generales organización'!K51<>0,ROUND('Datos generales organización'!K51,2-(1+INT(LOG10(ABS('Datos generales organización'!K51))))),NA())","v":{"$error":"#DIV/0!"}}]
[null,{"$f":"CONCATENATE(\"Balance emisiones de alcance 1+2+3 / \",'Datos generales organización'!$C$20)","v":"Balance emisiones de alcance 1+2+3 / Seleccionar índice"},{"$f":"CONCATENATE(\"(t CO2e/ \",'Datos generales organización'!$D$20,\"  )\")","v":"(t CO2e/ unidades  )"},{"$f":"IF((D52+D53)>0,(D52+D53),NA())","v":{"$error":"#N/A"}},{"$f":"IF((E52+E53)>0,(E52+E53),NA())","v":{"$error":"#DIV/0!"}},{"$f":"IF((F52+F53)>0,(F52+F53),NA())","v":{"$error":"#DIV/0!"}},{"$error":"#DIV/0!"},{"$error":"#DIV/0!"},{"$error":"#DIV/0!"},{"$f":"IF((J52+J53)>0,(J52+J53),NA())","v":{"$error":"#DIV/0!"}},{"$error":"#DIV/0!"}]

{"sheet":"Result- RVHdC Detalle","index":8,"n_rows":85,"n_cols":11,"rows_kept":85,"cut":false,"hidden":false,"merged":[[10,1,13,1],[15,1,17,1],[28,1,35,1]]}
[null,null,{"$f":"Instrucciones!B1","v":"HERRAMIENTA DE HUELLA DE CARBONO PARA ORGANIZACIONES. Año de cálculo 2020"}]
[null,"DETALLE DE RESULTADOS SEGÚN EL REGISTRO VASCO DE HUELLA DE CARBONO Y REDUCCIÓN DE EMISIONES DE GEI"]
[]
[null,"Nombre de la organización",{"$f":"'Datos generales organización'!D5","v":0}]
[]
[]
[null,{"$f":"CONCATENATE(\"A) RESUMEN DE RESULTADOS DE \",'Datos generales organización'!D14,\"   -FORMATO ISO 14064-1  - (t CO2e)\")","v":"A) RESUMEN DE RESULTADOS DE <seleccionar año>   -FORMATO ISO 14064-1  - (t CO2e)"}]
[null,"A.1) REPORTE OBLIGATORIO: ALCANCE 1  Y ALCANCE 2"]
[]
[null,null,null,"Total","CO2","CH4","N2O","Gases fluorados","CO2 (b)"]
[null,"EMISIONES DIRECTAS (ALCANCE 1)","Fuentes fijas ",{"$f":"SUM(E11:H11)","v":0},{"$f":"(SUMIFS(Cálculos!AH$6:AH$228,Cálculos!$I$6:$I$228,1,Cálculos!$C$6:$C$228,\"Fuente fija\",Cálculos!$H$6:$H$228,\"Ambos\")+SUMIFS(Cálculos!AH$6:AH$228,Cálculos!$I$6:$I$228,1,Cálculos!$C$6:$C$228,\"Fuente fija\",Cálculos!$H$6:$H$228,\"CAPV\"))/1000","v":0},{"$f":"(SUMIFS(Cálculos!AI$6:AI$228,Cálculos!$I$6:$I$228,1,Cálculos!$C$6:$C$228,\"Fuente fija\",Cálculos!$H$6:$H$228,\"Ambos\")+SUMIFS(Cálculos!AI$6:AI$228,Cálculos!$I$6:$I$228,1,Cálculos!$C$6:$C$228,\"Fuente fija\",Cálculos!$H$6:$H$228,\"CAPV\"))/1000","v":0},{"$f":"(SUMIFS(Cálculos!AJ$6:AJ$228,Cálculos!$I$6:$I$228,1,Cálculos!$C$6:$C$228,\"Fuente fija\",Cálculos!$H$6:$H$228,\"Ambos\")+SUMIFS(Cálculos!AJ$6:AJ$228,Cálculos!$I$6:$I$228,1,Cálculos!$C$6:$C$228,\"Fuente fija\",Cálculos!$H$6:$H$228,\"CAPV\"))/1000","v":0},{"$f":"(SUMIFS(Cálculos!AK$6:AK$228,Cálculos!$I$6:$I$228,1,Cálculos!$C$6:$C$228,\"Fuente fija\",Cálculos!$H$6:$H$228,\"Ambos\")+SUMIFS(Cálculos!AK$6:AK$228,Cálculos!$I$6:$I$228,1,Cálculos!$C$6:$C$228,\"Fuente fija\",Cálculos!$H$6:$H$228,\"CAPV\"))/1000","v":0},{"$f":"(SUMIFS(Cálculos!AM$6:AM$228,Cálculos!$I$6:$I$228,1,Cálculos!$C$6:$C$228,\"Fuente fija\",Cálculos!$H$6:$H$228,\"Ambos\")+SUMIFS(Cálculos!AM$6:AM$228,Cálculos!$I$6:$I$228,1,Cálculos!$C$6:$C$228,\"Fuente fija\",Cálculos!$H$6:$H$228,\"CAPV\"))/1000","v":0}]
[null,null,"Fuentes móviles ",{"$f":"SUM(E12:H12)","v":{"$error":"#N/A"}},{"$f":"(SUMIFS(Cálculos!AH$6:AH$228,Cálculos!$I$6:$I$228,1,Cálculos!$C$6:$C$228,\"Fuente móvil\",Cálculos!$H$6:$H$228,\"Ambos\")+SUMIFS(Cálculos!AH$6:AH$228,Cálculos!$I$6:$I$228,1,Cálculos!$C$6:$C$228,\"Fuente móvil\",Cálculos!$H$6:$H$228,\"CAPV\"))/1000","v":{"$error":"#N/A"}},{"$f":"(SUMIFS(Cálculos!AI$6:AI$228,Cálculos!$I$6:$I$228,1,Cálculos!$C$6:$C$228,\"Fuente móvil\",Cálculos!$H$6:$H$228,\"Ambos\")+SUMIFS(Cálculos!AI$6:AI$228,Cálculos!$I$6:$I$228,1,Cálculos!$C$6:$C$228,\"Fuente móvil\",Cálculos!$H$6:$H$228,\"CAPV\"))/1000","v":{"$error":"#N/A"}},{"$f":"(SUMIFS(Cálculos!AJ$6:AJ$228,Cálculos!$I$6:$I$228,1,Cálculos!$C$6:$C$228,\"Fuente móvil\",Cálculos!$H$6:$H$228,\"Ambos\")+SUMIFS(Cálculos!AJ$6:AJ$228,Cálculos!$I$6:$I$228,1,Cálculos!$C$6:$C$228,\"Fuente móvil\",Cálculos!$H$6:$H$228,\"CAPV\"))/1000","v":{"$error":"#N/A"}},{"$f":"(SUMIFS(Cálculos!AK$6:AK$228,Cálculos!$I$6:$I$228,1,Cálculos!$C$6:$C$228,\"Fuente móvil\",Cálculos!$H$6:$H$228,\"Ambos\")+SUMIFS(Cálculos!AK$6:AK$228,Cálculos!$I$6:$I$228,1,Cálculos!$C$6:$C$228,\"Fuente móvil\",Cálculos!$H$6:$H$228,\"CAPV\"))/1000","v":0},{"$f":"(SUMIFS(Cálculos!AM$6:AM$228,Cálculos!$I$6:$I$228,1,Cálculos!$C$6:$C$228,\"Fuente móvil\",Cálculos!$H$6:$H$228,\"Ambos\")+SUMIFS(Cálculos!AM$6:AM$228,Cálculos!$I$6:$I$228,1,Cálculos!$C$6:$C$228,\"Fuente móvil\",Cálculos!$H$6:$H$228,\"CAPV\"))/1000","v":{"$error":"#N/A"}}]
[null,null,"Fuentes difusas ",{"$f":"SUM(E13:H13)","v":0},{"$f":"(SUMIFS(Cálculos!AH$6:AH$228,Cálculos!$I$6:$I$228,1,Cálculos!$C$6:$C$228,\"Fuente difusa\",Cálculos!$H$6:$H$228,\"Ambos\")+SUMIFS(Cálculos!AH$6:AH$228,Cálculos!$I$6:$I$228,1,Cálculos!$C$6:$C$228,\"Fuente difusa\",Cálculos!$H$6:$H$228,\"CAPV\"))/1000","v":0},{"$f":"(SUMIFS(Cálculos!AI$6:AI$228,Cálculos!$I$6:$I$228,1,Cálculos!$C$6:$C$228,\"Fuente difusa\",Cálculos!$H$6:$H$228,\"Ambos\")+SUMIFS(Cálculos!AI$6:AI$228,Cálculos!$I$6:$I$228,1,Cálculos!$C$6:$C$228,\"Fuente difusa\",Cálculos!$H$6:$H$228,\"CAPV\"))/1000","v":0},{"$f":"(SUMIFS(Cálculos!AJ$6:AJ$228,Cálculos!$I$6:$I$228,1,Cálculos!$C$6:$C$228,\"Fuente difusa\",Cálculos!$H$6:$H$228,\"Ambos\")+SUMIFS(Cálculos!AJ$6:AJ$228,Cálculos!$I$6:$I$228,1,Cálculos!$C$6:$C$228,\"Fuente difusa\",Cálculos!$H$6:$H$228,\"CAPV\"))/1000","v":0},{"$f":"(SUMIFS(Cálculos!AK$6:AK$228,Cálculos!$I$6:$I$228,1,Cálculos!$C$6:$C$228,\"Fuente difusa\",Cálculos!$H$6:$H$228,\"Ambos\")+SUMIFS(Cálculos!AK$6:AK$228,Cálculos!$I$6:$I$228,1,Cálculos!$C$6:$C$228,\"Fuente difusa\",Cálculos!$H$6:$H$228,\"CAPV\"))/1000","v":0},{"$f":"(SUMIFS(Cálculos!AM$6:AM$228,Cálculos!$I$6:$I$228,1,Cálculos!$C$6:$C$228,\"Fuente difusa\",Cálculos!$H$6:$H$228,\"Ambos\")+SUMIFS(Cálculos!AM$6:AM$228,Cálculos!$I$6:$I$228,1,Cálculos!$C$6:$C$228,\"Fuente difusa\",Cálculos!$H$6:$H$228,\"CAPV\"))/1000","v":0}]
[null,"Total","Total ",{"$f":"D11+D12+D13","v":{"$error":"#N/A"}},{"$f":"E11+E12+E13","v":{"$error":"#N/A"}},{"$f":"F11+F12+F13","v":{"$error":"#N/A"}},{"$error":"#N/A"},0,{"$error":"#N/A"}]
[]
[null,"EMISIONES INDIRECTAS POR ENERGÍA (ALCANCE 2) ","Fuentes fijas ",{"$f":"(SUMIFS(Cálculos!$AH$6:$AH$228,Cálculos!$I$6:$I$228,2,Cálculos!$C$6:$C$228,\"Fuente fija\",Cálculos!$H$6:$H$228,\"Ambos\")+SUMIFS(Cálculos!$AH$6:$AH$228,Cálculos!$I$6:$I$228,2,Cálculos!$C$6:$C$228,\"Fuente fija\",Cálculos!$H$6:$H$228,\"CAPV\"))/1000","v":0}]
[null,null,"Fuentes móviles",{"$f":"(SUMIFS(Cálculos!$AH$6:$AH$228,Cálculos!$I$6:$I$228,2,Cálculos!$C$6:$C$228,\"Fuente móvil\",Cálculos!$H$6:$H$228,\"Ambos\")+SUMIFS(Cálculos!$AH$6:$AH$228,Cálculos!$I$6:$I$228,2,Cálculos!$C$6:$C$228,\"Fuente móvil\",Cálculos!$H$6:$H$228,\"CAPV\"))/1000","v":0}]
[null,null,"Total ",{"$f":"D16+D17","v":0}]
[]
[null,"EMISIONES DIRECTAS (ALCANCE 1) + EMISIONES INDIRECTAS POR ENERGÍA (ALCANCE 2)","Total ",{"$f":"D14+D18","v":{"$error":"#N/A"}}]
[]
[null,"ABSORCIONES (ALCANCE 1)","Total ",{"$f":"SUM(Cálculos!AN6:AN228)/1000","v":{"$error":"#N/A"}}]
[]
[null,"BALANCE ABSORCIONES Y EMISIONES (ALCANCE 1 Y 2)","Total ",{"$f":"D20+D22","v":{"$error":"#N/A"}}]
[]
[null,"A.2) REPORTE OPCIONAL: ALCANCE 3 (t CO2e)"]
[]
[null,null,null,"Total","CO2","CH4","N2O","Gases fluorados","CO2 (b)"]
[null,"OTRAS EMISIONES INDIRECTAS (ALCANCE 3)","Movilidad de los trabajadores",{"$f":"SUM(E29:H29)","v":8.6899999999999998E-3},{"$f":"(SUMIFS(Cálculos!AH$6:AH$228,Cálculos!$I$6:$I$228,3,Cálculos!$G$6:$G$228,$C29,Cálculos!$H$6:$H$228,\"Ambos\")+SUMIFS(Cálculos!AH$6:AH$228,Cálculos!$I$6:$I$228,3,Cálculos!$G$6:$G$228,$C29,Cálculos!$H$6:$H$228,\"CAPV\"))/1000","v":1.364E-3},{"$f":"(SUMIFS(Cálculos!AI$6:AI$228,Cálculos!$I$6:$I$228,3,Cálculos!$G$6:$G$228,$C29,Cálculos!$H$6:$H$228,\"Ambos\")+SUMIFS(Cálculos!AI$6:AI$228,Cálculos!$I$6:$I$228,3,Cálculos!$G$6:$G$228,$C29,Cálculos!$H$6:$H$228,\"CAPV\"))/1000","v":2.5000000000000001E-5},{"$f":"(SUMIFS(Cálculos!AJ$6:AJ$228,Cálculos!$I$6:$I$228,3,Cálculos!$G$6:$G$228,$C29,Cálculos!$H$6:$H$228,\"Ambos\")+SUMIFS(Cálculos!AJ$6:AJ$228,Cálculos!$I$6:$I$228,3,Cálculos!$G$6:$G$228,$C29,Cálculos!$H$6:$H$228,\"CAPV\"))/1000","v":7.3010000000000002E-3},{"$f":"(SUMIFS(Cálculos!AK$6:AK$228,Cálculos!$I$6:$I$228,3,Cálculos!$G$6:$G$228,$C29,Cálculos!$H$6:$H$228,\"Ambos\")+SUMIFS(Cálculos!AK$6:AK$228,Cálculos!$I$6:$I$228,3,Cálculos!$G$6:$G$228,$C29,Cálculos!$H$6:$H$228,\"CAPV\"))/1000","v":0},{"$f":"(SUMIFS(Cálculos!AL$6:AL$228,Cálculos!$I$6:$I$228,3,Cálculos!$G$6:$G$228,$C29,Cálculos!$H$6:$H$228,\"Ambos\")+SUMIFS(Cálculos!AL$6:AL$228,Cálculos!$I$6:$I$228,3,Cálculos!$G$6:$G$228,$C29,Cálculos!$H$6:$H$228,\"CAPV\"))/1000","v":8.6899999999999998E-3}]
[null,null,"Viajes de trabajo ",{"$f":"SUM(E30:H30)","v":0},{"$f":"(SUMIFS(Cálculos!AH$6:AH$228,Cálculos!$I$6:$I$228,3,Cálculos!$G$6:$G$228,$C30,Cálculos!$H$6:$H$228,\"Ambos\")+SUMIFS(Cálculos!AH$6:AH$228,Cálculos!$I$6:$I$228,3,Cálculos!$G$6:$G$228,$C30,Cálculos!$H$6:$H$228,\"CAPV\"))/1000","v":0},{"$f":"(SUMIFS(Cálculos!AI$6:AI$228,Cálculos!$I$6:$I$228,3,Cálculos!$G$6:$G$228,$C30,Cálculos!$H$6:$H$228,\"Ambos\")+SUMIFS(Cálculos!AI$6:AI$228,Cálculos!$I$6:$I$228,3,Cálculos!$G$6:$G$228,$C30,Cálculos!$H$6:$H$228,\"CAPV\"))/1000","v":0},{"$f":"(SUMIFS(Cálculos!AJ$6:AJ$228,Cálculos!$I$6:$I$228,3,Cálculos!$G$6:$G$228,$C30,Cálculos!$H$6:$H$228,\"Ambos\")+SUMIFS(Cálculos!AJ$6:AJ$228,Cálculos!$I$6:$I$228,3,Cálculos!$G$6:$G$228,$C30,Cálculos!$H$6:$H$228,\"CAPV\"))/1000","v":0},{"$f":"(SUMIFS(Cálculos!AK$6:AK$228,Cálculos!$I$6:$I$228,3,Cálculos!$G$6:$G$228,$C30,Cálculos!$H$6:$H$228,\"Ambos\")+SUMIFS(Cálculos!AK$6:AK$228,Cálculos!$I$6:$I$228,3,Cálculos!$G$6:$G$228,$C30,Cálculos!$H$6:$H$228,\"CAPV\"))/1000","v":0},{"$f":"(SUMIFS(Cálculos!AL$6:AL$228,Cálculos!$I$6:$I$228,3,Cálculos!$G$6:$G$228,$C30,Cálculos!$H$6:$H$228,\"Ambos\")+SUMIFS(Cálculos!AL$6:AL$228,Cálculos!$I$6:$I$228,3,Cálculos!$G$6:$G$228,$C30,Cálculos!$H$6:$H$228,\"CAPV\"))/1000","v":0}]
[null,null,"Gestión de residuos",0,{"$f":"(SUMIFS(Cálculos!AH$6:AH$228,Cálculos!$I$6:$I$228,3,Cálculos!$G$6:$G$228,$C31,Cálculos!$H$6:$H$228,\"Ambos\")+SUMIFS(Cálculos!AH$6:AH$228,Cálculos!$I$6:$I$228,3,Cálculos!$G$6:$G$228,$C31,Cálculos!$H$6:$H$228,\"CAPV\"))/1000","v":0},{"$f":"(SUMIFS(Cálculos!AI$6:AI$228,Cálculos!$I$6:$I$228,3,Cálculos!$G$6:$G$228,$C31,Cálculos!$H$6:$H$228,\"Ambos\")+SUMIFS(Cálculos!AI$6:AI$228,Cálculos!$I$6:$I$228,3,Cálculos!$G$6:$G$228,$C31,Cálculos!$H$6:$H$228,\"CAPV\"))/1000","v":0},{"$f":"(SUMIFS(Cálculos!AJ$6:AJ$228,Cálculos!$I$6:$I$228,3,Cálculos!$G$6:$G$228,$C31,Cálculos!$H$6:$H$228,\"Ambos\")+SUMIFS(Cálculos!AJ$6:AJ$228,Cálculos!$I$6:$I$228,3,Cálculos!$G$6:$G$228,$C31,Cálculos!$H$6:$H$228,\"CAPV\"))/1000","v":0},{"$f":"(SUMIFS(Cálculos!AK$6:AK$228,Cálculos!$I$6:$I$228,3,Cálculos!$G$6:$G$228,$C31,Cálculos!$H$6:$H$228,\"Ambos\")+SUMIFS(Cálculos!AK$6:AK$228,Cálculos!$I$6:$I$228,3,Cálculos!$G$6:$G$228,$C31,Cálculos!$H$6:$H$228,\"CAPV\"))/1000","v":0},{"$f":"(SUMIFS(Cálculos!AL$6:AL$228,Cálculos!$I$6:$I$228,3,Cálculos!$G$6:$G$228,$C31,Cálculos!$H$6:$H$228,\"Ambos\")+SUMIFS(Cálculos!AL$6:AL$228,Cálculos!$I$6:$I$228,3,Cálculos!$G$6:$G$228,$C31,Cálculos!$H$6:$H$228,\"CAPV\"))/1000","v":0}]
[null,null,"Consumo de agua",0,{"$f":"(SUMIFS(Cálculos!AH$6:AH$228,Cálculos!$I$6:$I$228,3,Cálculos!$G$6:$G$228,$C32,Cálculos!$H$6:$H$228,\"Ambos\")+SUMIFS(Cálculos!AH$6:AH$228,Cálculos!$I$6:$I$228,3,Cálculos!$G$6:$G$228,$C32,Cálculos!$H$6:$H$228,\"CAPV\"))/1000","v":0},{"$f":"(SUMIFS(Cálculos!AI$6:AI$228,Cálculos!$I$6:$I$228,3,Cálculos!$G$6:$G$228,$C32,Cálculos!$H$6:$H$228,\"Ambos\")+SUMIFS(Cálculos!AI$6:AI$228,Cálculos!$I$6:$I$228,3,Cálculos!$G$6:$G$228,$C32,Cálculos!$H$6:$H$228,\"CAPV\"))/1000","v":0},{"$f":"(SUMIFS(Cálculos!AJ$6:AJ$228,Cálculos!$I$6:$I$228,3,Cálculos!$G$6:$G$228,$C32,Cálculos!$H$6:$H$228,\"Ambos\")+SUMIFS(Cálculos!AJ$6:AJ$228,Cálculos!$I$6:$I$228,3,Cálculos!$G$6:$G$228,$C32,Cálculos!$H$6:$H$228,\"CAPV\"))/1000","v":0},{"$f":"(SUMIFS(Cálculos!AK$6:AK$228,Cálculos!$I$6:$I$228,3,Cálculos!$G$6:$G$228,$C32,Cálculos!$H$6:$H$228,\"Ambos\")+SUMIFS(Cálculos!AK$6:AK$228,Cálculos!$I$6:$I$228,3,Cálculos!$G$6:$G$228,$C32,Cálculos!$H$6:$H$228,\"CAPV\"))/1000","v":0},{"$f":"(SUMIFS(Cálculos!AL$6:AL$228,Cálculos!$I$6:$I$228,3,Cálculos!$G$6:$G$228,$C32,Cálculos!$H$6:$H$228,\"Ambos\")+SUMIFS(Cálculos!AL$6:AL$228,Cálculos!$I$6:$I$228,3,Cálculos!$G$6:$G$228,$C32,Cálculos!$H$6:$H$228,\"CAPV\"))/1000","v":0}]
[null,null,"Consumo de bienes y servicios",0,{"$f":"(SUMIFS(Cálculos!AH$6:AH$228,Cálculos!$I$6:$I$228,3,Cálculos!$G$6:$G$228,$C33,Cálculos!$H$6:$H$228,\"Ambos\")+SUMIFS(Cálculos!AH$6:AH$228,Cálculos!$I$6:$I$228,3,Cálculos!$G$6:$G$228,$C33,Cálculos!$H$6:$H$228,\"CAPV\"))/1000","v":0},{"$f":"(SUMIFS(Cálculos!AI$6:AI$228,Cálculos!$I$6:$I$228,3,Cálculos!$G$6:$G$228,$C33,Cálculos!$H$6:$H$228,\"Ambos\")+SUMIFS(Cálculos!AI$6:AI$228,Cálculos!$I$6:$I$228,3,Cálculos!$G$6:$G$228,$C33,Cálculos!$H$6:$H$228,\"CAPV\"))/1000","v":0},{"$f":"(SUMIFS(Cálculos!AJ$6:AJ$228,Cálculos!$I$6:$I$228,3,Cálculos!$G$6:$G$228,$C33,Cálculos!$H$6:$H$228,\"Ambos\")+SUMIFS(Cálculos!AJ$6:AJ$228,Cálculos!$I$6:$I$228,3,Cálculos!$G$6:$G$228,$C33,Cálculos!$H$6:$H$228,\"CAPV\"))/1000","v":0},{"$f":"(SUMIFS(Cálculos!AK$6:AK$228,Cálculos!$I$6:$I$228,3,Cálculos!$G$6:$G$228,$C33,Cálculos!$H$6:$H$228,\"Ambos\")+SUMIFS(Cálculos!AK$6:AK$228,Cálculos!$I$6:$I$228,3,Cálculos!$G$6:$G$228,$C33,Cálculos!$H$6:$H$228,\"CAPV\"))/1000","v":0},{"$f":"(SUMIFS(Cálculos!AL$6:AL$228,Cálculos!$I$6:$I$228,3,Cálculos!$G$6:$G$228,$C33,Cálculos!$H$6:$H$228,\"Ambos\")+SUMIFS(Cálculos!AL$6:AL$228,Cálculos!$I$6:$I$228,3,Cálculos!$G$6:$G$228,$C33,Cálculos!$H$6:$H$228,\"CAPV\"))/1000","v":0}]
[null,null,"Transporte desde proveedor",0,{"$f":"(SUMIFS(Cálculos!AH$6:AH$228,Cálculos!$I$6:$I$228,3,Cálculos!$G$6:$G$228,$C34,Cálculos!$H$6:$H$228,\"Ambos\")+SUMIFS(Cálculos!AH$6:AH$228,Cálculos!$I$6:$I$228,3,Cálculos!$G$6:$G$228,$C34,Cálculos!$H$6:$H$228,\"CAPV\"))/1000","v":0},{"$f":"(SUMIFS(Cálculos!AI$6:AI$228,Cálculos!$I$6:$I$228,3,Cálculos!$G$6:$G$228,$C34,Cálculos!$H$6:$H$228,\"Ambos\")+SUMIFS(Cálculos!AI$6:AI$228,Cálculos!$I$6:$I$228,3,Cálculos!$G$6:$G$228,$C34,Cálculos!$H$6:$H$228,\"CAPV\"))/1000","v":0},{"$f":"(SUMIFS(Cálculos!AJ$6:AJ$228,Cálculos!$I$6:$I$228,3,Cálculos!$G$6:$G$228,$C34,Cálculos!$H$6:$H$228,\"Ambos\")+SUMIFS(Cálculos!AJ$6:AJ$228,Cálculos!$I$6:$I$228,3,Cálculos!$G$6:$G$228,$C34,Cálculos!$H$6:$H$228,\"CAPV\"))/1000","v":0},{"$f":"(SUMIFS(Cálculos!AK$6:AK$228,Cálculos!$I$6:$I$228,3,Cálculos!$G$6:$G$228,$C34,Cálculos!$H$6:$H$228,\"Ambos\")+SUMIFS(Cálculos!AK$6:AK$228,Cálculos!$I$6:$I$228,3,Cálculos!$G$6:$G$228,$C34,Cálculos!$H$6:$H$228,\"CAPV\"))/1000","v":0},{"$f":"(SUMIFS(Cálculos!AL$6:AL$228,Cálculos!$I$6:$I$228,3,Cálculos!$G$6:$G$228,$C34,Cálculos!$H$6:$H$228,\"Ambos\")+SUMIFS(Cálculos!AL$6:AL$228,Cálculos!$I$6:$I$228,3,Cálculos!$G$6:$G$228,$C34,Cálculos!$H$6:$H$228,\"CAPV\"))/1000","v":0}]
[null,null,"Distribución de productos",0,{"$f":"(SUMIFS(Cálculos!AH$6:AH$228,Cálculos!$I$6:$I$228,3,Cálculos!$G$6:$G$228,$C35,Cálculos!$H$6:$H$228,\"Ambos\")+SUMIFS(Cálculos!AH$6:AH$228,Cálculos!$I$6:$I$228,3,Cálculos!$G$6:$G$228,$C35,Cálculos!$H$6:$H$228,\"CAPV\"))/1000","v":0},{"$f":"(SUMIFS(Cálculos!AI$6:AI$228,Cálculos!$I$6:$I$228,3,Cálculos!$G$6:$G$228,$C35,Cálculos!$H$6:$H$228,\"Ambos\")+SUMIFS(Cálculos!AI$6:AI$228,Cálculos!$I$6:$I$228,3,Cálculos!$G$6:$G$228,$C35,Cálculos!$H$6:$H$228,\"CAPV\"))/1000","v":0},{"$f":"(SUMIFS(Cálculos!AJ$6:AJ$228,Cálculos!$I$6:$I$228,3,Cálculos!$G$6:$G$228,$C35,Cálculos!$H$6:$H$228,\"Ambos\")+SUMIFS(Cálculos!AJ$6:AJ$228,Cálculos!$I$6:$I$228,3,Cálculos!$G$6:$G$228,$C35,Cálculos!$H$6:$H$228,\"CAPV\"))/1000","v":0},{"$f":"(SUMIFS(Cálculos!AK$6:AK$228,Cálculos!$I$6:$I$228,3,Cálculos!$G$6:$G$228,$C35,Cálculos!$H$6:$H$228,\"Ambos\")+SUMIFS(Cálculos!AK$6:AK$228,Cálculos!$I$6:$I$228,3,Cálculos!$G$6:$G$228,$C35,Cálculos!$H$6:$H$228,\"CAPV\"))/1000","v":0},{"$f":"(SUMIFS(Cálculos!AL$6:AL$228,Cálculos!$I$6:$I$228,3,Cálculos!$G$6:$G$228,$C35,Cálculos!$H$6:$H$228,\"Ambos\")+SUMIFS(Cálculos!AL$6:AL$228,Cálculos!$I$6:$I$228,3,Cálculos!$G$6:$G$228,$C35,Cálculos!$H$6:$H$228,\"CAPV\"))/1000","v":0}]
[null,null,"Total ",{"$f":"SUM(D29:D35)","v":8.6899999999999998E-3},{"$f":"SUM(E29:E35)","v":1.364E-3},2.5000000000000001E-5,7.3010000000000002E-3,0,{"$f":"SUM(I29:I35)","v":8.6899999999999998E-3}]
[]
[null,"A.3) TOTAL: ALCANCE 1 + ALCANCE 2+ ALCANCE 3 (t CO2e)"]
[]
[null,"BALANCE TOTAL DE ABSORCIONES Y EMISIONES (ALCANCE 1 ,  2 Y 3)","Total ",{"$f":"D24+D36","v":{"$error":"#N/A"}}]
[]
[]
[null,{"$f":"CONCATENATE(\"B) DETALLE DE RESULTADOS ABSOLUTOS EN EL AÑO \",'Datos generales organización'!$D$14,\" - (ALCANCE 1 +ALCANCE 2)\",\"  (t CO2e)\")","v":"B) DETALLE DE RESULTADOS ABSOLUTOS EN EL AÑO <seleccionar año> - (ALCANCE 1 +ALCANCE 2)  (t CO2e)"}]
[]
[null,null,null,"Total","CO2","CH4","N2O","Gases fluorados","CO2 (b)"]
[null,"Combustión","Biomasa  ",{"$f":"SUM(E46:H46)","v":0},{"$f":"(SUMIFS(Cálculos!AH$6:AH$228,Cálculos!$E$6:$E$228,$C46,Cálculos!$H$6:$H$228,\"Ambos\",Cálculos!$I$6:$I$228,1)+SUMIFS(Cálculos!AH$6:AH$228,Cálculos!$E$6:$E$228,$C46,Cálculos!$H$6:$H$228,\"CAPV\",Cálculos!$I$6:$I$228,1))/1000","v":0},{"$f":"(SUMIFS(Cálculos!AI$6:AI$228,Cálculos!$E$6:$E$228,$C46,Cálculos!$H$6:$H$228,\"Ambos\",Cálculos!$I$6:$I$228,1)+SUMIFS(Cálculos!AI$6:AI$228,Cálculos!$E$6:$E$228,$C46,Cálculos!$H$6:$H$228,\"CAPV\",Cálculos!$I$6:$I$228,1))/1000","v":0},{"$f":"(SUMIFS(Cálculos!AJ$6:AJ$228,Cálculos!$E$6:$E$228,$C46,Cálculos!$H$6:$H$228,\"Ambos\",Cálculos!$I$6:$I$228,1)+SUMIFS(Cálculos!AJ$6:AJ$228,Cálculos!$E$6:$E$228,$C46,Cálculos!$H$6:$H$228,\"CAPV\",Cálculos!$I$6:$I$228,1))/1000","v":0},{"$f":"(SUMIFS(Cálculos!AK$6:AK$228,Cálculos!$E$6:$E$228,$C46,Cálculos!$H$6:$H$228,\"Ambos\",Cálculos!$I$6:$I$228,1)+SUMIFS(Cálculos!AK$6:AK$228,Cálculos!$E$6:$E$228,$C46,Cálculos!$H$6:$H$228,\"CAPV\",Cálculos!$I$6:$I$228,1))/1000","v":0},{"$f":"(SUMIFS(Cálculos!AL$6:AL$228,Cálculos!$E$6:$E$228,$C46,Cálculos!$H$6:$H$228,\"Ambos\",Cálculos!$I$6:$I$228,1)+SUMIFS(Cálculos!AL$6:AL$228,Cálculos!$E$6:$E$228,$C46,Cálculos!$H$6:$H$228,\"CAPV\",Cálculos!$I$6:$I$228,1))/1000","v":0}]
[null,"Combustión","Carbón mineral",{"$f":"SUM(E47:H47)","v":0},{"$f":"(SUMIFS(Cálculos!AH$6:AH$228,Cálculos!$E$6:$E$228,$C47,Cálculos!$H$6:$H$228,\"Ambos\",Cálculos!$I$6:$I$228,1)+SUMIFS(Cálculos!AH$6:AH$228,Cálculos!$E$6:$E$228,$C47,Cálculos!$H$6:$H$228,\"CAPV\",Cálculos!$I$6:$I$228,1))/1000","v":0},{"$f":"(SUMIFS(Cálculos!AI$6:AI$228,Cálculos!$E$6:$E$228,$C47,Cálculos!$H$6:$H$228,\"Ambos\",Cálculos!$I$6:$I$228,1)+SUMIFS(Cálculos!AI$6:AI$228,Cálculos!$E$6:$E$228,$C47,Cálculos!$H$6:$H$228,\"CAPV\",Cálculos!$I$6:$I$228,1))/1000","v":0},{"$f":"(SUMIFS(Cálculos!AJ$6:AJ$228,Cálculos!$E$6:$E$228,$C47,Cálculos!$H$6:$H$228,\"Ambos\",Cálculos!$I$6:$I$228,1)+SUMIFS(Cálculos!AJ$6:AJ$228,Cálculos!$E$6:$E$228,$C47,Cálculos!$H$6:$H$228,\"CAPV\",Cálculos!$I$6:$I$228,1))/1000","v":0},{"$f":"(SUMIFS(Cálculos!AK$6:AK$228,Cálculos!$E$6:$E$228,$C47,Cálculos!$H$6:$H$228,\"Ambos\",Cálculos!$I$6:$I$228,1)+SUMIFS(Cálculos!AK$6:AK$228,Cálculos!$E$6:$E$228,$C47,Cálculos!$H$6:$H$228,\"CAPV\",Cálculos!$I$6:$I$228,1))/1000","v":0},{"$f":"(SUMIFS(Cálculos!AL$6:AL$228,Cálculos!$E$6:$E$228,$C47,Cálculos!$H$6:$H$228,\"Ambos\",Cálculos!$I$6:$I$228,1)+SUMIFS(Cálculos!AL$6:AL$228,Cálculos!$E$6:$E$228,$C47,Cálculos!$H$6:$H$228,\"CAPV\",Cálculos!$I$6:$I$228,1))/1000","v":0}]
[null,"Combustión","Coque de petróleo",0,{"$f":"(SUMIFS(Cálculos!AH$6:AH$228,Cálculos!$E$6:$E$228,$C48,Cálculos!$H$6:$H$228,\"Ambos\",Cálculos!$I$6:$I$228,1)+SUMIFS(Cálculos!AH$6:AH$228,Cálculos!$E$6:$E$228,$C48,Cálculos!$H$6:$H$228,\"CAPV\",Cálculos!$I$6:$I$228,1))/1000","v":0},{"$f":"(SUMIFS(Cálculos!AI$6:AI$228,Cálculos!$E$6:$E$228,$C48,Cálculos!$H$6:$H$228,\"Ambos\",Cálculos!$I$6:$I$228,1)+SUMIFS(Cálculos!AI$6:AI$228,Cálculos!$E$6:$E$228,$C48,Cálculos!$H$6:$H$228,\"CAPV\",Cálculos!$I$6:$I$228,1))/1000","v":0},{"$f":"(SUMIFS(Cálculos!AJ$6:AJ$228,Cálculos!$E$6:$E$228,$C48,Cálculos!$H$6:$H$228,\"Ambos\",Cálculos!$I$6:$I$228,1)+SUMIFS(Cálculos!AJ$6:AJ$228,Cálculos!$E$6:$E$228,$C48,Cálculos!$H$6:$H$228,\"CAPV\",Cálculos!$I$6:$I$228,1))/1000","v":0},{"$f":"(SUMIFS(Cálculos!AK$6:AK$228,Cálculos!$E$6:$E$228,$C48,Cálculos!$H$6:$H$228,\"Ambos\",Cálculos!$I$6:$I$228,1)+SUMIFS(Cálculos!AK$6:AK$228,Cálculos!$E$6:$E$228,$C48,Cálculos!$H$6:$H$228,\"CAPV\",Cálculos!$I$6:$I$228,1))/1000","v":0},{"$f":"(SUMIFS(Cálculos!AL$6:AL$228,Cálculos!$E$6:$E$228,$C48,Cálculos!$H$6:$H$228,\"Ambos\",Cálculos!$I$6:$I$228,1)+SUMIFS(Cálculos!AL$6:AL$228,Cálculos!$E$6:$E$228,$C48,Cálculos!$H$6:$H$228,\"CAPV\",Cálculos!$I$6:$I$228,1))/1000","v":0}]
[null,"Combustión","Fueloleo",0,{"$f":"(SUMIFS(Cálculos!AH$6:AH$228,Cálculos!$E$6:$E$228,$C49,Cálculos!$H$6:$H$228,\"Ambos\",Cálculos!$I$6:$I$228,1)+SUMIFS(Cálculos!AH$6:AH$228,Cálculos!$E$6:$E$228,$C49,Cálculos!$H$6:$H$228,\"CAPV\",Cálculos!$I$6:$I$228,1))/1000","v":0},{"$f":"(SUMIFS(Cálculos!AI$6:AI$228,Cálculos!$E$6:$E$228,$C49,Cálculos!$H$6:$H$228,\"Ambos\",Cálculos!$I$6:$I$228,1)+SUMIFS(Cálculos!AI$6:AI$228,Cálculos!$E$6:$E$228,$C49,Cálculos!$H$6:$H$228,\"CAPV\",Cálculos!$I$6:$I$228,1))/1000","v":0},{"$f":"(SUMIFS(Cálculos!AJ$6:AJ$228,Cálculos!$E$6:$E$228,$C49,Cálculos!$H$6:$H$228,\"Ambos\",Cálculos!$I$6:$I$228,1)+SUMIFS(Cálculos!AJ$6:AJ$228,Cálculos!$E$6:$E$228,$C49,Cálculos!$H$6:$H$228,\"CAPV\",Cálculos!$I$6:$I$228,1))/1000","v":0},{"$f":"(SUMIFS(Cálculos!AK$6:AK$228,Cálculos!$E$6:$E$228,$C49,Cálculos!$H$6:$H$228,\"Ambos\",Cálculos!$I$6:$I$228,1)+SUMIFS(Cálculos!AK$6:AK$228,Cálculos!$E$6:$E$228,$C49,Cálculos!$H$6:$H$228,\"CAPV\",Cálculos!$I$6:$I$228,1))/1000","v":0},{"$f":"(SUMIFS(Cálculos!AL$6:AL$228,Cálculos!$E$6:$E$228,$C49,Cálculos!$H$6:$H$228,\"Ambos\",Cálculos!$I$6:$I$228,1)+SUMIFS(Cálculos!AL$6:AL$228,Cálculos!$E$6:$E$228,$C49,Cálculos!$H$6:$H$228,\"CAPV\",Cálculos!$I$6:$I$228,1))/1000","v":0}]
[null,"Combustión","Gas butano",0,{"$f":"(SUMIFS(Cálculos!AH$6:AH$228,Cálculos!$E$6:$E$228,$C50,Cálculos!$H$6:$H$228,\"Ambos\",Cálculos!$I$6:$I$228,1)+SUMIFS(Cálculos!AH$6:AH$228,Cálculos!$E$6:$E$228,$C50,Cálculos!$H$6:$H$228,\"CAPV\",Cálculos!$I$6:$I$228,1))/1000","v":0},{"$f":"(SUMIFS(Cálculos!AI$6:AI$228,Cálculos!$E$6:$E$228,$C50,Cálculos!$H$6:$H$228,\"Ambos\",Cálculos!$I$6:$I$228,1)+SUMIFS(Cálculos!AI$6:AI$228,Cálculos!$E$6:$E$228,$C50,Cálculos!$H$6:$H$228,\"CAPV\",Cálculos!$I$6:$I$228,1))/1000","v":0},{"$f":"(SUMIFS(Cálculos!AJ$6:AJ$228,Cálculos!$E$6:$E$228,$C50,Cálculos!$H$6:$H$228,\"Ambos\",Cálculos!$I$6:$I$228,1)+SUMIFS(Cálculos!AJ$6:AJ$228,Cálculos!$E$6:$E$228,$C50,Cálculos!$H$6:$H$228,\"CAPV\",Cálculos!$I$6:$I$228,1))/1000","v":0},{"$f":"(SUMIFS(Cálculos!AK$6:AK$228,Cálculos!$E$6:$E$228,$C50,Cálculos!$H$6:$H$228,\"Ambos\",Cálculos!$I$6:$I$228,1)+SUMIFS(Cálculos!AK$6:AK$228,Cálculos!$E$6:$E$228,$C50,Cálculos!$H$6:$H$228,\"CAPV\",Cálculos!$I$6:$I$228,1))/1000","v":0},{"$f":"(SUMIFS(Cálculos!AL$6:AL$228,Cálculos!$E$6:$E$228,$C50,Cálculos!$H$6:$H$228,\"Ambos\",Cálculos!$I$6:$I$228,1)+SUMIFS(Cálculos!AL$6:AL$228,Cálculos!$E$6:$E$228,$C50,Cálculos!$H$6:$H$228,\"CAPV\",Cálculos!$I$6:$I$228,1))/1000","v":0}]
[null,"Combustión","Gas natural",0,{"$f":"(SUMIFS(Cálculos!AH$6:AH$228,Cálculos!$E$6:$E$228,$C51,Cálculos!$H$6:$H$228,\"Ambos\",Cálculos!$I$6:$I$228,1)+SUMIFS(Cálculos!AH$6:AH$228,Cálculos!$E$6:$E$228,$C51,Cálculos!$H$6:$H$228,\"CAPV\",Cálculos!$I$6:$I$228,1))/1000","v":0},{"$f":"(SUMIFS(Cálculos!AI$6:AI$228,Cálculos!$E$6:$E$228,$C51,Cálculos!$H$6:$H$228,\"Ambos\",Cálculos!$I$6:$I$228,1)+SUMIFS(Cálculos!AI$6:AI$228,Cálculos!$E$6:$E$228,$C51,Cálculos!$H$6:$H$228,\"CAPV\",Cálculos!$I$6:$I$228,1))/1000","v":0},{"$f":"(SUMIFS(Cálculos!AJ$6:AJ$228,Cálculos!$E$6:$E$228,$C51,Cálculos!$H$6:$H$228,\"Ambos\",Cálculos!$I$6:$I$228,1)+SUMIFS(Cálculos!AJ$6:AJ$228,Cálculos!$E$6:$E$228,$C51,Cálculos!$H$6:$H$228,\"CAPV\",Cálculos!$I$6:$I$228,1))/1000","v":0},{"$f":"(SUMIFS(Cálculos!AK$6:AK$228,Cálculos!$E$6:$E$228,$C51,Cálculos!$H$6:$H$228,\"Ambos\",Cálculos!$I$6:$I$228,1)+SUMIFS(Cálculos!AK$6:AK$228,Cálculos!$E$6:$E$228,$C51,Cálculos!$H$6:$H$228,\"CAPV\",Cálculos!$I$6:$I$228,1))/1000","v":0},{"$f":"(SUMIFS(Cálculos!AL$6:AL$228,Cálculos!$E$6:$E$228,$C51,Cálculos!$H$6:$H$228,\"Ambos\",Cálculos!$I$6:$I$228,1)+SUMIFS(Cálculos!AL$6:AL$228,Cálculos!$E$6:$E$228,$C51,Cálculos!$H$6:$H$228,\"CAPV\",Cálculos!$I$6:$I$228,1))/1000","v":0}]
[null,"Combustión","Gas propano",0,{"$f":"(SUMIFS(Cálculos!AH$6:AH$228,Cálculos!$E$6:$E$228,$C52,Cálculos!$H$6:$H$228,\"Ambos\",Cálculos!$I$6:$I$228,1)+SUMIFS(Cálculos!AH$6:AH$228,Cálculos!$E$6:$E$228,$C52,Cálculos!$H$6:$H$228,\"CAPV\",Cálculos!$I$6:$I$228,1))/1000","v":0},{"$f":"(SUMIFS(Cálculos!AI$6:AI$228,Cálculos!$E$6:$E$228,$C52,Cálculos!$H$6:$H$228,\"Ambos\",Cálculos!$I$6:$I$228,1)+SUMIFS(Cálculos!AI$6:AI$228,Cálculos!$E$6:$E$228,$C52,Cálculos!$H$6:$H$228,\"CAPV\",Cálculos!$I$6:$I$228,1))/1000","v":0},{"$f":"(SUMIFS(Cálculos!AJ$6:AJ$228,Cálculos!$E$6:$E$228,$C52,Cálculos!$H$6:$H$228,\"Ambos\",Cálculos!$I$6:$I$228,1)+SUMIFS(Cálculos!AJ$6:AJ$228,Cálculos!$E$6:$E$228,$C52,Cálculos!$H$6:$H$228,\"CAPV\",Cálculos!$I$6:$I$228,1))/1000","v":0},{"$f":"(SUMIFS(Cálculos!AK$6:AK$228,Cálculos!$E$6:$E$228,$C52,Cálculos!$H$6:$H$228,\"Ambos\",Cálculos!$I$6:$I$228,1)+SUMIFS(Cálculos!AK$6:AK$228,Cálculos!$E$6:$E$228,$C52,Cálculos!$H$6:$H$228,\"CAPV\",Cálculos!$I$6:$I$228,1))/1000","v":0},{"$f":"(SUMIFS(Cálculos!AL$6:AL$228,Cálculos!$E$6:$E$228,$C52,Cálculos!$H$6:$H$228,\"Ambos\",Cálculos!$I$6:$I$228,1)+SUMIFS(Cálculos!AL$6:AL$228,Cálculos!$E$6:$E$228,$C52,Cálculos!$H$6:$H$228,\"CAPV\",Cálculos!$I$6:$I$228,1))/1000","v":0}]
[null,"Combustión","Gasóleo C",0,{"$f":"(SUMIFS(Cálculos!AH$6:AH$228,Cálculos!$E$6:$E$228,$C53,Cálculos!$H$6:$H$228,\"Ambos\",Cálculos!$I$6:$I$228,1)+SUMIFS(Cálculos!AH$6:AH$228,Cálculos!$E$6:$E$228,$C53,Cálculos!$H$6:$H$228,\"CAPV\",Cálculos!$I$6:$I$228,1))/1000","v":0},{"$f":"(SUMIFS(Cálculos!AI$6:AI$228,Cálculos!$E$6:$E$228,$C53,Cálculos!$H$6:$H$228,\"Ambos\",Cálculos!$I$6:$I$228,1)+SUMIFS(Cálculos!AI$6:AI$228,Cálculos!$E$6:$E$228,$C53,Cálculos!$H$6:$H$228,\"CAPV\",Cálculos!$I$6:$I$228,1))/1000","v":0},{"$f":"(SUMIFS(Cálculos!AJ$6:AJ$228,Cálculos!$E$6:$E$228,$C53,Cálculos!$H$6:$H$228,\"Ambos\",Cálculos!$I$6:$I$228,1)+SUMIFS(Cálculos!AJ$6:AJ$228,Cálculos!$E$6:$E$228,$C53,Cálculos!$H$6:$H$228,\"CAPV\",Cálculos!$I$6:$I$228,1))/1000","v":0},{"$f":"(SUMIFS(Cálculos!AK$6:AK$228,Cálculos!$E$6:$E$228,$C53,Cálculos!$H$6:$H$228,\"Ambos\",Cálculos!$I$6:$I$228,1)+SUMIFS(Cálculos!AK$6:AK$228,Cálculos!$E$6:$E$228,$C53,Cálculos!$H$6:$H$228,\"CAPV\",Cálculos!$I$6:$I$228,1))/1000","v":0},{"$f":"(SUMIFS(Cálculos!AL$6:AL$228,Cálculos!$E$6:$E$228,$C53,Cálculos!$H$6:$H$228,\"Ambos\",Cálculos!$I$6:$I$228,1)+SUMIFS(Cálculos!AL$6:AL$228,Cálculos!$E$6:$E$228,$C53,Cálculos!$H$6:$H$228,\"CAPV\",Cálculos!$I$6:$I$228,1))/1000","v":0}]
[null,"Combustión","GLP genérico",0,{"$f":"(SUMIFS(Cálculos!AH$6:AH$228,Cálculos!$E$6:$E$228,$C54,Cálculos!$H$6:$H$228,\"Ambos\",Cálculos!$I$6:$I$228,1)+SUMIFS(Cálculos!AH$6:AH$228,Cálculos!$E$6:$E$228,$C54,Cálculos!$H$6:$H$228,\"CAPV\",Cálculos!$I$6:$I$228,1))/1000","v":0},{"$f":"(SUMIFS(Cálculos!AI$6:AI$228,Cálculos!$E$6:$E$228,$C54,Cálculos!$H$6:$H$228,\"Ambos\",Cálculos!$I$6:$I$228,1)+SUMIFS(Cálculos!AI$6:AI$228,Cálculos!$E$6:$E$228,$C54,Cálculos!$H$6:$H$228,\"CAPV\",Cálculos!$I$6:$I$228,1))/1000","v":0},{"$f":"(SUMIFS(Cálculos!AJ$6:AJ$228,Cálculos!$E$6:$E$228,$C54,Cálculos!$H$6:$H$228,\"Ambos\",Cálculos!$I$6:$I$228,1)+SUMIFS(Cálculos!AJ$6:AJ$228,Cálculos!$E$6:$E$228,$C54,Cálculos!$H$6:$H$228,\"CAPV\",Cálculos!$I$6:$I$228,1))/1000","v":0},{"$f":"(SUMIFS(Cálculos!AK$6:AK$228,Cálculos!$E$6:$E$228,$C54,Cálculos!$H$6:$H$228,\"Ambos\",Cálculos!$I$6:$I$228,1)+SUMIFS(Cálculos!AK$6:AK$228,Cálculos!$E$6:$E$228,$C54,Cálculos!$H$6:$H$228,\"CAPV\",Cálculos!$I$6:$I$228,1))/1000","v":0},{"$f":"(SUMIFS(Cálculos!AL$6:AL$228,Cálculos!$E$6:$E$228,$C54,Cálculos!$H$6:$H$228,\"Ambos\",Cálculos!$I$6:$I$228,1)+SUMIFS(Cálculos!AL$6:AL$228,Cálculos!$E$6:$E$228,$C54,Cálculos!$H$6:$H$228,\"CAPV\",Cálculos!$I$6:$I$228,1))/1000","v":0}]
[null,"Combustión","Queroseno",0,{"$f":"(SUMIFS(Cálculos!AH$6:AH$228,Cálculos!$E$6:$E$228,$C55,Cálculos!$H$6:$H$228,\"Ambos\",Cálculos!$I$6:$I$228,1)+SUMIFS(Cálculos!AH$6:AH$228,Cálculos!$E$6:$E$228,$C55,Cálculos!$H$6:$H$228,\"CAPV\",Cálculos!$I$6:$I$228,1))/1000","v":0},{"$f":"(SUMIFS(Cálculos!AI$6:AI$228,Cálculos!$E$6:$E$228,$C55,Cálculos!$H$6:$H$228,\"Ambos\",Cálculos!$I$6:$I$228,1)+SUMIFS(Cálculos!AI$6:AI$228,Cálculos!$E$6:$E$228,$C55,Cálculos!$H$6:$H$228,\"CAPV\",Cálculos!$I$6:$I$228,1))/1000","v":0},{"$f":"(SUMIFS(Cálculos!AJ$6:AJ$228,Cálculos!$E$6:$E$228,$C55,Cálculos!$H$6:$H$228,\"Ambos\",Cálculos!$I$6:$I$228,1)+SUMIFS(Cálculos!AJ$6:AJ$228,Cálculos!$E$6:$E$228,$C55,Cálculos!$H$6:$H$228,\"CAPV\",Cálculos!$I$6:$I$228,1))/1000","v":0},{"$f":"(SUMIFS(Cálculos!AK$6:AK$228,Cálculos!$E$6:$E$228,$C55,Cálculos!$H$6:$H$228,\"Ambos\",Cálculos!$I$6:$I$228,1)+SUMIFS(Cálculos!AK$6:AK$228,Cálculos!$E$6:$E$228,$C55,Cálculos!$H$6:$H$228,\"CAPV\",Cálculos!$I$6:$I$228,1))/1000","v":0},{"$f":"(SUMIFS(Cálculos!AL$6:AL$228,Cálculos!$E$6:$E$228,$C55,Cálculos!$H$6:$H$228,\"Ambos\",Cálculos!$I$6:$I$228,1)+SUMIFS(Cálculos!AL$6:AL$228,Cálculos!$E$6:$E$228,$C55,Cálculos!$H$6:$H$228,\"CAPV\",Cálculos!$I$6:$I$228,1))/1000","v":0}]
[null,"Combustión","Gasolina ",{"$error":"#N/A"},{"$f":"(SUMIFS(Cálculos!AH$6:AH$228,Cálculos!$E$6:$E$228,$C56,Cálculos!$H$6:$H$228,\"Ambos\",Cálculos!$I$6:$I$228,1)+SUMIFS(Cálculos!AH$6:AH$228,Cálculos!$E$6:$E$228,$C56,Cálculos!$H$6:$H$228,\"CAPV\",Cálculos!$I$6:$I$228,1))/1000","v":{"$error":"#N/A"}},{"$f":"(SUMIFS(Cálculos!AI$6:AI$228,Cálculos!$E$6:$E$228,$C56,Cálculos!$H$6:$H$228,\"Ambos\",Cálculos!$I$6:$I$228,1)+SUMIFS(Cálculos!AI$6:AI$228,Cálculos!$E$6:$E$228,$C56,Cálculos!$H$6:$H$228,\"CAPV\",Cálculos!$I$6:$I$228,1))/1000","v":{"$error":"#N/A"}},{"$f":"(SUMIFS(Cálculos!AJ$6:AJ$228,Cálculos!$E$6:$E$228,$C56,Cálculos!$H$6:$H$228,\"Ambos\",Cálculos!$I$6:$I$228,1)+SUMIFS(Cálculos!AJ$6:AJ$228,Cálculos!$E$6:$E$228,$C56,Cálculos!$H$6:$H$228,\"CAPV\",Cálculos!$I$6:$I$228,1))/1000","v":{"$error":"#N/A"}},{"$f":"(SUMIFS(Cálculos!AK$6:AK$228,Cálculos!$E$6:$E$228,$C56,Cálculos!$H$6:$H$228,\"Ambos\",Cálculos!$I$6:$I$228,1)+SUMIFS(Cálculos!AK$6:AK$228,Cálculos!$E$6:$E$228,$C56,Cálculos!$H$6:$H$228,\"CAPV\",Cálculos!$I$6:$I$228,1))/1000","v":0},{"$f":"(SUMIFS(Cálculos!AL$6:AL$228,Cálculos!$E$6:$E$228,$C56,Cálculos!$H$6:$H$228,\"Ambos\",Cálculos!$I$6:$I$228,1)+SUMIFS(Cálculos!AL$6:AL$228,Cálculos!$E$6:$E$228,$C56,Cálculos!$H$6:$H$228,\"CAPV\",Cálculos!$I$6:$I$228,1))/1000","v":{"$error":"#N/A"}}]
["Gasóleo A y B","Combustión","Gasóleo A y B",{"$error":"#N/A"},{"$f":"(SUMIFS(Cálculos!AH$6:AH$228,Cálculos!$E$6:$E$228,$C57,Cálculos!$H$6:$H$228,\"Ambos\",Cálculos!$I$6:$I$228,1)+SUMIFS(Cálculos!AH$6:AH$228,Cálculos!$E$6:$E$228,$C57,Cálculos!$H$6:$H$228,\"CAPV\",Cálculos!$I$6:$I$228,1))/1000","v":{"$error":"#N/A"}},{"$f":"(SUMIFS(Cálculos!AI$6:AI$228,Cálculos!$E$6:$E$228,$C57,Cálculos!$H$6:$H$228,\"Ambos\",Cálculos!$I$6:$I$228,1)+SUMIFS(Cálculos!AI$6:AI$228,Cálculos!$E$6:$E$228,$C57,Cálculos!$H$6:$H$228,\"CAPV\",Cálculos!$I$6:$I$228,1))/1000","v":{"$error":"#N/A"}},{"$f":"(SUMIFS(Cálculos!AJ$6:AJ$228,Cálculos!$E$6:$E$228,$C57,Cálculos!$H$6:$H$228,\"Ambos\",Cálculos!$I$6:$I$228,1)+SUMIFS(Cálculos!AJ$6:AJ$228,Cálculos!$E$6:$E$228,$C57,Cálculos!$H$6:$H$228,\"CAPV\",Cálculos!$I$6:$I$228,1))/1000","v":{"$error":"#N/A"}},{"$f":"(SUMIFS(Cálculos!AK$6:AK$228,Cálculos!$E$6:$E$228,$C57,Cálculos!$H$6:$H$228,\"Ambos\",Cálculos!$I$6:$I$228,1)+SUMIFS(Cálculos!AK$6:AK$228,Cálculos!$E$6:$E$228,$C57,Cálculos!$H$6:$H$228,\"CAPV\",Cálculos!$I$6:$I$228,1))/1000","v":0},{"$f":"(SUMIFS(Cálculos!AL$6:AL$228,Cálculos!$E$6:$E$228,$C57,Cálculos!$H$6:$H$228,\"Ambos\",Cálculos!$I$6:$I$228,1)+SUMIFS(Cálculos!AL$6:AL$228,Cálculos!$E$6:$E$228,$C57,Cálculos!$H$6:$H$228,\"CAPV\",Cálculos!$I$6:$I$228,1))/1000","v":{"$error":"#N/A"}}]
[null,"Combustión","E10",0,{"$f":"(SUMIFS(Cálculos!AH$6:AH$228,Cálculos!$E$6:$E$228,$C58,Cálculos!$H$6:$H$228,\"Ambos\",Cálculos!$I$6:$I$228,1)+SUMIFS(Cálculos!AH$6:AH$228,Cálculos!$E$6:$E$228,$C58,Cálculos!$H$6:$H$228,\"CAPV\",Cálculos!$I$6:$I$228,1))/1000","v":0},{"$f":"(SUMIFS(Cálculos!AI$6:AI$228,Cálculos!$E$6:$E$228,$C58,Cálculos!$H$6:$H$228,\"Ambos\",Cálculos!$I$6:$I$228,1)+SUMIFS(Cálculos!AI$6:AI$228,Cálculos!$E$6:$E$228,$C58,Cálculos!$H$6:$H$228,\"CAPV\",Cálculos!$I$6:$I$228,1))/1000","v":0},{"$f":"(SUMIFS(Cálculos!AJ$6:AJ$228,Cálculos!$E$6:$E$228,$C58,Cálculos!$H$6:$H$228,\"Ambos\",Cálculos!$I$6:$I$228,1)+SUMIFS(Cálculos!AJ$6:AJ$228,Cálculos!$E$6:$E$228,$C58,Cálculos!$H$6:$H$228,\"CAPV\",Cálculos!$I$6:$I$228,1))/1000","v":0},{"$f":"(SUMIFS(Cálculos!AK$6:AK$228,Cálculos!$E$6:$E$228,$C58,Cálculos!$H$6:$H$228,\"Ambos\",Cálculos!$I$6:$I$228,1)+SUMIFS(Cálculos!AK$6:AK$228,Cálculos!$E$6:$E$228,$C58,Cálculos!$H$6:$H$228,\"CAPV\",Cálculos!$I$6:$I$228,1))/1000","v":0},{"$f":"(SUMIFS(Cálculos!AL$6:AL$228,Cálculos!$E$6:$E$228,$C58,Cálculos!$H$6:$H$228,\"Ambos\",Cálculos!$I$6:$I$228,1)+SUMIFS(Cálculos!AL$6:AL$228,Cálculos!$E$6:$E$228,$C58,Cálculos!$H$6:$H$228,\"CAPV\",Cálculos!$I$6:$I$228,1))/1000","v":0}]
[null,"Combustión","E85",0,{"$f":"(SUMIFS(Cálculos!AH$6:AH$228,Cálculos!$E$6:$E$228,$C59,Cálculos!$H$6:$H$228,\"Ambos\",Cálculos!$I$6:$I$228,1)+SUMIFS(Cálculos!AH$6:AH$228,Cálculos!$E$6:$E$228,$C59,Cálculos!$H$6:$H$228,\"CAPV\",Cálculos!$I$6:$I$228,1))/1000","v":0},{"$f":"(SUMIFS(Cálculos!AI$6:AI$228,Cálculos!$E$6:$E$228,$C59,Cálculos!$H$6:$H$228,\"Ambos\",Cálculos!$I$6:$I$228,1)+SUMIFS(Cálculos!AI$6:AI$228,Cálculos!$E$6:$E$228,$C59,Cálculos!$H$6:$H$228,\"CAPV\",Cálculos!$I$6:$I$228,1))/1000","v":0},{"$f":"(SUMIFS(Cálculos!AJ$6:AJ$228,Cálculos!$E$6:$E$228,$C59,Cálculos!$H$6:$H$228,\"Ambos\",Cálculos!$I$6:$I$228,1)+SUMIFS(Cálculos!AJ$6:AJ$228,Cálculos!$E$6:$E$228,$C59,Cálculos!$H$6:$H$228,\"CAPV\",Cálculos!$I$6:$I$228,1))/1000","v":0},{"$f":"(SUMIFS(Cálculos!AK$6:AK$228,Cálculos!$E$6:$E$228,$C59,Cálculos!$H$6:$H$228,\"Ambos\",Cálculos!$I$6:$I$228,1)+SUMIFS(Cálculos!AK$6:AK$228,Cálculos!$E$6:$E$228,$C59,Cálculos!$H$6:$H$228,\"CAPV\",Cálculos!$I$6:$I$228,1))/1000","v":0},{"$f":"(SUMIFS(Cálculos!AL$6:AL$228,Cálculos!$E$6:$E$228,$C59,Cálculos!$H$6:$H$228,\"Ambos\",Cálculos!$I$6:$I$228,1)+SUMIFS(Cálculos!AL$6:AL$228,Cálculos!$E$6:$E$228,$C59,Cálculos!$H$6:$H$228,\"CAPV\",Cálculos!$I$6:$I$228,1))/1000","v":0}]
[null,"Combustión","B30",0,{"$f":"(SUMIFS(Cálculos!AH$6:AH$228,Cálculos!$E$6:$E$228,$C60,Cálculos!$H$6:$H$228,\"Ambos\",Cálculos!$I$6:$I$228,1)+SUMIFS(Cálculos!AH$6:AH$228,Cálculos!$E$6:$E$228,$C60,Cálculos!$H$6:$H$228,\"CAPV\",Cálculos!$I$6:$I$228,1))/1000","v":0},{"$f":"(SUMIFS(Cálculos!AI$6:AI$228,Cálculos!$E$6:$E$228,$C60,Cálculos!$H$6:$H$228,\"Ambos\",Cálculos!$I$6:$I$228,1)+SUMIFS(Cálculos!AI$6:AI$228,Cálculos!$E$6:$E$228,$C60,Cálculos!$H$6:$H$228,\"CAPV\",Cálculos!$I$6:$I$228,1))/1000","v":0},{"$f":"(SUMIFS(Cálculos!AJ$6:AJ$228,Cálculos!$E$6:$E$228,$C60,Cálculos!$H$6:$H$228,\"Ambos\",Cálculos!$I$6:$I$228,1)+SUMIFS(Cálculos!AJ$6:AJ$228,Cálculos!$E$6:$E$228,$C60,Cálculos!$H$6:$H$228,\"CAPV\",Cálculos!$I$6:$I$228,1))/1000","v":0},{"$f":"(SUMIFS(Cálculos!AK$6:AK$228,Cálculos!$E$6:$E$228,$C60,Cálculos!$H$6:$H$228,\"Ambos\",Cálculos!$I$6:$I$228,1)+SUMIFS(Cálculos!AK$6:AK$228,Cálculos!$E$6:$E$228,$C60,Cálculos!$H$6:$H$228,\"CAPV\",Cálculos!$I$6:$I$228,1))/1000","v":0},{"$f":"(SUMIFS(Cálculos!AL$6:AL$228,Cálculos!$E$6:$E$228,$C60,Cálculos!$H$6:$H$228,\"Ambos\",Cálculos!$I$6:$I$228,1)+SUMIFS(Cálculos!AL$6:AL$228,Cálculos!$E$6:$E$228,$C60,Cálculos!$H$6:$H$228,\"CAPV\",Cálculos!$I$6:$I$228,1))/1000","v":0}]
[null,"Combustión","B100",0,{"$f":"(SUMIFS(Cálculos!AH$6:AH$228,Cálculos!$E$6:$E$228,$C61,Cálculos!$H$6:$H$228,\"Ambos\",Cálculos!$I$6:$I$228,1)+SUMIFS(Cálculos!AH$6:AH$228,Cálculos!$E$6:$E$228,$C61,Cálculos!$H$6:$H$228,\"CAPV\",Cálculos!$I$6:$I$228,1))/1000","v":0},{"$f":"(SUMIFS(Cálculos!AI$6:AI$228,Cálculos!$E$6:$E$228,$C61,Cálculos!$H$6:$H$228,\"Ambos\",Cálculos!$I$6:$I$228,1)+SUMIFS(Cálculos!AI$6:AI$228,Cálculos!$E$6:$E$228,$C61,Cálculos!$H$6:$H$228,\"CAPV\",Cálculos!$I$6:$I$228,1))/1000","v":0},{"$f":"(SUMIFS(Cálculos!AJ$6:AJ$228,Cálculos!$E$6:$E$228,$C61,Cálculos!$H$6:$H$228,\"Ambos\",Cálculos!$I$6:$I$228,1)+SUMIFS(Cálculos!AJ$6:AJ$228,Cálculos!$E$6:$E$228,$C61,Cálculos!$H$6:$H$228,\"CAPV\",Cálculos!$I$6:$I$228,1))/1000","v":0},{"$f":"(SUMIFS(Cálculos!AK$6:AK$228,Cálculos!$E$6:$E$228,$C61,Cálculos!$H$6:$H$228,\"Ambos\",Cálculos!$I$6:$I$228,1)+SUMIFS(Cálculos!AK$6:AK$228,Cálculos!$E$6:$E$228,$C61,Cálculos!$H$6:$H$228,\"CAPV\",Cálculos!$I$6:$I$228,1))/1000","v":0},{"$f":"(SUMIFS(Cálculos!AL$6:AL$228,Cálculos!$E$6:$E$228,$C61,Cálculos!$H$6:$H$228,\"Ambos\",Cálculos!$I$6:$I$228,1)+SUMIFS(Cálculos!AL$6:AL$228,Cálculos!$E$6:$E$228,$C61,Cálculos!$H$6:$H$228,\"CAPV\",Cálculos!$I$6:$I$228,1))/1000","v":0}]
[null,"Combustión","Gas Natural Comprimido",0,{"$f":"(SUMIFS(Cálculos!AH$6:AH$228,Cálculos!$E$6:$E$228,$C62,Cálculos!$H$6:$H$228,\"Ambos\",Cálculos!$I$6:$I$228,1)+SUMIFS(Cálculos!AH$6:AH$228,Cálculos!$E$6:$E$228,$C62,Cálculos!$H$6:$H$228,\"CAPV\",Cálculos!$I$6:$I$228,1))/1000","v":0},{"$f":"(SUMIFS(Cálculos!AI$6:AI$228,Cálculos!$E$6:$E$228,$C62,Cálculos!$H$6:$H$228,\"Ambos\",Cálculos!$I$6:$I$228,1)+SUMIFS(Cálculos!AI$6:AI$228,Cálculos!$E$6:$E$228,$C62,Cálculos!$H$6:$H$228,\"CAPV\",Cálculos!$I$6:$I$228,1))/1000","v":0},{"$f":"(SUMIFS(Cálculos!AJ$6:AJ$228,Cálculos!$E$6:$E$228,$C62,Cálculos!$H$6:$H$228,\"Ambos\",Cálculos!$I$6:$I$228,1)+SUMIFS(Cálculos!AJ$6:AJ$228,Cálculos!$E$6:$E$228,$C62,Cálculos!$H$6:$H$228,\"CAPV\",Cálculos!$I$6:$I$228,1))/1000","v":0},{"$f":"(SUMIFS(Cálculos!AK$6:AK$228,Cálculos!$E$6:$E$228,$C62,Cálculos!$H$6:$H$228,\"Ambos\",Cálculos!$I$6:$I$228,1)+SUMIFS(Cálculos!AK$6:AK$228,Cálculos!$E$6:$E$228,$C62,Cálculos!$H$6:$H$228,\"CAPV\",Cálculos!$I$6:$I$228,1))/1000","v":0},{"$f":"(SUMIFS(Cálculos!AL$6:AL$228,Cálculos!$E$6:$E$228,$C62,Cálculos!$H$6:$H$228,\"Ambos\",Cálculos!$I$6:$I$228,1)+SUMIFS(Cálculos!AL$6:AL$228,Cálculos!$E$6:$E$228,$C62,Cálculos!$H$6:$H$228,\"CAPV\",Cálculos!$I$6:$I$228,1))/1000","v":0}]
[null,"Combustión","Gas Natural Licuado",0,{"$f":"(SUMIFS(Cálculos!AH$6:AH$228,Cálculos!$E$6:$E$228,$C63,Cálculos!$H$6:$H$228,\"Ambos\",Cálculos!$I$6:$I$228,1)+SUMIFS(Cálculos!AH$6:AH$228,Cálculos!$E$6:$E$228,$C63,Cálculos!$H$6:$H$228,\"CAPV\",Cálculos!$I$6:$I$228,1))/1000","v":0},{"$f":"(SUMIFS(Cálculos!AI$6:AI$228,Cálculos!$E$6:$E$228,$C63,Cálculos!$H$6:$H$228,\"Ambos\",Cálculos!$I$6:$I$228,1)+SUMIFS(Cálculos!AI$6:AI$228,Cálculos!$E$6:$E$228,$C63,Cálculos!$H$6:$H$228,\"CAPV\",Cálculos!$I$6:$I$228,1))/1000","v":0},{"$f":"(SUMIFS(Cálculos!AJ$6:AJ$228,Cálculos!$E$6:$E$228,$C63,Cálculos!$H$6:$H$228,\"Ambos\",Cálculos!$I$6:$I$228,1)+SUMIFS(Cálculos!AJ$6:AJ$228,Cálculos!$E$6:$E$228,$C63,Cálculos!$H$6:$H$228,\"CAPV\",Cálculos!$I$6:$I$228,1))/1000","v":0},{"$f":"(SUMIFS(Cálculos!AK$6:AK$228,Cálculos!$E$6:$E$228,$C63,Cálculos!$H$6:$H$228,\"Ambos\",Cálculos!$I$6:$I$228,1)+SUMIFS(Cálculos!AK$6:AK$228,Cálculos!$E$6:$E$228,$C63,Cálculos!$H$6:$H$228,\"CAPV\",Cálculos!$I$6:$I$228,1))/1000","v":0},{"$f":"(SUMIFS(Cálculos!AL$6:AL$228,Cálculos!$E$6:$E$228,$C63,Cálculos!$H$6:$H$228,\"Ambos\",Cálculos!$I$6:$I$228,1)+SUMIFS(Cálculos!AL$6:AL$228,Cálculos!$E$6:$E$228,$C63,Cálculos!$H$6:$H$228,\"CAPV\",Cálculos!$I$6:$I$228,1))/1000","v":0}]
[null,"Combustión","GLP genérico",0,{"$f":"(SUMIFS(Cálculos!AH$6:AH$228,Cálculos!$E$6:$E$228,$C64,Cálculos!$H$6:$H$228,\"Ambos\",Cálculos!$I$6:$I$228,1)+SUMIFS(Cálculos!AH$6:AH$228,Cálculos!$E$6:$E$228,$C64,Cálculos!$H$6:$H$228,\"CAPV\",Cálculos!$I$6:$I$228,1))/1000","v":0},{"$f":"(SUMIFS(Cálculos!AI$6:AI$228,Cálculos!$E$6:$E$228,$C64,Cálculos!$H$6:$H$228,\"Ambos\",Cálculos!$I$6:$I$228,1)+SUMIFS(Cálculos!AI$6:AI$228,Cálculos!$E$6:$E$228,$C64,Cálculos!$H$6:$H$228,\"CAPV\",Cálculos!$I$6:$I$228,1))/1000","v":0},{"$f":"(SUMIFS(Cálculos!AJ$6:AJ$228,Cálculos!$E$6:$E$228,$C64,Cálculos!$H$6:$H$228,\"Ambos\",Cálculos!$I$6:$I$228,1)+SUMIFS(Cálculos!AJ$6:AJ$228,Cálculos!$E$6:$E$228,$C64,Cálculos!$H$6:$H$228,\"CAPV\",Cálculos!$I$6:$I$228,1))/1000","v":0},{"$f":"(SUMIFS(Cálculos!AK$6:AK$228,Cálculos!$E$6:$E$228,$C64,Cálculos!$H$6:$H$228,\"Ambos\",Cálculos!$I$6:$I$228,1)+SUMIFS(Cálculos!AK$6:AK$228,Cálculos!$E$6:$E$228,$C64,Cálculos!$H$6:$H$228,\"CAPV\",Cálculos!$I$6:$I$228,1))/1000","v":0},{"$f":"(SUMIFS(Cálculos!AL$6:AL$228,Cálculos!$E$6:$E$228,$C64,Cálculos!$H$6:$H$228,\"Ambos\",Cálculos!$I$6:$I$228,1)+SUMIFS(Cálculos!AL$6:AL$228,Cálculos!$E$6:$E$228,$C64,Cálculos!$H$6:$H$228,\"CAPV\",Cálculos!$I$6:$I$228,1))/1000","v":0}]
[null,"Uso de productos","Lubricantes",0,{"$f":"(SUMIFS(Cálculos!AH$6:AH$228,Cálculos!$E$6:$E$228,$C65,Cálculos!$H$6:$H$228,\"Ambos\",Cálculos!$I$6:$I$228,1)+SUMIFS(Cálculos!AH$6:AH$228,Cálculos!$E$6:$E$228,$C65,Cálculos!$H$6:$H$228,\"CAPV\",Cálculos!$I$6:$I$228,1))/1000","v":0},{"$f":"(SUMIFS(Cálculos!AI$6:AI$228,Cálculos!$E$6:$E$228,$C65,Cálculos!$H$6:$H$228,\"Ambos\",Cálculos!$I$6:$I$228,1)+SUMIFS(Cálculos!AI$6:AI$228,Cálculos!$E$6:$E$228,$C65,Cálculos!$H$6:$H$228,\"CAPV\",Cálculos!$I$6:$I$228,1))/1000","v":0},{"$f":"(SUMIFS(Cálculos!AJ$6:AJ$228,Cálculos!$E$6:$E$228,$C65,Cálculos!$H$6:$H$228,\"Ambos\",Cálculos!$I$6:$I$228,1)+SUMIFS(Cálculos!AJ$6:AJ$228,Cálculos!$E$6:$E$228,$C65,Cálculos!$H$6:$H$228,\"CAPV\",Cálculos!$I$6:$I$228,1))/1000","v":0},{"$f":"(SUMIFS(Cálculos!AK$6:AK$228,Cálculos!$E$6:$E$228,$C65,Cálculos!$H$6:$H$228,\"Ambos\",Cálculos!$I$6:$I$228,1)+SUMIFS(Cálculos!AK$6:AK$228,Cálculos!$E$6:$E$228,$C65,Cálculos!$H$6:$H$228,\"CAPV\",Cálculos!$I$6:$I$228,1))/1000","v":0},{"$f":"(SUMIFS(Cálculos!AL$6:AL$228,Cálculos!$E$6:$E$228,$C65,Cálculos!$H$6:$H$228,\"Ambos\",Cálculos!$I$6:$I$228,1)+SUMIFS(Cálculos!AL$6:AL$228,Cálculos!$E$6:$E$228,$C65,Cálculos!$H$6:$H$228,\"CAPV\",Cálculos!$I$6:$I$228,1))/1000","v":0}]
[null,"Uso de productos","Gases fluorados",0,{"$f":"(SUMIFS(Cálculos!AH$6:AH$228,Cálculos!$E$6:$E$228,$C66,Cálculos!$H$6:$H$228,\"Ambos\",Cálculos!$I$6:$I$228,1)+SUMIFS(Cálculos!AH$6:AH$228,Cálculos!$E$6:$E$228,$C66,Cálculos!$H$6:$H$228,\"CAPV\",Cálculos!$I$6:$I$228,1))/1000","v":0},{"$f":"(SUMIFS(Cálculos!AI$6:AI$228,Cálculos!$E$6:$E$228,$C66,Cálculos!$H$6:$H$228,\"Ambos\",Cálculos!$I$6:$I$228,1)+SUMIFS(Cálculos!AI$6:AI$228,Cálculos!$E$6:$E$228,$C66,Cálculos!$H$6:$H$228,\"CAPV\",Cálculos!$I$6:$I$228,1))/1000","v":0},{"$f":"(SUMIFS(Cálculos!AJ$6:AJ$228,Cálculos!$E$6:$E$228,$C66,Cálculos!$H$6:$H$228,\"Ambos\",Cálculos!$I$6:$I$228,1)+SUMIFS(Cálculos!AJ$6:AJ$228,Cálculos!$E$6:$E$228,$C66,Cálculos!$H$6:$H$228,\"CAPV\",Cálculos!$I$6:$I$228,1))/1000","v":0},{"$f":"(SUMIFS(Cálculos!AK$6:AK$228,Cálculos!$E$6:$E$228,$C66,Cálculos!$H$6:$H$228,\"Ambos\",Cálculos!$I$6:$I$228,1)+SUMIFS(Cálculos!AK$6:AK$228,Cálculos!$E$6:$E$228,$C66,Cálculos!$H$6:$H$228,\"CAPV\",Cálculos!$I$6:$I$228,1))/1000","v":0},{"$f":"(SUMIFS(Cálculos!AL$6:AL$228,Cálculos!$E$6:$E$228,$C66,Cálculos!$H$6:$H$228,\"Ambos\",Cálculos!$I$6:$I$228,1)+SUMIFS(Cálculos!AL$6:AL$228,Cálculos!$E$6:$E$228,$C66,Cálculos!$H$6:$H$228,\"CAPV\",Cálculos!$I$6:$I$228,1))/1000","v":0}]
[null,"Electricidad","Electricidad",0,{"$f":"(SUMIFS(Cálculos!AH$6:AH$228,Cálculos!$E$6:$E$228,$C67,Cálculos!$H$6:$H$228,\"Ambos\",Cálculos!$I$6:$I$228,2)+SUMIFS(Cálculos!AH$6:AH$228,Cálculos!$E$6:$E$228,$C67,Cálculos!$H$6:$H$228,\"CAPV\",Cálculos!$I$6:$I$228,2))/1000","v":0},{"$f":"(SUMIFS(Cálculos!AI$6:AI$228,Cálculos!$E$6:$E$228,$C67,Cálculos!$H$6:$H$228,\"Ambos\",Cálculos!$I$6:$I$228,2)+SUMIFS(Cálculos!AI$6:AI$228,Cálculos!$E$6:$E$228,$C67,Cálculos!$H$6:$H$228,\"CAPV\",Cálculos!$I$6:$I$228,2))/1000","v":0},{"$f":"(SUMIFS(Cálculos!AJ$6:AJ$228,Cálculos!$E$6:$E$228,$C67,Cálculos!$H$6:$H$228,\"Ambos\",Cálculos!$I$6:$I$228,2)+SUMIFS(Cálculos!AJ$6:AJ$228,Cálculos!$E$6:$E$228,$C67,Cálculos!$H$6:$H$228,\"CAPV\",Cálculos!$I$6:$I$228,2))/1000","v":0},{"$f":"(SUMIFS(Cálculos!AK$6:AK$228,Cálculos!$E$6:$E$228,$C67,Cálculos!$H$6:$H$228,\"Ambos\",Cálculos!$I$6:$I$228,2)+SUMIFS(Cálculos!AK$6:AK$228,Cálculos!$E$6:$E$228,$C67,Cálculos!$H$6:$H$228,\"CAPV\",Cálculos!$I$6:$I$228,2))/1000","v":0},{"$f":"(SUMIFS(Cálculos!AL$6:AL$228,Cálculos!$E$6:$E$228,$C67,Cálculos!$H$6:$H$228,\"Ambos\",Cálculos!$I$6:$I$228,2)+SUMIFS(Cálculos!AL$6:AL$228,Cálculos!$E$6:$E$228,$C67,Cálculos!$H$6:$H$228,\"CAPV\",Cálculos!$I$6:$I$228,2))/1000","v":0}]
[]
[null,{"$f":"CONCATENATE(\"D) RATIOS EN EL AÑO \",'Datos generales organización'!$D$14, \" - (ALCANCE 1 +ALCANCE 2)\")","v":"D) RATIOS EN EL AÑO <seleccionar año> - (ALCANCE 1 +ALCANCE 2)"}]
[]
[null,"Emisiones/ Superficie ","t CO2e/m2",{"$f":"$D$20/'Datos generales organización'!E22","v":{"$error":"#N/A"}}]
[null,"Emisiones/ Nº de empleados","t CO2e/trabajador",{"$f":"$D$20/'Datos generales organización'!E23","v":{"$error":"#N/A"}}]
[null,"Emisiones/ Facturación ","t CO2e/mil €",{"$f":"$D$20/'Datos generales organización'!E24","v":{"$error":"#N/A"}}]
[null,{"$f":"CONCATENATE(\"Emisiones/ \",'Datos generales organización'!C37)","v":"Emisiones/ Seleccionar índice"},{"$f":"CONCATENATE(\"tCO2e/ \", 'Datos generales organización'!D37)","v":"tCO2e/ unidades"},{"$f":"$D$20/'Datos generales organización'!E20","v":{"$error":"#N/A"}}]
[]
[null,"E) EVOLUCIÓN HISTÓRICA DE LAS EMISIONES"]
[]
[null,null,null,{"$f":"'Datos generales organización'!D14","v":"<seleccionar año>"},{"$f":"IF('Datos generales organización'!E45<>\"<Año>\",'Datos generales organización'!E45,NA())","v":{"$error":"#VALUE!"}},{"$f":"IF('Datos generales organización'!F45<>\"<Año>\",'Datos generales organización'!F45,NA())","v":{"$error":"#VALUE!"}},{"$f":"IF('Datos generales organización'!G45<>\"<Año>\",'Datos generales organización'!G45,NA())","v":{"$error":"#VALUE!"}},{"$f":"IF('Datos generales organización'!H45<>\"<Año>\",'Datos generales organización'!H45,NA())","v":{"$error":"#VALUE!"}},{"$f":"IF('Datos generales organización'!I45<>\"<Año>\",'Datos generales organización'!I45,NA())","v":{"$error":"#VALUE!"}},{"$f":"IF('Datos generales organización'!J45<>\"<Año>\",'Datos generales organización'!J45,NA())","v":{"$error":"#VALUE!"}},{"$f":"IF('Datos generales organización'!K45<>\"<Año>\",'Datos generales organización'!K45,NA())","v":{"$error":"#VALUE!"}}]
[null,"Emisiones de alcance 1","(t CO2e)",{"$f":"D14","v":{"$error":"#N/A"}},{"$f":"IF('Datos generales organización'!E46*'Datos generales organización'!E$37<>0,'Datos generales organización'!E46*'Datos generales organización'!E$37,NA())","v":{"$error":"#DIV/0!"}},{"$f":"IF('Datos generales organización'!F46*'Datos generales organización'!F$37<>0,'Datos generales organización'!F46*'Datos generales organización'!F$37,NA())","v":{"$error":"#DIV/0!"}},{"$f":"IF('Datos generales organización'!G46*'Datos generales organización'!G$37<>0,'Datos generales organización'!G46*'Datos generales organización'!G$37,NA())","v":{"$error":"#DIV/0!"}},{"$f":"IF('Datos generales organización'!H46*'Datos generales organización'!H$37<>0,'Datos generales organización'!H46*'Datos generales organización'!H$37,NA())","v":{"$error":"#DIV/0!"}},{"$f":"IF('Datos generales organización'!I46*'Datos generales organización'!I$37<>0,'Datos generales organización'!I46*'Datos generales organización'!I$37,NA())","v":{"$error":"#DIV/0!"}},{"$f":"IF('Datos generales organización'!J46*'Datos generales organización'!J$37<>0,'Datos generales organización'!J46*'Datos generales organización'!J$37,NA())","v":{"$error":"#DIV/0!"}},{"$f":"IF('Datos generales organización'!K46*'Datos generales organización'!K$37<>0,'Datos generales organización'!K46*'Datos generales organización'!K$37,NA())","v":{"$error":"#DIV/0!"}}]
[null,"Emisiones de alcance 2","(t CO2e)",{"$f":"D18","v":0},{"$f":"IF('Datos generales organización'!E47*'Datos generales organización'!E$37<>0,'Datos generales organización'!E47*'Datos generales organización'!E$37,NA())","v":{"$error":"#DIV/0!"}},{"$f":"IF('Datos generales organización'!F47*'Datos generales organización'!F$37<>0,'Datos generales organización'!F47*'Datos generales organización'!F$37,NA())","v":{"$error":"#DIV/0!"}},{"$f":"IF('Datos generales organización'!G47*'Datos generales organización'!G$37<>0,'Datos generales organización'!G47*'Datos generales organización'!G$37,NA())","v":{"$error":"#DIV/0!"}},{"$f":"IF('Datos generales organización'!H47*'Datos generales organización'!H$37<>0,'Datos generales organización'!H47*'Datos generales organización'!H$37,NA())","v":{"$error":"#DIV/0!"}},{"$f":"IF('Datos generales organización'!I47*'Datos generales organización'!I$37<>0,'Datos generales organización'!I47*'Datos generales organización'!I$37,NA())","v":{"$error":"#DIV/0!"}},{"$f":"IF('Datos generales organización'!J47*'Datos generales organización'!J$37<>0,'Datos generales organización'!J47*'Datos generales organización'!J$37,NA())","v":{"$error":"#DIV/0!"}},{"$f":"IF('Datos generales organización'!K47*'Datos generales organización'!K$37<>0,'Datos generales organización'!K47*'Datos generales organización'!K$37,NA())","v":{"$error":"#DIV/0!"}}]
[null,"Emisiones alcance 1 + 2","(t CO2e)",{"$f":"D20","v":{"$error":"#N/A"}},{"$f":"IF('Datos generales organización'!E48*'Datos generales organización'!E$37<>0,'Datos generales organización'!E48*'Datos generales organización'!E$37,NA())","v":{"$error":"#DIV/0!"}},{"$f":"IF('Datos generales organización'!F48*'Datos generales organización'!F$37<>0,'Datos generales organización'!F48*'Datos generales organización'!F$37,NA())","v":{"$error":"#DIV/0!"}},{"$f":"IF('Datos generales organización'!G48*'Datos generales organización'!G$37<>0,'Datos generales organización'!G48*'Datos generales organización'!G$37,NA())","v":{"$error":"#DIV/0!"}},{"$f":"IF('Datos generales organización'!H48*'Datos generales organización'!H$37<>0,'Datos generales organización'!H48*'Datos generales organización'!H$37,NA())","v":{"$error":"#DIV/0!"}},{"$f":"IF('Datos generales organización'!I48*'Datos generales organización'!I$37<>0,'Datos generales organización'!I48*'Datos generales organización'!I$37,NA())","v":{"$error":"#DIV/0!"}},{"$f":"IF('Datos generales organización'!J48*'Datos generales organización'!J$37<>0,'Datos generales organización'!J48*'Datos generales organización'!J$37,NA())","v":{"$error":"#DIV/0!"}},{"$f":"IF('Datos generales organización'!K48*'Datos generales organización'!K$37<>0,'Datos generales organización'!K48*'Datos generales organización'!K$37,NA())","v":{"$error":"#DIV/0!"}}]
[null,"Emisiones/ Superficie ","(t CO2e/m2)",{"$f":"D$81/'Datos generales organización'!E22","v":{"$error":"#N/A"}},{"$f":"E$81/'Datos generales organización'!E40","v":{"$error":"#DIV/0!"}},{"$f":"F$81/'Datos generales organización'!F40","v":{"$error":"#DIV/0!"}},{"$f":"G$81/'Datos generales organización'!G40","v":{"$error":"#DIV/0!"}},{"$f":"H$81/'Datos generales organización'!H40","v":{"$error":"#DIV/0!"}},{"$f":"I$81/'Datos generales organización'!I40","v":{"$error":"#DIV/0!"}},{"$f":"J$81/'Datos generales organización'!J40","v":{"$error":"#DIV/0!"}},{"$f":"K$81/'Datos generales organización'!K40","v":{"$error":"#DIV/0!"}}]
[null,"Emisiones/ Nº de empleados              ","(t CO2e/trabajador)",{"$f":"D$81/'Datos generales organización'!E23","v":{"$error":"#N/A"}},{"$f":"E$81/'Datos generales organización'!E41","v":{"$error":"#DIV/0!"}},{"$f":"F$81/'Datos generales organización'!F41","v":{"$error":"#DIV/0!"}},{"$f":"G$81/'Datos generales organización'!G41","v":{"$error":"#DIV/0!"}},{"$f":"H$81/'Datos generales organización'!H41","v":{"$error":"#DIV/0!"}},{"$f":"I$81/'Datos generales organización'!I41","v":{"$error":"#DIV/0!"}},{"$f":"J$81/'Datos generales organización'!J41","v":{"$error":"#DIV/0!"}},{"$f":"K$81/'Datos generales organización'!K41","v":{"$error":"#DIV/0!"}}]
[null,"Emisiones/ Facturación                        ","(t CO2e/mil €)",{"$f":"D$81/'Datos generales organización'!E24","v":{"$error":"#N/A"}},{"$f":"E$81/'Datos generales organización'!E42","v":{"$error":"#DIV/0!"}},{"$f":"F$81/'Datos generales organización'!F42","v":{"$error":"#DIV/0!"}},{"$f":"G$81/'Datos generales organización'!G42","v":{"$error":"#DIV/0!"}},{"$f":"H$81/'Datos generales organización'!H42","v":{"$error":"#DIV/0!"}},{"$f":"I$81/'Datos generales organización'!I42","v":{"$error":"#DIV/0!"}},{"$f":"J$81/'Datos generales organización'!J42","v":{"$error":"#DIV/0!"}},{"$f":"K$81/'Datos generales organización'!K42","v":{"$error":"#DIV/0!"}}]
[null,"Emisiones/ Nº de empleados              ",{"$f":"CONCATENATE(\"(tCO2e/ \",'Datos generales organización'!D37,\")\")","v":"(tCO2e/ unidades)"},{"$f":"D$81/'Datos generales organización'!E20","v":{"$error":"#N/A"}},{"$f":"E$81/'Datos generales organización'!E37","v":{"$error":"#DIV/0!"}},{"$f":"F$81/'Datos generales organización'!F37","v":{"$error":"#DIV/0!"}},{"$f":"G$81/'Datos generales organización'!G37","v":{"$error":"#DIV/0!"}},{"$f":"H$81/'Datos generales organización'!H37","v":{"$error":"#DIV/0!"}},{"$f":"I$81/'Datos generales organización'!I37","v":{"$error":"#DIV/0!"}},{"$f":"J$81/'Datos generales organización'!J37","v":{"$error":"#DIV/0!"}},{"$f":"K$81/'Datos generales organización'!K37","v":{"$error":"#DIV/0!"}}]

{"sheet":"Result- SGMA","index":9,"n_rows":63,"n_cols":4,"rows_kept":63,"cut":false,"hidden":false,"merged":[[7,1,10,1],[12,1,14,1],[21,1,28,1]]}
[null,null,{"$f":"Instrucciones!B1","v":"HERRAMIENTA DE HUELLA DE CARBONO PARA ORGANIZACIONES. Año de cálculo 2020"}]
[null,"INDICADORES RELEVANTES PARA SU INCLUSIÓN EN SISTEMAS DE GESTIÓN AMBIENTAL"]
[]
[null,{"$f":"CONCATENATE(\"A) HUELLA DE CARBONO  \",'Datos generales organización'!D14, \" (t CO2e)\")","v":"A) HUELLA DE CARBONO  <seleccionar año> (t CO2e)"}]
[null,"A.1) REPORTE OBLIGATORIO: ALCANCE 1  Y ALCANCE 2"]
[]
[null,null,null,"Total"]
[null,"EMISIONES DIRECTAS (ALCANCE 1)","Fuentes fijas ",{"$f":"(SUMIFS(Cálculos_5!$AL$6:$AL$228,Cálculos_5!$I$6:$I$228,1,Cálculos_5!$C$6:$C$228,\"Fuente fija\",Cálculos_5!$H$6:$H$228,\"Ambos\")+SUMIFS(Cálculos_5!$AL$6:$AL$228,Cálculos_5!$I$6:$I$228,1,Cálculos_5!$C$6:$C$228,\"Fuente fija\",Cálculos_5!$H$6:$H$228,\"CAPV\"))/1000","v":0}]
[null,null,"Fuentes móviles ",{"$f":"(SUMIFS(Cálculos_5!$AL$6:$AL$228,Cálculos_5!$I$6:$I$228,1,Cálculos_5!$C$6:$C$228,\"Fuente móvil\",Cálculos_5!$H$6:$H$228,\"Ambos\")+SUMIFS(Cálculos_5!$AL$6:$AL$228,Cálculos_5!$I$6:$I$228,1,Cálculos_5!$C$6:$C$228,\"Fuente móvil\",Cálculos_5!$H$6:$H$228,\"CAPV\"))/1000","v":{"$error":"#N/A"}}]
[null,null,"Fuentes difusas ",{"$f":"(SUMIFS(Cálculos_5!$AL$6:$AL$228,Cálculos_5!$I$6:$I$228,1,Cálculos_5!$C$6:$C$228,\"Fuente difusa\",Cálculos_5!$H$6:$H$228,\"Ambos\")+SUMIFS(Cálculos_5!$AL$6:$AL$228,Cálculos_5!$I$6:$I$228,1,Cálculos_5!$C$6:$C$228,\"Fuente difusa\",Cálculos_5!$H$6:$H$228,\"CAPV\"))/1000","v":0}]
[null,"Total","Total ",{"$f":"D8+D9+D10","v":{"$error":"#N/A"}}]
[]
[null,"EMISIONES INDIRECTAS POR ENERGÍA (ALCANCE 2) ","Fuentes fijas ",{"$f":"(SUMIFS(Cálculos_5!$AH$6:$AH$228,Cálculos_5!$I$6:$I$228,2,Cálculos_5!$C$6:$C$228,\"Fuente fija\",Cálculos_5!$H$6:$H$228,\"Ambos\")+SUMIFS(Cálculos_5!$AH$6:$AH$228,Cálculos_5!$I$6:$I$228,2,Cálculos_5!$C$6:$C$228,\"Fuente fija\",Cálculos_5!$H$6:$H$228,\"CAPV\"))/1000","v":0}]
[null,null,"Fuentes móviles",{"$f":"(SUMIFS(Cálculos_5!$AH$6:$AH$228,Cálculos_5!$I$6:$I$228,2,Cálculos_5!$C$6:$C$228,\"Fuente móvil\",Cálculos_5!$H$6:$H$228,\"Ambos\")+SUMIFS(Cálculos_5!$AH$6:$AH$228,Cálculos_5!$I$6:$I$228,2,Cálculos_5!$C$6:$C$228,\"Fuente móvil\",Cálculos_5!$H$6:$H$228,\"CAPV\"))/1000","v":0}]
[null,null,"Total ",{"$f":"D13+D14","v":0}]
[]
[null,"EMISIONES DIRECTAS (ALCANCE 1) + EMISIONES INDIRECTAS POR ENERGÍA (ALCANCE 2)","Total ",{"$f":"D11+D15","v":{"$error":"#N/A"}}]
[]
[null,"A.2) REPORTE OPCIONAL: ALCANCE 3 (t CO2e)"]
[]
[null,null,null,"Total"]
[null,"OTRAS EMISIONES INDIRECTAS (ALCANCE 3)",{"$f":"'Result- RVHdC Detalle'!C29","v":"Movilidad de los trabajadores"},{"$f":"(SUMIFS(Cálculos_5!$AL$6:$AL$228,Cálculos_5!$I$6:$I$228,3,Cálculos_5!$G$6:$G$228,C22,Cálculos_5!$H$6:$H$228,\"Ambos\")+SUMIFS(Cálculos_5!$AL$6:$AL$228,Cálculos_5!$I$6:$I$228,3,Cálculos_5!$G$6:$G$228,C22,Cálculos_5!$H$6:$H$228,\"CAPV\"))/1000","v":7.8845000000000009E-3}]
[null,null,{"$f":"'Result- RVHdC Detalle'!C30","v":"Viajes de trabajo "},{"$f":"(SUMIFS(Cálculos_5!$AL$6:$AL$228,Cálculos_5!$I$6:$I$228,3,Cálculos_5!$G$6:$G$228,C23,Cálculos_5!$H$6:$H$228,\"Ambos\")+SUMIFS(Cálculos_5!$AL$6:$AL$228,Cálculos_5!$I$6:$I$228,3,Cálculos_5!$G$6:$G$228,C23,Cálculos_5!$H$6:$H$228,\"CAPV\"))/1000","v":0}]
[null,null,{"$f":"'Result- RVHdC Detalle'!C31","v":"Gestión de residuos"},{"$f":"(SUMIFS(Cálculos_5!$AL$6:$AL$228,Cálculos_5!$I$6:$I$228,3,Cálculos_5!$G$6:$G$228,C24,Cálculos_5!$H$6:$H$228,\"Ambos\")+SUMIFS(Cálculos_5!$AL$6:$AL$228,Cálculos_5!$I$6:$I$228,3,Cálculos_5!$G$6:$G$228,C24,Cálculos_5!$H$6:$H$228,\"CAPV\"))/1000","v":0}]
[null,null,{"$f":"'Result- RVHdC Detalle'!C32","v":"Consumo de agua"},{"$f":"(SUMIFS(Cálculos_5!$AL$6:$AL$228,Cálculos_5!$I$6:$I$228,3,Cálculos_5!$G$6:$G$228,C25,Cálculos_5!$H$6:$H$228,\"Ambos\")+SUMIFS(Cálculos_5!$AL$6:$AL$228,Cálculos_5!$I$6:$I$228,3,Cálculos_5!$G$6:$G$228,C25,Cálculos_5!$H$6:$H$228,\"CAPV\"))/1000","v":0}]
[null,null,{"$f":"'Result- RVHdC Detalle'!C33","v":"Consumo de bienes y servicios"},{"$f":"(SUMIFS(Cálculos_5!$AL$6:$AL$228,Cálculos_5!$I$6:$I$228,3,Cálculos_5!$G$6:$G$228,C26,Cálculos_5!$H$6:$H$228,\"Ambos\")+SUMIFS(Cálculos_5!$AL$6:$AL$228,Cálculos_5!$I$6:$I$228,3,Cálculos_5!$G$6:$G$228,C26,Cálculos_5!$H$6:$H$228,\"CAPV\"))/1000","v":0}]
[null,null,{"$f":"'Result- RVHdC Detalle'!C34","v":"Transporte desde proveedor"},{"$f":"(SUMIFS(Cálculos_5!$AL$6:$AL$228,Cálculos_5!$I$6:$I$228,3,Cálculos_5!$G$6:$G$228,C27,Cálculos_5!$H$6:$H$228,\"Ambos\")+SUMIFS(Cálculos_5!$AL$6:$AL$228,Cálculos_5!$I$6:$I$228,3,Cálculos_5!$G$6:$G$228,C27,Cálculos_5!$H$6:$H$228,\"CAPV\"))/1000","v":0}]
[null,null,{"$f":"'Result- RVHdC Detalle'!C35","v":"Distribución de productos"},{"$f":"(SUMIFS(Cálculos_5!$AL$6:$AL$228,Cálculos_5!$I$6:$I$228,3,Cálculos_5!$G$6:$G$228,C28,Cálculos_5!$H$6:$H$228,\"Ambos\")+SUMIFS(Cálculos_5!$AL$6:$AL$228,Cálculos_5!$I$6:$I$228,3,Cálculos_5!$G$6:$G$228,C28,Cálculos_5!$H$6:$H$228,\"CAPV\"))/1000","v":0}]
[null,null,"Total ",{"$f":"SUM(D22:D28)","v":7.8845000000000009E-3}]
[]
[null,{"$f":"CONCATENATE(\"B) CONSUMOS DE ENERGÍA  \",'Datos generales organización'!$D$14,\" - (ALCANCE 1 +ALCANCE 2)\")","v":"B) CONSUMOS DE ENERGÍA  <seleccionar año> - (ALCANCE 1 +ALCANCE 2)"}]
[]
[null,"Biomasa  ",{"$f":"'Alcance 1'!E8","v":"kg"},{"$f":"'Alcance 1'!D8","v":0}]
[null,"Carbón mineral",{"$f":"'Alcance 1'!E9","v":"kg"},{"$f":"'Alcance 1'!D9","v":0}]
[null,"Coque de petróleo",{"$f":"'Alcance 1'!E10","v":"kg"},{"$f":"'Alcance 1'!D10","v":0}]
[null,"Fueloleo",{"$f":"'Alcance 1'!E11","v":"L"},{"$f":"'Alcance 1'!D11","v":0}]
[null,"Gas butano",{"$f":"'Alcance 1'!E12","v":"L"},{"$f":"'Alcance 1'!D12","v":0}]
[null,"Gas natural",{"$f":"'Alcance 1'!E13","v":"Nm3"},{"$f":"'Alcance 1'!D13","v":0}]
[null,"Gas propano",{"$f":"'Alcance 1'!E14","v":"L"},{"$f":"'Alcance 1'!D14","v":0}]
[null,"Gasóleo C",{"$f":"'Alcance 1'!E15","v":"L"},{"$f":"'Alcance 1'!D15","v":0}]
[null,"GLP genérico",{"$f":"'Alcance 1'!E16","v":"L"},{"$f":"'Alcance 1'!D16","v":0}]
[null,"Queroseno",{"$f":"'Alcance 1'!E17","v":"L"},{"$f":"'Alcance 1'!D17","v":0}]
[null,"Gasolina ",{"$f":"'Alcance 1'!E24","v":"L"},{"$f":"(SUMIFS(Cálculos_5!AL$20:AL$228,Cálculos_5!$E$20:$E$228,B43,Cálculos_5!$H$20:$H$228,\"Ambos\",Cálculos_5!$I$20:$I$228,1)+SUMIFS(Cálculos_5!AL$20:AL$228,Cálculos_5!$E$20:$E$228,B43,Cálculos_5!$H$20:$H$228,\"CAPV\",Cálculos_5!$I$20:$I$228,1))/SUMIF('Datos 1-Factores emisión'!$B$23:$B$33,'Result- SGMA'!B43,'Datos 1-Factores emisión'!$K$23:$K$33)","v":{"$error":"#N/A"}}]
[null,"Gasóleo A y B",{"$f":"'Alcance 1'!E25","v":"L"},{"$f":"(SUMIFS(Cálculos_5!AL$20:AL$228,Cálculos_5!$E$20:$E$228,B44,Cálculos_5!$H$20:$H$228,\"Ambos\",Cálculos_5!$I$20:$I$228,1)+SUMIFS(Cálculos_5!AL$20:AL$228,Cálculos_5!$E$20:$E$228,B44,Cálculos_5!$H$20:$H$228,\"CAPV\",Cálculos_5!$I$20:$I$228,1))/SUMIF('Datos 1-Factores emisión'!$B$23:$B$33,'Result- SGMA'!B44,'Datos 1-Factores emisión'!$K$23:$K$33)","v":{"$error":"#N/A"}}]
[null,"E10",{"$f":"'Alcance 1'!E26","v":"L"},{"$f":"(SUMIFS(Cálculos_5!AL$20:AL$228,Cálculos_5!$E$20:$E$228,B45,Cálculos_5!$H$20:$H$228,\"Ambos\",Cálculos_5!$I$20:$I$228,1)+SUMIFS(Cálculos_5!AL$20:AL$228,Cálculos_5!$E$20:$E$228,B45,Cálculos_5!$H$20:$H$228,\"CAPV\",Cálculos_5!$I$20:$I$228,1))/SUMIF('Datos 1-Factores emisión'!$B$23:$B$33,'Result- SGMA'!B45,'Datos 1-Factores emisión'!$K$23:$K$33)","v":0}]
[null,"E85",{"$f":"'Alcance 1'!E27","v":"L"},{"$f":"(SUMIFS(Cálculos_5!AL$20:AL$228,Cálculos_5!$E$20:$E$228,B46,Cálculos_5!$H$20:$H$228,\"Ambos\",Cálculos_5!$I$20:$I$228,1)+SUMIFS(Cálculos_5!AL$20:AL$228,Cálculos_5!$E$20:$E$228,B46,Cálculos_5!$H$20:$H$228,\"CAPV\",Cálculos_5!$I$20:$I$228,1))/SUMIF('Datos 1-Factores emisión'!$B$23:$B$33,'Result- SGMA'!B46,'Datos 1-Factores emisión'!$K$23:$K$33)","v":0}]
[null,"B30",{"$f":"'Alcance 1'!E28","v":"L"},{"$f":"(SUMIFS(Cálculos_5!AL$20:AL$228,Cálculos_5!$E$20:$E$228,B47,Cálculos_5!$H$20:$H$228,\"Ambos\",Cálculos_5!$I$20:$I$228,1)+SUMIFS(Cálculos_5!AL$20:AL$228,Cálculos_5!$E$20:$E$228,B47,Cálculos_5!$H$20:$H$228,\"CAPV\",Cálculos_5!$I$20:$I$228,1))/SUMIF('Datos 1-Factores emisión'!$B$23:$B$33,'Result- SGMA'!B47,'Datos 1-Factores emisión'!$K$23:$K$33)","v":0}]
[null,"B100",{"$f":"'Alcance 1'!E29","v":"L"},{"$f":"(SUMIFS(Cálculos_5!AL$20:AL$228,Cálculos_5!$E$20:$E$228,B48,Cálculos_5!$H$20:$H$228,\"Ambos\",Cálculos_5!$I$20:$I$228,1)+SUMIFS(Cálculos_5!AL$20:AL$228,Cálculos_5!$E$20:$E$228,B48,Cálculos_5!$H$20:$H$228,\"CAPV\",Cálculos_5!$I$20:$I$228,1))/SUMIF('Datos 1-Factores emisión'!$B$23:$B$33,'Result- SGMA'!B48,'Datos 1-Factores emisión'!$K$23:$K$33)","v":0}]
[null,"Gas Natural Comprimido",{"$f":"'Alcance 1'!E30","v":"Nm3"},{"$f":"(SUMIFS(Cálculos_5!AL$20:AL$228,Cálculos_5!$E$20:$E$228,B49,Cálculos_5!$H$20:$H$228,\"Ambos\",Cálculos_5!$I$20:$I$228,1)+SUMIFS(Cálculos_5!AL$20:AL$228,Cálculos_5!$E$20:$E$228,B49,Cálculos_5!$H$20:$H$228,\"CAPV\",Cálculos_5!$I$20:$I$228,1))/SUMIF('Datos 1-Factores emisión'!$B$23:$B$33,'Result- SGMA'!B49,'Datos 1-Factores emisión'!$K$23:$K$33)","v":0}]
[null,"Gas Natural Licuado",{"$f":"'Alcance 1'!E31","v":"L"},{"$f":"(SUMIFS(Cálculos_5!AL$20:AL$228,Cálculos_5!$E$20:$E$228,B50,Cálculos_5!$H$20:$H$228,\"Ambos\",Cálculos_5!$I$20:$I$228,1)+SUMIFS(Cálculos_5!AL$20:AL$228,Cálculos_5!$E$20:$E$228,B50,Cálculos_5!$H$20:$H$228,\"CAPV\",Cálculos_5!$I$20:$I$228,1))/SUMIF('Datos 1-Factores emisión'!$B$23:$B$33,'Result- SGMA'!B50,'Datos 1-Factores emisión'!$K$23:$K$33)","v":0}]
[null,"GLP genérico",{"$f":"'Alcance 1'!E32","v":"L"},{"$f":"(SUMIFS(Cálculos_5!AL$20:AL$228,Cálculos_5!$E$20:$E$228,B51,Cálculos_5!$H$20:$H$228,\"Ambos\",Cálculos_5!$I$20:$I$228,1)+SUMIFS(Cálculos_5!AL$20:AL$228,Cálculos_5!$E$20:$E$228,B51,Cálculos_5!$H$20:$H$228,\"CAPV\",Cálculos_5!$I$20:$I$228,1))/SUMIF('Datos 1-Factores emisión'!$B$23:$B$33,'Result- SGMA'!B51,'Datos 1-Factores emisión'!$K$23:$K$33)","v":0}]
[null,"Electricidad","kWh",{"$f":"(SUMIFS(Cálculos_5!O$20:O$228,Cálculos_5!$E$20:$E$228,B52,Cálculos_5!$H$20:$H$228,\"Ambos\",Cálculos_5!$I$20:$I$228,2)+SUMIFS(Cálculos_5!O$20:O$228,Cálculos_5!$E$20:$E$228,B52,Cálculos_5!$H$20:$H$228,\"CAPV\",Cálculos_5!$I$20:$I$228,2))","v":0}]
[]
[null,{"$f":"CONCATENATE(\"C) DATOS DE GENERACIÓN DE RESIDUOS EN EL AÑO \",'Datos generales organización'!$D$14)","v":"C) DATOS DE GENERACIÓN DE RESIDUOS EN EL AÑO <seleccionar año>"}]
[]
[null,"Residuos domiciliarios a vertedero","t",{"$f":"'Alcance 3'!D66","v":0}]
[null,"Residuos domiciliarios a incineración","t",{"$f":"'Alcance 3'!D67","v":0}]
[null,"Residuos comerciales e industriales a vertedero","t",{"$f":"'Alcance 3'!D68","v":0}]
[null,"Residuos comerciales e industriales a incineración","t",{"$f":"'Alcance 3'!D69","v":0}]
[null,"Fracción orgánica a compostaje","t",{"$f":"'Alcance 3'!D70","v":0}]
[null,"Vidrio a reciclaje","t",{"$f":"'Alcance 3'!D71","v":0}]
[null,"Envases a reciclaje","t",{"$f":"'Alcance 3'!D72","v":0}]
[null,"Papel y cartón a reciclaje","t",{"$f":"'Alcance 3'!D73","v":0}]

{"sheet":"Result- REHdC","index":10,"n_rows":25,"n_cols":4,"rows_kept":25,"cut":false,"hidden":false,"merged":[[17,1,17,2],[10,1,13,1]]}
[null,null,{"$f":"Instrucciones!B1","v":"HERRAMIENTA DE HUELLA DE CARBONO PARA ORGANIZACIONES. Año de cálculo 2020"}]
[null,"RESULTADOS SEGÚN REGISTRO ESPAÑOL DE HUELLA DE CARBONO, COMPENSACIÓN Y PROYECTOS DE ABSORCIÓN "]
[]
[null,"Nombre de la organización",{"$f":"'Datos generales organización'!D5","v":0}]
[]
[]
[null,{"$f":"CONCATENATE(\"RESULTADOS ABSOLUTOS EN \",'Datos generales organización'!D14)","v":"RESULTADOS ABSOLUTOS EN <seleccionar año>"}]
[]
[null,"Año de cálculo",{"$f":"'Datos generales organización'!D14","v":"<seleccionar año>"}]
[]
[null,"EMISIONES DIRECTAS (ALCANCE 1)","Instalaciones fijas (t CO2e)",{"$f":"(SUMIFS(Cálculos!$AH$6:$AH$197,Cálculos!$I$6:$I$197,1,Cálculos!$C$6:$C$197,\"Fuente fija\",Cálculos!$H$6:$H$197,\"Ambos\")+SUMIFS(Cálculos!$AH$6:$AH$197,Cálculos!$I$6:$I$197,1,Cálculos!$C$6:$C$197,\"Fuente fija\",Cálculos!$H$6:$H$197,\"España\"))/1000","v":0}]
[null,null,"Desplazamientos en vehículos (t CO2e)",{"$f":"(SUMIFS(Cálculos!$AH$6:$AH$197,Cálculos!$I$6:$I$197,1,Cálculos!$C$6:$C$197,\"Fuente móvil\",Cálculos!$H$6:$H$197,\"Ambos\")+SUMIFS(Cálculos!$AH$6:$AH$197,Cálculos!$I$6:$I$197,1,Cálculos!$C$6:$C$197,\"Fuente móvil\",Cálculos!$H$6:$H$197,\"España\"))/1000","v":{"$error":"#N/A"}}]
[null,null,"Refrigeración/climatización (t CO2e)",{"$f":"(SUMIFS(Cálculos!$AK$6:$AK$197,Cálculos!$I$6:$I$197,1,Cálculos!$C$6:$C$197,\"Fuente difusa\",Cálculos!$H$6:$H$197,\"Ambos\")+SUMIFS(Cálculos!$AK$6:$AK$197,Cálculos!$I$6:$I$197,1,Cálculos!$C$6:$C$197,\"Fuente difusa\",Cálculos!$H$6:$H$197,\"España\"))/1000","v":0}]
[null,null,"Total (t CO2e)",{"$f":"D11+D12+D13","v":{"$error":"#N/A"}}]
[]
[null,"EMISIONES INDIRECTAS POR ENERGÍA (ALCANCE 2)","Electricidad (t CO2e)",{"$f":"(SUMIFS(Cálculos!$AH$6:$AH$197,Cálculos!$I$6:$I$197,2,Cálculos!$H$6:$H$197,\"Ambos\")+SUMIFS(Cálculos!$AH$6:$AH$197,Cálculos!$I$6:$I$197,2,Cálculos!$H$6:$H$197,\"España\"))/1000","v":0}]
[]
[null,"EMISIONES DIRECTAS (ALCANCE 1) + EMISIONES INDIRECTAS POR ENERGÍA (ALCANCE 2) (t CO2e)",null,{"$f":"D14+D16","v":{"$error":"#N/A"}}]
[]
[null,{"$f":"CONCATENATE(\"RATIOS AÑO DE CÁLCULO \",'Datos generales organización'!D14)","v":"RATIOS AÑO DE CÁLCULO <seleccionar año>"}]
[]
[null,"Emisiones/ Superficie ","t CO2e/m2",{"$f":"$D$18/'Datos generales organización'!E22","v":{"$error":"#N/A"}}]
[null,"Emisiones/ Nº de empleados","t CO2e/trabajador",{"$f":"$D$18/'Datos generales organización'!E23","v":{"$error":"#N/A"}}]
[null,"Emisiones/ Facturación ","t CO2e/mil €",{"$f":"$D$18/'Datos generales organización'!E24","v":{"$error":"#N/A"}}]
[null,{"$f":"CONCATENATE(\"Emisiones/ \",'Datos generales organización'!C37)","v":"Emisiones/ Seleccionar índice"},{"$f":"CONCATENATE(\"tCO2e/ \", 'Datos generales organización'!D37)","v":"tCO2e/ unidades"},{"$f":"$D$18/'Datos generales organización'!E20","v":{"$error":"#N/A"}}]

{"sheet":"Cálculos","index":11,"n_rows":258,"n_cols":40,"rows_kept":258,"cut":false,"hidden":false,"merged":[[3,33,3,38],[3,1,3,8],[3,9,3,15],[3,16,3,19],[3,21,3,25],[3,27,3,31]]}
[null,null,{"$f":"Instrucciones!B1","v":"HERRAMIENTA DE HUELLA DE CARBONO PARA ORGANIZACIONES. Año de cálculo 2020"}]
[null,"CÁLCULOS"]
[]
[null,"Clasificaciones",null,null,null,null,null,null,null,"Dato de actividad (ud)",null,null,null,null,null,null,"Factores de Emisión / absorción (kg /ud)",null,null,null,null,"Emisiones (kg de GEI)",null,null,null,null,null,"Potencial calentamiento global  ",null,null,null,null,null,"Emisiones (kg CO2 e)"]
[null,"Categoría","Sector","Tipo de emisión","Flujo fuente","Detalle 1","Detalle 2","Resultado","Alcance","Dato actividad (valor)","Unidades","Comentarios","Factor conversión","Unidades","Dato actividad final","Unidades","CO2","CH4","N2O","CO2 b ","CO2 abs","CO2","CH4","N2O","Gases fluorados","CO2 b","CO2 abs","CO2","CH4","N2O",{"$f":"Y5","v":"Gases fluorados"},"CO2 b","CO2 abs","CO2","CH4","N2O",{"$f":"Y5","v":"Gases fluorados"},"Total emisiones","CO2 b","CO2 abs"]
[null,"Emisiones de proceso y uso de productos","Fuente fija","Fugitivas",{"$f":"'Alcance 1'!C170","v":"CO2 e"},null,null,"Ambos",1,{"$f":"'Alcance 1'!D170","v":0},{"$f":"'Alcance 1'!E170","v":"kg CO2 e"},null,1,null,{"$f":"J6*M6","v":0},{"$f":"K6","v":"kg CO2 e"},1,0,0,{"$f":"LOOKUP($E6,'Datos 1-Factores emisión'!$B$9:$B$18,'Datos 1-Factores emisión'!$D$9:$D$18)","v":0},0,{"$f":"Q6*$O6","v":0},0,0,0,{"$f":"T6*$O6","v":0},0,{"$f":"'Datos 2-Potenciales calent glob'!$D$6","v":1},{"$f":"'Datos 2-Potenciales calent glob'!$D$31","v":25},{"$f":"'Datos 2-Potenciales calent glob'!$D$32","v":298},{"$f":"SUMIF('Datos 2-Potenciales calent glob'!$B$6:$B$56,Cálculos!F6,'Datos 2-Potenciales calent glob'!$D$6:$D$56)","v":0},{"$f":"'Datos 2-Potenciales calent glob'!$D$6","v":1},{"$f":"'Datos 2-Potenciales calent glob'!$D$6","v":1},{"$f":"V6*AB6","v":0},0,0,0,{"$f":"SUM(AH6:AK6)","v":0},{"$f":"Z6*AF6","v":0},0]
[null,"Emisiones de proceso y uso de productos","Fuente fija","Fugitivas",{"$f":"'Alcance 1'!C175","v":"CO2"},null,null,"Ambos",1,{"$f":"'Alcance 1'!D175","v":0},{"$f":"'Alcance 1'!E175","v":"kg"},null,1,null,0,{"$f":"K7","v":"kg"},1,0,0,0,0,0,0,0,0,0,0,{"$f":"'Datos 2-Potenciales calent glob'!$D$6","v":1},{"$f":"'Datos 2-Potenciales calent glob'!$D$31","v":25},{"$f":"'Datos 2-Potenciales calent glob'!$D$32","v":298},{"$f":"SUMIF('Datos 2-Potenciales calent glob'!$B$6:$B$56,Cálculos!F7,'Datos 2-Potenciales calent glob'!$D$6:$D$56)","v":0},{"$f":"'Datos 2-Potenciales calent glob'!$D$6","v":1},{"$f":"'Datos 2-Potenciales calent glob'!$D$6","v":1},0,0,0,0,0,0,0]
[null,"Emisiones de proceso y uso de productos","Fuente fija","Fugitivas",{"$f":"'Alcance 1'!C176","v":"CH4"},null,null,"Ambos",1,{"$f":"'Alcance 1'!D176","v":0},{"$f":"'Alcance 1'!E176","v":"kg"},null,1,null,0,{"$f":"K8","v":"kg"},0,1,0,0,0,0,0,0,0,0,0,{"$f":"'Datos 2-Potenciales calent glob'!$D$6","v":1},{"$f":"'Datos 2-Potenciales calent glob'!$D$31","v":25},{"$f":"'Datos 2-Potenciales calent glob'!$D$32","v":298},{"$f":"SUMIF('Datos 2-Potenciales calent glob'!$B$6:$B$56,Cálculos!F8,'Datos 2-Potenciales calent glob'!$D$6:$D$56)","v":0},{"$f":"'Datos 2-Potenciales calent glob'!$D$6","v":1},{"$f":"'Datos 2-Potenciales calent glob'!$D$6","v":1},0,0,0,0,0,0,0]
[null,"Emisiones de proceso y uso de productos","Fuente fija","Fugitivas",{"$f":"'Alcance 1'!C177","v":"N2O"},null,null,"Ambos",1,{"$f":"'Alcance 1'!D177","v":0},{"$f":"'Alcance 1'!E177","v":"kg"},null,1,null,0,"kg",0,0,1,0,0,0,0,0,0,0,0,{"$f":"'Datos 2-Potenciales calent glob'!$D$6","v":1},{"$f":"'Datos 2-Potenciales calent glob'!$D$31","v":25},{"$f":"'Datos 2-Potenciales calent glob'!$D$32","v":298},{"$f":"SUMIF('Datos 2-Potenciales calent glob'!$B$6:$B$56,Cálculos!F9,'Datos 2-Potenciales calent glob'!$D$6:$D$56)","v":0},{"$f":"'Datos 2-Potenciales calent glob'!$D$6","v":1},{"$f":"'Datos 2-Potenciales calent glob'!$D$6","v":1},0,0,0,0,0,0,0]
[null,"Emisiones de proceso y uso de productos","Fuente fija","Fugitivas","Gases fluorados",{"$f":"'Alcance 1'!C178","v":"Tipo de gas fluorado"},null,"Ambos",1,{"$f":"'Alcance 1'!D178","v":0},{"$f":"'Alcance 1'!E178","v":"kg"},null,1,null,0,"kg",0,0,0,0,0,0,0,0,{"$f":"O10","v":0},0,0,{"$f":"'Datos 2-Potenciales calent glob'!$D$6","v":1},{"$f":"'Datos 2-Potenciales calent glob'!$D$31","v":25},{"$f":"'Datos 2-Potenciales calent glob'!$D$32","v":298},{"$f":"SUMIF('Datos 2-Potenciales calent glob'!$B$6:$B$56,Cálculos!F10,'Datos 2-Potenciales calent glob'!$D$6:$D$56)","v":0},{"$f":"'Datos 2-Potenciales calent glob'!$D$6","v":1},{"$f":"'Datos 2-Potenciales calent glob'!$D$6","v":1},0,0,0,0,0,0,0]
[null,"Emisiones de proceso y uso de productos","Fuente fija","Fugitivas","Gases fluorados",{"$f":"'Alcance 1'!C179","v":"Tipo de gas fluorado"},null,"Ambos",1,{"$f":"'Alcance 1'!D179","v":0},{"$f":"'Alcance 1'!E179","v":"kg"},null,1,null,0,"kg",0,0,0,0,0,0,0,0,{"$f":"O11","v":0},0,0,{"$f":"'Datos 2-Potenciales calent glob'!$D$6","v":1},{"$f":"'Datos 2-Potenciales calent glob'!$D$31","v":25},{"$f":"'Datos 2-Potenciales calent glob'!$D$32","v":298},{"$f":"SUMIF('Datos 2-Potenciales calent glob'!$B$6:$B$56,Cálculos!F11,'Datos 2-Potenciales calent glob'!$D$6:$D$56)","v":0},{"$f":"'Datos 2-Potenciales calent glob'!$D$6","v":1},{"$f":"'Datos 2-Potenciales calent glob'!$D$6","v":1},0,0,0,0,0,0,0]
[null,"Emisiones de proceso y uso de productos","Fuente fija","Fugitivas","Gases fluorados",{"$f":"'Alcance 1'!C180","v":"Tipo de gas fluorado"},null,"Ambos",1,{"$f":"'Alcance 1'!D180","v":0},{"$f":"'Alcance 1'!E180","v":"kg"},null,1,null,0,"kg",0,0,0,0,0,0,0,0,0,0,0,{"$f":"'Datos 2-Potenciales calent glob'!$D$6","v":1},{"$f":"'Datos 2-Potenciales calent glob'!$D$31","v":25},{"$f":"'Datos 2-Potenciales calent glob'!$D$32","v":298},{"$f":"SUMIF('Datos 2-Potenciales calent glob'!$B$6:$B$56,Cálculos!F12,'Datos 2-Potenciales calent glob'!$D$6:$D$56)","v":0},{"$f":"'Datos 2-Potenciales calent glob'!$D$6","v":1},{"$f":"'Datos 2-Potenciales calent glob'!$D$6","v":1},0,0,0,0,0,0,0]
[null,"Emisiones de proceso y uso de productos","Fuente fija","Fugitivas","Gases fluorados",{"$f":"'Alcance 1'!C181","v":"Tipo de gas fluorado"},null,"Ambos",1,{"$f":"'Alcance 1'!D181","v":0},{"$f":"'Alcance 1'!E181","v":"kg"},null,1,null,0,"kg",0,0,0,0,0,0,0,0,0,0,0,{"$f":"'Datos 2-Potenciales calent glob'!$D$6","v":1},{"$f":"'Datos 2-Potenciales calent glob'!$D$31","v":25},{"$f":"'Datos 2-Potenciales calent glob'!$D$32","v":298},{"$f":"SUMIF('Datos 2-Potenciales calent glob'!$B$6:$B$56,Cálculos!F13,'Datos 2-Potenciales calent glob'!$D$6:$D$56)","v":0},{"$f":"'Datos 2-Potenciales calent glob'!$D$6","v":1},{"$f":"'Datos 2-Potenciales calent glob'!$D$6","v":1},0,0,0,0,0,0,0]
[null,"Emisiones de proceso y uso de productos","Fuente fija","Fugitivas","Gases fluorados",{"$f":"'Alcance 1'!C182","v":"Tipo de gas fluorado"},null,"Ambos",1,{"$f":"'Alcance 1'!D182","v":0},{"$f":"'Alcance 1'!E182","v":"kg"},null,1,null,0,"kg",0,0,0,0,0,0,0,0,0,0,0,{"$f":"'Datos 2-Potenciales calent glob'!$D$6","v":1},{"$f":"'Datos 2-Potenciales calent glob'!$D$31","v":25},{"$f":"'Datos 2-Potenciales calent glob'!$D$32","v":298},{"$f":"SUMIF('Datos 2-Potenciales calent glob'!$B$6:$B$56,Cálculos!F14,'Datos 2-Potenciales calent glob'!$D$6:$D$56)","v":0},{"$f":"'Datos 2-Potenciales calent glob'!$D$6","v":1},{"$f":"'Datos 2-Potenciales calent glob'!$D$6","v":1},0,0,0,0,0,0,0]
[null,"Emisiones de proceso y uso de productos","Fuente fija","Fugitivas","Gases fluorados",{"$f":"'Alcance 1'!C183","v":"Tipo de gas fluorado"},null,"Ambos",1,{"$f":"'Alcance 1'!D183","v":0},{"$f":"'Alcance 1'!E183","v":"kg"},null,1,null,0,"kg",0,0,0,0,0,0,0,0,0,0,0,{"$f":"'Datos 2-Potenciales calent glob'!$D$6","v":1},{"$f":"'Datos 2-Potenciales calent glob'!$D$31","v":25},{"$f":"'Datos 2-Potenciales calent glob'!$D$32","v":298},{"$f":"SUMIF('Datos 2-Potenciales calent glob'!$B$6:$B$56,Cálculos!F15,'Datos 2-Potenciales calent glob'!$D$6:$D$56)","v":0},{"$f":"'Datos 2-Potenciales calent glob'!$D$6","v":1},{"$f":"'Datos 2-Potenciales calent glob'!$D$6","v":1},0,0,0,0,0,0,0]
[null,"Emisiones de proceso y uso de productos","Fuente fija","Fugitivas","Gases fluorados",{"$f":"'Alcance 1'!C184","v":"Tipo de gas fluorado"},null,"Ambos",1,{"$f":"'Alcance 1'!D184","v":0},{"$f":"'Alcance 1'!E184","v":"kg"},null,1,null,0,"kg",0,0,0,0,0,0,0,0,0,0,0,{"$f":"'Datos 2-Potenciales calent glob'!$D$6","v":1},{"$f":"'Datos 2-Potenciales calent glob'!$D$31","v":25},{"$f":"'Datos 2-Potenciales calent glob'!$D$32","v":298},{"$f":"SUMIF('Datos 2-Potenciales calent glob'!$B$6:$B$56,Cálculos!F16,'Datos 2-Potenciales calent glob'!$D$6:$D$56)","v":0},{"$f":"'Datos 2-Potenciales calent glob'!$D$6","v":1},{"$f":"'Datos 2-Potenciales calent glob'!$D$6","v":1},0,0,0,0,0,0,0]
[null,"Emisiones de proceso y uso de productos","Fuente fija","Fugitivas","Gases fluorados",{"$f":"'Alcance 1'!C185","v":"Tipo de gas fluorado"},null,"Ambos",1,{"$f":"'Alcance 1'!D185","v":0},{"$f":"'Alcance 1'!E185","v":"kg"},null,1,null,0,"kg",0,0,0,0,0,0,0,0,0,0,0,{"$f":"'Datos 2-Potenciales calent glob'!$D$6","v":1},{"$f":"'Datos 2-Potenciales calent glob'!$D$31","v":25},{"$f":"'Datos 2-Potenciales calent glob'!$D$32","v":298},{"$f":"SUMIF('Datos 2-Potenciales calent glob'!$B$6:$B$56,Cálculos!F17,'Datos 2-Potenciales calent glob'!$D$6:$D$56)","v":0},{"$f":"'Datos 2-Potenciales calent glob'!$D$6","v":1},{"$f":"'Datos 2-Potenciales calent glob'!$D$6","v":1},0,0,0,0,0,0,0]
[null,"Emisiones de proceso y uso de productos","Fuente fija","Fugitivas","Gases fluorados",{"$f":"'Alcance 1'!C186","v":"Tipo de gas fluorado"},null,"Ambos",1,{"$f":"'Alcance 1'!D186","v":0},{"$f":"'Alcance 1'!E186","v":"kg"},null,1,null,0,"kg",0,0,0,0,0,0,0,0,0,0,0,{"$f":"'Datos 2-Potenciales calent glob'!$D$6","v":1},{"$f":"'Datos 2-Potenciales calent glob'!$D$31","v":25},{"$f":"'Datos 2-Potenciales calent glob'!$D$32","v":298},{"$f":"SUMIF('Datos 2-Potenciales calent glob'!$B$6:$B$56,Cálculos!F18,'Datos 2-Potenciales calent glob'!$D$6:$D$56)","v":0},{"$f":"'Datos 2-Potenciales calent glob'!$D$6","v":1},{"$f":"'Datos 2-Potenciales calent glob'!$D$6","v":1},0,0,0,0,0,0,0]
[null,"Emisiones de proceso y uso de productos","Fuente fija","Fugitivas","Gases fluorados",{"$f":"'Alcance 1'!C187","v":"Tipo de gas fluorado"},null,"Ambos",1,{"$f":"'Alcance 1'!D187","v":0},{"$f":"'Alcance 1'!E187","v":"kg"},null,1,null,0,"kg",0,0,0,0,0,0,0,0,0,0,0,{"$f":"'Datos 2-Potenciales calent glob'!$D$6","v":1},{"$f":"'Datos 2-Potenciales calent glob'!$D$31","v":25},{"$f":"'Datos 2-Potenciales calent glob'!$D$32","v":298},{"$f":"SUMIF('Datos 2-Potenciales calent glob'!$B$6:$B$56,Cálculos!F19,'Datos 2-Potenciales calent glob'!$D$6:$D$56)","v":0},{"$f":"'Datos 2-Potenciales calent glob'!$D$6","v":1},{"$f":"'Datos 2-Potenciales calent glob'!$D$6","v":1},0,0,0,0,0,0,0]
[null,"Energía","Fuente fija","Combustión","Biomasa",null,null,"Ambos",1,{"$f":"'Alcance 1'!D8","v":0},{"$f":"'Alcance 1'!E8","v":"kg"},null,{"$f":"LOOKUP($E20,'Datos 3-Factores de convers'!$B$29:$B$51,'Datos 3-Factores de convers'!$F$29:$F$51)","v":1.56E-5},{"$f":"LOOKUP($E20,'Datos 3-Factores de convers'!$B$29:$B$51,'Datos 3-Factores de convers'!$G$29:$G$51)","v":"TJ/kg"},0,"kg",{"$f":"LOOKUP($E20,'Datos 1-Factores emisión'!$B$9:$B$18,'Datos 1-Factores emisión'!$C$9:$C$18)","v":0},{"$f":"LOOKUP($E20,'Datos 1-Factores emisión'!$B$9:$B$18,'Datos 1-Factores emisión'!$E$9:$E$18)","v":300},{"$f":"LOOKUP($E20,'Datos 1-Factores emisión'!$B$9:$B$18,'Datos 1-Factores emisión'!$F$9:$F$18)","v":4},{"$f":"LOOKUP($E20,'Datos 1-Factores emisión'!$B$9:$B$18,'Datos 1-Factores emisión'!$D$9:$D$18)","v":112000},0,0,0,0,0,{"$f":"T20*$O20","v":0},{"$f":"U20*$O20","v":0},{"$f":"'Datos 2-Potenciales calent glob'!$D$6","v":1},{"$f":"'Datos 2-Potenciales calent glob'!$D$31","v":25},{"$f":"'Datos 2-Potenciales calent glob'!$D$32","v":298},{"$f":"SUMIF('Datos 2-Potenciales calent glob'!$B$6:$B$56,Cálculos!F20,'Datos 2-Potenciales calent glob'!$D$6:$D$56)","v":0},{"$f":"'Datos 2-Potenciales calent glob'!$D$6","v":1},{"$f":"'Datos 2-Potenciales calent glob'!$D$6","v":1},0,0,0,0,0,0,{"$f":"AA20*AG20","v":0}]
[null,"Energía","Fuente fija","Combustión","Carbón mineral",null,null,"Ambos",1,{"$f":"'Alcance 1'!D9","v":0},{"$f":"'Alcance 1'!E9","v":"kg"},null,{"$f":"LOOKUP($E21,'Datos 3-Factores de convers'!$B$29:$B$51,'Datos 3-Factores de convers'!$F$29:$F$51)","v":2.5163869999999999E-5},{"$f":"LOOKUP($E21,'Datos 3-Factores de convers'!$B$29:$B$51,'Datos 3-Factores de convers'!$G$29:$G$51)","v":"TJ/kg"},0,"kg",{"$f":"LOOKUP($E21,'Datos 1-Factores emisión'!$B$9:$B$18,'Datos 1-Factores emisión'!$C$9:$C$18)","v":99420},{"$f":"LOOKUP($E21,'Datos 1-Factores emisión'!$B$9:$B$18,'Datos 1-Factores emisión'!$E$9:$E$18)","v":10},{"$f":"LOOKUP($E21,'Datos 1-Factores emisión'!$B$9:$B$18,'Datos 1-Factores emisión'!$F$9:$F$18)","v":1.5},{"$f":"LOOKUP($E21,'Datos 1-Factores emisión'!$B$9:$B$18,'Datos 1-Factores emisión'!$D$9:$D$18)","v":0},0,0,0,0,0,{"$f":"T21*$O21","v":0},0,{"$f":"'Datos 2-Potenciales calent glob'!$D$6","v":1},{"$f":"'Datos 2-Potenciales calent glob'!$D$31","v":25},{"$f":"'Datos 2-Potenciales calent glob'!$D$32","v":298},{"$f":"SUMIF('Datos 2-Potenciales calent glob'!$B$6:$B$56,Cálculos!F21,'Datos 2-Potenciales calent glob'!$D$6:$D$56)","v":0},{"$f":"'Datos 2-Potenciales calent glob'!$D$6","v":1},{"$f":"'Datos 2-Potenciales calent glob'!$D$6","v":1},0,0,0,0,0,0,0]
[null,"Energía","Fuente fija","Combustión","Coque de petróleo",null,null,"Ambos",1,{"$f":"'Alcance 1'!D10","v":0},{"$f":"'Alcance 1'!E10","v":"kg"},null,{"$f":"LOOKUP($E22,'Datos 3-Factores de convers'!$B$29:$B$51,'Datos 3-Factores de convers'!$F$29:$F$51)","v":3.4961449999999997E-5},{"$f":"LOOKUP($E22,'Datos 3-Factores de convers'!$B$29:$B$51,'Datos 3-Factores de convers'!$G$29:$G$51)","v":"TJ/kg"},0,"kg",{"$f":"LOOKUP($E22,'Datos 1-Factores emisión'!$B$9:$B$18,'Datos 1-Factores emisión'!$C$9:$C$18)","v":97500},{"$f":"LOOKUP($E22,'Datos 1-Factores emisión'!$B$9:$B$18,'Datos 1-Factores emisión'!$E$9:$E$18)","v":10},{"$f":"LOOKUP($E22,'Datos 1-Factores emisión'!$B$9:$B$18,'Datos 1-Factores emisión'!$F$9:$F$18)","v":0.6},{"$f":"LOOKUP($E22,'Datos 1-Factores emisión'!$B$9:$B$18,'Datos 1-Factores emisión'!$D$9:$D$18)","v":0},0,{"$f":"Q22*$O22","v":0},0,0,0,0,0,{"$f":"'Datos 2-Potenciales calent glob'!$D$6","v":1},{"$f":"'Datos 2-Potenciales calent glob'!$D$31","v":25},{"$f":"'Datos 2-Potenciales calent glob'!$D$32","v":298},{"$f":"SUMIF('Datos 2-Potenciales calent glob'!$B$6:$B$56,Cálculos!F22,'Datos 2-Potenciales calent glob'!$D$6:$D$56)","v":0},{"$f":"'Datos 2-Potenciales calent glob'!$D$6","v":1},{"$f":"'Datos 2-Potenciales calent glob'!$D$6","v":1},{"$f":"V22*AB22","v":0},0,0,0,0,{"$f":"Z22*AF22","v":0},0]
[null,"Energía","Fuente fija","Combustión","Fueloleo",null,null,"Ambos",1,{"$f":"'Alcance 1'!D11","v":0},{"$f":"'Alcance 1'!E11","v":"L"},null,{"$f":"LOOKUP($E23,'Datos 3-Factores de convers'!$B$29:$B$51,'Datos 3-Factores de convers'!$F$29:$F$51)","v":3.1352255999999994E-5},{"$f":"LOOKUP($E23,'Datos 3-Factores de convers'!$B$29:$B$51,'Datos 3-Factores de convers'!$G$29:$G$51)","v":"TJ/L"},0,"TJ",{"$f":"LOOKUP($E23,'Datos 1-Factores emisión'!$B$9:$B$18,'Datos 1-Factores emisión'!$C$9:$C$18)","v":77400},{"$f":"LOOKUP($E23,'Datos 1-Factores emisión'!$B$9:$B$18,'Datos 1-Factores emisión'!$E$9:$E$18)","v":10},{"$f":"LOOKUP($E23,'Datos 1-Factores emisión'!$B$9:$B$18,'Datos 1-Factores emisión'!$F$9:$F$18)","v":0.6},{"$f":"LOOKUP($E23,'Datos 1-Factores emisión'!$B$9:$B$18,'Datos 1-Factores emisión'!$D$9:$D$18)","v":0},0,0,0,0,0,0,0,{"$f":"'Datos 2-Potenciales calent glob'!$D$6","v":1},{"$f":"'Datos 2-Potenciales calent glob'!$D$31","v":25},{"$f":"'Datos 2-Potenciales calent glob'!$D$32","v":298},{"$f":"SUMIF('Datos 2-Potenciales calent glob'!$B$6:$B$56,Cálculos!F23,'Datos 2-Potenciales calent glob'!$D$6:$D$56)","v":0},{"$f":"'Datos 2-Potenciales calent glob'!$D$6","v":1},{"$f":"'Datos 2-Potenciales calent glob'!$D$6","v":1},0,0,0,0,0,0,0]
[null,"Energía","Fuente fija","Combustión","Gas butano",null,null,"Ambos",1,{"$f":"'Alcance 1'!D12","v":0},{"$f":"'Alcance 1'!E12","v":"L"},null,{"$f":"LOOKUP($E24,'Datos 3-Factores de convers'!$B$29:$B$51,'Datos 3-Factores de convers'!$F$29:$F$51)","v":2.6495335999999999E-5},{"$f":"LOOKUP($E24,'Datos 3-Factores de convers'!$B$29:$B$51,'Datos 3-Factores de convers'!$G$29:$G$51)","v":"TJ/L"},0,"TJ",{"$f":"LOOKUP($E24,'Datos 1-Factores emisión'!$B$9:$B$18,'Datos 1-Factores emisión'!$C$9:$C$18)","v":66200},{"$f":"LOOKUP($E24,'Datos 1-Factores emisión'!$B$9:$B$18,'Datos 1-Factores emisión'!$E$9:$E$18)","v":5},{"$f":"LOOKUP($E24,'Datos 1-Factores emisión'!$B$9:$B$18,'Datos 1-Factores emisión'!$F$9:$F$18)","v":0.1},{"$f":"LOOKUP($E24,'Datos 1-Factores emisión'!$B$9:$B$18,'Datos 1-Factores emisión'!$D$9:$D$18)","v":0},0,0,0,0,0,0,0,{"$f":"'Datos 2-Potenciales calent glob'!$D$6","v":1},{"$f":"'Datos 2-Potenciales calent glob'!$D$31","v":25},{"$f":"'Datos 2-Potenciales calent glob'!$D$32","v":298},{"$f":"SUMIF('Datos 2-Potenciales calent glob'!$B$6:$B$56,Cálculos!F24,'Datos 2-Potenciales calent glob'!$D$6:$D$56)","v":0},{"$f":"'Datos 2-Potenciales calent glob'!$D$6","v":1},{"$f":"'Datos 2-Potenciales calent glob'!$D$6","v":1},0,0,0,0,0,0,0]
[null,"Energía","Fuente fija","Combustión","Gas natural",null,null,"Ambos",1,{"$f":"'Alcance 1'!D13","v":0},{"$f":"'Alcance 1'!E13","v":"Nm3"},null,{"$f":"LOOKUP($E25,'Datos 3-Factores de convers'!$B$29:$B$51,'Datos 3-Factores de convers'!$F$29:$F$51)","v":3.7845600000000002E-5},{"$f":"LOOKUP($E25,'Datos 3-Factores de convers'!$B$29:$B$51,'Datos 3-Factores de convers'!$G$29:$G$51)","v":"TJ/Nm3"},0,"TJ",{"$f":"LOOKUP($E25,'Datos 1-Factores emisión'!$B$9:$B$18,'Datos 1-Factores emisión'!$C$9:$C$18)","v":56130},{"$f":"LOOKUP($E25,'Datos 1-Factores emisión'!$B$9:$B$18,'Datos 1-Factores emisión'!$E$9:$E$18)","v":5},{"$f":"LOOKUP($E25,'Datos 1-Factores emisión'!$B$9:$B$18,'Datos 1-Factores emisión'!$F$9:$F$18)","v":0.1},{"$f":"LOOKUP($E25,'Datos 1-Factores emisión'!$B$9:$B$18,'Datos 1-Factores emisión'!$D$9:$D$18)","v":0},0,0,0,0,0,0,0,{"$f":"'Datos 2-Potenciales calent glob'!$D$6","v":1},{"$f":"'Datos 2-Potenciales calent glob'!$D$31","v":25},{"$f":"'Datos 2-Potenciales calent glob'!$D$32","v":298},{"$f":"SUMIF('Datos 2-Potenciales calent glob'!$B$6:$B$56,Cálculos!F25,'Datos 2-Potenciales calent glob'!$D$6:$D$56)","v":0},{"$f":"'Datos 2-Potenciales calent glob'!$D$6","v":1},{"$f":"'Datos 2-Potenciales calent glob'!$D$6","v":1},0,0,0,0,0,0,0]
[null,"Energía","Fuente fija","Combustión","Gas propano",null,null,"Ambos",1,{"$f":"'Alcance 1'!D14","v":0},{"$f":"'Alcance 1'!E14","v":"L"},null,{"$f":"LOOKUP($E26,'Datos 3-Factores de convers'!$B$29:$B$51,'Datos 3-Factores de convers'!$F$29:$F$51)","v":2.453184234999999E-5},{"$f":"LOOKUP($E26,'Datos 3-Factores de convers'!$B$29:$B$51,'Datos 3-Factores de convers'!$G$29:$G$51)","v":"TJ/L"},0,"TJ",{"$f":"LOOKUP($E26,'Datos 1-Factores emisión'!$B$9:$B$18,'Datos 1-Factores emisión'!$C$9:$C$18)","v":63600},{"$f":"LOOKUP($E26,'Datos 1-Factores emisión'!$B$9:$B$18,'Datos 1-Factores emisión'!$E$9:$E$18)","v":5},{"$f":"LOOKUP($E26,'Datos 1-Factores emisión'!$B$9:$B$18,'Datos 1-Factores emisión'!$F$9:$F$18)","v":0.1},{"$f":"LOOKUP($E26,'Datos 1-Factores emisión'!$B$9:$B$18,'Datos 1-Factores emisión'!$D$9:$D$18)","v":0},0,0,0,0,0,0,0,{"$f":"'Datos 2-Potenciales calent glob'!$D$6","v":1},{"$f":"'Datos 2-Potenciales calent glob'!$D$31","v":25},{"$f":"'Datos 2-Potenciales calent glob'!$D$32","v":298},{"$f":"SUMIF('Datos 2-Potenciales calent glob'!$B$6:$B$56,Cálculos!F26,'Datos 2-Potenciales calent glob'!$D$6:$D$56)","v":0},{"$f":"'Datos 2-Potenciales calent glob'!$D$6","v":1},{"$f":"'Datos 2-Potenciales calent glob'!$D$6","v":1},0,0,0,0,0,0,0]
[null,"Energía","Fuente fija","Combustión","Gasóleo C",null,null,"Ambos",1,{"$f":"'Alcance 1'!D15","v":0},{"$f":"'Alcance 1'!E15","v":"L"},null,{"$f":"LOOKUP($E27,'Datos 3-Factores de convers'!$B$29:$B$51,'Datos 3-Factores de convers'!$F$29:$F$51)","v":3.9001904999999983E-5},{"$f":"LOOKUP($E27,'Datos 3-Factores de convers'!$B$29:$B$51,'Datos 3-Factores de convers'!$G$29:$G$51)","v":"TJ/L"},0,"TJ",{"$f":"LOOKUP($E27,'Datos 1-Factores emisión'!$B$9:$B$18,'Datos 1-Factores emisión'!$C$9:$C$18)","v":74100},{"$f":"LOOKUP($E27,'Datos 1-Factores emisión'!$B$9:$B$18,'Datos 1-Factores emisión'!$E$9:$E$18)","v":10},{"$f":"LOOKUP($E27,'Datos 1-Factores emisión'!$B$9:$B$18,'Datos 1-Factores emisión'!$F$9:$F$18)","v":0.6},{"$f":"LOOKUP($E27,'Datos 1-Factores emisión'!$B$9:$B$18,'Datos 1-Factores emisión'!$D$9:$D$18)","v":0},0,0,0,0,0,0,0,{"$f":"'Datos 2-Potenciales calent glob'!$D$6","v":1},{"$f":"'Datos 2-Potenciales calent glob'!$D$31","v":25},{"$f":"'Datos 2-Potenciales calent glob'!$D$32","v":298},{"$f":"SUMIF('Datos 2-Potenciales calent glob'!$B$6:$B$56,Cálculos!F27,'Datos 2-Potenciales calent glob'!$D$6:$D$56)","v":0},{"$f":"'Datos 2-Potenciales calent glob'!$D$6","v":1},{"$f":"'Datos 2-Potenciales calent glob'!$D$6","v":1},0,0,0,0,0,0,0]
[null,"Energía","Fuente fija","Combustión","GLP genérico",null,null,"Ambos",1,{"$f":"'Alcance 1'!D16","v":0},{"$f":"'Alcance 1'!E16","v":"L"},null,{"$f":"LOOKUP($E28,'Datos 3-Factores de convers'!$B$29:$B$51,'Datos 3-Factores de convers'!$F$29:$F$51)","v":2.6495336000000002E-5},{"$f":"LOOKUP($E28,'Datos 3-Factores de convers'!$B$29:$B$51,'Datos 3-Factores de convers'!$G$29:$G$51)","v":"TJ/L"},0,"TJ",{"$f":"LOOKUP($E28,'Datos 1-Factores emisión'!$B$9:$B$18,'Datos 1-Factores emisión'!$C$9:$C$18)","v":63100},{"$f":"LOOKUP($E28,'Datos 1-Factores emisión'!$B$9:$B$18,'Datos 1-Factores emisión'!$E$9:$E$18)","v":5},{"$f":"LOOKUP($E28,'Datos 1-Factores emisión'!$B$9:$B$18,'Datos 1-Factores emisión'!$F$9:$F$18)","v":0.1},{"$f":"LOOKUP($E28,'Datos 1-Factores emisión'!$B$9:$B$18,'Datos 1-Factores emisión'!$D$9:$D$18)","v":0},0,0,0,0,0,0,0,{"$f":"'Datos 2-Potenciales calent glob'!$D$6","v":1},{"$f":"'Datos 2-Potenciales calent glob'!$D$31","v":25},{"$f":"'Datos 2-Potenciales calent glob'!$D$32","v":298},{"$f":"SUMIF('Datos 2-Potenciales calent glob'!$B$6:$B$56,Cálculos!F28,'Datos 2-Potenciales calent glob'!$D$6:$D$56)","v":0},{"$f":"'Datos 2-Potenciales calent glob'!$D$6","v":1},{"$f":"'Datos 2-Potenciales calent glob'!$D$6","v":1},0,0,0,0,0,0,0]
[null,"Energía","Fuente fija","Combustión","Queroseno",null,null,"Ambos",1,{"$f":"'Alcance 1'!D17","v":0},{"$f":"'Alcance 1'!E17","v":"L"},null,{"$f":"LOOKUP($E29,'Datos 3-Factores de convers'!$B$29:$B$51,'Datos 3-Factores de convers'!$F$29:$F$51)","v":3.5673239999999992E-5},{"$f":"LOOKUP($E29,'Datos 3-Factores de convers'!$B$29:$B$51,'Datos 3-Factores de convers'!$G$29:$G$51)","v":"TJ/L"},0,"TJ",{"$f":"LOOKUP($E29,'Datos 1-Factores emisión'!$B$9:$B$18,'Datos 1-Factores emisión'!$C$9:$C$18)","v":71900},{"$f":"LOOKUP($E29,'Datos 1-Factores emisión'!$B$9:$B$18,'Datos 1-Factores emisión'!$E$9:$E$18)","v":10},{"$f":"LOOKUP($E29,'Datos 1-Factores emisión'!$B$9:$B$18,'Datos 1-Factores emisión'!$F$9:$F$18)","v":0.6},{"$f":"LOOKUP($E29,'Datos 1-Factores emisión'!$B$9:$B$18,'Datos 1-Factores emisión'!$D$9:$D$18)","v":0},0,0,0,0,0,0,0,{"$f":"'Datos 2-Potenciales calent glob'!$D$6","v":1},{"$f":"'Datos 2-Potenciales calent glob'!$D$31","v":25},{"$f":"'Datos 2-Potenciales calent glob'!$D$32","v":298},{"$f":"SUMIF('Datos 2-Potenciales calent glob'!$B$6:$B$56,Cálculos!F29,'Datos 2-Potenciales calent glob'!$D$6:$D$56)","v":0},{"$f":"'Datos 2-Potenciales calent glob'!$D$6","v":1},{"$f":"'Datos 2-Potenciales calent glob'!$D$6","v":1},0,0,0,0,0,0,0]
[null,"Energía","Fuente móvil","Combustión","Gasolina ",null,null,"Ambos",1,{"$f":"'Alcance 1'!D24","v":0},{"$f":"'Alcance 1'!E24","v":"L"},null,{"$f":"LOOKUP($E30,'Datos 3-Factores de convers'!$B$29:$B$51,'Datos 3-Factores de convers'!$F$29:$F$51)","v":3.6076762124999995E-5},{"$f":"LOOKUP($E30,'Datos 3-Factores de convers'!$B$29:$B$51,'Datos 3-Factores de convers'!$G$29:$G$51)","v":"TJ/L"},0,"TJ",{"$f":"LOOKUP($E30,'Datos 1-Factores emisión'!$B$23:$B$33,'Datos 1-Factores emisión'!$C$23:$C$33)","v":{"$error":"#N/A"}},{"$f":"LOOKUP($E30,'Datos 1-Factores emisión'!$B$23:$B$33,'Datos 1-Factores emisión'!$E$23:$E$33)","v":{"$error":"#N/A"}},{"$f":"LOOKUP($E30,'Datos 1-Factores emisión'!$B$23:$B$33,'Datos 1-Factores emisión'!$F$23:$F$33)","v":{"$error":"#N/A"}},{"$f":"LOOKUP($E30,'Datos 1-Factores emisión'!$B$23:$B$33,'Datos 1-Factores emisión'!$D$23:$D$33)","v":{"$error":"#N/A"}},0,{"$error":"#N/A"},{"$error":"#N/A"},{"$error":"#N/A"},0,{"$error":"#N/A"},0,{"$f":"'Datos 2-Potenciales calent glob'!$D$6","v":1},{"$f":"'Datos 2-Potenciales calent glob'!$D$31","v":25},{"$f":"'Datos 2-Potenciales calent glob'!$D$32","v":298},{"$f":"SUMIF('Datos 2-Potenciales calent glob'!$B$6:$B$56,Cálculos!F30,'Datos 2-Potenciales calent glob'!$D$6:$D$56)","v":0},{"$f":"'Datos 2-Potenciales calent glob'!$D$6","v":1},{"$f":"'Datos 2-Potenciales calent glob'!$D$6","v":1},{"$error":"#N/A"},{"$error":"#N/A"},{"$error":"#N/A"},0,{"$error":"#N/A"},{"$error":"#N/A"},0]
[null,"Energía","Fuente móvil","Combustión","Gasóleo A y B",null,null,"Ambos",1,{"$f":"'Alcance 1'!D25","v":0},{"$f":"'Alcance 1'!E25","v":"L"},null,{"$f":"LOOKUP($E31,'Datos 3-Factores de convers'!$B$29:$B$51,'Datos 3-Factores de convers'!$F$29:$F$51)","v":{"$error":"#N/A"}},{"$f":"LOOKUP($E31,'Datos 3-Factores de convers'!$B$29:$B$51,'Datos 3-Factores de convers'!$G$29:$G$51)","v":"TJ/L"},{"$error":"#N/A"},"TJ",{"$f":"LOOKUP($E31,'Datos 1-Factores emisión'!$B$23:$B$33,'Datos 1-Factores emisión'!$C$23:$C$33)","v":{"$error":"#N/A"}},{"$f":"LOOKUP($E31,'Datos 1-Factores emisión'!$B$23:$B$33,'Datos 1-Factores emisión'!$E$23:$E$33)","v":{"$error":"#N/A"}},{"$f":"LOOKUP($E31,'Datos 1-Factores emisión'!$B$23:$B$33,'Datos 1-Factores emisión'!$F$23:$F$33)","v":{"$error":"#N/A"}},{"$f":"LOOKUP($E31,'Datos 1-Factores emisión'!$B$23:$B$33,'Datos 1-Factores emisión'!$D$23:$D$33)","v":{"$error":"#N/A"}},0,{"$error":"#N/A"},{"$error":"#N/A"},{"$error":"#N/A"},0,{"$error":"#N/A"},{"$error":"#N/A"},{"$f":"'Datos 2-Potenciales calent glob'!$D$6","v":1},{"$f":"'Datos 2-Potenciales calent glob'!$D$31","v":25},{"$f":"'Datos 2-Potenciales calent glob'!$D$32","v":298},{"$f":"SUMIF('Datos 2-Potenciales calent glob'!$B$6:$B$56,Cálculos!F31,'Datos 2-Potenciales calent glob'!$D$6:$D$56)","v":0},{"$f":"'Datos 2-Potenciales calent glob'!$D$6","v":1},{"$f":"'Datos 2-Potenciales calent glob'!$D$6","v":1},{"$error":"#N/A"},{"$error":"#N/A"},{"$error":"#N/A"},0,{"$error":"#N/A"},{"$error":"#N/A"},{"$error":"#N/A"}]
[null,"Energía","Fuente móvil","Combustión","E10",null,null,"Ambos",1,{"$f":"'Alcance 1'!D26","v":0},{"$f":"'Alcance 1'!E26","v":"L"},null,{"$f":"LOOKUP($E32,'Datos 3-Factores de convers'!$B$29:$B$51,'Datos 3-Factores de convers'!$F$29:$F$51)","v":3.2299805475000003E-5},{"$f":"LOOKUP($E32,'Datos 3-Factores de convers'!$B$29:$B$51,'Datos 3-Factores de convers'!$G$29:$G$51)","v":"TJ/L"},0,"TJ",{"$f":"LOOKUP($E32,'Datos 1-Factores emisión'!$B$23:$B$33,'Datos 1-Factores emisión'!$C$23:$C$33)","v":62370},{"$f":"LOOKUP($E32,'Datos 1-Factores emisión'!$B$23:$B$33,'Datos 1-Factores emisión'!$E$23:$E$33)","v":30.09},{"$f":"LOOKUP($E32,'Datos 1-Factores emisión'!$B$23:$B$33,'Datos 1-Factores emisión'!$F$23:$F$33)","v":3.2700000000000005},{"$f":"LOOKUP($E32,'Datos 1-Factores emisión'!$B$23:$B$33,'Datos 1-Factores emisión'!$D$23:$D$33)","v":7080},0,0,0,0,0,0,0,{"$f":"'Datos 2-Potenciales calent glob'!$D$6","v":1},{"$f":"'Datos 2-Potenciales calent glob'!$D$31","v":25},{"$f":"'Datos 2-Potenciales calent glob'!$D$32","v":298},{"$f":"SUMIF('Datos 2-Potenciales calent glob'!$B$6:$B$56,Cálculos!F32,'Datos 2-Potenciales calent glob'!$D$6:$D$56)","v":0},{"$f":"'Datos 2-Potenciales calent glob'!$D$6","v":1},{"$f":"'Datos 2-Potenciales calent glob'!$D$6","v":1},0,0,0,0,0,0,0]
[null,"Energía","Fuente móvil","Combustión","E85",null,null,"Ambos",1,{"$f":"'Alcance 1'!D27","v":0},{"$f":"'Alcance 1'!E27","v":"L"},null,{"$f":"LOOKUP($E33,'Datos 3-Factores de convers'!$B$29:$B$51,'Datos 3-Factores de convers'!$F$29:$F$51)","v":2.3383300912499999E-5},{"$f":"LOOKUP($E33,'Datos 3-Factores de convers'!$B$29:$B$51,'Datos 3-Factores de convers'!$G$29:$G$51)","v":"TJ/L"},0,"TJ",{"$f":"LOOKUP($E33,'Datos 1-Factores emisión'!$B$23:$B$33,'Datos 1-Factores emisión'!$C$23:$C$33)","v":10395},{"$f":"LOOKUP($E33,'Datos 1-Factores emisión'!$B$23:$B$33,'Datos 1-Factores emisión'!$E$23:$E$33)","v":8.2650000000000006},{"$f":"LOOKUP($E33,'Datos 1-Factores emisión'!$B$23:$B$33,'Datos 1-Factores emisión'!$F$23:$F$33)","v":3.7949999999999999},{"$f":"LOOKUP($E33,'Datos 1-Factores emisión'!$B$23:$B$33,'Datos 1-Factores emisión'!$D$23:$D$33)","v":60180},0,0,0,0,0,0,0,{"$f":"'Datos 2-Potenciales calent glob'!$D$6","v":1},{"$f":"'Datos 2-Potenciales calent glob'!$D$31","v":25},{"$f":"'Datos 2-Potenciales calent glob'!$D$32","v":298},{"$f":"SUMIF('Datos 2-Potenciales calent glob'!$B$6:$B$56,Cálculos!F33,'Datos 2-Potenciales calent glob'!$D$6:$D$56)","v":0},{"$f":"'Datos 2-Potenciales calent glob'!$D$6","v":1},{"$f":"'Datos 2-Potenciales calent glob'!$D$6","v":1},0,0,0,0,0,0,0]
[null,"Energía","Fuente móvil","Combustión","B30",null,null,"Ambos",1,{"$f":"'Alcance 1'!D28","v":0},{"$f":"'Alcance 1'!E28","v":"L"},null,{"$f":"LOOKUP($E34,'Datos 3-Factores de convers'!$B$29:$B$51,'Datos 3-Factores de convers'!$F$29:$F$51)","v":3.23817334875E-5},{"$f":"LOOKUP($E34,'Datos 3-Factores de convers'!$B$29:$B$51,'Datos 3-Factores de convers'!$G$29:$G$51)","v":"TJ/L"},0,"TJ",{"$f":"LOOKUP($E34,'Datos 1-Factores emisión'!$B$23:$B$33,'Datos 1-Factores emisión'!$C$23:$C$33)","v":51870},{"$f":"LOOKUP($E34,'Datos 1-Factores emisión'!$B$23:$B$33,'Datos 1-Factores emisión'!$E$23:$E$33)","v":3.9},{"$f":"LOOKUP($E34,'Datos 1-Factores emisión'!$B$23:$B$33,'Datos 1-Factores emisión'!$F$23:$F$33)","v":3.9},{"$f":"LOOKUP($E34,'Datos 1-Factores emisión'!$B$23:$B$33,'Datos 1-Factores emisión'!$D$23:$D$33)","v":21240},0,0,0,0,0,0,0,{"$f":"'Datos 2-Potenciales calent glob'!$D$6","v":1},{"$f":"'Datos 2-Potenciales calent glob'!$D$31","v":25},{"$f":"'Datos 2-Potenciales calent glob'!$D$32","v":298},{"$f":"SUMIF('Datos 2-Potenciales calent glob'!$B$6:$B$56,Cálculos!F34,'Datos 2-Potenciales calent glob'!$D$6:$D$56)","v":0},{"$f":"'Datos 2-Potenciales calent glob'!$D$6","v":1},{"$f":"'Datos 2-Potenciales calent glob'!$D$6","v":1},0,0,0,0,0,0,0]
[null,"Energía","Fuente móvil","Combustión","B100",null,null,"Ambos",1,{"$f":"'Alcance 1'!D29","v":0},{"$f":"'Alcance 1'!E29","v":"L"},null,{"$f":"LOOKUP($E35,'Datos 3-Factores de convers'!$B$29:$B$51,'Datos 3-Factores de convers'!$F$29:$F$51)","v":2.3760000000000003E-5},{"$f":"LOOKUP($E35,'Datos 3-Factores de convers'!$B$29:$B$51,'Datos 3-Factores de convers'!$G$29:$G$51)","v":"TJ/L"},0,"TJ",{"$f":"LOOKUP($E35,'Datos 1-Factores emisión'!$B$23:$B$33,'Datos 1-Factores emisión'!$C$23:$C$33)","v":0},{"$f":"LOOKUP($E35,'Datos 1-Factores emisión'!$B$23:$B$33,'Datos 1-Factores emisión'!$E$23:$E$33)","v":3.9},{"$f":"LOOKUP($E35,'Datos 1-Factores emisión'!$B$23:$B$33,'Datos 1-Factores emisión'!$F$23:$F$33)","v":3.9},{"$f":"LOOKUP($E35,'Datos 1-Factores emisión'!$B$23:$B$33,'Datos 1-Factores emisión'!$D$23:$D$33)","v":70800},0,0,0,0,0,0,0,{"$f":"'Datos 2-Potenciales calent glob'!$D$6","v":1},{"$f":"'Datos 2-Potenciales calent glob'!$D$31","v":25},{"$f":"'Datos 2-Potenciales calent glob'!$D$32","v":298},{"$f":"SUMIF('Datos 2-Potenciales calent glob'!$B$6:$B$56,Cálculos!F35,'Datos 2-Potenciales calent glob'!$D$6:$D$56)","v":0},{"$f":"'Datos 2-Potenciales calent glob'!$D$6","v":1},{"$f":"'Datos 2-Potenciales calent glob'!$D$6","v":1},0,0,0,0,0,0,0]
[null,"Energía","Fuente móvil","Combustión","Gas Natural Comprimido",null,null,"Ambos",1,{"$f":"'Alcance 1'!D30","v":0},{"$f":"'Alcance 1'!E30","v":"Nm3"},null,{"$f":"LOOKUP($E36,'Datos 3-Factores de convers'!$B$29:$B$51,'Datos 3-Factores de convers'!$F$29:$F$51)","v":3.7845600000000002E-5},{"$f":"LOOKUP($E36,'Datos 3-Factores de convers'!$B$29:$B$51,'Datos 3-Factores de convers'!$G$29:$G$51)","v":"TJ/Nm3"},0,"TJ",{"$f":"LOOKUP($E36,'Datos 1-Factores emisión'!$B$23:$B$33,'Datos 1-Factores emisión'!$C$23:$C$33)","v":56100},{"$f":"LOOKUP($E36,'Datos 1-Factores emisión'!$B$23:$B$33,'Datos 1-Factores emisión'!$E$23:$E$33)","v":92},{"$f":"LOOKUP($E36,'Datos 1-Factores emisión'!$B$23:$B$33,'Datos 1-Factores emisión'!$F$23:$F$33)","v":3},{"$f":"LOOKUP($E36,'Datos 1-Factores emisión'!$B$23:$B$33,'Datos 1-Factores emisión'!$D$23:$D$33)","v":0},0,0,0,0,0,0,0,{"$f":"'Datos 2-Potenciales calent glob'!$D$6","v":1},{"$f":"'Datos 2-Potenciales calent glob'!$D$31","v":25},{"$f":"'Datos 2-Potenciales calent glob'!$D$32","v":298},{"$f":"SUMIF('Datos 2-Potenciales calent glob'!$B$6:$B$56,Cálculos!F36,'Datos 2-Potenciales calent glob'!$D$6:$D$56)","v":0},{"$f":"'Datos 2-Potenciales calent glob'!$D$6","v":1},{"$f":"'Datos 2-Potenciales calent glob'!$D$6","v":1},0,0,0,0,0,0,0]
[null,"Energía","Fuente móvil","Combustión","Gas Natural Licuado",null,null,"Ambos",1,{"$f":"'Alcance 1'!D31","v":0},{"$f":"'Alcance 1'!E31","v":"L"},null,{"$f":"LOOKUP($E37,'Datos 3-Factores de convers'!$B$29:$B$51,'Datos 3-Factores de convers'!$F$29:$F$51)","v":1.9890000000000001E-5},{"$f":"LOOKUP($E37,'Datos 3-Factores de convers'!$B$29:$B$51,'Datos 3-Factores de convers'!$G$29:$G$51)","v":"TJ/L"},0,"TJ",{"$f":"LOOKUP($E37,'Datos 1-Factores emisión'!$B$23:$B$33,'Datos 1-Factores emisión'!$C$23:$C$33)","v":56100},{"$f":"LOOKUP($E37,'Datos 1-Factores emisión'!$B$23:$B$33,'Datos 1-Factores emisión'!$E$23:$E$33)","v":92},{"$f":"LOOKUP($E37,'Datos 1-Factores emisión'!$B$23:$B$33,'Datos 1-Factores emisión'!$F$23:$F$33)","v":3},{"$f":"LOOKUP($E37,'Datos 1-Factores emisión'!$B$23:$B$33,'Datos 1-Factores emisión'!$D$23:$D$33)","v":0},0,0,0,0,0,0,0,{"$f":"'Datos 2-Potenciales calent glob'!$D$6","v":1},{"$f":"'Datos 2-Potenciales calent glob'!$D$31","v":25},{"$f":"'Datos 2-Potenciales calent glob'!$D$32","v":298},{"$f":"SUMIF('Datos 2-Potenciales calent glob'!$B$6:$B$56,Cálculos!F37,'Datos 2-Potenciales calent glob'!$D$6:$D$56)","v":0},{"$f":"'Datos 2-Potenciales calent glob'!$D$6","v":1},{"$f":"'Datos 2-Potenciales calent glob'!$D$6","v":1},0,0,0,0,0,0,0]
[null,"Energía","Fuente móvil","Combustión","GLP genérico",null,null,"Ambos",1,{"$f":"'Alcance 1'!D32","v":0},{"$f":"'Alcance 1'!E32","v":"L"},null,{"$f":"LOOKUP($E38,'Datos 3-Factores de convers'!$B$29:$B$51,'Datos 3-Factores de convers'!$F$29:$F$51)","v":2.6495336000000002E-5},{"$f":"LOOKUP($E38,'Datos 3-Factores de convers'!$B$29:$B$51,'Datos 3-Factores de convers'!$G$29:$G$51)","v":"TJ/L"},0,"TJ",{"$f":"LOOKUP($E38,'Datos 1-Factores emisión'!$B$23:$B$33,'Datos 1-Factores emisión'!$C$23:$C$33)","v":63100},{"$f":"LOOKUP($E38,'Datos 1-Factores emisión'!$B$23:$B$33,'Datos 1-Factores emisión'!$E$23:$E$33)","v":62},{"$f":"LOOKUP($E38,'Datos 1-Factores emisión'!$B$23:$B$33,'Datos 1-Factores emisión'!$F$23:$F$33)","v":0.2},{"$f":"LOOKUP($E38,'Datos 1-Factores emisión'!$B$23:$B$33,'Datos 1-Factores emisión'!$D$23:$D$33)","v":0},0,0,0,0,0,0,0,{"$f":"'Datos 2-Potenciales calent glob'!$D$6","v":1},{"$f":"'Datos 2-Potenciales calent glob'!$D$31","v":25},{"$f":"'Datos 2-Potenciales calent glob'!$D$32","v":298},{"$f":"SUMIF('Datos 2-Potenciales calent glob'!$B$6:$B$56,Cálculos!F38,'Datos 2-Potenciales calent glob'!$D$6:$D$56)","v":0},{"$f":"'Datos 2-Potenciales calent glob'!$D$6","v":1},{"$f":"'Datos 2-Potenciales calent glob'!$D$6","v":1},0,0,0,0,0,0,0]
[null,"Energía","Fuente móvil","Combustión",{"$f":"'Alcance 1'!D37","v":"Tipo de propulsión"},{"$f":"'Alcance 1'!C37","v":"Tipo de vehículo"},null,"Ambos",1,{"$f":"'Alcance 1'!E37","v":0},"km",null,1,null,0,{"$f":"K39","v":"km"},{"$f":"SUMIFS('Datos 1-Factores emisión'!$E$43:$E$321,'Datos 1-Factores emisión'!$B$43:$B$321,Cálculos!$F39,'Datos 1-Factores emisión'!$C$43:$C$321,Cálculos!$E39,'Datos 1-Factores emisión'!$D$43:$D$321,Cálculos!Q$5)","v":0},{"$f":"SUMIFS('Datos 1-Factores emisión'!$E$43:$E$321,'Datos 1-Factores emisión'!$B$43:$B$321,Cálculos!$F39,'Datos 1-Factores emisión'!$C$43:$C$321,Cálculos!$E39,'Datos 1-Factores emisión'!$D$43:$D$321,Cálculos!R$5)","v":0},{"$f":"SUMIFS('Datos 1-Factores emisión'!$E$43:$E$321,'Datos 1-Factores emisión'!$B$43:$B$321,Cálculos!$F39,'Datos 1-Factores emisión'!$C$43:$C$321,Cálculos!$E39,'Datos 1-Factores emisión'!$D$43:$D$321,Cálculos!S$5)","v":0},{"$f":"SUMIFS('Datos 1-Factores emisión'!$E$43:$E$321,'Datos 1-Factores emisión'!$B$43:$B$321,Cálculos!$F39,'Datos 1-Factores emisión'!$C$43:$C$321,Cálculos!$E39,'Datos 1-Factores emisión'!$D$43:$D$321,Cálculos!T$5)","v":0},{"$f":"SUMIFS('Datos 1-Factores emisión'!$E$43:$E$321,'Datos 1-Factores emisión'!$B$43:$B$321,Cálculos!$F39,'Datos 1-Factores emisión'!$C$43:$C$321,Cálculos!$E39,'Datos 1-Factores emisión'!$D$43:$D$321,Cálculos!U$5)","v":0},0,0,0,0,0,{"$f":"U39*$O39","v":0},{"$f":"'Datos 2-Potenciales calent glob'!$D$6","v":1},{"$f":"'Datos 2-Potenciales calent glob'!$D$31","v":25},{"$f":"'Datos 2-Potenciales calent glob'!$D$32","v":298},{"$f":"SUMIF('Datos 2-Potenciales calent glob'!$B$6:$B$56,Cálculos!F39,'Datos 2-Potenciales calent glob'!$D$6:$D$56)","v":0},{"$f":"'Datos 2-Potenciales calent glob'!$D$6","v":1},{"$f":"'Datos 2-Potenciales calent glob'!$D$6","v":1},0,0,0,0,0,0,0]
[null,"Energía","Fuente móvil","Combustión",{"$f":"'Alcance 1'!D38","v":"Tipo de propulsión"},{"$f":"'Alcance 1'!C38","v":"Tipo de vehículo"},null,"Ambos",1,{"$f":"'Alcance 1'!E38","v":0},"km",null,1,null,0,{"$f":"K40","v":"km"},{"$f":"SUMIFS('Datos 1-Factores emisión'!$E$43:$E$321,'Datos 1-Factores emisión'!$B$43:$B$321,Cálculos!$F40,'Datos 1-Factores emisión'!$C$43:$C$321,Cálculos!$E40,'Datos 1-Factores emisión'!$D$43:$D$321,Cálculos!Q$5)","v":0},{"$f":"SUMIFS('Datos 1-Factores emisión'!$E$43:$E$321,'Datos 1-Factores emisión'!$B$43:$B$321,Cálculos!$F40,'Datos 1-Factores emisión'!$C$43:$C$321,Cálculos!$E40,'Datos 1-Factores emisión'!$D$43:$D$321,Cálculos!R$5)","v":0},{"$f":"SUMIFS('Datos 1-Factores emisión'!$E$43:$E$321,'Datos 1-Factores emisión'!$B$43:$B$321,Cálculos!$F40,'Datos 1-Factores emisión'!$C$43:$C$321,Cálculos!$E40,'Datos 1-Factores emisión'!$D$43:$D$321,Cálculos!S$5)","v":0},{"$f":"SUMIFS('Datos 1-Factores emisión'!$E$43:$E$321,'Datos 1-Factores emisión'!$B$43:$B$321,Cálculos!$F40,'Datos 1-Factores emisión'!$C$43:$C$321,Cálculos!$E40,'Datos 1-Factores emisión'!$D$43:$D$321,Cálculos!T$5)","v":0},{"$f":"SUMIFS('Datos 1-Factores emisión'!$E$43:$E$321,'Datos 1-Factores emisión'!$B$43:$B$321,Cálculos!$F40,'Datos 1-Factores emisión'!$C$43:$C$321,Cálculos!$E40,'Datos 1-Factores emisión'!$D$43:$D$321,Cálculos!U$5)","v":0},0,0,0,0,0,0,{"$f":"'Datos 2-Potenciales calent glob'!$D$6","v":1},{"$f":"'Datos 2-Potenciales calent glob'!$D$31","v":25},{"$f":"'Datos 2-Potenciales calent glob'!$D$32","v":298},{"$f":"SUMIF('Datos 2-Potenciales calent glob'!$B$6:$B$56,Cálculos!F40,'Datos 2-Potenciales calent glob'!$D$6:$D$56)","v":0},{"$f":"'Datos 2-Potenciales calent glob'!$D$6","v":1},{"$f":"'Datos 2-Potenciales calent glob'!$D$6","v":1},0,0,0,0,0,0,0]
[null,"Energía","Fuente móvil","Combustión",{"$f":"'Alcance 1'!D39","v":"Tipo de propulsión"},{"$f":"'Alcance 1'!C39","v":"Tipo de vehículo"},null,"Ambos",1,{"$f":"'Alcance 1'!E39","v":0},"km",null,1,null,0,"km",{"$f":"SUMIFS('Datos 1-Factores emisión'!$E$43:$E$321,'Datos 1-Factores emisión'!$B$43:$B$321,Cálculos!$F41,'Datos 1-Factores emisión'!$C$43:$C$321,Cálculos!$E41,'Datos 1-Factores emisión'!$D$43:$D$321,Cálculos!Q$5)","v":0},{"$f":"SUMIFS('Datos 1-Factores emisión'!$E$43:$E$321,'Datos 1-Factores emisión'!$B$43:$B$321,Cálculos!$F41,'Datos 1-Factores emisión'!$C$43:$C$321,Cálculos!$E41,'Datos 1-Factores emisión'!$D$43:$D$321,Cálculos!R$5)","v":0},{"$f":"SUMIFS('Datos 1-Factores emisión'!$E$43:$E$321,'Datos 1-Factores emisión'!$B$43:$B$321,Cálculos!$F41,'Datos 1-Factores emisión'!$C$43:$C$321,Cálculos!$E41,'Datos 1-Factores emisión'!$D$43:$D$321,Cálculos!S$5)","v":0},{"$f":"SUMIFS('Datos 1-Factores emisión'!$E$43:$E$321,'Datos 1-Factores emisión'!$B$43:$B$321,Cálculos!$F41,'Datos 1-Factores emisión'!$C$43:$C$321,Cálculos!$E41,'Datos 1-Factores emisión'!$D$43:$D$321,Cálculos!T$5)","v":0},{"$f":"SUMIFS('Datos 1-Factores emisión'!$E$43:$E$321,'Datos 1-Factores emisión'!$B$43:$B$321,Cálculos!$F41,'Datos 1-Factores emisión'!$C$43:$C$321,Cálculos!$E41,'Datos 1-Factores emisión'!$D$43:$D$321,Cálculos!U$5)","v":0},0,0,0,0,0,0,{"$f":"'Datos 2-Potenciales calent glob'!$D$6","v":1},{"$f":"'Datos 2-Potenciales calent glob'!$D$31","v":25},{"$f":"'Datos 2-Potenciales calent glob'!$D$32","v":298},{"$f":"SUMIF('Datos 2-Potenciales calent glob'!$B$6:$B$56,Cálculos!F41,'Datos 2-Potenciales calent glob'!$D$6:$D$56)","v":0},{"$f":"'Datos 2-Potenciales calent glob'!$D$6","v":1},{"$f":"'Datos 2-Potenciales calent glob'!$D$6","v":1},0,0,0,0,0,0,0]
[null,"Energía","Fuente móvil","Combustión",{"$f":"'Alcance 1'!D40","v":"Tipo de propulsión"},{"$f":"'Alcance 1'!C40","v":"Tipo de vehículo"},null,"Ambos",1,{"$f":"'Alcance 1'!E40","v":0},"km",null,1,null,0,"km",{"$f":"SUMIFS('Datos 1-Factores emisión'!$E$43:$E$321,'Datos 1-Factores emisión'!$B$43:$B$321,Cálculos!$F42,'Datos 1-Factores emisión'!$C$43:$C$321,Cálculos!$E42,'Datos 1-Factores emisión'!$D$43:$D$321,Cálculos!Q$5)","v":0},{"$f":"SUMIFS('Datos 1-Factores emisión'!$E$43:$E$321,'Datos 1-Factores emisión'!$B$43:$B$321,Cálculos!$F42,'Datos 1-Factores emisión'!$C$43:$C$321,Cálculos!$E42,'Datos 1-Factores emisión'!$D$43:$D$321,Cálculos!R$5)","v":0},{"$f":"SUMIFS('Datos 1-Factores emisión'!$E$43:$E$321,'Datos 1-Factores emisión'!$B$43:$B$321,Cálculos!$F42,'Datos 1-Factores emisión'!$C$43:$C$321,Cálculos!$E42,'Datos 1-Factores emisión'!$D$43:$D$321,Cálculos!S$5)","v":0},{"$f":"SUMIFS('Datos 1-Factores emisión'!$E$43:$E$321,'Datos 1-Factores emisión'!$B$43:$B$321,Cálculos!$F42,'Datos 1-Factores emisión'!$C$43:$C$321,Cálculos!$E42,'Datos 1-Factores emisión'!$D$43:$D$321,Cálculos!T$5)","v":0},{"$f":"SUMIFS('Datos 1-Factores emisión'!$E$43:$E$321,'Datos 1-Factores emisión'!$B$43:$B$321,Cálculos!$F42,'Datos 1-Factores emisión'!$C$43:$C$321,Cálculos!$E42,'Datos 1-Factores emisión'!$D$43:$D$321,Cálculos!U$5)","v":0},0,0,0,0,0,0,{"$f":"'Datos 2-Potenciales calent glob'!$D$6","v":1},{"$f":"'Datos 2-Potenciales calent glob'!$D$31","v":25},{"$f":"'Datos 2-Potenciales calent glob'!$D$32","v":298},{"$f":"SUMIF('Datos 2-Potenciales calent glob'!$B$6:$B$56,Cálculos!F42,'Datos 2-Potenciales calent glob'!$D$6:$D$56)","v":0},{"$f":"'Datos 2-Potenciales calent glob'!$D$6","v":1},{"$f":"'Datos 2-Potenciales calent glob'!$D$6","v":1},0,0,0,0,0,0,0]
[null,"Energía","Fuente móvil","Combustión",{"$f":"'Alcance 1'!D41","v":"Tipo de propulsión"},{"$f":"'Alcance 1'!C41","v":"Tipo de vehículo"},null,"Ambos",1,{"$f":"'Alcance 1'!E41","v":0},"km",null,1,null,0,"km",{"$f":"SUMIFS('Datos 1-Factores emisión'!$E$43:$E$321,'Datos 1-Factores emisión'!$B$43:$B$321,Cálculos!$F43,'Datos 1-Factores emisión'!$C$43:$C$321,Cálculos!$E43,'Datos 1-Factores emisión'!$D$43:$D$321,Cálculos!Q$5)","v":0},{"$f":"SUMIFS('Datos 1-Factores emisión'!$E$43:$E$321,'Datos 1-Factores emisión'!$B$43:$B$321,Cálculos!$F43,'Datos 1-Factores emisión'!$C$43:$C$321,Cálculos!$E43,'Datos 1-Factores emisión'!$D$43:$D$321,Cálculos!R$5)","v":0},{"$f":"SUMIFS('Datos 1-Factores emisión'!$E$43:$E$321,'Datos 1-Factores emisión'!$B$43:$B$321,Cálculos!$F43,'Datos 1-Factores emisión'!$C$43:$C$321,Cálculos!$E43,'Datos 1-Factores emisión'!$D$43:$D$321,Cálculos!S$5)","v":0},{"$f":"SUMIFS('Datos 1-Factores emisión'!$E$43:$E$321,'Datos 1-Factores emisión'!$B$43:$B$321,Cálculos!$F43,'Datos 1-Factores emisión'!$C$43:$C$321,Cálculos!$E43,'Datos 1-Factores emisión'!$D$43:$D$321,Cálculos!T$5)","v":0},{"$f":"SUMIFS('Datos 1-Factores emisión'!$E$43:$E$321,'Datos 1-Factores emisión'!$B$43:$B$321,Cálculos!$F43,'Datos 1-Factores emisión'!$C$43:$C$321,Cálculos!$E43,'Datos 1-Factores emisión'!$D$43:$D$321,Cálculos!U$5)","v":0},0,0,0,0,0,0,{"$f":"'Datos 2-Potenciales calent glob'!$D$6","v":1},{"$f":"'Datos 2-Potenciales calent glob'!$D$31","v":25},{"$f":"'Datos 2-Potenciales calent glob'!$D$32","v":298},{"$f":"SUMIF('Datos 2-Potenciales calent glob'!$B$6:$B$56,Cálculos!F43,'Datos 2-Potenciales calent glob'!$D$6:$D$56)","v":0},{"$f":"'Datos 2-Potenciales calent glob'!$D$6","v":1},{"$f":"'Datos 2-Potenciales calent glob'!$D$6","v":1},0,0,0,0,0,0,0]
[null,"Energía","Fuente móvil","Combustión",{"$f":"'Alcance 1'!D42","v":"Tipo de propulsión"},{"$f":"'Alcance 1'!C42","v":"Tipo de vehículo"},null,"Ambos",1,{"$f":"'Alcance 1'!E42","v":0},"km",null,1,null,0,"km",{"$f":"SUMIFS('Datos 1-Factores emisión'!$E$43:$E$321,'Datos 1-Factores emisión'!$B$43:$B$321,Cálculos!$F44,'Datos 1-Factores emisión'!$C$43:$C$321,Cálculos!$E44,'Datos 1-Factores emisión'!$D$43:$D$321,Cálculos!Q$5)","v":0},{"$f":"SUMIFS('Datos 1-Factores emisión'!$E$43:$E$321,'Datos 1-Factores emisión'!$B$43:$B$321,Cálculos!$F44,'Datos 1-Factores emisión'!$C$43:$C$321,Cálculos!$E44,'Datos 1-Factores emisión'!$D$43:$D$321,Cálculos!R$5)","v":0},{"$f":"SUMIFS('Datos 1-Factores emisión'!$E$43:$E$321,'Datos 1-Factores emisión'!$B$43:$B$321,Cálculos!$F44,'Datos 1-Factores emisión'!$C$43:$C$321,Cálculos!$E44,'Datos 1-Factores emisión'!$D$43:$D$321,Cálculos!S$5)","v":0},{"$f":"SUMIFS('Datos 1-Factores emisión'!$E$43:$E$321,'Datos 1-Factores emisión'!$B$43:$B$321,Cálculos!$F44,'Datos 1-Factores emisión'!$C$43:$C$321,Cálculos!$E44,'Datos 1-Factores emisión'!$D$43:$D$321,Cálculos!T$5)","v":0},{"$f":"SUMIFS('Datos 1-Factores emisión'!$E$43:$E$321,'Datos 1-Factores emisión'!$B$43:$B$321,Cálculos!$F44,'Datos 1-Factores emisión'!$C$43:$C$321,Cálculos!$E44,'Datos 1-Factores emisión'!$D$43:$D$321,Cálculos!U$5)","v":0},0,0,0,0,null,0,{"$f":"'Datos 2-Potenciales calent glob'!$D$6","v":1},{"$f":"'Datos 2-Potenciales calent glob'!$D$31","v":25},{"$f":"'Datos 2-Potenciales calent glob'!$D$32","v":298},{"$f":"SUMIF('Datos 2-Potenciales calent glob'!$B$6:$B$56,Cálculos!F44,'Datos 2-Potenciales calent glob'!$D$6:$D$56)","v":0},{"$f":"'Datos 2-Potenciales calent glob'!$D$6","v":1},{"$f":"'Datos 2-Potenciales calent glob'!$D$6","v":1},0,0,0,0,0,0,0]
[null,"Energía","Fuente móvil","Combustión",{"$f":"'Alcance 1'!D43","v":"Tipo de propulsión"},{"$f":"'Alcance 1'!C43","v":"Tipo de vehículo"},null,"Ambos",1,{"$f":"'Alcance 1'!E43","v":0},"km",null,1,null,0,"km",{"$f":"SUMIFS('Datos 1-Factores emisión'!$E$43:$E$321,'Datos 1-Factores emisión'!$B$43:$B$321,Cálculos!$F45,'Datos 1-Factores emisión'!$C$43:$C$321,Cálculos!$E45,'Datos 1-Factores emisión'!$D$43:$D$321,Cálculos!Q$5)","v":0},{"$f":"SUMIFS('Datos 1-Factores emisión'!$E$43:$E$321,'Datos 1-Factores emisión'!$B$43:$B$321,Cálculos!$F45,'Datos 1-Factores emisión'!$C$43:$C$321,Cálculos!$E45,'Datos 1-Factores emisión'!$D$43:$D$321,Cálculos!R$5)","v":0},{"$f":"SUMIFS('Datos 1-Factores emisión'!$E$43:$E$321,'Datos 1-Factores emisión'!$B$43:$B$321,Cálculos!$F45,'Datos 1-Factores emisión'!$C$43:$C$321,Cálculos!$E45,'Datos 1-Factores emisión'!$D$43:$D$321,Cálculos!S$5)","v":0},{"$f":"SUMIFS('Datos 1-Factores emisión'!$E$43:$E$321,'Datos 1-Factores emisión'!$B$43:$B$321,Cálculos!$F45,'Datos 1-Factores emisión'!$C$43:$C$321,Cálculos!$E45,'Datos 1-Factores emisión'!$D$43:$D$321,Cálculos!T$5)","v":0},{"$f":"SUMIFS('Datos 1-Factores emisión'!$E$43:$E$321,'Datos 1-Factores emisión'!$B$43:$B$321,Cálculos!$F45,'Datos 1-Factores emisión'!$C$43:$C$321,Cálculos!$E45,'Datos 1-Factores emisión'!$D$43:$D$321,Cálculos!U$5)","v":0},0,0,0,0,0,0,{"$f":"'Datos 2-Potenciales calent glob'!$D$6","v":1},{"$f":"'Datos 2-Potenciales calent glob'!$D$31","v":25},{"$f":"'Datos 2-Potenciales calent glob'!$D$32","v":298},{"$f":"SUMIF('Datos 2-Potenciales calent glob'!$B$6:$B$56,Cálculos!F45,'Datos 2-Potenciales calent glob'!$D$6:$D$56)","v":0},{"$f":"'Datos 2-Potenciales calent glob'!$D$6","v":1},{"$f":"'Datos 2-Potenciales calent glob'!$D$6","v":1},0,0,0,0,0,0,0]
[null,"Energía","Fuente móvil","Combustión",{"$f":"'Alcance 1'!D44","v":"Tipo de propulsión"},{"$f":"'Alcance 1'!C44","v":"Tipo de vehículo"},null,"Ambos",1,{"$f":"'Alcance 1'!E44","v":0},"km",null,1,null,0,"km",{"$f":"SUMIFS('Datos 1-Factores emisión'!$E$43:$E$321,'Datos 1-Factores emisión'!$B$43:$B$321,Cálculos!$F46,'Datos 1-Factores emisión'!$C$43:$C$321,Cálculos!$E46,'Datos 1-Factores emisión'!$D$43:$D$321,Cálculos!Q$5)","v":0},{"$f":"SUMIFS('Datos 1-Factores emisión'!$E$43:$E$321,'Datos 1-Factores emisión'!$B$43:$B$321,Cálculos!$F46,'Datos 1-Factores emisión'!$C$43:$C$321,Cálculos!$E46,'Datos 1-Factores emisión'!$D$43:$D$321,Cálculos!R$5)","v":0},{"$f":"SUMIFS('Datos 1-Factores emisión'!$E$43:$E$321,'Datos 1-Factores emisión'!$B$43:$B$321,Cálculos!$F46,'Datos 1-Factores emisión'!$C$43:$C$321,Cálculos!$E46,'Datos 1-Factores emisión'!$D$43:$D$321,Cálculos!S$5)","v":0},{"$f":"SUMIFS('Datos 1-Factores emisión'!$E$43:$E$321,'Datos 1-Factores emisión'!$B$43:$B$321,Cálculos!$F46,'Datos 1-Factores emisión'!$C$43:$C$321,Cálculos!$E46,'Datos 1-Factores emisión'!$D$43:$D$321,Cálculos!T$5)","v":0},{"$f":"SUMIFS('Datos 1-Factores emisión'!$E$43:$E$321,'Datos 1-Factores emisión'!$B$43:$B$321,Cálculos!$F46,'Datos 1-Factores emisión'!$C$43:$C$321,Cálculos!$E46,'Datos 1-Factores emisión'!$D$43:$D$321,Cálculos!U$5)","v":0},0,0,0,0,0,0,{"$f":"'Datos 2-Potenciales calent glob'!$D$6","v":1},{"$f":"'Datos 2-Potenciales calent glob'!$D$31","v":25},{"$f":"'Datos 2-Potenciales calent glob'!$D$32","v":298},{"$f":"SUMIF('Datos 2-Potenciales calent glob'!$B$6:$B$56,Cálculos!F46,'Datos 2-Potenciales calent glob'!$D$6:$D$56)","v":0},{"$f":"'Datos 2-Potenciales calent glob'!$D$6","v":1},{"$f":"'Datos 2-Potenciales calent glob'!$D$6","v":1},0,0,0,0,0,0,0]
[null,"Energía","Fuente móvil","Combustión",{"$f":"'Alcance 1'!D45","v":"Tipo de propulsión"},{"$f":"'Alcance 1'!C45","v":"Tipo de vehículo"},null,"Ambos",1,{"$f":"'Alcance 1'!E45","v":0},"km",null,1,null,0,"km",{"$f":"SUMIFS('Datos 1-Factores emisión'!$E$43:$E$321,'Datos 1-Factores emisión'!$B$43:$B$321,Cálculos!$F47,'Datos 1-Factores emisión'!$C$43:$C$321,Cálculos!$E47,'Datos 1-Factores emisión'!$D$43:$D$321,Cálculos!Q$5)","v":0},{"$f":"SUMIFS('Datos 1-Factores emisión'!$E$43:$E$321,'Datos 1-Factores emisión'!$B$43:$B$321,Cálculos!$F47,'Datos 1-Factores emisión'!$C$43:$C$321,Cálculos!$E47,'Datos 1-Factores emisión'!$D$43:$D$321,Cálculos!R$5)","v":0},{"$f":"SUMIFS('Datos 1-Factores emisión'!$E$43:$E$321,'Datos 1-Factores emisión'!$B$43:$B$321,Cálculos!$F47,'Datos 1-Factores emisión'!$C$43:$C$321,Cálculos!$E47,'Datos 1-Factores emisión'!$D$43:$D$321,Cálculos!S$5)","v":0},{"$f":"SUMIFS('Datos 1-Factores emisión'!$E$43:$E$321,'Datos 1-Factores emisión'!$B$43:$B$321,Cálculos!$F47,'Datos 1-Factores emisión'!$C$43:$C$321,Cálculos!$E47,'Datos 1-Factores emisión'!$D$43:$D$321,Cálculos!T$5)","v":0},{"$f":"SUMIFS('Datos 1-Factores emisión'!$E$43:$E$321,'Datos 1-Factores emisión'!$B$43:$B$321,Cálculos!$F47,'Datos 1-Factores emisión'!$C$43:$C$321,Cálculos!$E47,'Datos 1-Factores emisión'!$D$43:$D$321,Cálculos!U$5)","v":0},0,0,0,0,0,0,{"$f":"'Datos 2-Potenciales calent glob'!$D$6","v":1},{"$f":"'Datos 2-Potenciales calent glob'!$D$31","v":25},{"$f":"'Datos 2-Potenciales calent glob'!$D$32","v":298},{"$f":"SUMIF('Datos 2-Potenciales calent glob'!$B$6:$B$56,Cálculos!F47,'Datos 2-Potenciales calent glob'!$D$6:$D$56)","v":0},{"$f":"'Datos 2-Potenciales calent glob'!$D$6","v":1},{"$f":"'Datos 2-Potenciales calent glob'!$D$6","v":1},0,0,0,0,0,0,0]
[null,"Energía","Fuente móvil","Combustión",{"$f":"'Alcance 1'!D46","v":"Tipo de propulsión"},{"$f":"'Alcance 1'!C46","v":"Tipo de vehículo"},null,"Ambos",1,{"$f":"'Alcance 1'!E46","v":0},"km",null,1,null,0,"km",{"$f":"SUMIFS('Datos 1-Factores emisión'!$E$43:$E$321,'Datos 1-Factores emisión'!$B$43:$B$321,Cálculos!$F48,'Datos 1-Factores emisión'!$C$43:$C$321,Cálculos!$E48,'Datos 1-Factores emisión'!$D$43:$D$321,Cálculos!Q$5)","v":0},{"$f":"SUMIFS('Datos 1-Factores emisión'!$E$43:$E$321,'Datos 1-Factores emisión'!$B$43:$B$321,Cálculos!$F48,'Datos 1-Factores emisión'!$C$43:$C$321,Cálculos!$E48,'Datos 1-Factores emisión'!$D$43:$D$321,Cálculos!R$5)","v":0},{"$f":"SUMIFS('Datos 1-Factores emisión'!$E$43:$E$321,'Datos 1-Factores emisión'!$B$43:$B$321,Cálculos!$F48,'Datos 1-Factores emisión'!$C$43:$C$321,Cálculos!$E48,'Datos 1-Factores emisión'!$D$43:$D$321,Cálculos!S$5)","v":0},{"$f":"SUMIFS('Datos 1-Factores emisión'!$E$43:$E$321,'Datos 1-Factores emisión'!$B$43:$B$321,Cálculos!$F48,'Datos 1-Factores emisión'!$C$43:$C$321,Cálculos!$E48,'Datos 1-Factores emisión'!$D$43:$D$321,Cálculos!T$5)","v":0},{"$f":"SUMIFS('Datos 1-Factores emisión'!$E$43:$E$321,'Datos 1-Factores emisión'!$B$43:$B$321,Cálculos!$F48,'Datos 1-Factores emisión'!$C$43:$C$321,Cálculos!$E48,'Datos 1-Factores emisión'!$D$43:$D$321,Cálculos!U$5)","v":0},0,0,0,0,0,0,{"$f":"'Datos 2-Potenciales calent glob'!$D$6","v":1},{"$f":"'Datos 2-Potenciales calent glob'!$D$31","v":25},{"$f":"'Datos 2-Potenciales calent glob'!$D$32","v":298},{"$f":"SUMIF('Datos 2-Potenciales calent glob'!$B$6:$B$56,Cálculos!F48,'Datos 2-Potenciales calent glob'!$D$6:$D$56)","v":0},{"$f":"'Datos 2-Potenciales calent glob'!$D$6","v":1},{"$f":"'Datos 2-Potenciales calent glob'!$D$6","v":1},0,0,0,0,0,0,0]
[null,"Emisiones de proceso y uso de productos","Fuente difusa","Fugitivas","Lubricantes","Grasas",null,"CAPV",1,{"$f":"'Alcance 1'!D58","v":0},{"$f":"'Alcance 1'!E58","v":"L"},null,{"$f":"LOOKUP($E49,'Datos 3-Factores de convers'!$B$29:$B$51,'Datos 3-Factores de convers'!$F$29:$F$51)","v":3.5778000000000009E-5},{"$f":"LOOKUP($E49,'Datos 3-Factores de convers'!$B$29:$B$51,'Datos 3-Factores de convers'!$G$29:$G$51)","v":"TJ/L"},0,"TJ",{"$f":"'Datos 1-Factores emisión'!C763","v":3666.6666666666665},{"$f":"SUMIFS('Datos 1-Factores emisión'!$E$43:$E$309,'Datos 1-Factores emisión'!$B$43:$B$309,Cálculos!$F49,'Datos 1-Factores emisión'!$C$43:$C$309,Cálculos!$E49,'Datos 1-Factores emisión'!$D$43:$D$309,Cálculos!R$5)","v":0},{"$f":"SUMIFS('Datos 1-Factores emisión'!$E$43:$E$309,'Datos 1-Factores emisión'!$B$43:$B$309,Cálculos!$F49,'Datos 1-Factores emisión'!$C$43:$C$309,Cálculos!$E49,'Datos 1-Factores emisión'!$D$43:$D$309,Cálculos!S$5)","v":0},0,0,0,0,0,{"$f":"T49*$O49","v":0},0,0,{"$f":"'Datos 2-Potenciales calent glob'!$D$6","v":1},{"$f":"'Datos 2-Potenciales calent glob'!$D$31","v":25},{"$f":"'Datos 2-Potenciales calent glob'!$D$32","v":298},{"$f":"SUMIF('Datos 2-Potenciales calent glob'!$B$6:$B$56,Cálculos!F49,'Datos 2-Potenciales calent glob'!$D$6:$D$56)","v":0},{"$f":"'Datos 2-Potenciales calent glob'!$D$6","v":1},{"$f":"'Datos 2-Potenciales calent glob'!$D$6","v":1},0,0,0,0,0,0,0]
[null,"Emisiones de proceso y uso de productos","Fuente difusa","Fugitivas","Lubricantes","Aceites",null,"CAPV",1,{"$f":"'Alcance 1'!D59","v":0},{"$f":"'Alcance 1'!E59","v":"L"},null,{"$f":"LOOKUP($E50,'Datos 3-Factores de convers'!$B$29:$B$51,'Datos 3-Factores de convers'!$F$29:$F$51)","v":3.5778000000000009E-5},{"$f":"LOOKUP($E50,'Datos 3-Factores de convers'!$B$29:$B$51,'Datos 3-Factores de convers'!$G$29:$G$51)","v":"TJ/L"},0,"TJ",{"$f":"'Datos 1-Factores emisión'!C764","v":14666.666666666666},{"$f":"SUMIFS('Datos 1-Factores emisión'!$E$43:$E$309,'Datos 1-Factores emisión'!$B$43:$B$309,Cálculos!$F50,'Datos 1-Factores emisión'!$C$43:$C$309,Cálculos!$E50,'Datos 1-Factores emisión'!$D$43:$D$309,Cálculos!R$5)","v":0},{"$f":"SUMIFS('Datos 1-Factores emisión'!$E$43:$E$309,'Datos 1-Factores emisión'!$B$43:$B$309,Cálculos!$F50,'Datos 1-Factores emisión'!$C$43:$C$309,Cálculos!$E50,'Datos 1-Factores emisión'!$D$43:$D$309,Cálculos!S$5)","v":0},0,0,0,0,0,{"$f":"T50*$O50","v":0},{"$f":"U50*$O50","v":0},0,{"$f":"'Datos 2-Potenciales calent glob'!$D$6","v":1},{"$f":"'Datos 2-Potenciales calent glob'!$D$31","v":25},{"$f":"'Datos 2-Potenciales calent glob'!$D$32","v":298},{"$f":"SUMIF('Datos 2-Potenciales calent glob'!$B$6:$B$56,Cálculos!F50,'Datos 2-Potenciales calent glob'!$D$6:$D$56)","v":0},{"$f":"'Datos 2-Potenciales calent glob'!$D$6","v":1},{"$f":"'Datos 2-Potenciales calent glob'!$D$6","v":1},0,0,0,0,0,0,0]
[null,"Emisiones de proceso y uso de productos","Fuente difusa","Fugitivas","Gases fluorados",{"$f":"'Alcance 1'!C64","v":"Tipo de gas fluorado"},null,"Ambos",1,{"$f":"'Alcance 1'!D64","v":0},{"$f":"'Alcance 1'!E64","v":"kg"},null,1,null,0,{"$f":"K51","v":"kg"},0,0,0,0,0,0,0,0,{"$f":"O51","v":0},0,0,{"$f":"'Datos 2-Potenciales calent glob'!$D$6","v":1},{"$f":"'Datos 2-Potenciales calent glob'!$D$31","v":25},{"$f":"'Datos 2-Potenciales calent glob'!$D$32","v":298},{"$f":"SUMIF('Datos 2-Potenciales calent glob'!$B$6:$B$56,Cálculos!F51,'Datos 2-Potenciales calent glob'!$D$6:$D$56)","v":0},{"$f":"'Datos 2-Potenciales calent glob'!$D$6","v":1},{"$f":"'Datos 2-Potenciales calent glob'!$D$6","v":1},0,0,0,0,0,0,0]
[null,"Emisiones de proceso y uso de productos","Fuente difusa","Fugitivas","Gases fluorados",{"$f":"'Alcance 1'!C65","v":"Tipo de gas fluorado"},null,"Ambos",1,{"$f":"'Alcance 1'!D65","v":0},{"$f":"'Alcance 1'!E65","v":"kg"},null,1,null,0,"kg",0,0,0,0,0,0,0,0,0,0,0,{"$f":"'Datos 2-Potenciales calent glob'!$D$6","v":1},{"$f":"'Datos 2-Potenciales calent glob'!$D$31","v":25},{"$f":"'Datos 2-Potenciales calent glob'!$D$32","v":298},{"$f":"SUMIF('Datos 2-Potenciales calent glob'!$B$6:$B$56,Cálculos!F52,'Datos 2-Potenciales calent glob'!$D$6:$D$56)","v":0},{"$f":"'Datos 2-Potenciales calent glob'!$D$6","v":1},{"$f":"'Datos 2-Potenciales calent glob'!$D$6","v":1},0,0,0,0,0,0,0]
[null,"Emisiones de proceso y uso de productos","Fuente difusa","Fugitivas","Gases fluorados",{"$f":"'Alcance 1'!C66","v":"Tipo de gas fluorado"},null,"Ambos",1,{"$f":"'Alcance 1'!D66","v":0},{"$f":"'Alcance 1'!E66","v":"kg"},null,1,null,0,"kg",0,0,0,0,0,0,0,0,0,0,0,{"$f":"'Datos 2-Potenciales calent glob'!$D$6","v":1},{"$f":"'Datos 2-Potenciales calent glob'!$D$31","v":25},{"$f":"'Datos 2-Potenciales calent glob'!$D$32","v":298},{"$f":"SUMIF('Datos 2-Potenciales calent glob'!$B$6:$B$56,Cálculos!F53,'Datos 2-Potenciales calent glob'!$D$6:$D$56)","v":0},{"$f":"'Datos 2-Potenciales calent glob'!$D$6","v":1},{"$f":"'Datos 2-Potenciales calent glob'!$D$6","v":1},0,0,0,0,0,{"$f":"Z53*AF53","v":0},0]
[null,"Emisiones de proceso y uso de productos","Fuente difusa","Fugitivas","Gases fluorados",{"$f":"'Alcance 1'!C67","v":"Tipo de gas fluorado"},null,"Ambos",1,{"$f":"'Alcance 1'!D67","v":0},{"$f":"'Alcance 1'!E67","v":"kg"},null,1,null,0,"kg",0,0,0,0,0,0,0,0,0,0,0,{"$f":"'Datos 2-Potenciales calent glob'!$D$6","v":1},{"$f":"'Datos 2-Potenciales calent glob'!$D$31","v":25},{"$f":"'Datos 2-Potenciales calent glob'!$D$32","v":298},{"$f":"SUMIF('Datos 2-Potenciales calent glob'!$B$6:$B$56,Cálculos!F54,'Datos 2-Potenciales calent glob'!$D$6:$D$56)","v":0},{"$f":"'Datos 2-Potenciales calent glob'!$D$6","v":1},{"$f":"'Datos 2-Potenciales calent glob'!$D$6","v":1},0,0,0,0,0,0,0]
[null,"Emisiones de proceso y uso de productos","Fuente difusa","Fugitivas","Gases fluorados",{"$f":"'Alcance 1'!C68","v":"Tipo de gas fluorado"},null,"Ambos",1,{"$f":"'Alcance 1'!D68","v":0},{"$f":"'Alcance 1'!E68","v":"kg"},null,1,null,0,"kg",0,0,0,0,0,0,0,0,0,0,0,{"$f":"'Datos 2-Potenciales calent glob'!$D$6","v":1},{"$f":"'Datos 2-Potenciales calent glob'!$D$31","v":25},{"$f":"'Datos 2-Potenciales calent glob'!$D$32","v":298},{"$f":"SUMIF('Datos 2-Potenciales calent glob'!$B$6:$B$56,Cálculos!F55,'Datos 2-Potenciales calent glob'!$D$6:$D$56)","v":0},{"$f":"'Datos 2-Potenciales calent glob'!$D$6","v":1},{"$f":"'Datos 2-Potenciales calent glob'!$D$6","v":1},0,0,0,0,0,0,0]
[null,"Emisiones de proceso y uso de productos","Fuente difusa","Fugitivas","Gases fluorados",{"$f":"'Alcance 1'!C69","v":"Tipo de gas fluorado"},null,"Ambos",1,{"$f":"'Alcance 1'!D69","v":0},{"$f":"'Alcance 1'!E69","v":"kg"},null,1,null,0,"kg",0,0,0,0,0,0,0,0,0,0,0,{"$f":"'Datos 2-Potenciales calent glob'!$D$6","v":1},{"$f":"'Datos 2-Potenciales calent glob'!$D$31","v":25},{"$f":"'Datos 2-Potenciales calent glob'!$D$32","v":298},{"$f":"SUMIF('Datos 2-Potenciales calent glob'!$B$6:$B$56,Cálculos!F56,'Datos 2-Potenciales calent glob'!$D$6:$D$56)","v":0},{"$f":"'Datos 2-Potenciales calent glob'!$D$6","v":1},{"$f":"'Datos 2-Potenciales calent glob'!$D$6","v":1},0,0,0,0,0,0,0]
[null,"Emisiones de proceso y uso de productos","Fuente difusa","Fugitivas","Gases fluorados",{"$f":"'Alcance 1'!C70","v":"Tipo de gas fluorado"},null,"Ambos",1,{"$f":"'Alcance 1'!D70","v":0},{"$f":"'Alcance 1'!E70","v":"kg"},null,1,null,0,"kg",0,0,0,0,0,0,0,0,0,0,0,{"$f":"'Datos 2-Potenciales calent glob'!$D$6","v":1},{"$f":"'Datos 2-Potenciales calent glob'!$D$31","v":25},{"$f":"'Datos 2-Potenciales calent glob'!$D$32","v":298},{"$f":"SUMIF('Datos 2-Potenciales calent glob'!$B$6:$B$56,Cálculos!F57,'Datos 2-Potenciales calent glob'!$D$6:$D$56)","v":0},{"$f":"'Datos 2-Potenciales calent glob'!$D$6","v":1},{"$f":"'Datos 2-Potenciales calent glob'!$D$6","v":1},0,0,0,0,0,0,0]
[null,"Emisiones de proceso y uso de productos","Fuente difusa","Fugitivas","Gases fluorados",{"$f":"'Alcance 1'!C71","v":"Tipo de gas fluorado"},null,"Ambos",1,{"$f":"'Alcance 1'!D71","v":0},{"$f":"'Alcance 1'!E71","v":"kg"},null,1,null,0,"kg",0,0,0,0,0,0,0,0,0,0,0,{"$f":"'Datos 2-Potenciales calent glob'!$D$6","v":1},{"$f":"'Datos 2-Potenciales calent glob'!$D$31","v":25},{"$f":"'Datos 2-Potenciales calent glob'!$D$32","v":298},{"$f":"SUMIF('Datos 2-Potenciales calent glob'!$B$6:$B$56,Cálculos!F58,'Datos 2-Potenciales calent glob'!$D$6:$D$56)","v":0},{"$f":"'Datos 2-Potenciales calent glob'!$D$6","v":1},{"$f":"'Datos 2-Potenciales calent glob'!$D$6","v":1},0,0,0,0,0,0,0]
[null,"Emisiones de proceso y uso de productos","Fuente difusa","Fugitivas","Gases fluorados",{"$f":"'Alcance 1'!C72","v":"Tipo de gas fluorado"},null,"Ambos",1,{"$f":"'Alcance 1'!D72","v":0},{"$f":"'Alcance 1'!E72","v":"kg"},null,1,null,0,"kg",0,0,0,0,0,0,0,0,0,0,0,{"$f":"'Datos 2-Potenciales calent glob'!$D$6","v":1},{"$f":"'Datos 2-Potenciales calent glob'!$D$31","v":25},{"$f":"'Datos 2-Potenciales calent glob'!$D$32","v":298},{"$f":"SUMIF('Datos 2-Potenciales calent glob'!$B$6:$B$56,Cálculos!F59,'Datos 2-Potenciales calent glob'!$D$6:$D$56)","v":0},{"$f":"'Datos 2-Potenciales calent glob'!$D$6","v":1},{"$f":"'Datos 2-Potenciales calent glob'!$D$6","v":1},0,0,0,0,0,0,0]
[null,"Emisiones de proceso y uso de productos","Fuente difusa","Fugitivas","Gases fluorados",{"$f":"'Alcance 1'!C73","v":"Tipo de gas fluorado"},null,"Ambos",1,{"$f":"'Alcance 1'!D73","v":0},{"$f":"'Alcance 1'!E73","v":"kg"},null,1,null,0,"kg",0,0,0,0,0,0,0,0,0,0,0,{"$f":"'Datos 2-Potenciales calent glob'!$D$6","v":1},{"$f":"'Datos 2-Potenciales calent glob'!$D$31","v":25},{"$f":"'Datos 2-Potenciales calent glob'!$D$32","v":298},{"$f":"SUMIF('Datos 2-Potenciales calent glob'!$B$6:$B$56,Cálculos!F60,'Datos 2-Potenciales calent glob'!$D$6:$D$56)","v":0},{"$f":"'Datos 2-Potenciales calent glob'!$D$6","v":1},{"$f":"'Datos 2-Potenciales calent glob'!$D$6","v":1},0,0,0,0,0,0,0]
[null,"Absorciones","Fuente fija","Absorción","Abies alba",null,null,"Ambos",1,{"$f":"'Alcance 1'!D80","v":0},{"$f":"'Alcance 1'!E80","v":"árboles"},null,1,null,0,"árboles",0,0,0,0,{"$f":"-'Datos 1-Factores emisión'!C674","v":-3.1772408058067998},{"$f":"Q61*$O61","v":0},0,0,0,{"$f":"T61*$O61","v":0},{"$f":"U61*$O61","v":0},{"$f":"'Datos 2-Potenciales calent glob'!$E$6","v":1},{"$f":"'Datos 2-Potenciales calent glob'!$E$31","v":28},{"$f":"'Datos 2-Potenciales calent glob'!$E$32","v":265},{"$f":"SUMIF('Datos 2-Potenciales calent glob'!$B$6:$B$56,Cálculos_5!F61,'Datos 2-Potenciales calent glob'!$E$6:$E$56)","v":0},{"$f":"'Datos 2-Potenciales calent glob'!$E$6","v":1},{"$f":"'Datos 2-Potenciales calent glob'!$E$6","v":1},0,0,0,0,{"$f":"SUM(AH61:AK61)","v":0},0,0]
[null,"Absorciones","Fuente fija","Absorción","Abies pinsapo",null,null,"Ambos",1,{"$f":"'Alcance 1'!D81","v":0},{"$f":"'Alcance 1'!E81","v":"árboles"},null,1,null,0,"árboles",0,0,0,0,{"$f":"-'Datos 1-Factores emisión'!C675","v":-10.96954854239571},0,0,0,0,{"$f":"T62*$O62","v":0},0,{"$f":"'Datos 2-Potenciales calent glob'!$E$6","v":1},{"$f":"'Datos 2-Potenciales calent glob'!$E$31","v":28},{"$f":"'Datos 2-Potenciales calent glob'!$E$32","v":265},{"$f":"SUMIF('Datos 2-Potenciales calent glob'!$B$6:$B$56,Cálculos_5!F62,'Datos 2-Potenciales calent glob'!$E$6:$E$56)","v":0},{"$f":"'Datos 2-Potenciales calent glob'!$E$6","v":1},{"$f":"'Datos 2-Potenciales calent glob'!$E$6","v":1},0,0,0,0,0,0,0]
[null,"Absorciones","Fuente fija","Absorción","Acacia spp.",null,null,"Ambos",1,{"$f":"'Alcance 1'!D82","v":0},{"$f":"'Alcance 1'!E82","v":"árboles"},null,1,null,0,"árboles",0,0,0,0,{"$f":"-'Datos 1-Factores emisión'!C676","v":-1.5274431310354604},0,0,0,0,0,0,{"$f":"'Datos 2-Potenciales calent glob'!$E$6","v":1},{"$f":"'Datos 2-Potenciales calent glob'!$E$31","v":28},{"$f":"'Datos 2-Potenciales calent glob'!$E$32","v":265},{"$f":"SUMIF('Datos 2-Potenciales calent glob'!$B$6:$B$56,Cálculos_5!F63,'Datos 2-Potenciales calent glob'!$E$6:$E$56)","v":0},{"$f":"'Datos 2-Potenciales calent glob'!$E$6","v":1},{"$f":"'Datos 2-Potenciales calent glob'!$E$6","v":1},{"$f":"V63*AB63","v":0},0,0,0,0,0,0]
[null,"Absorciones","Fuente fija","Absorción","Acer spp.",null,null,"Ambos",1,{"$f":"'Alcance 1'!D83","v":0},{"$f":"'Alcance 1'!E83","v":"árboles"},null,1,null,0,"árboles",0,0,0,0,{"$f":"-'Datos 1-Factores emisión'!C677","v":-7.4877680651170682},0,0,0,0,0,0,{"$f":"'Datos 2-Potenciales calent glob'!$E$6","v":1},{"$f":"'Datos 2-Potenciales calent glob'!$E$31","v":28},{"$f":"'Datos 2-Potenciales calent glob'!$E$32","v":265},{"$f":"SUMIF('Datos 2-Potenciales calent glob'!$B$6:$B$56,Cálculos_5!F64,'Datos 2-Potenciales calent glob'!$E$6:$E$56)","v":0},{"$f":"'Datos 2-Potenciales calent glob'!$E$6","v":1},{"$f":"'Datos 2-Potenciales calent glob'!$E$6","v":1},0,0,0,0,0,0,0]
[null,"Absorciones","Fuente fija","Absorción","Ailanthus altissima",null,null,"Ambos",1,{"$f":"'Alcance 1'!D84","v":0},{"$f":"'Alcance 1'!E84","v":"árboles"},null,1,null,0,"árboles",0,0,0,0,{"$f":"-'Datos 1-Factores emisión'!C678","v":-1.5274431310354604},0,0,0,0,0,0,{"$f":"'Datos 2-Potenciales calent glob'!$E$6","v":1},{"$f":"'Datos 2-Potenciales calent glob'!$E$31","v":28},{"$f":"'Datos 2-Potenciales calent glob'!$E$32","v":265},{"$f":"SUMIF('Datos 2-Potenciales calent glob'!$B$6:$B$56,Cálculos_5!F65,'Datos 2-Potenciales calent glob'!$E$6:$E$56)","v":0},{"$f":"'Datos 2-Potenciales calent glob'!$E$6","v":1},{"$f":"'Datos 2-Potenciales calent glob'!$E$6","v":1},0,0,0,0,0,0,0]
[null,"Absorciones","Fuente fija","Absorción","Alnus spp.",null,null,"Ambos",1,{"$f":"'Alcance 1'!D85","v":0},{"$f":"'Alcance 1'!E85","v":"árboles"},null,1,null,0,"árboles",0,0,0,0,{"$f":"-'Datos 1-Factores emisión'!C679","v":-5.4639403243265612},0,0,0,0,0,0,{"$f":"'Datos 2-Potenciales calent glob'!$E$6","v":1},{"$f":"'Datos 2-Potenciales calent glob'!$E$31","v":28},{"$f":"'Datos 2-Potenciales calent glob'!$E$32","v":265},{"$f":"SUMIF('Datos 2-Potenciales calent glob'!$B$6:$B$56,Cálculos_5!F66,'Datos 2-Potenciales calent glob'!$E$6:$E$56)","v":0},{"$f":"'Datos 2-Potenciales calent glob'!$E$6","v":1},{"$f":"'Datos 2-Potenciales calent glob'!$E$6","v":1},0,0,0,0,0,0,0]
[null,"Absorciones","Fuente fija","Absorción","Amelanchier ovalis",null,null,"Ambos",1,{"$f":"'Alcance 1'!D86","v":0},{"$f":"'Alcance 1'!E86","v":"árboles"},null,1,null,0,"árboles",0,0,0,0,{"$f":"-'Datos 1-Factores emisión'!C680","v":-6.8388617226212753},0,0,0,0,0,0,{"$f":"'Datos 2-Potenciales calent glob'!$E$6","v":1},{"$f":"'Datos 2-Potenciales calent glob'!$E$31","v":28},{"$f":"'Datos 2-Potenciales calent glob'!$E$32","v":265},{"$f":"SUMIF('Datos 2-Potenciales calent glob'!$B$6:$B$56,Cálculos_5!F67,'Datos 2-Potenciales calent glob'!$E$6:$E$56)","v":0},{"$f":"'Datos 2-Potenciales calent glob'!$E$6","v":1},{"$f":"'Datos 2-Potenciales calent glob'!$E$6","v":1},0,0,0,0,0,0,0]
[null,"Absorciones","Fuente fija","Absorción","Arbutus unedo",null,null,"Ambos",1,{"$f":"'Alcance 1'!D87","v":0},{"$f":"'Alcance 1'!E87","v":"árboles"},null,1,null,0,"árboles",0,0,0,0,{"$f":"-'Datos 1-Factores emisión'!C681","v":-2.9802258656182734},0,0,0,0,0,0,{"$f":"'Datos 2-Potenciales calent glob'!$E$6","v":1},{"$f":"'Datos 2-Potenciales calent glob'!$E$31","v":28},{"$f":"'Datos 2-Potenciales calent glob'!$E$32","v":265},{"$f":"SUMIF('Datos 2-Potenciales calent glob'!$B$6:$B$56,Cálculos_5!F68,'Datos 2-Potenciales calent glob'!$E$6:$E$56)","v":0},{"$f":"'Datos 2-Potenciales calent glob'!$E$6","v":1},{"$f":"'Datos 2-Potenciales calent glob'!$E$6","v":1},0,0,0,0,0,0,0]
[null,"Absorciones","Fuente fija","Absorción","Betula spp.",null,null,"Ambos",1,{"$f":"'Alcance 1'!D88","v":0},{"$f":"'Alcance 1'!E88","v":"árboles"},null,1,null,0,"árboles",0,0,0,0,{"$f":"-'Datos 1-Factores emisión'!C682","v":-3.1139114485025972},0,0,0,0,0,0,{"$f":"'Datos 2-Potenciales calent glob'!$E$6","v":1},{"$f":"'Datos 2-Potenciales calent glob'!$E$31","v":28},{"$f":"'Datos 2-Potenciales calent glob'!$E$32","v":265},{"$f":"SUMIF('Datos 2-Potenciales calent glob'!$B$6:$B$56,Cálculos_5!F69,'Datos 2-Potenciales calent glob'!$E$6:$E$56)","v":0},{"$f":"'Datos 2-Potenciales calent glob'!$E$6","v":1},{"$f":"'Datos 2-Potenciales calent glob'!$E$6","v":1},0,0,0,0,0,{"$f":"Z69*AF69","v":0},0]
[null,"Absorciones","Fuente fija","Absorción","Carpinus betulus",null,null,"Ambos",1,{"$f":"'Alcance 1'!D89","v":0},{"$f":"'Alcance 1'!E89","v":"árboles"},null,1,null,{"$f":"J70*M70","v":0},"árboles",0,0,0,0,{"$f":"-'Datos 1-Factores emisión'!C683","v":-3.1139114485025972},0,0,0,0,0,0,{"$f":"'Datos 2-Potenciales calent glob'!$E$6","v":1},{"$f":"'Datos 2-Potenciales calent glob'!$E$31","v":28},{"$f":"'Datos 2-Potenciales calent glob'!$E$32","v":265},{"$f":"SUMIF('Datos 2-Potenciales calent glob'!$B$6:$B$56,Cálculos_5!F70,'Datos 2-Potenciales calent glob'!$E$6:$E$56)","v":0},{"$f":"'Datos 2-Potenciales calent glob'!$E$6","v":1},{"$f":"'Datos 2-Potenciales calent glob'!$E$6","v":1},0,0,0,0,0,0,0]
[null,"Absorciones","Fuente fija","Absorción","Castanea sativa",null,null,"Ambos",1,{"$f":"'Alcance 1'!D90","v":0},{"$f":"'Alcance 1'!E90","v":"árboles"},null,1,null,0,"árboles",0,0,0,0,{"$f":"-'Datos 1-Factores emisión'!C684","v":-6.2059076975914902},0,0,0,0,0,0,{"$f":"'Datos 2-Potenciales calent glob'!$E$6","v":1},{"$f":"'Datos 2-Potenciales calent glob'!$E$31","v":28},{"$f":"'Datos 2-Potenciales calent glob'!$E$32","v":265},{"$f":"SUMIF('Datos 2-Potenciales calent glob'!$B$6:$B$56,Cálculos_5!F71,'Datos 2-Potenciales calent glob'!$E$6:$E$56)","v":0},{"$f":"'Datos 2-Potenciales calent glob'!$E$6","v":1},{"$f":"'Datos 2-Potenciales calent glob'!$E$6","v":1},0,0,0,0,0,0,0]
[null,"Absorciones","Fuente fija","Absorción","Ceratonia siliqua",null,null,"Ambos",1,{"$f":"'Alcance 1'!D91","v":0},{"$f":"'Alcance 1'!E91","v":"árboles"},null,1,null,0,"árboles",0,0,0,0,{"$f":"-'Datos 1-Factores emisión'!C685","v":-3.0980229224587688},0,0,0,0,0,0,{"$f":"'Datos 2-Potenciales calent glob'!$E$6","v":1},{"$f":"'Datos 2-Potenciales calent glob'!$E$31","v":28},{"$f":"'Datos 2-Potenciales calent glob'!$E$32","v":265},{"$f":"SUMIF('Datos 2-Potenciales calent glob'!$B$6:$B$56,Cálculos_5!F72,'Datos 2-Potenciales calent glob'!$E$6:$E$56)","v":0},{"$f":"'Datos 2-Potenciales calent glob'!$E$6","v":1},{"$f":"'Datos 2-Potenciales calent glob'!$E$6","v":1},0,0,0,0,0,0,0]
[null,"Absorciones","Fuente fija","Absorción","Cedrus atlantica",null,null,"Ambos",1,{"$f":"'Alcance 1'!D92","v":0},{"$f":"'Alcance 1'!E92","v":"árboles"},null,1,null,0,"árboles",0,0,0,0,{"$f":"-'Datos 1-Factores emisión'!C686","v":-43.215604411883824},0,0,0,0,0,0,{"$f":"'Datos 2-Potenciales calent glob'!$E$6","v":1},{"$f":"'Datos 2-Potenciales calent glob'!$E$31","v":28},{"$f":"'Datos 2-Potenciales calent glob'!$E$32","v":265},{"$f":"SUMIF('Datos 2-Potenciales calent glob'!$B$6:$B$56,Cálculos_5!F73,'Datos 2-Potenciales calent glob'!$E$6:$E$56)","v":0},{"$f":"'Datos 2-Potenciales calent glob'!$E$6","v":1},{"$f":"'Datos 2-Potenciales calent glob'!$E$6","v":1},0,0,0,0,0,0,0]
[null,"Absorciones","Fuente fija","Absorción","Celtis australis",null,null,"Ambos",1,{"$f":"'Alcance 1'!D93","v":0},{"$f":"'Alcance 1'!E93","v":"árboles"},null,1,null,0,"árboles",0,0,0,0,{"$f":"-'Datos 1-Factores emisión'!C687","v":-33.54816511050106},0,0,0,0,0,0,{"$f":"'Datos 2-Potenciales calent glob'!$E$6","v":1},{"$f":"'Datos 2-Potenciales calent glob'!$E$31","v":28},{"$f":"'Datos 2-Potenciales calent glob'!$E$32","v":265},{"$f":"SUMIF('Datos 2-Potenciales calent glob'!$B$6:$B$56,Cálculos_5!F74,'Datos 2-Potenciales calent glob'!$E$6:$E$56)","v":0},{"$f":"'Datos 2-Potenciales calent glob'!$E$6","v":1},{"$f":"'Datos 2-Potenciales calent glob'!$E$6","v":1},0,0,0,0,0,0,0]
[null,"Absorciones","Fuente fija","Absorción","Chamaecyparis lawsoniana",null,null,"Ambos",1,{"$f":"'Alcance 1'!D94","v":0},{"$f":"'Alcance 1'!E94","v":"árboles"},null,1,null,0,"árboles",0,0,0,0,{"$f":"-'Datos 1-Factores emisión'!C688","v":-0.36451014816266286},0,0,0,0,0,0,{"$f":"'Datos 2-Potenciales calent glob'!$E$6","v":1},{"$f":"'Datos 2-Potenciales calent glob'!$E$31","v":28},{"$f":"'Datos 2-Potenciales calent glob'!$E$32","v":265},{"$f":"SUMIF('Datos 2-Potenciales calent glob'!$B$6:$B$56,Cálculos_5!F75,'Datos 2-Potenciales calent glob'!$E$6:$E$56)","v":0},{"$f":"'Datos 2-Potenciales calent glob'!$E$6","v":1},{"$f":"'Datos 2-Potenciales calent glob'!$E$6","v":1},0,0,0,0,0,0,0]
[null,"Absorciones","Fuente fija","Absorción","Cornus sanguinea",null,null,"Ambos",1,{"$f":"'Alcance 1'!D95","v":0},{"$f":"'Alcance 1'!E95","v":"árboles"},null,1,null,0,"árboles",0,0,0,0,{"$f":"-'Datos 1-Factores emisión'!C689","v":-6.8388617226212753},0,0,0,0,0,0,{"$f":"'Datos 2-Potenciales calent glob'!$E$6","v":1},{"$f":"'Datos 2-Potenciales calent glob'!$E$31","v":28},{"$f":"'Datos 2-Potenciales calent glob'!$E$32","v":265},{"$f":"SUMIF('Datos 2-Potenciales calent glob'!$B$6:$B$56,Cálculos_5!F76,'Datos 2-Potenciales calent glob'!$E$6:$E$56)","v":0},{"$f":"'Datos 2-Potenciales calent glob'!$E$6","v":1},{"$f":"'Datos 2-Potenciales calent glob'!$E$6","v":1},0,0,0,0,0,0,0]
[null,"Absorciones","Fuente fija","Absorción","Corylus avellana",null,null,"Ambos",1,{"$f":"'Alcance 1'!D96","v":0},{"$f":"'Alcance 1'!E96","v":"árboles"},null,1,null,0,"árboles",0,0,0,0,{"$f":"-'Datos 1-Factores emisión'!C690","v":-3.9176100218165013},0,0,0,0,0,0,{"$f":"'Datos 2-Potenciales calent glob'!$E$6","v":1},{"$f":"'Datos 2-Potenciales calent glob'!$E$31","v":28},{"$f":"'Datos 2-Potenciales calent glob'!$E$32","v":265},{"$f":"SUMIF('Datos 2-Potenciales calent glob'!$B$6:$B$56,Cálculos_5!F77,'Datos 2-Potenciales calent glob'!$E$6:$E$56)","v":0},{"$f":"'Datos 2-Potenciales calent glob'!$E$6","v":1},{"$f":"'Datos 2-Potenciales calent glob'!$E$6","v":1},0,0,0,0,0,0,0]
[null,"Absorciones","Fuente fija","Absorción","Crataegus spp.",null,null,"Ambos",1,{"$f":"'Alcance 1'!D97","v":0},{"$f":"'Alcance 1'!E97","v":"árboles"},null,1,null,0,"árboles",0,0,0,0,{"$f":"-'Datos 1-Factores emisión'!C691","v":-6.8388617226212753},0,0,0,0,0,0,{"$f":"'Datos 2-Potenciales calent glob'!$E$6","v":1},{"$f":"'Datos 2-Potenciales calent glob'!$E$31","v":28},{"$f":"'Datos 2-Potenciales calent glob'!$E$32","v":265},{"$f":"SUMIF('Datos 2-Potenciales calent glob'!$B$6:$B$56,Cálculos_5!F78,'Datos 2-Potenciales calent glob'!$E$6:$E$56)","v":0},{"$f":"'Datos 2-Potenciales calent glob'!$E$6","v":1},{"$f":"'Datos 2-Potenciales calent glob'!$E$6","v":1},0,0,0,0,0,0,0]
[null,"Absorciones","Fuente fija","Absorción","Cupressus arizonica",null,null,"Ambos",1,{"$f":"'Alcance 1'!D98","v":0},{"$f":"'Alcance 1'!E98","v":"árboles"},null,1,null,0,"árboles",0,0,0,0,{"$f":"-'Datos 1-Factores emisión'!C692","v":-1.9326280185357239},0,0,0,0,0,0,{"$f":"'Datos 2-Potenciales calent glob'!$E$6","v":1},{"$f":"'Datos 2-Potenciales calent glob'!$E$31","v":28},{"$f":"'Datos 2-Potenciales calent glob'!$E$32","v":265},{"$f":"SUMIF('Datos 2-Potenciales calent glob'!$B$6:$B$56,Cálculos_5!F79,'Datos 2-Potenciales calent glob'!$E$6:$E$56)","v":0},{"$f":"'Datos 2-Potenciales calent glob'!$E$6","v":1},{"$f":"'Datos 2-Potenciales calent glob'!$E$6","v":1},0,0,0,0,0,0,0]
[null,"Absorciones","Fuente fija","Absorción","Cupressus macrocarpa",null,null,"Ambos",1,{"$f":"'Alcance 1'!D99","v":0},{"$f":"'Alcance 1'!E99","v":"árboles"},null,1,null,0,"árboles",0,0,0,0,{"$f":"-'Datos 1-Factores emisión'!C693","v":-1.9326280185357239},0,0,0,0,0,0,{"$f":"'Datos 2-Potenciales calent glob'!$E$6","v":1},{"$f":"'Datos 2-Potenciales calent glob'!$E$31","v":28},{"$f":"'Datos 2-Potenciales calent glob'!$E$32","v":265},{"$f":"SUMIF('Datos 2-Potenciales calent glob'!$B$6:$B$56,Cálculos_5!F80,'Datos 2-Potenciales calent glob'!$E$6:$E$56)","v":0},{"$f":"'Datos 2-Potenciales calent glob'!$E$6","v":1},{"$f":"'Datos 2-Potenciales calent glob'!$E$6","v":1},0,0,0,0,0,0,0]
[null,"Absorciones","Fuente fija","Absorción","Cupressus sempervirens",null,null,"Ambos",1,{"$f":"'Alcance 1'!D100","v":0},{"$f":"'Alcance 1'!E100","v":"árboles"},null,1,null,0,"árboles",0,0,0,0,{"$f":"-'Datos 1-Factores emisión'!C694","v":-1.9326280185357239},0,0,0,0,0,0,{"$f":"'Datos 2-Potenciales calent glob'!$E$6","v":1},{"$f":"'Datos 2-Potenciales calent glob'!$E$31","v":28},{"$f":"'Datos 2-Potenciales calent glob'!$E$32","v":265},{"$f":"SUMIF('Datos 2-Potenciales calent glob'!$B$6:$B$56,Cálculos_5!F81,'Datos 2-Potenciales calent glob'!$E$6:$E$56)","v":0},{"$f":"'Datos 2-Potenciales calent glob'!$E$6","v":1},{"$f":"'Datos 2-Potenciales calent glob'!$E$6","v":1},0,0,0,0,0,0,0]
[null,"Absorciones","Fuente fija","Absorción","Erica arborea",null,null,"Ambos",1,{"$f":"'Alcance 1'!D101","v":0},{"$f":"'Alcance 1'!E101","v":"árboles"},null,1,null,0,"árboles",0,0,0,0,{"$f":"-'Datos 1-Factores emisión'!C695","v":-6.8388617226212753},0,0,0,0,0,0,{"$f":"'Datos 2-Potenciales calent glob'!$E$6","v":1},{"$f":"'Datos 2-Potenciales calent glob'!$E$31","v":28},{"$f":"'Datos 2-Potenciales calent glob'!$E$32","v":265},{"$f":"SUMIF('Datos 2-Potenciales calent glob'!$B$6:$B$56,Cálculos_5!F82,'Datos 2-Potenciales calent glob'!$E$6:$E$56)","v":0},{"$f":"'Datos 2-Potenciales calent glob'!$E$6","v":1},{"$f":"'Datos 2-Potenciales calent glob'!$E$6","v":1},0,0,0,0,0,0,0]
[null,"Absorciones","Fuente fija","Absorción","Eucalyptus camaldulensis",null,null,"Ambos",1,{"$f":"'Alcance 1'!D102","v":0},{"$f":"'Alcance 1'!E102","v":"árboles"},null,1,null,0,"árboles",0,0,0,0,{"$f":"-'Datos 1-Factores emisión'!C696","v":-52.194267408741631},0,0,0,0,0,0,{"$f":"'Datos 2-Potenciales calent glob'!$E$6","v":1},{"$f":"'Datos 2-Potenciales calent glob'!$E$31","v":28},{"$f":"'Datos 2-Potenciales calent glob'!$E$32","v":265},{"$f":"SUMIF('Datos 2-Potenciales calent glob'!$B$6:$B$56,Cálculos_5!F83,'Datos 2-Potenciales calent glob'!$E$6:$E$56)","v":0},{"$f":"'Datos 2-Potenciales calent glob'!$E$6","v":1},{"$f":"'Datos 2-Potenciales calent glob'!$E$6","v":1},0,0,0,0,0,0,0]
[null,"Absorciones","Fuente fija","Absorción","Eucalyptus globulus",null,null,"Ambos",1,{"$f":"'Alcance 1'!D103","v":0},{"$f":"'Alcance 1'!E103","v":"árboles"},null,1,null,0,"árboles",0,0,0,0,{"$f":"-'Datos 1-Factores emisión'!C697","v":-67.870994677230485},0,0,0,0,0,0,{"$f":"'Datos 2-Potenciales calent glob'!$E$6","v":1},{"$f":"'Datos 2-Potenciales calent glob'!$E$31","v":28},{"$f":"'Datos 2-Potenciales calent glob'!$E$32","v":265},{"$f":"SUMIF('Datos 2-Potenciales calent glob'!$B$6:$B$56,Cálculos_5!F84,'Datos 2-Potenciales calent glob'!$E$6:$E$56)","v":0},{"$f":"'Datos 2-Potenciales calent glob'!$E$6","v":1},{"$f":"'Datos 2-Potenciales calent glob'!$E$6","v":1},0,0,0,0,0,0,0]
[null,"Absorciones","Fuente fija","Absorción","Fagus sylvatica",null,null,"Ambos",1,{"$f":"'Alcance 1'!D104","v":0},{"$f":"'Alcance 1'!E104","v":"árboles"},null,1,null,0,"árboles",0,0,0,0,{"$f":"-'Datos 1-Factores emisión'!C698","v":-0.9069668055751493},0,0,0,0,0,0,{"$f":"'Datos 2-Potenciales calent glob'!$E$6","v":1},{"$f":"'Datos 2-Potenciales calent glob'!$E$31","v":28},{"$f":"'Datos 2-Potenciales calent glob'!$E$32","v":265},{"$f":"SUMIF('Datos 2-Potenciales calent glob'!$B$6:$B$56,Cálculos_5!F85,'Datos 2-Potenciales calent glob'!$E$6:$E$56)","v":0},{"$f":"'Datos 2-Potenciales calent glob'!$E$6","v":1},{"$f":"'Datos 2-Potenciales calent glob'!$E$6","v":1},0,0,0,0,0,0,0]
[null,"Absorciones","Fuente fija","Absorción","Fraxinus spp.",null,null,"Ambos",1,{"$f":"'Alcance 1'!D105","v":0},{"$f":"'Alcance 1'!E105","v":"árboles"},null,1,null,0,"árboles",0,0,0,0,{"$f":"-'Datos 1-Factores emisión'!C699","v":-6.1568550562671884},0,0,0,0,0,0,{"$f":"'Datos 2-Potenciales calent glob'!$E$6","v":1},{"$f":"'Datos 2-Potenciales calent glob'!$E$31","v":28},{"$f":"'Datos 2-Potenciales calent glob'!$E$32","v":265},{"$f":"SUMIF('Datos 2-Potenciales calent glob'!$B$6:$B$56,Cálculos_5!F86,'Datos 2-Potenciales calent glob'!$E$6:$E$56)","v":0},{"$f":"'Datos 2-Potenciales calent glob'!$E$6","v":1},{"$f":"'Datos 2-Potenciales calent glob'!$E$6","v":1},0,0,0,0,0,0,0]
[null,"Absorciones","Fuente fija","Absorción","Ilex aquifolium",null,null,"Ambos",1,{"$f":"'Alcance 1'!D106","v":0},{"$f":"'Alcance 1'!E106","v":"árboles"},null,1,null,0,"árboles",0,0,0,0,{"$f":"-'Datos 1-Factores emisión'!C700","v":-1.5935674438940231},0,0,0,0,0,0,{"$f":"'Datos 2-Potenciales calent glob'!$E$6","v":1},{"$f":"'Datos 2-Potenciales calent glob'!$E$31","v":28},{"$f":"'Datos 2-Potenciales calent glob'!$E$32","v":265},{"$f":"SUMIF('Datos 2-Potenciales calent glob'!$B$6:$B$56,Cálculos_5!F87,'Datos 2-Potenciales calent glob'!$E$6:$E$56)","v":0},{"$f":"'Datos 2-Potenciales calent glob'!$E$6","v":1},{"$f":"'Datos 2-Potenciales calent glob'!$E$6","v":1},0,0,0,0,0,0,0]
[null,"Absorciones","Fuente fija","Absorción","Ilex canariensis",null,null,"Ambos",1,{"$f":"'Alcance 1'!D107","v":0},{"$f":"'Alcance 1'!E107","v":"árboles"},null,1,null,0,"árboles",0,0,0,0,{"$f":"-'Datos 1-Factores emisión'!C701","v":-1.7947778277173432},0,0,0,0,0,0,{"$f":"'Datos 2-Potenciales calent glob'!$E$6","v":1},{"$f":"'Datos 2-Potenciales calent glob'!$E$31","v":28},{"$f":"'Datos 2-Potenciales calent glob'!$E$32","v":265},{"$f":"SUMIF('Datos 2-Potenciales calent glob'!$B$6:$B$56,Cálculos_5!F88,'Datos 2-Potenciales calent glob'!$E$6:$E$56)","v":0},{"$f":"'Datos 2-Potenciales calent glob'!$E$6","v":1},{"$f":"'Datos 2-Potenciales calent glob'!$E$6","v":1},0,0,0,0,0,0,0]
[null,"Absorciones","Fuente fija","Absorción","Juglans regia",null,null,"Ambos",1,{"$f":"'Alcance 1'!D108","v":0},{"$f":"'Alcance 1'!E108","v":"árboles"},null,1,null,0,"árboles",0,0,0,0,{"$f":"-'Datos 1-Factores emisión'!C702","v":-6.2059076975914902},0,0,0,0,0,0,{"$f":"'Datos 2-Potenciales calent glob'!$E$6","v":1},{"$f":"'Datos 2-Potenciales calent glob'!$E$31","v":28},{"$f":"'Datos 2-Potenciales calent glob'!$E$32","v":265},{"$f":"SUMIF('Datos 2-Potenciales calent glob'!$B$6:$B$56,Cálculos_5!F89,'Datos 2-Potenciales calent glob'!$E$6:$E$56)","v":0},{"$f":"'Datos 2-Potenciales calent glob'!$E$6","v":1},{"$f":"'Datos 2-Potenciales calent glob'!$E$6","v":1},0,0,0,0,0,0,0]
[null,"Absorciones","Fuente fija","Absorción","Juniperus oxycedrus, J. communis",null,null,"Ambos",1,{"$f":"'Alcance 1'!D109","v":0},{"$f":"'Alcance 1'!E109","v":"árboles"},null,1,null,0,"árboles",0,0,0,0,{"$f":"-'Datos 1-Factores emisión'!C703","v":-0.56923772177230947},0,0,0,0,0,0,{"$f":"'Datos 2-Potenciales calent glob'!$E$6","v":1},{"$f":"'Datos 2-Potenciales calent glob'!$E$31","v":28},{"$f":"'Datos 2-Potenciales calent glob'!$E$32","v":265},{"$f":"SUMIF('Datos 2-Potenciales calent glob'!$B$6:$B$56,Cálculos_5!F90,'Datos 2-Potenciales calent glob'!$E$6:$E$56)","v":0},{"$f":"'Datos 2-Potenciales calent glob'!$E$6","v":1},{"$f":"'Datos 2-Potenciales calent glob'!$E$6","v":1},0,0,0,0,0,0,0]
[null,"Absorciones","Fuente fija","Absorción","Juniperus phoenicea",null,null,"Ambos",1,{"$f":"'Alcance 1'!D110","v":0},{"$f":"'Alcance 1'!E110","v":"árboles"},null,1,null,0,"árboles",0,0,0,0,{"$f":"-'Datos 1-Factores emisión'!C704","v":-0.94277066105405549},0,0,0,0,0,0,{"$f":"'Datos 2-Potenciales calent glob'!$E$6","v":1},{"$f":"'Datos 2-Potenciales calent glob'!$E$31","v":28},{"$f":"'Datos 2-Potenciales calent glob'!$E$32","v":265},{"$f":"SUMIF('Datos 2-Potenciales calent glob'!$B$6:$B$56,Cálculos_5!F91,'Datos 2-Potenciales calent glob'!$E$6:$E$56)","v":0},{"$f":"'Datos 2-Potenciales calent glob'!$E$6","v":1},{"$f":"'Datos 2-Potenciales calent glob'!$E$6","v":1},0,0,0,0,0,0,0]
[null,"Absorciones","Fuente fija","Absorción","Juniperus thurifera",null,null,"Ambos",1,{"$f":"'Alcance 1'!D111","v":0},{"$f":"'Alcance 1'!E111","v":"árboles"},null,1,null,0,"árboles",0,0,0,0,{"$f":"-'Datos 1-Factores emisión'!C705","v":-0.69711873280079795},0,0,0,0,0,0,{"$f":"'Datos 2-Potenciales calent glob'!$E$6","v":1},{"$f":"'Datos 2-Potenciales calent glob'!$E$31","v":28},{"$f":"'Datos 2-Potenciales calent glob'!$E$32","v":265},{"$f":"SUMIF('Datos 2-Potenciales calent glob'!$B$6:$B$56,Cálculos_5!F92,'Datos 2-Potenciales calent glob'!$E$6:$E$56)","v":0},{"$f":"'Datos 2-Potenciales calent glob'!$E$6","v":1},{"$f":"'Datos 2-Potenciales calent glob'!$E$6","v":1},0,0,0,0,0,0,0]
[null,"Absorciones","Fuente fija","Absorción","Larix spp.",null,null,"Ambos",1,{"$f":"'Alcance 1'!D112","v":0},{"$f":"'Alcance 1'!E112","v":"árboles"},null,1,null,0,"árboles",0,0,0,0,{"$f":"-'Datos 1-Factores emisión'!C706","v":-17.191216576532284},0,0,0,0,0,0,{"$f":"'Datos 2-Potenciales calent glob'!$E$6","v":1},{"$f":"'Datos 2-Potenciales calent glob'!$E$31","v":28},{"$f":"'Datos 2-Potenciales calent glob'!$E$32","v":265},{"$f":"SUMIF('Datos 2-Potenciales calent glob'!$B$6:$B$56,Cálculos_5!F93,'Datos 2-Potenciales calent glob'!$E$6:$E$56)","v":0},{"$f":"'Datos 2-Potenciales calent glob'!$E$6","v":1},{"$f":"'Datos 2-Potenciales calent glob'!$E$6","v":1},0,0,0,0,0,0,0]
[null,"Absorciones","Fuente fija","Absorción","Laurus azorica",null,null,"Ambos",1,{"$f":"'Alcance 1'!D113","v":0},{"$f":"'Alcance 1'!E113","v":"árboles"},null,1,null,0,"árboles",0,0,0,0,{"$f":"-'Datos 1-Factores emisión'!C707","v":-6.8388617226212753},0,0,0,0,0,0,{"$f":"'Datos 2-Potenciales calent glob'!$E$6","v":1},{"$f":"'Datos 2-Potenciales calent glob'!$E$31","v":28},{"$f":"'Datos 2-Potenciales calent glob'!$E$32","v":265},{"$f":"SUMIF('Datos 2-Potenciales calent glob'!$B$6:$B$56,Cálculos_5!F94,'Datos 2-Potenciales calent glob'!$E$6:$E$56)","v":0},{"$f":"'Datos 2-Potenciales calent glob'!$E$6","v":1},{"$f":"'Datos 2-Potenciales calent glob'!$E$6","v":1},0,0,0,0,0,0,0]
[null,"Absorciones","Fuente fija","Absorción","Laurus nobilis",null,null,"Ambos",1,{"$f":"'Alcance 1'!D114","v":0},{"$f":"'Alcance 1'!E114","v":"árboles"},null,1,null,0,"árboles",0,0,0,0,{"$f":"-'Datos 1-Factores emisión'!C708","v":-6.8388617226212753},0,0,0,0,0,0,{"$f":"'Datos 2-Potenciales calent glob'!$E$6","v":1},{"$f":"'Datos 2-Potenciales calent glob'!$E$31","v":28},{"$f":"'Datos 2-Potenciales calent glob'!$E$32","v":265},{"$f":"SUMIF('Datos 2-Potenciales calent glob'!$B$6:$B$56,Cálculos_5!F95,'Datos 2-Potenciales calent glob'!$E$6:$E$56)","v":0},{"$f":"'Datos 2-Potenciales calent glob'!$E$6","v":1},{"$f":"'Datos 2-Potenciales calent glob'!$E$6","v":1},0,0,0,0,0,0,0]
[null,"Absorciones","Fuente fija","Absorción","Malus sylvestris",null,null,"Ambos",1,{"$f":"'Alcance 1'!D115","v":0},{"$f":"'Alcance 1'!E115","v":"árboles"},null,1,null,0,"árboles",0,0,0,0,{"$f":"-'Datos 1-Factores emisión'!C709","v":-7.4877680651170682},0,0,0,0,0,0,{"$f":"'Datos 2-Potenciales calent glob'!$E$6","v":1},{"$f":"'Datos 2-Potenciales calent glob'!$E$31","v":28},{"$f":"'Datos 2-Potenciales calent glob'!$E$32","v":265},{"$f":"SUMIF('Datos 2-Potenciales calent glob'!$B$6:$B$56,Cálculos_5!F96,'Datos 2-Potenciales calent glob'!$E$6:$E$56)","v":0},{"$f":"'Datos 2-Potenciales calent glob'!$E$6","v":1},{"$f":"'Datos 2-Potenciales calent glob'!$E$6","v":1},0,0,0,0,0,0,0]
[null,"Absorciones","Fuente fija","Absorción","Myrica faya",null,null,"Ambos",1,{"$f":"'Alcance 1'!D116","v":0},{"$f":"'Alcance 1'!E116","v":"árboles"},null,1,null,0,"árboles",0,0,0,0,{"$f":"-'Datos 1-Factores emisión'!C710","v":-6.8388617226212753},0,0,0,0,0,0,{"$f":"'Datos 2-Potenciales calent glob'!$E$6","v":1},{"$f":"'Datos 2-Potenciales calent glob'!$E$31","v":28},{"$f":"'Datos 2-Potenciales calent glob'!$E$32","v":265},{"$f":"SUMIF('Datos 2-Potenciales calent glob'!$B$6:$B$56,Cálculos_5!F97,'Datos 2-Potenciales calent glob'!$E$6:$E$56)","v":0},{"$f":"'Datos 2-Potenciales calent glob'!$E$6","v":1},{"$f":"'Datos 2-Potenciales calent glob'!$E$6","v":1},0,0,0,0,0,0,0]
[null,"Absorciones","Fuente fija","Absorción","Myrtus communis",null,null,"Ambos",1,{"$f":"'Alcance 1'!D117","v":0},{"$f":"'Alcance 1'!E117","v":"árboles"},null,1,null,0,"árboles",0,0,0,0,{"$f":"-'Datos 1-Factores emisión'!C711","v":-6.8388617226212753},0,0,0,0,0,0,{"$f":"'Datos 2-Potenciales calent glob'!$E$6","v":1},{"$f":"'Datos 2-Potenciales calent glob'!$E$31","v":28},{"$f":"'Datos 2-Potenciales calent glob'!$E$32","v":265},{"$f":"SUMIF('Datos 2-Potenciales calent glob'!$B$6:$B$56,Cálculos_5!F98,'Datos 2-Potenciales calent glob'!$E$6:$E$56)","v":0},{"$f":"'Datos 2-Potenciales calent glob'!$E$6","v":1},{"$f":"'Datos 2-Potenciales calent glob'!$E$6","v":1},0,0,0,0,0,0,0]
[null,"Absorciones","Fuente fija","Absorción","Olea europaea",null,null,"Ambos",1,{"$f":"'Alcance 1'!D118","v":0},{"$f":"'Alcance 1'!E118","v":"árboles"},null,1,null,0,"árboles",0,0,0,0,{"$f":"-'Datos 1-Factores emisión'!C712","v":-2.8027299826087879},0,0,0,0,0,0,{"$f":"'Datos 2-Potenciales calent glob'!$E$6","v":1},{"$f":"'Datos 2-Potenciales calent glob'!$E$31","v":28},{"$f":"'Datos 2-Potenciales calent glob'!$E$32","v":265},{"$f":"SUMIF('Datos 2-Potenciales calent glob'!$B$6:$B$56,Cálculos_5!F99,'Datos 2-Potenciales calent glob'!$E$6:$E$56)","v":0},{"$f":"'Datos 2-Potenciales calent glob'!$E$6","v":1},{"$f":"'Datos 2-Potenciales calent glob'!$E$6","v":1},0,0,0,0,0,0,0]
[null,"Absorciones","Fuente fija","Absorción","Phillyrea latifolia",null,null,"Ambos",1,{"$f":"'Alcance 1'!D119","v":0},{"$f":"'Alcance 1'!E119","v":"árboles"},null,1,null,0,"árboles",0,0,0,0,{"$f":"-'Datos 1-Factores emisión'!C713","v":-2.9786645246888788},0,0,0,0,0,0,{"$f":"'Datos 2-Potenciales calent glob'!$E$6","v":1},{"$f":"'Datos 2-Potenciales calent glob'!$E$31","v":28},{"$f":"'Datos 2-Potenciales calent glob'!$E$32","v":265},{"$f":"SUMIF('Datos 2-Potenciales calent glob'!$B$6:$B$56,Cálculos_5!F100,'Datos 2-Potenciales calent glob'!$E$6:$E$56)","v":0},{"$f":"'Datos 2-Potenciales calent glob'!$E$6","v":1},{"$f":"'Datos 2-Potenciales calent glob'!$E$6","v":1},0,0,0,0,0,0,0]
[null,"Absorciones","Fuente fija","Absorción","Phoenix spp.",null,null,"Ambos",1,{"$f":"'Alcance 1'!D120","v":0},{"$f":"'Alcance 1'!E120","v":"árboles"},null,1,null,0,"árboles",0,0,0,0,{"$f":"-'Datos 1-Factores emisión'!C714","v":-29.855313544367842},0,0,0,0,0,0,{"$f":"'Datos 2-Potenciales calent glob'!$E$6","v":1},{"$f":"'Datos 2-Potenciales calent glob'!$E$31","v":28},{"$f":"'Datos 2-Potenciales calent glob'!$E$32","v":265},{"$f":"SUMIF('Datos 2-Potenciales calent glob'!$B$6:$B$56,Cálculos_5!F101,'Datos 2-Potenciales calent glob'!$E$6:$E$56)","v":0},{"$f":"'Datos 2-Potenciales calent glob'!$E$6","v":1},{"$f":"'Datos 2-Potenciales calent glob'!$E$6","v":1},0,0,0,0,0,0,0]
[null,"Absorciones","Fuente fija","Absorción","Picea abies",null,null,"Ambos",1,{"$f":"'Alcance 1'!D121","v":0},{"$f":"'Alcance 1'!E121","v":"árboles"},null,1,null,0,"árboles",0,0,0,0,{"$f":"-'Datos 1-Factores emisión'!C715","v":-43.215604411883824},0,0,0,0,0,0,{"$f":"'Datos 2-Potenciales calent glob'!$E$6","v":1},{"$f":"'Datos 2-Potenciales calent glob'!$E$31","v":28},{"$f":"'Datos 2-Potenciales calent glob'!$E$32","v":265},{"$f":"SUMIF('Datos 2-Potenciales calent glob'!$B$6:$B$56,Cálculos_5!F102,'Datos 2-Potenciales calent glob'!$E$6:$E$56)","v":0},{"$f":"'Datos 2-Potenciales calent glob'!$E$6","v":1},{"$f":"'Datos 2-Potenciales calent glob'!$E$6","v":1},0,0,0,0,0,0,0]
[null,"Absorciones","Fuente fija","Absorción","Pinus canariensis",null,null,"Ambos",1,{"$f":"'Alcance 1'!D122","v":0},{"$f":"'Alcance 1'!E122","v":"árboles"},null,1,null,0,"árboles",0,0,0,0,{"$f":"-'Datos 1-Factores emisión'!C716","v":-4.5116335469456423},0,0,0,0,0,0,{"$f":"'Datos 2-Potenciales calent glob'!$E$6","v":1},{"$f":"'Datos 2-Potenciales calent glob'!$E$31","v":28},{"$f":"'Datos 2-Potenciales calent glob'!$E$32","v":265},{"$f":"SUMIF('Datos 2-Potenciales calent glob'!$B$6:$B$56,Cálculos_5!F103,'Datos 2-Potenciales calent glob'!$E$6:$E$56)","v":0},{"$f":"'Datos 2-Potenciales calent glob'!$E$6","v":1},{"$f":"'Datos 2-Potenciales calent glob'!$E$6","v":1},0,0,0,0,0,0,0]
[null,"Absorciones","Fuente fija","Absorción","Pinus halepensis",null,null,"Ambos",1,{"$f":"'Alcance 1'!D123","v":0},{"$f":"'Alcance 1'!E123","v":"árboles"},null,1,null,0,"árboles",0,0,0,0,{"$f":"-'Datos 1-Factores emisión'!C717","v":-2.7396409014675265},0,0,0,0,0,0,{"$f":"'Datos 2-Potenciales calent glob'!$E$6","v":1},{"$f":"'Datos 2-Potenciales calent glob'!$E$31","v":28},{"$f":"'Datos 2-Potenciales calent glob'!$E$32","v":265},{"$f":"SUMIF('Datos 2-Potenciales calent glob'!$B$6:$B$56,Cálculos_5!F104,'Datos 2-Potenciales calent glob'!$E$6:$E$56)","v":0},{"$f":"'Datos 2-Potenciales calent glob'!$E$6","v":1},{"$f":"'Datos 2-Potenciales calent glob'!$E$6","v":1},0,0,0,0,0,0,0]
[null,"Absorciones","Fuente fija","Absorción","Pinus nigra Sistema Ibérico",null,null,"Ambos",1,{"$f":"'Alcance 1'!D124","v":0},{"$f":"'Alcance 1'!E124","v":"árboles"},null,1,null,0,"árboles",0,0,0,0,{"$f":"-'Datos 1-Factores emisión'!C718","v":-1.707884856498515},0,0,0,0,0,0,{"$f":"'Datos 2-Potenciales calent glob'!$E$6","v":1},{"$f":"'Datos 2-Potenciales calent glob'!$E$31","v":28},{"$f":"'Datos 2-Potenciales calent glob'!$E$32","v":265},{"$f":"SUMIF('Datos 2-Potenciales calent glob'!$B$6:$B$56,Cálculos_5!F105,'Datos 2-Potenciales calent glob'!$E$6:$E$56)","v":0},{"$f":"'Datos 2-Potenciales calent glob'!$E$6","v":1},{"$f":"'Datos 2-Potenciales calent glob'!$E$6","v":1},0,0,0,0,0,0,0]
[null,"Absorciones","Fuente fija","Absorción","Pinus nigra (Resto)",null,null,"Ambos",1,{"$f":"'Alcance 1'!D125","v":0},{"$f":"'Alcance 1'!E125","v":"árboles"},null,1,null,0,"árboles",0,0,0,0,{"$f":"-'Datos 1-Factores emisión'!C719","v":-2.6399271233093504},0,0,0,0,0,0,{"$f":"'Datos 2-Potenciales calent glob'!$E$6","v":1},{"$f":"'Datos 2-Potenciales calent glob'!$E$31","v":28},{"$f":"'Datos 2-Potenciales calent glob'!$E$32","v":265},{"$f":"SUMIF('Datos 2-Potenciales calent glob'!$B$6:$B$56,Cálculos_5!F106,'Datos 2-Potenciales calent glob'!$E$6:$E$56)","v":0},{"$f":"'Datos 2-Potenciales calent glob'!$E$6","v":1},{"$f":"'Datos 2-Potenciales calent glob'!$E$6","v":1},0,0,0,0,0,0,0]
[null,"Absorciones","Fuente fija","Absorción","Pinus pinaster ssp. atlantica Zona Norte interior",null,null,"Ambos",1,{"$f":"'Alcance 1'!D126","v":0},{"$f":"'Alcance 1'!E126","v":"árboles"},null,1,null,0,"árboles",0,0,0,0,{"$f":"-'Datos 1-Factores emisión'!C720","v":-19.416497876984124},0,0,0,0,0,0,{"$f":"'Datos 2-Potenciales calent glob'!$E$6","v":1},{"$f":"'Datos 2-Potenciales calent glob'!$E$31","v":28},{"$f":"'Datos 2-Potenciales calent glob'!$E$32","v":265},{"$f":"SUMIF('Datos 2-Potenciales calent glob'!$B$6:$B$56,Cálculos_5!F107,'Datos 2-Potenciales calent glob'!$E$6:$E$56)","v":0},{"$f":"'Datos 2-Potenciales calent glob'!$E$6","v":1},{"$f":"'Datos 2-Potenciales calent glob'!$E$6","v":1},0,0,0,0,0,0,0]
[null,"Absorciones","Fuente fija","Absorción","Pinus pinaster ssp. atlantica Zona Norte costera",null,null,"Ambos",1,{"$f":"'Alcance 1'!D127","v":0},{"$f":"'Alcance 1'!E127","v":"árboles"},null,1,null,0,"árboles",0,0,0,0,{"$f":"-'Datos 1-Factores emisión'!C721","v":-23.040528217655929},0,0,0,0,0,0,{"$f":"'Datos 2-Potenciales calent glob'!$E$6","v":1},{"$f":"'Datos 2-Potenciales calent glob'!$E$31","v":28},{"$f":"'Datos 2-Potenciales calent glob'!$E$32","v":265},{"$f":"SUMIF('Datos 2-Potenciales calent glob'!$B$6:$B$56,Cálculos_5!F108,'Datos 2-Potenciales calent glob'!$E$6:$E$56)","v":0},{"$f":"'Datos 2-Potenciales calent glob'!$E$6","v":1},{"$f":"'Datos 2-Potenciales calent glob'!$E$6","v":1},0,0,0,0,0,0,0]
[null,"Absorciones","Fuente fija","Absorción","Pinus pinaster ssp. mesogeensis Sistema Central",null,null,"Ambos",1,{"$f":"'Alcance 1'!D128","v":0},{"$f":"'Alcance 1'!E128","v":"árboles"},null,1,null,0,"árboles",0,0,0,0,{"$f":"-'Datos 1-Factores emisión'!C722","v":-5.9914245101205994},0,0,0,0,0,0,{"$f":"'Datos 2-Potenciales calent glob'!$E$6","v":1},{"$f":"'Datos 2-Potenciales calent glob'!$E$31","v":28},{"$f":"'Datos 2-Potenciales calent glob'!$E$32","v":265},{"$f":"SUMIF('Datos 2-Potenciales calent glob'!$B$6:$B$56,Cálculos_5!F109,'Datos 2-Potenciales calent glob'!$E$6:$E$56)","v":0},{"$f":"'Datos 2-Potenciales calent glob'!$E$6","v":1},{"$f":"'Datos 2-Potenciales calent glob'!$E$6","v":1},0,0,0,0,0,0,0]
[null,"Absorciones","Fuente fija","Absorción","Pinus pinaster (Resto)",null,null,"Ambos",1,{"$f":"'Alcance 1'!D129","v":0},{"$f":"'Alcance 1'!E129","v":"árboles"},null,1,null,0,"árboles",0,0,0,0,{"$f":"-'Datos 1-Factores emisión'!C723","v":-1.1282045142491459},0,0,0,0,0,0,{"$f":"'Datos 2-Potenciales calent glob'!$E$6","v":1},{"$f":"'Datos 2-Potenciales calent glob'!$E$31","v":28},{"$f":"'Datos 2-Potenciales calent glob'!$E$32","v":265},{"$f":"SUMIF('Datos 2-Potenciales calent glob'!$B$6:$B$56,Cálculos_5!F110,'Datos 2-Potenciales calent glob'!$E$6:$E$56)","v":0},{"$f":"'Datos 2-Potenciales calent glob'!$E$6","v":1},{"$f":"'Datos 2-Potenciales calent glob'!$E$6","v":1},0,0,0,0,0,0,0]
[null,"Absorciones","Fuente fija","Absorción","Pinus pinea",null,null,"Ambos",1,{"$f":"'Alcance 1'!D130","v":0},{"$f":"'Alcance 1'!E130","v":"árboles"},null,1,null,0,"árboles",0,0,0,0,{"$f":"-'Datos 1-Factores emisión'!C724","v":-5.5869000612925124},0,0,0,0,0,0,{"$f":"'Datos 2-Potenciales calent glob'!$E$6","v":1},{"$f":"'Datos 2-Potenciales calent glob'!$E$31","v":28},{"$f":"'Datos 2-Potenciales calent glob'!$E$32","v":265},{"$f":"SUMIF('Datos 2-Potenciales calent glob'!$B$6:$B$56,Cálculos_5!F111,'Datos 2-Potenciales calent glob'!$E$6:$E$56)","v":0},{"$f":"'Datos 2-Potenciales calent glob'!$E$6","v":1},{"$f":"'Datos 2-Potenciales calent glob'!$E$6","v":1},0,0,0,0,0,0,0]
[null,"Absorciones","Fuente fija","Absorción","Pinus radiata",null,null,"Ambos",1,{"$f":"'Alcance 1'!D131","v":0},{"$f":"'Alcance 1'!E131","v":"árboles"},null,1,null,0,"árboles",0,0,0,0,{"$f":"-'Datos 1-Factores emisión'!C725","v":-38.837192462473482},0,0,0,0,0,0,{"$f":"'Datos 2-Potenciales calent glob'!$E$6","v":1},{"$f":"'Datos 2-Potenciales calent glob'!$E$31","v":28},{"$f":"'Datos 2-Potenciales calent glob'!$E$32","v":265},{"$f":"SUMIF('Datos 2-Potenciales calent glob'!$B$6:$B$56,Cálculos_5!F112,'Datos 2-Potenciales calent glob'!$E$6:$E$56)","v":0},{"$f":"'Datos 2-Potenciales calent glob'!$E$6","v":1},{"$f":"'Datos 2-Potenciales calent glob'!$E$6","v":1},0,0,0,0,0,0,0]
[null,"Absorciones","Fuente fija","Absorción","Pinus sylvestris Sistema Central",null,null,"Ambos",1,{"$f":"'Alcance 1'!D132","v":0},{"$f":"'Alcance 1'!E132","v":"árboles"},null,1,null,0,"árboles",0,0,0,0,{"$f":"-'Datos 1-Factores emisión'!C726","v":-2.0341483274480723},0,0,0,0,0,0,{"$f":"'Datos 2-Potenciales calent glob'!$E$6","v":1},{"$f":"'Datos 2-Potenciales calent glob'!$E$31","v":28},{"$f":"'Datos 2-Potenciales calent glob'!$E$32","v":265},{"$f":"SUMIF('Datos 2-Potenciales calent glob'!$B$6:$B$56,Cálculos_5!F113,'Datos 2-Potenciales calent glob'!$E$6:$E$56)","v":0},{"$f":"'Datos 2-Potenciales calent glob'!$E$6","v":1},{"$f":"'Datos 2-Potenciales calent glob'!$E$6","v":1},0,0,0,0,0,0,0]
[null,"Absorciones","Fuente fija","Absorción","Pinus sylvestris Sistema Ibérico",null,null,"Ambos",1,{"$f":"'Alcance 1'!D133","v":0},{"$f":"'Alcance 1'!E133","v":"árboles"},null,1,null,0,"árboles",0,0,0,0,{"$f":"-'Datos 1-Factores emisión'!C727","v":-1.5819644153320491},0,0,0,0,0,0,{"$f":"'Datos 2-Potenciales calent glob'!$E$6","v":1},{"$f":"'Datos 2-Potenciales calent glob'!$E$31","v":28},{"$f":"'Datos 2-Potenciales calent glob'!$E$32","v":265},{"$f":"SUMIF('Datos 2-Potenciales calent glob'!$B$6:$B$56,Cálculos_5!F114,'Datos 2-Potenciales calent glob'!$E$6:$E$56)","v":0},{"$f":"'Datos 2-Potenciales calent glob'!$E$6","v":1},{"$f":"'Datos 2-Potenciales calent glob'!$E$6","v":1},0,0,0,0,0,0,0]
[null,"Absorciones","Fuente fija","Absorción","Pinus sylvestris Pirineos",null,null,"Ambos",1,{"$f":"'Alcance 1'!D134","v":0},{"$f":"'Alcance 1'!E134","v":"árboles"},null,1,null,0,"árboles",0,0,0,0,{"$f":"-'Datos 1-Factores emisión'!C728","v":-2.1817713128270504},0,0,0,0,0,0,{"$f":"'Datos 2-Potenciales calent glob'!$E$6","v":1},{"$f":"'Datos 2-Potenciales calent glob'!$E$31","v":28},{"$f":"'Datos 2-Potenciales calent glob'!$E$32","v":265},{"$f":"SUMIF('Datos 2-Potenciales calent glob'!$B$6:$B$56,Cálculos_5!F115,'Datos 2-Potenciales calent glob'!$E$6:$E$56)","v":0},{"$f":"'Datos 2-Potenciales calent glob'!$E$6","v":1},{"$f":"'Datos 2-Potenciales calent glob'!$E$6","v":1},0,0,0,0,0,0,0]
[null,"Absorciones","Fuente fija","Absorción","Pinus sylvestris (Resto)",null,null,"Ambos",1,{"$f":"'Alcance 1'!D135","v":0},{"$f":"'Alcance 1'!E135","v":"árboles"},null,1,null,0,"árboles",0,0,0,0,{"$f":"-'Datos 1-Factores emisión'!C729","v":-1.9326280185357239},0,0,0,0,0,0,{"$f":"'Datos 2-Potenciales calent glob'!$E$6","v":1},{"$f":"'Datos 2-Potenciales calent glob'!$E$31","v":28},{"$f":"'Datos 2-Potenciales calent glob'!$E$32","v":265},{"$f":"SUMIF('Datos 2-Potenciales calent glob'!$B$6:$B$56,Cálculos_5!F116,'Datos 2-Potenciales calent glob'!$E$6:$E$56)","v":0},{"$f":"'Datos 2-Potenciales calent glob'!$E$6","v":1},{"$f":"'Datos 2-Potenciales calent glob'!$E$6","v":1},0,0,0,0,0,0,0]
[null,"Absorciones","Fuente fija","Absorción","Pinus uncinata",null,null,"Ambos",1,{"$f":"'Alcance 1'!D136","v":0},{"$f":"'Alcance 1'!E136","v":"árboles"},null,1,null,0,"árboles",0,0,0,0,{"$f":"-'Datos 1-Factores emisión'!C730","v":-3.0046801095706153},0,0,0,0,0,0,{"$f":"'Datos 2-Potenciales calent glob'!$E$6","v":1},{"$f":"'Datos 2-Potenciales calent glob'!$E$31","v":28},{"$f":"'Datos 2-Potenciales calent glob'!$E$32","v":265},{"$f":"SUMIF('Datos 2-Potenciales calent glob'!$B$6:$B$56,Cálculos_5!F117,'Datos 2-Potenciales calent glob'!$E$6:$E$56)","v":0},{"$f":"'Datos 2-Potenciales calent glob'!$E$6","v":1},{"$f":"'Datos 2-Potenciales calent glob'!$E$6","v":1},0,0,0,0,0,0,0]
[null,"Absorciones","Fuente fija","Absorción","Pistacia terebinthus",null,null,"Ambos",1,{"$f":"'Alcance 1'!D137","v":0},{"$f":"'Alcance 1'!E137","v":"árboles"},null,1,null,0,"árboles",0,0,0,0,{"$f":"-'Datos 1-Factores emisión'!C731","v":-6.8388617226212753},0,0,0,0,0,0,{"$f":"'Datos 2-Potenciales calent glob'!$E$6","v":1},{"$f":"'Datos 2-Potenciales calent glob'!$E$31","v":28},{"$f":"'Datos 2-Potenciales calent glob'!$E$32","v":265},{"$f":"SUMIF('Datos 2-Potenciales calent glob'!$B$6:$B$56,Cálculos_5!F118,'Datos 2-Potenciales calent glob'!$E$6:$E$56)","v":0},{"$f":"'Datos 2-Potenciales calent glob'!$E$6","v":1},{"$f":"'Datos 2-Potenciales calent glob'!$E$6","v":1},0,0,0,0,0,0,0]
[null,"Absorciones","Fuente fija","Absorción","Platanus hispanica",null,null,"Ambos",1,{"$f":"'Alcance 1'!D138","v":0},{"$f":"'Alcance 1'!E138","v":"árboles"},null,1,null,0,"árboles",0,0,0,0,{"$f":"-'Datos 1-Factores emisión'!C732","v":-22.388426654141334},0,0,0,0,0,0,{"$f":"'Datos 2-Potenciales calent glob'!$E$6","v":1},{"$f":"'Datos 2-Potenciales calent glob'!$E$31","v":28},{"$f":"'Datos 2-Potenciales calent glob'!$E$32","v":265},{"$f":"SUMIF('Datos 2-Potenciales calent glob'!$B$6:$B$56,Cálculos_5!F119,'Datos 2-Potenciales calent glob'!$E$6:$E$56)","v":0},{"$f":"'Datos 2-Potenciales calent glob'!$E$6","v":1},{"$f":"'Datos 2-Potenciales calent glob'!$E$6","v":1},0,0,0,0,0,0,0]
[null,"Absorciones","Fuente fija","Absorción","Populus alba",null,null,"Ambos",1,{"$f":"'Alcance 1'!D139","v":0},{"$f":"'Alcance 1'!E139","v":"árboles"},null,1,null,0,"árboles",0,0,0,0,{"$f":"-'Datos 1-Factores emisión'!C733","v":-22.388426654141334},0,0,0,0,0,0,{"$f":"'Datos 2-Potenciales calent glob'!$E$6","v":1},{"$f":"'Datos 2-Potenciales calent glob'!$E$31","v":28},{"$f":"'Datos 2-Potenciales calent glob'!$E$32","v":265},{"$f":"SUMIF('Datos 2-Potenciales calent glob'!$B$6:$B$56,Cálculos_5!F120,'Datos 2-Potenciales calent glob'!$E$6:$E$56)","v":0},{"$f":"'Datos 2-Potenciales calent glob'!$E$6","v":1},{"$f":"'Datos 2-Potenciales calent glob'!$E$6","v":1},0,0,0,0,0,0,0]
[null,"Absorciones","Fuente fija","Absorción","Populus nigra",null,null,"Ambos",1,{"$f":"'Alcance 1'!D140","v":0},{"$f":"'Alcance 1'!E140","v":"árboles"},null,1,null,0,"árboles",0,0,0,0,{"$f":"-'Datos 1-Factores emisión'!C734","v":-33.54816511050106},0,0,0,0,0,0,{"$f":"'Datos 2-Potenciales calent glob'!$E$6","v":1},{"$f":"'Datos 2-Potenciales calent glob'!$E$31","v":28},{"$f":"'Datos 2-Potenciales calent glob'!$E$32","v":265},{"$f":"SUMIF('Datos 2-Potenciales calent glob'!$B$6:$B$56,Cálculos_5!F121,'Datos 2-Potenciales calent glob'!$E$6:$E$56)","v":0},{"$f":"'Datos 2-Potenciales calent glob'!$E$6","v":1},{"$f":"'Datos 2-Potenciales calent glob'!$E$6","v":1},0,0,0,0,0,0,0]
[null,"Absorciones","Fuente fija","Absorción","Populus x canadensis",null,null,"Ambos",1,{"$f":"'Alcance 1'!D141","v":0},{"$f":"'Alcance 1'!E141","v":"árboles"},null,1,null,0,"árboles",0,0,0,0,{"$f":"-'Datos 1-Factores emisión'!C735","v":-39.246727504175098},0,0,0,0,0,0,{"$f":"'Datos 2-Potenciales calent glob'!$E$6","v":1},{"$f":"'Datos 2-Potenciales calent glob'!$E$31","v":28},{"$f":"'Datos 2-Potenciales calent glob'!$E$32","v":265},{"$f":"SUMIF('Datos 2-Potenciales calent glob'!$B$6:$B$56,Cálculos_5!F122,'Datos 2-Potenciales calent glob'!$E$6:$E$56)","v":0},{"$f":"'Datos 2-Potenciales calent glob'!$E$6","v":1},{"$f":"'Datos 2-Potenciales calent glob'!$E$6","v":1},0,0,0,0,0,0,0]
[null,"Absorciones","Fuente fija","Absorción","Prunus spp.",null,null,"Ambos",1,{"$f":"'Alcance 1'!D142","v":0},{"$f":"'Alcance 1'!E142","v":"árboles"},null,1,null,0,"árboles",0,0,0,0,{"$f":"-'Datos 1-Factores emisión'!C736","v":-7.4877680651170682},0,0,0,0,0,0,{"$f":"'Datos 2-Potenciales calent glob'!$E$6","v":1},{"$f":"'Datos 2-Potenciales calent glob'!$E$31","v":28},{"$f":"'Datos 2-Potenciales calent glob'!$E$32","v":265},{"$f":"SUMIF('Datos 2-Potenciales calent glob'!$B$6:$B$56,Cálculos_5!F123,'Datos 2-Potenciales calent glob'!$E$6:$E$56)","v":0},{"$f":"'Datos 2-Potenciales calent glob'!$E$6","v":1},{"$f":"'Datos 2-Potenciales calent glob'!$E$6","v":1},0,0,0,0,0,0,0]
[null,"Absorciones","Fuente fija","Absorción","Pseudotsuga menziesii",null,null,"Ambos",1,{"$f":"'Alcance 1'!D143","v":0},{"$f":"'Alcance 1'!E143","v":"árboles"},null,1,null,0,"árboles",0,0,0,0,{"$f":"-'Datos 1-Factores emisión'!C737","v":-43.215604411883824},0,0,0,0,0,0,{"$f":"'Datos 2-Potenciales calent glob'!$E$6","v":1},{"$f":"'Datos 2-Potenciales calent glob'!$E$31","v":28},{"$f":"'Datos 2-Potenciales calent glob'!$E$32","v":265},{"$f":"SUMIF('Datos 2-Potenciales calent glob'!$B$6:$B$56,Cálculos_5!F124,'Datos 2-Potenciales calent glob'!$E$6:$E$56)","v":0},{"$f":"'Datos 2-Potenciales calent glob'!$E$6","v":1},{"$f":"'Datos 2-Potenciales calent glob'!$E$6","v":1},0,0,0,0,0,0,0]
[null,"Absorciones","Fuente fija","Absorción","Pyrus spp.",null,null,"Ambos",1,{"$f":"'Alcance 1'!D144","v":0},{"$f":"'Alcance 1'!E144","v":"árboles"},null,1,null,0,"árboles",0,0,0,0,{"$f":"-'Datos 1-Factores emisión'!C738","v":-7.4877680651170682},0,0,0,0,0,0,{"$f":"'Datos 2-Potenciales calent glob'!$E$6","v":1},{"$f":"'Datos 2-Potenciales calent glob'!$E$31","v":28},{"$f":"'Datos 2-Potenciales calent glob'!$E$32","v":265},{"$f":"SUMIF('Datos 2-Potenciales calent glob'!$B$6:$B$56,Cálculos_5!F125,'Datos 2-Potenciales calent glob'!$E$6:$E$56)","v":0},{"$f":"'Datos 2-Potenciales calent glob'!$E$6","v":1},{"$f":"'Datos 2-Potenciales calent glob'!$E$6","v":1},0,0,0,0,0,0,0]
[null,"Absorciones","Fuente fija","Absorción","Quercus canariensis",null,null,"Ambos",1,{"$f":"'Alcance 1'!D145","v":0},{"$f":"'Alcance 1'!E145","v":"árboles"},null,1,null,0,"árboles",0,0,0,0,{"$f":"-'Datos 1-Factores emisión'!C739","v":-4.2404885182243426},0,0,0,0,0,0,{"$f":"'Datos 2-Potenciales calent glob'!$E$6","v":1},{"$f":"'Datos 2-Potenciales calent glob'!$E$31","v":28},{"$f":"'Datos 2-Potenciales calent glob'!$E$32","v":265},{"$f":"SUMIF('Datos 2-Potenciales calent glob'!$B$6:$B$56,Cálculos_5!F126,'Datos 2-Potenciales calent glob'!$E$6:$E$56)","v":0},{"$f":"'Datos 2-Potenciales calent glob'!$E$6","v":1},{"$f":"'Datos 2-Potenciales calent glob'!$E$6","v":1},0,0,0,{"$f":"Y126*AE126","v":0},0,0,0]
[null,"Absorciones","Fuente fija","Absorción","Quercus faginea",null,null,"Ambos",1,{"$f":"'Alcance 1'!D146","v":0},{"$f":"'Alcance 1'!E146","v":"árboles"},null,1,null,0,"árboles",0,0,0,0,{"$f":"-'Datos 1-Factores emisión'!C740","v":-3.2518891322263328},0,0,0,0,0,0,{"$f":"'Datos 2-Potenciales calent glob'!$E$6","v":1},{"$f":"'Datos 2-Potenciales calent glob'!$E$31","v":28},{"$f":"'Datos 2-Potenciales calent glob'!$E$32","v":265},{"$f":"SUMIF('Datos 2-Potenciales calent glob'!$B$6:$B$56,Cálculos_5!F127,'Datos 2-Potenciales calent glob'!$E$6:$E$56)","v":0},{"$f":"'Datos 2-Potenciales calent glob'!$E$6","v":1},{"$f":"'Datos 2-Potenciales calent glob'!$E$6","v":1},{"$f":"V127*AB127","v":0},0,0,0,0,0,0]
[null,"Absorciones","Fuente fija","Absorción","Quercus ilex",null,null,"Ambos",1,{"$f":"'Alcance 1'!D147","v":0},{"$f":"'Alcance 1'!E147","v":"árboles"},null,1,null,0,"árboles",0,0,0,0,{"$f":"-'Datos 1-Factores emisión'!C741","v":-2.4045190789989985},0,0,0,0,0,0,{"$f":"'Datos 2-Potenciales calent glob'!$E$6","v":1},{"$f":"'Datos 2-Potenciales calent glob'!$E$31","v":28},{"$f":"'Datos 2-Potenciales calent glob'!$E$32","v":265},{"$f":"SUMIF('Datos 2-Potenciales calent glob'!$B$6:$B$56,Cálculos_5!F128,'Datos 2-Potenciales calent glob'!$E$6:$E$56)","v":0},{"$f":"'Datos 2-Potenciales calent glob'!$E$6","v":1},{"$f":"'Datos 2-Potenciales calent glob'!$E$6","v":1},0,0,0,0,0,0,0]
[null,"Absorciones","Fuente fija","Absorción","Quercus petraea",null,null,"Ambos",1,{"$f":"'Alcance 1'!D148","v":0},{"$f":"'Alcance 1'!E148","v":"árboles"},null,1,null,0,"árboles",0,0,0,0,{"$f":"-'Datos 1-Factores emisión'!C742","v":-5.9666879957040377},0,0,0,0,0,0,{"$f":"'Datos 2-Potenciales calent glob'!$E$6","v":1},{"$f":"'Datos 2-Potenciales calent glob'!$E$31","v":28},{"$f":"'Datos 2-Potenciales calent glob'!$E$32","v":265},{"$f":"SUMIF('Datos 2-Potenciales calent glob'!$B$6:$B$56,Cálculos_5!F129,'Datos 2-Potenciales calent glob'!$E$6:$E$56)","v":0},{"$f":"'Datos 2-Potenciales calent glob'!$E$6","v":1},{"$f":"'Datos 2-Potenciales calent glob'!$E$6","v":1},0,0,0,0,0,0,0]
[null,"Absorciones","Fuente fija","Absorción","Quercus pubescens",null,null,"Ambos",1,{"$f":"'Alcance 1'!D149","v":0},{"$f":"'Alcance 1'!E149","v":"árboles"},null,1,null,0,"árboles",0,0,0,0,{"$f":"-'Datos 1-Factores emisión'!C743","v":-4.9185979668704967},0,0,0,0,0,0,{"$f":"'Datos 2-Potenciales calent glob'!$E$6","v":1},{"$f":"'Datos 2-Potenciales calent glob'!$E$31","v":28},{"$f":"'Datos 2-Potenciales calent glob'!$E$32","v":265},{"$f":"SUMIF('Datos 2-Potenciales calent glob'!$B$6:$B$56,Cálculos_5!F130,'Datos 2-Potenciales calent glob'!$E$6:$E$56)","v":0},{"$f":"'Datos 2-Potenciales calent glob'!$E$6","v":1},{"$f":"'Datos 2-Potenciales calent glob'!$E$6","v":1},0,0,0,0,0,0,0]
[null,"Absorciones","Fuente fija","Absorción","Quercus pyrenaica",null,null,"Ambos",1,{"$f":"'Alcance 1'!D150","v":0},{"$f":"'Alcance 1'!E150","v":"árboles"},null,1,null,0,"árboles",0,0,0,0,{"$f":"-'Datos 1-Factores emisión'!C744","v":-4.9310644038237283},0,0,0,0,0,0,{"$f":"'Datos 2-Potenciales calent glob'!$E$6","v":1},{"$f":"'Datos 2-Potenciales calent glob'!$E$31","v":28},{"$f":"'Datos 2-Potenciales calent glob'!$E$32","v":265},{"$f":"SUMIF('Datos 2-Potenciales calent glob'!$B$6:$B$56,Cálculos_5!F131,'Datos 2-Potenciales calent glob'!$E$6:$E$56)","v":0},{"$f":"'Datos 2-Potenciales calent glob'!$E$6","v":1},{"$f":"'Datos 2-Potenciales calent glob'!$E$6","v":1},0,0,0,0,0,0,0]
[null,"Absorciones","Fuente fija","Absorción","Quercus robur",null,null,"Ambos",1,{"$f":"'Alcance 1'!D151","v":0},{"$f":"'Alcance 1'!E151","v":"árboles"},null,1,null,0,"árboles",0,0,0,0,{"$f":"-'Datos 1-Factores emisión'!C745","v":-6.415655592075364},0,0,0,0,0,0,{"$f":"'Datos 2-Potenciales calent glob'!$E$6","v":1},{"$f":"'Datos 2-Potenciales calent glob'!$E$31","v":28},{"$f":"'Datos 2-Potenciales calent glob'!$E$32","v":265},{"$f":"SUMIF('Datos 2-Potenciales calent glob'!$B$6:$B$56,Cálculos_5!F132,'Datos 2-Potenciales calent glob'!$E$6:$E$56)","v":0},{"$f":"'Datos 2-Potenciales calent glob'!$E$6","v":1},{"$f":"'Datos 2-Potenciales calent glob'!$E$6","v":1},0,0,0,0,0,0,0]
[null,"Absorciones","Fuente fija","Absorción","Quercus rubra",null,null,"Ambos",1,{"$f":"'Alcance 1'!D152","v":0},{"$f":"'Alcance 1'!E152","v":"árboles"},null,1,null,0,"árboles",0,0,0,0,{"$f":"-'Datos 1-Factores emisión'!C746","v":-7.3846859261478635},0,0,0,0,0,0,{"$f":"'Datos 2-Potenciales calent glob'!$E$6","v":1},{"$f":"'Datos 2-Potenciales calent glob'!$E$31","v":28},{"$f":"'Datos 2-Potenciales calent glob'!$E$32","v":265},{"$f":"SUMIF('Datos 2-Potenciales calent glob'!$B$6:$B$56,Cálculos_5!F133,'Datos 2-Potenciales calent glob'!$E$6:$E$56)","v":0},{"$f":"'Datos 2-Potenciales calent glob'!$E$6","v":1},{"$f":"'Datos 2-Potenciales calent glob'!$E$6","v":1},0,0,0,0,0,0,0]
[null,"Absorciones","Fuente fija","Absorción","Quercus suber",null,null,"Ambos",1,{"$f":"'Alcance 1'!D153","v":0},{"$f":"'Alcance 1'!E153","v":"árboles"},null,1,null,0,"árboles",0,0,0,0,{"$f":"-'Datos 1-Factores emisión'!C747","v":-3.7055579179222637},0,0,0,0,0,0,{"$f":"'Datos 2-Potenciales calent glob'!$E$6","v":1},{"$f":"'Datos 2-Potenciales calent glob'!$E$31","v":28},{"$f":"'Datos 2-Potenciales calent glob'!$E$32","v":265},{"$f":"SUMIF('Datos 2-Potenciales calent glob'!$B$6:$B$56,Cálculos_5!F134,'Datos 2-Potenciales calent glob'!$E$6:$E$56)","v":0},{"$f":"'Datos 2-Potenciales calent glob'!$E$6","v":1},{"$f":"'Datos 2-Potenciales calent glob'!$E$6","v":1},0,0,0,0,0,0,0]
[null,"Absorciones","Fuente fija","Absorción","Rhamnus alaternus",null,null,"Ambos",1,{"$f":"'Alcance 1'!D154","v":0},{"$f":"'Alcance 1'!E154","v":"árboles"},null,1,null,0,"árboles",0,0,0,0,{"$f":"-'Datos 1-Factores emisión'!C748","v":-6.8388617226212753},0,0,0,0,0,0,{"$f":"'Datos 2-Potenciales calent glob'!$E$6","v":1},{"$f":"'Datos 2-Potenciales calent glob'!$E$31","v":28},{"$f":"'Datos 2-Potenciales calent glob'!$E$32","v":265},{"$f":"SUMIF('Datos 2-Potenciales calent glob'!$B$6:$B$56,Cálculos_5!F135,'Datos 2-Potenciales calent glob'!$E$6:$E$56)","v":0},{"$f":"'Datos 2-Potenciales calent glob'!$E$6","v":1},{"$f":"'Datos 2-Potenciales calent glob'!$E$6","v":1},0,0,0,0,0,0,0]
[null,"Absorciones","Fuente fija","Absorción","Robinia pseudacacia",null,null,"Ambos",1,{"$f":"'Alcance 1'!D155","v":0},{"$f":"'Alcance 1'!E155","v":"árboles"},null,1,null,0,"árboles",0,0,0,0,{"$f":"-'Datos 1-Factores emisión'!C749","v":-6.3715179137139337},0,0,0,0,0,0,{"$f":"'Datos 2-Potenciales calent glob'!$E$6","v":1},{"$f":"'Datos 2-Potenciales calent glob'!$E$31","v":28},{"$f":"'Datos 2-Potenciales calent glob'!$E$32","v":265},{"$f":"SUMIF('Datos 2-Potenciales calent glob'!$B$6:$B$56,Cálculos_5!F136,'Datos 2-Potenciales calent glob'!$E$6:$E$56)","v":0},{"$f":"'Datos 2-Potenciales calent glob'!$E$6","v":1},{"$f":"'Datos 2-Potenciales calent glob'!$E$6","v":1},0,0,0,0,0,0,0]
[null,"Absorciones","Fuente fija","Absorción","Salix spp.",null,null,"Ambos",1,{"$f":"'Alcance 1'!D156","v":0},{"$f":"'Alcance 1'!E156","v":"árboles"},null,1,null,0,"árboles",0,0,0,0,{"$f":"-'Datos 1-Factores emisión'!C750","v":-29.855313544367842},0,0,0,0,0,0,{"$f":"'Datos 2-Potenciales calent glob'!$E$6","v":1},{"$f":"'Datos 2-Potenciales calent glob'!$E$31","v":28},{"$f":"'Datos 2-Potenciales calent glob'!$E$32","v":265},{"$f":"SUMIF('Datos 2-Potenciales calent glob'!$B$6:$B$56,Cálculos_5!F137,'Datos 2-Potenciales calent glob'!$E$6:$E$56)","v":0},{"$f":"'Datos 2-Potenciales calent glob'!$E$6","v":1},{"$f":"'Datos 2-Potenciales calent glob'!$E$6","v":1},0,0,0,0,0,0,0]
[null,"Absorciones","Fuente fija","Absorción","Sorbus spp.",null,null,"Ambos",1,{"$f":"'Alcance 1'!D157","v":0},{"$f":"'Alcance 1'!E157","v":"árboles"},null,1,null,0,"árboles",0,0,0,0,{"$f":"-'Datos 1-Factores emisión'!C751","v":-8.2572717408149465},0,0,0,0,0,0,{"$f":"'Datos 2-Potenciales calent glob'!$E$6","v":1},{"$f":"'Datos 2-Potenciales calent glob'!$E$31","v":28},{"$f":"'Datos 2-Potenciales calent glob'!$E$32","v":265},{"$f":"SUMIF('Datos 2-Potenciales calent glob'!$B$6:$B$56,Cálculos_5!F138,'Datos 2-Potenciales calent glob'!$E$6:$E$56)","v":0},{"$f":"'Datos 2-Potenciales calent glob'!$E$6","v":1},{"$f":"'Datos 2-Potenciales calent glob'!$E$6","v":1},0,0,0,0,0,0,0]
[null,"Absorciones","Fuente fija","Absorción","Tamarix spp.",null,null,"Ambos",1,{"$f":"'Alcance 1'!D158","v":0},{"$f":"'Alcance 1'!E158","v":"árboles"},null,1,null,0,"árboles",0,0,0,0,{"$f":"-'Datos 1-Factores emisión'!C752","v":-2.664728979500588},0,0,0,0,0,0,{"$f":"'Datos 2-Potenciales calent glob'!$E$6","v":1},{"$f":"'Datos 2-Potenciales calent glob'!$E$31","v":28},{"$f":"'Datos 2-Potenciales calent glob'!$E$32","v":265},{"$f":"SUMIF('Datos 2-Potenciales calent glob'!$B$6:$B$56,Cálculos_5!F139,'Datos 2-Potenciales calent glob'!$E$6:$E$56)","v":0},{"$f":"'Datos 2-Potenciales calent glob'!$E$6","v":1},{"$f":"'Datos 2-Potenciales calent glob'!$E$6","v":1},0,0,0,0,0,0,0]
[null,"Absorciones","Fuente fija","Absorción","Taxus baccata",null,null,"Ambos",1,{"$f":"'Alcance 1'!D159","v":0},{"$f":"'Alcance 1'!E159","v":"árboles"},null,1,null,0,"árboles",0,0,0,0,{"$f":"-'Datos 1-Factores emisión'!C753","v":-1.9326280185357239},0,0,0,0,0,0,{"$f":"'Datos 2-Potenciales calent glob'!$E$6","v":1},{"$f":"'Datos 2-Potenciales calent glob'!$E$31","v":28},{"$f":"'Datos 2-Potenciales calent glob'!$E$32","v":265},{"$f":"SUMIF('Datos 2-Potenciales calent glob'!$B$6:$B$56,Cálculos_5!F140,'Datos 2-Potenciales calent glob'!$E$6:$E$56)","v":0},{"$f":"'Datos 2-Potenciales calent glob'!$E$6","v":1},{"$f":"'Datos 2-Potenciales calent glob'!$E$6","v":1},0,0,0,0,0,0,0]
[null,"Absorciones","Fuente fija","Absorción","Tetraclinis articulata",null,null,"Ambos",1,{"$f":"'Alcance 1'!D160","v":0},{"$f":"'Alcance 1'!E160","v":"árboles"},null,1,null,0,"árboles",0,0,0,0,{"$f":"-'Datos 1-Factores emisión'!C754","v":-2.664728979500588},0,0,0,0,0,0,{"$f":"'Datos 2-Potenciales calent glob'!$E$6","v":1},{"$f":"'Datos 2-Potenciales calent glob'!$E$31","v":28},{"$f":"'Datos 2-Potenciales calent glob'!$E$32","v":265},{"$f":"SUMIF('Datos 2-Potenciales calent glob'!$B$6:$B$56,Cálculos_5!F141,'Datos 2-Potenciales calent glob'!$E$6:$E$56)","v":0},{"$f":"'Datos 2-Potenciales calent glob'!$E$6","v":1},{"$f":"'Datos 2-Potenciales calent glob'!$E$6","v":1},0,0,0,0,0,0,0]
[null,"Absorciones","Fuente fija","Absorción","Thuja spp.",null,null,"Ambos",1,{"$f":"'Alcance 1'!D161","v":0},{"$f":"'Alcance 1'!E161","v":"árboles"},null,1,null,0,"árboles",0,0,0,0,{"$f":"-'Datos 1-Factores emisión'!C755","v":-0.56923772177230947},0,0,0,0,0,0,{"$f":"'Datos 2-Potenciales calent glob'!$E$6","v":1},{"$f":"'Datos 2-Potenciales calent glob'!$E$31","v":28},{"$f":"'Datos 2-Potenciales calent glob'!$E$32","v":265},{"$f":"SUMIF('Datos 2-Potenciales calent glob'!$B$6:$B$56,Cálculos_5!F142,'Datos 2-Potenciales calent glob'!$E$6:$E$56)","v":0},{"$f":"'Datos 2-Potenciales calent glob'!$E$6","v":1},{"$f":"'Datos 2-Potenciales calent glob'!$E$6","v":1},0,0,0,0,0,0,0]
[null,"Absorciones","Fuente fija","Absorción","Tilia spp.",null,null,"Ambos",1,{"$f":"'Alcance 1'!D162","v":0},{"$f":"'Alcance 1'!E162","v":"árboles"},null,1,null,0,"árboles",0,0,0,0,{"$f":"-'Datos 1-Factores emisión'!C756","v":-2.9163008532261041},0,0,0,0,0,0,{"$f":"'Datos 2-Potenciales calent glob'!$E$6","v":1},{"$f":"'Datos 2-Potenciales calent glob'!$E$31","v":28},{"$f":"'Datos 2-Potenciales calent glob'!$E$32","v":265},{"$f":"SUMIF('Datos 2-Potenciales calent glob'!$B$6:$B$56,Cálculos_5!F143,'Datos 2-Potenciales calent glob'!$E$6:$E$56)","v":0},{"$f":"'Datos 2-Potenciales calent glob'!$E$6","v":1},{"$f":"'Datos 2-Potenciales calent glob'!$E$6","v":1},0,0,0,0,0,0,0]
[null,"Absorciones","Fuente fija","Absorción","Ulmus spp.",null,null,"Ambos",1,{"$f":"'Alcance 1'!D163","v":0},{"$f":"'Alcance 1'!E163","v":"árboles"},null,1,null,0,"árboles",0,0,0,0,{"$f":"-'Datos 1-Factores emisión'!C757","v":-9.0164800000000014},0,0,0,0,0,0,{"$f":"'Datos 2-Potenciales calent glob'!$E$6","v":1},{"$f":"'Datos 2-Potenciales calent glob'!$E$31","v":28},{"$f":"'Datos 2-Potenciales calent glob'!$E$32","v":265},{"$f":"SUMIF('Datos 2-Potenciales calent glob'!$B$6:$B$56,Cálculos_5!F144,'Datos 2-Potenciales calent glob'!$E$6:$E$56)","v":0},{"$f":"'Datos 2-Potenciales calent glob'!$E$6","v":1},{"$f":"'Datos 2-Potenciales calent glob'!$E$6","v":1},0,0,0,0,0,0,0]
[null,"Energía","Fuente fija","Electricidad","Electricidad",{"$f":"'Alcance 2'!F8","v":"Compañía suministradora"},null,"Ambos",2,{"$f":"'Alcance 2'!D8","v":0},{"$f":"'Alcance 2'!E8","v":"kWh"},null,1,null,{"$f":"J145*M145","v":0},"kWh",{"$f":"IF(F145=\"Compañía suministradora\",0,IF(INDEX('Datos 1-Factores emisión'!$B$358:$S$669,MATCH(Cálculos!$F145,'Datos 1-Factores emisión'!$B$358:$B$669,0),MATCH('Datos generales organización'!$D$14,'Datos 1-Factores emisión'!$D$358:$S$358,0)+2)=\"No aplica\",INDEX('Datos 1-Factores emisión'!$B$358:$S$669,LOOKUP('Datos 1-Factores emisión'!$B$419,'Datos 1-Factores emisión'!$B$358:$B$669,'Datos 1-Factores emisión'!$A$358:$A$669),MATCH('Datos generales organización'!$D$14,'Datos 1-Factores emisión'!$D$358:$S$358,0)+2),INDEX('Datos 1-Factores emisión'!$B$358:$S$669,MATCH(Cálculos!$F145,'Datos 1-Factores emisión'!$B$358:$B$669,0),MATCH('Datos generales organización'!$D$14,'Datos 1-Factores emisión'!$D$358:$S$358,0)+2)))","v":0},0,0,0,0,{"$f":"Q145*$O145","v":0},0,0,0,0,{"$f":"U145*$O145","v":0},{"$f":"'Datos 2-Potenciales calent glob'!$D$6","v":1},{"$f":"'Datos 2-Potenciales calent glob'!$D$31","v":25},{"$f":"'Datos 2-Potenciales calent glob'!$D$32","v":298},{"$f":"SUMIF('Datos 2-Potenciales calent glob'!$B$6:$B$56,Cálculos!F145,'Datos 2-Potenciales calent glob'!$D$6:$D$56)","v":0},{"$f":"'Datos 2-Potenciales calent glob'!$D$6","v":1},{"$f":"'Datos 2-Potenciales calent glob'!$D$6","v":1},{"$f":"V145*AB145","v":0},{"$f":"W145*AC145","v":0},{"$f":"X145*AD145","v":0},{"$f":"Y145*AE145","v":0},{"$f":"SUM(AH145:AK145)","v":0},{"$f":"Z145*AF145","v":0},0]
[null,"Energía","Fuente fija","Electricidad","Electricidad",{"$f":"'Alcance 2'!F9","v":"Compañía suministradora"},null,"Ambos",2,{"$f":"'Alcance 2'!D9","v":0},{"$f":"'Alcance 2'!E9","v":"kWh"},null,1,null,{"$f":"J146*M146","v":0},"kWh",{"$f":"IF(F146=\"Compañía suministradora\",0,IF(INDEX('Datos 1-Factores emisión'!$B$358:$S$669,MATCH(Cálculos!$F146,'Datos 1-Factores emisión'!$B$358:$B$669,0),MATCH('Datos generales organización'!$D$14,'Datos 1-Factores emisión'!$D$358:$S$358,0)+2)=\"No aplica\",INDEX('Datos 1-Factores emisión'!$B$358:$S$669,LOOKUP('Datos 1-Factores emisión'!$B$419,'Datos 1-Factores emisión'!$B$358:$B$669,'Datos 1-Factores emisión'!$A$358:$A$669),MATCH('Datos generales organización'!$D$14,'Datos 1-Factores emisión'!$D$358:$S$358,0)+2),INDEX('Datos 1-Factores emisión'!$B$358:$S$669,MATCH(Cálculos!$F146,'Datos 1-Factores emisión'!$B$358:$B$669,0),MATCH('Datos generales organización'!$D$14,'Datos 1-Factores emisión'!$D$358:$S$358,0)+2)))","v":0},0,0,0,0,0,0,0,0,0,0,{"$f":"'Datos 2-Potenciales calent glob'!$D$6","v":1},{"$f":"'Datos 2-Potenciales calent glob'!$D$31","v":25},{"$f":"'Datos 2-Potenciales calent glob'!$D$32","v":298},{"$f":"SUMIF('Datos 2-Potenciales calent glob'!$B$6:$B$56,Cálculos!F146,'Datos 2-Potenciales calent glob'!$D$6:$D$56)","v":0},{"$f":"'Datos 2-Potenciales calent glob'!$D$6","v":1},{"$f":"'Datos 2-Potenciales calent glob'!$D$6","v":1},{"$f":"V146*AB146","v":0},0,0,0,{"$f":"SUM(AH146:AK146)","v":0},0,0]
[null,"Energía","Fuente fija","Electricidad","Electricidad",{"$f":"'Alcance 2'!F10","v":"Compañía suministradora"},null,"Ambos",2,{"$f":"'Alcance 2'!D10","v":0},{"$f":"'Alcance 2'!E10","v":"kWh"},null,1,null,0,"kWh",{"$f":"IF(F147=\"Compañía suministradora\",0,IF(INDEX('Datos 1-Factores emisión'!$B$358:$S$669,MATCH(Cálculos!$F147,'Datos 1-Factores emisión'!$B$358:$B$669,0),MATCH('Datos generales organización'!$D$14,'Datos 1-Factores emisión'!$D$358:$S$358,0)+2)=\"No aplica\",INDEX('Datos 1-Factores emisión'!$B$358:$S$669,LOOKUP('Datos 1-Factores emisión'!$B$419,'Datos 1-Factores emisión'!$B$358:$B$669,'Datos 1-Factores emisión'!$A$358:$A$669),MATCH('Datos generales organización'!$D$14,'Datos 1-Factores emisión'!$D$358:$S$358,0)+2),INDEX('Datos 1-Factores emisión'!$B$358:$S$669,MATCH(Cálculos!$F147,'Datos 1-Factores emisión'!$B$358:$B$669,0),MATCH('Datos generales organización'!$D$14,'Datos 1-Factores emisión'!$D$358:$S$358,0)+2)))","v":0},0,0,0,0,0,0,0,0,0,0,{"$f":"'Datos 2-Potenciales calent glob'!$D$6","v":1},{"$f":"'Datos 2-Potenciales calent glob'!$D$31","v":25},{"$f":"'Datos 2-Potenciales calent glob'!$D$32","v":298},{"$f":"SUMIF('Datos 2-Potenciales calent glob'!$B$6:$B$56,Cálculos!F147,'Datos 2-Potenciales calent glob'!$D$6:$D$56)","v":0},{"$f":"'Datos 2-Potenciales calent glob'!$D$6","v":1},{"$f":"'Datos 2-Potenciales calent glob'!$D$6","v":1},0,0,0,0,0,0,0]
[null,"Energía","Fuente móvil","Electricidad","Electricidad",{"$f":"'Alcance 2'!F17","v":"Compañía suministradora"},null,"Ambos",2,{"$f":"'Alcance 2'!D17","v":0},{"$f":"'Alcance 2'!E17","v":"kWh"},null,1,null,{"$f":"J148*M148","v":0},"kWh",{"$f":"IF(F148=\"Compañía suministradora\",0,IF(INDEX('Datos 1-Factores emisión'!$B$358:$S$669,MATCH(Cálculos!$F148,'Datos 1-Factores emisión'!$B$358:$B$669,0),MATCH('Datos generales organización'!$D$14,'Datos 1-Factores emisión'!$D$358:$S$358,0)+2)=\"No aplica\",INDEX('Datos 1-Factores emisión'!$B$358:$S$669,LOOKUP('Datos 1-Factores emisión'!$B$419,'Datos 1-Factores emisión'!$B$358:$B$669,'Datos 1-Factores emisión'!$A$358:$A$669),MATCH('Datos generales organización'!$D$14,'Datos 1-Factores emisión'!$D$358:$S$358,0)+2),INDEX('Datos 1-Factores emisión'!$B$358:$S$669,MATCH(Cálculos!$F148,'Datos 1-Factores emisión'!$B$358:$B$669,0),MATCH('Datos generales organización'!$D$14,'Datos 1-Factores emisión'!$D$358:$S$358,0)+2)))","v":0},0,0,0,0,0,0,0,0,0,0,{"$f":"'Datos 2-Potenciales calent glob'!$D$6","v":1},{"$f":"'Datos 2-Potenciales calent glob'!$D$31","v":25},{"$f":"'Datos 2-Potenciales calent glob'!$D$32","v":298},{"$f":"SUMIF('Datos 2-Potenciales calent glob'!$B$6:$B$56,Cálculos!F148,'Datos 2-Potenciales calent glob'!$D$6:$D$56)","v":0},{"$f":"'Datos 2-Potenciales calent glob'!$D$6","v":1},{"$f":"'Datos 2-Potenciales calent glob'!$D$6","v":1},0,0,0,0,{"$f":"SUM(AH148:AK148)","v":0},0,0]
[null,"Energía","Fuente móvil","Electricidad",{"$f":"'Alcance 2'!C22","v":"Tipo de vehículo"},{"$f":"'Alcance 2'!F22","v":"Compañía suministradora"},null,"Ambos",2,{"$f":"'Alcance 2'!D22","v":0},{"$f":"'Alcance 2'!E22","v":"km"},null,{"$f":"SUMIF('Datos 3-Factores de convers'!$B$6:$B$9,Cálculos!E149,'Datos 3-Factores de convers'!$C$6:$C$9)/100","v":0},null,{"$f":"J149*M149","v":0},"kWh",{"$f":"IF(F149=\"Compañía suministradora\",0,IF(INDEX('Datos 1-Factores emisión'!$B$358:$S$669,MATCH(Cálculos!$F149,'Datos 1-Factores emisión'!$B$358:$B$669,0),MATCH('Datos generales organización'!$D$14,'Datos 1-Factores emisión'!$D$358:$S$358,0)+2)=\"No aplica\",INDEX('Datos 1-Factores emisión'!$B$358:$S$669,LOOKUP('Datos 1-Factores emisión'!$B$419,'Datos 1-Factores emisión'!$B$358:$B$669,'Datos 1-Factores emisión'!$A$358:$A$669),MATCH('Datos generales organización'!$D$14,'Datos 1-Factores emisión'!$D$358:$S$358,0)+2),INDEX('Datos 1-Factores emisión'!$B$358:$S$669,MATCH(Cálculos!$F149,'Datos 1-Factores emisión'!$B$358:$B$669,0),MATCH('Datos generales organización'!$D$14,'Datos 1-Factores emisión'!$D$358:$S$358,0)+2)))","v":0},0,0,0,0,{"$f":"Q149*$O149","v":0},0,0,0,0,0,{"$f":"'Datos 2-Potenciales calent glob'!$D$6","v":1},{"$f":"'Datos 2-Potenciales calent glob'!$D$31","v":25},{"$f":"'Datos 2-Potenciales calent glob'!$D$32","v":298},{"$f":"SUMIF('Datos 2-Potenciales calent glob'!$B$6:$B$56,Cálculos!F149,'Datos 2-Potenciales calent glob'!$D$6:$D$56)","v":0},{"$f":"'Datos 2-Potenciales calent glob'!$D$6","v":1},{"$f":"'Datos 2-Potenciales calent glob'!$D$6","v":1},0,{"$f":"W149*AC149","v":0},{"$f":"X149*AD149","v":0},{"$f":"Y149*AE149","v":0},{"$f":"SUM(AH149:AK149)","v":0},0,0]
[null,"Energía","Fuente móvil","Electricidad",{"$f":"'Alcance 2'!C23","v":"Tipo de vehículo"},{"$f":"'Alcance 2'!F23","v":"Compañía suministradora"},null,"Ambos",2,{"$f":"'Alcance 2'!D23","v":0},{"$f":"'Alcance 2'!E23","v":"km"},null,{"$f":"SUMIF('Datos 3-Factores de convers'!$B$6:$B$9,Cálculos!E150,'Datos 3-Factores de convers'!$C$6:$C$9)/100","v":0},null,{"$f":"J150*M150","v":0},"kWh",{"$f":"IF(F150=\"Compañía suministradora\",0,IF(INDEX('Datos 1-Factores emisión'!$B$358:$S$669,MATCH(Cálculos!$F150,'Datos 1-Factores emisión'!$B$358:$B$669,0),MATCH('Datos generales organización'!$D$14,'Datos 1-Factores emisión'!$D$358:$S$358,0)+2)=\"No aplica\",INDEX('Datos 1-Factores emisión'!$B$358:$S$669,LOOKUP('Datos 1-Factores emisión'!$B$419,'Datos 1-Factores emisión'!$B$358:$B$669,'Datos 1-Factores emisión'!$A$358:$A$669),MATCH('Datos generales organización'!$D$14,'Datos 1-Factores emisión'!$D$358:$S$358,0)+2),INDEX('Datos 1-Factores emisión'!$B$358:$S$669,MATCH(Cálculos!$F150,'Datos 1-Factores emisión'!$B$358:$B$669,0),MATCH('Datos generales organización'!$D$14,'Datos 1-Factores emisión'!$D$358:$S$358,0)+2)))","v":0},0,0,0,0,0,0,0,0,0,0,{"$f":"'Datos 2-Potenciales calent glob'!$D$6","v":1},{"$f":"'Datos 2-Potenciales calent glob'!$D$31","v":25},{"$f":"'Datos 2-Potenciales calent glob'!$D$32","v":298},{"$f":"SUMIF('Datos 2-Potenciales calent glob'!$B$6:$B$56,Cálculos!F150,'Datos 2-Potenciales calent glob'!$D$6:$D$56)","v":0},{"$f":"'Datos 2-Potenciales calent glob'!$D$6","v":1},{"$f":"'Datos 2-Potenciales calent glob'!$D$6","v":1},{"$f":"V150*AB150","v":0},{"$f":"W150*AC150","v":0},0,0,{"$f":"SUM(AH150:AK150)","v":0},0,0]
[null,"Energía","Fuente móvil","Electricidad",{"$f":"'Alcance 2'!C24","v":"Tipo de vehículo"},{"$f":"'Alcance 2'!F24","v":"Compañía suministradora"},null,"Ambos",2,{"$f":"'Alcance 2'!D24","v":0},{"$f":"'Alcance 2'!E24","v":"km"},null,{"$f":"SUMIF('Datos 3-Factores de convers'!$B$6:$B$9,Cálculos!E151,'Datos 3-Factores de convers'!$C$6:$C$9)/100","v":0},null,0,"kWh",{"$f":"IF(F151=\"Compañía suministradora\",0,IF(INDEX('Datos 1-Factores emisión'!$B$358:$S$669,MATCH(Cálculos!$F151,'Datos 1-Factores emisión'!$B$358:$B$669,0),MATCH('Datos generales organización'!$D$14,'Datos 1-Factores emisión'!$D$358:$S$358,0)+2)=\"No aplica\",INDEX('Datos 1-Factores emisión'!$B$358:$S$669,LOOKUP('Datos 1-Factores emisión'!$B$419,'Datos 1-Factores emisión'!$B$358:$B$669,'Datos 1-Factores emisión'!$A$358:$A$669),MATCH('Datos generales organización'!$D$14,'Datos 1-Factores emisión'!$D$358:$S$358,0)+2),INDEX('Datos 1-Factores emisión'!$B$358:$S$669,MATCH(Cálculos!$F151,'Datos 1-Factores emisión'!$B$358:$B$669,0),MATCH('Datos generales organización'!$D$14,'Datos 1-Factores emisión'!$D$358:$S$358,0)+2)))","v":0},0,0,0,0,0,0,0,0,0,0,{"$f":"'Datos 2-Potenciales calent glob'!$D$6","v":1},{"$f":"'Datos 2-Potenciales calent glob'!$D$31","v":25},{"$f":"'Datos 2-Potenciales calent glob'!$D$32","v":298},{"$f":"SUMIF('Datos 2-Potenciales calent glob'!$B$6:$B$56,Cálculos!F151,'Datos 2-Potenciales calent glob'!$D$6:$D$56)","v":0},{"$f":"'Datos 2-Potenciales calent glob'!$D$6","v":1},{"$f":"'Datos 2-Potenciales calent glob'!$D$6","v":1},{"$f":"V151*AB151","v":0},0,0,0,0,0,0]
[null,"Energía","Fuente móvil","Electricidad",{"$f":"'Alcance 2'!C29","v":"Híbrido enchufable"},{"$f":"'Alcance 2'!F29","v":"Compañía suministradora"},null,"Ambos",2,{"$f":"'Alcance 2'!D29","v":0},{"$f":"'Alcance 2'!E29","v":"km"},null,{"$f":"SUMIF('Datos 3-Factores de convers'!$B$6:$B$9,Cálculos!E152,'Datos 3-Factores de convers'!$C$6:$C$9)/100","v":0.20956666666666668},null,0,"kWh",{"$f":"IF(F152=\"Compañía suministradora\",0,IF(INDEX('Datos 1-Factores emisión'!$B$358:$S$669,MATCH(Cálculos!$F152,'Datos 1-Factores emisión'!$B$358:$B$669,0),MATCH('Datos generales organización'!$D$14,'Datos 1-Factores emisión'!$D$358:$S$358,0)+2)=\"No aplica\",INDEX('Datos 1-Factores emisión'!$B$358:$S$669,31,MATCH('Datos generales organización'!$D$14,'Datos 1-Factores emisión'!$D$358:$S$358,0)+2),INDEX('Datos 1-Factores emisión'!$B$358:$S$669,MATCH(Cálculos!$F152,'Datos 1-Factores emisión'!$B$358:$B$669,0),MATCH('Datos generales organización'!$D$14,'Datos 1-Factores emisión'!$D$358:$S$358,0)+2)))","v":0},0,0,0,0,{"$f":"Q152*$O152","v":0},0,0,0,0,0,{"$f":"'Datos 2-Potenciales calent glob'!$D$6","v":1},{"$f":"'Datos 2-Potenciales calent glob'!$D$31","v":25},{"$f":"'Datos 2-Potenciales calent glob'!$D$32","v":298},{"$f":"SUMIF('Datos 2-Potenciales calent glob'!$B$6:$B$56,Cálculos!F152,'Datos 2-Potenciales calent glob'!$D$6:$D$56)","v":0},{"$f":"'Datos 2-Potenciales calent glob'!$D$6","v":1},{"$f":"'Datos 2-Potenciales calent glob'!$D$6","v":1},{"$f":"V152*AB152","v":0},0,0,0,0,0,0]
[null,"Energía","Fuente móvil","Combustión",{"$f":"'Alcance 3'!D10","v":"Tipo de propulsión"},{"$f":"'Alcance 3'!C10","v":"Tipo de vehículo"},"Movilidad de los trabajadores","CAPV",3,{"$f":"'Alcance 3'!E10","v":0},{"$f":"'Alcance 3'!F10","v":"km*pasajero"},null,1,null,0,{"$f":"K153","v":"km*pasajero"},{"$f":"SUMIFS('Datos 1-Factores emisión'!$E$43:$E$309,'Datos 1-Factores emisión'!$B$43:$B$309,Cálculos!$F153,'Datos 1-Factores emisión'!$C$43:$C$309,Cálculos!$E153,'Datos 1-Factores emisión'!$D$43:$D$309,Cálculos!Q$5)","v":0},{"$f":"SUMIFS('Datos 1-Factores emisión'!$E$43:$E$309,'Datos 1-Factores emisión'!$B$43:$B$309,Cálculos!$F153,'Datos 1-Factores emisión'!$C$43:$C$309,Cálculos!$E153,'Datos 1-Factores emisión'!$D$43:$D$309,Cálculos!R$5)","v":0},{"$f":"SUMIFS('Datos 1-Factores emisión'!$E$43:$E$309,'Datos 1-Factores emisión'!$B$43:$B$309,Cálculos!$F153,'Datos 1-Factores emisión'!$C$43:$C$309,Cálculos!$E153,'Datos 1-Factores emisión'!$D$43:$D$309,Cálculos!S$5)","v":0},{"$f":"SUMIFS('Datos 1-Factores emisión'!$E$43:$E$309,'Datos 1-Factores emisión'!$B$43:$B$309,Cálculos!$F153,'Datos 1-Factores emisión'!$C$43:$C$309,Cálculos!$E153,'Datos 1-Factores emisión'!$D$43:$D$309,Cálculos!T$5)","v":0},0,0,0,0,0,0,0,{"$f":"'Datos 2-Potenciales calent glob'!$D$6","v":1},{"$f":"'Datos 2-Potenciales calent glob'!$D$31","v":25},{"$f":"'Datos 2-Potenciales calent glob'!$D$32","v":298},{"$f":"SUMIF('Datos 2-Potenciales calent glob'!$B$6:$B$56,Cálculos!E153,'Datos 2-Potenciales calent glob'!$D$6:$D$56)","v":0},{"$f":"'Datos 2-Potenciales calent glob'!$D$6","v":1},{"$f":"'Datos 2-Potenciales calent glob'!$D$6","v":1},0,{"$f":"W153*AC153","v":0},{"$f":"X153*AD153","v":0},{"$f":"Y153*AE153","v":0},{"$f":"SUM(AH153:AK153)","v":0},{"$f":"Z153*AF153","v":0},{"$f":"AA153*AG153","v":0}]
[null,"Energía","Fuente móvil","Combustión",{"$f":"'Alcance 3'!D11","v":"Tipo de propulsión"},{"$f":"'Alcance 3'!C11","v":"Tipo de vehículo"},"Movilidad de los trabajadores","CAPV",3,{"$f":"'Alcance 3'!E11","v":0},{"$f":"'Alcance 3'!F11","v":"km*pasajero"},null,1,null,0,"km*pasajero",{"$f":"SUMIFS('Datos 1-Factores emisión'!$E$43:$E$309,'Datos 1-Factores emisión'!$B$43:$B$309,Cálculos!$F154,'Datos 1-Factores emisión'!$C$43:$C$309,Cálculos!$E154,'Datos 1-Factores emisión'!$D$43:$D$309,Cálculos!Q$5)","v":0},{"$f":"SUMIFS('Datos 1-Factores emisión'!$E$43:$E$309,'Datos 1-Factores emisión'!$B$43:$B$309,Cálculos!$F154,'Datos 1-Factores emisión'!$C$43:$C$309,Cálculos!$E154,'Datos 1-Factores emisión'!$D$43:$D$309,Cálculos!R$5)","v":0},{"$f":"SUMIFS('Datos 1-Factores emisión'!$E$43:$E$309,'Datos 1-Factores emisión'!$B$43:$B$309,Cálculos!$F154,'Datos 1-Factores emisión'!$C$43:$C$309,Cálculos!$E154,'Datos 1-Factores emisión'!$D$43:$D$309,Cálculos!S$5)","v":0},{"$f":"SUMIFS('Datos 1-Factores emisión'!$E$43:$E$309,'Datos 1-Factores emisión'!$B$43:$B$309,Cálculos!$F154,'Datos 1-Factores emisión'!$C$43:$C$309,Cálculos!$E154,'Datos 1-Factores emisión'!$D$43:$D$309,Cálculos!T$5)","v":0},0,0,0,0,0,0,0,{"$f":"'Datos 2-Potenciales calent glob'!$D$6","v":1},{"$f":"'Datos 2-Potenciales calent glob'!$D$31","v":25},{"$f":"'Datos 2-Potenciales calent glob'!$D$32","v":298},{"$f":"SUMIF('Datos 2-Potenciales calent glob'!$B$6:$B$56,Cálculos!E154,'Datos 2-Potenciales calent glob'!$D$6:$D$56)","v":0},{"$f":"'Datos 2-Potenciales calent glob'!$D$6","v":1},{"$f":"'Datos 2-Potenciales calent glob'!$D$6","v":1},0,0,0,0,{"$f":"SUM(AH154:AK154)","v":0},{"$f":"Z154*AF154","v":0},0]
[null,"Energía","Fuente móvil","Combustión",{"$f":"'Alcance 3'!D12","v":"Tipo de propulsión"},{"$f":"'Alcance 3'!C12","v":"Tipo de vehículo"},"Movilidad de los trabajadores","CAPV",3,{"$f":"'Alcance 3'!E12","v":0},{"$f":"'Alcance 3'!F12","v":"km*pasajero"},null,1,null,0,"km*pasajero",{"$f":"SUMIFS('Datos 1-Factores emisión'!$E$43:$E$309,'Datos 1-Factores emisión'!$B$43:$B$309,Cálculos!$F155,'Datos 1-Factores emisión'!$C$43:$C$309,Cálculos!$E155,'Datos 1-Factores emisión'!$D$43:$D$309,Cálculos!Q$5)","v":0},{"$f":"SUMIFS('Datos 1-Factores emisión'!$E$43:$E$309,'Datos 1-Factores emisión'!$B$43:$B$309,Cálculos!$F155,'Datos 1-Factores emisión'!$C$43:$C$309,Cálculos!$E155,'Datos 1-Factores emisión'!$D$43:$D$309,Cálculos!R$5)","v":0},{"$f":"SUMIFS('Datos 1-Factores emisión'!$E$43:$E$309,'Datos 1-Factores emisión'!$B$43:$B$309,Cálculos!$F155,'Datos 1-Factores emisión'!$C$43:$C$309,Cálculos!$E155,'Datos 1-Factores emisión'!$D$43:$D$309,Cálculos!S$5)","v":0},{"$f":"SUMIFS('Datos 1-Factores emisión'!$E$43:$E$309,'Datos 1-Factores emisión'!$B$43:$B$309,Cálculos!$F155,'Datos 1-Factores emisión'!$C$43:$C$309,Cálculos!$E155,'Datos 1-Factores emisión'!$D$43:$D$309,Cálculos!T$5)","v":0},0,0,0,0,0,0,0,{"$f":"'Datos 2-Potenciales calent glob'!$D$6","v":1},{"$f":"'Datos 2-Potenciales calent glob'!$D$31","v":25},{"$f":"'Datos 2-Potenciales calent glob'!$D$32","v":298},{"$f":"SUMIF('Datos 2-Potenciales calent glob'!$B$6:$B$56,Cálculos!E155,'Datos 2-Potenciales calent glob'!$D$6:$D$56)","v":0},{"$f":"'Datos 2-Potenciales calent glob'!$D$6","v":1},{"$f":"'Datos 2-Potenciales calent glob'!$D$6","v":1},0,0,0,0,0,0,0]
[null,"Energía","Fuente móvil","Combustión",{"$f":"'Alcance 3'!D13","v":"Tipo de propulsión"},{"$f":"'Alcance 3'!C13","v":"Tipo de vehículo"},"Movilidad de los trabajadores","CAPV",3,{"$f":"'Alcance 3'!E13","v":0},{"$f":"'Alcance 3'!F13","v":"km*pasajero"},null,1,null,0,"km*pasajero",{"$f":"SUMIFS('Datos 1-Factores emisión'!$E$43:$E$309,'Datos 1-Factores emisión'!$B$43:$B$309,Cálculos!$F156,'Datos 1-Factores emisión'!$C$43:$C$309,Cálculos!$E156,'Datos 1-Factores emisión'!$D$43:$D$309,Cálculos!Q$5)","v":0},{"$f":"SUMIFS('Datos 1-Factores emisión'!$E$43:$E$309,'Datos 1-Factores emisión'!$B$43:$B$309,Cálculos!$F156,'Datos 1-Factores emisión'!$C$43:$C$309,Cálculos!$E156,'Datos 1-Factores emisión'!$D$43:$D$309,Cálculos!R$5)","v":0},{"$f":"SUMIFS('Datos 1-Factores emisión'!$E$43:$E$309,'Datos 1-Factores emisión'!$B$43:$B$309,Cálculos!$F156,'Datos 1-Factores emisión'!$C$43:$C$309,Cálculos!$E156,'Datos 1-Factores emisión'!$D$43:$D$309,Cálculos!S$5)","v":0},{"$f":"SUMIFS('Datos 1-Factores emisión'!$E$43:$E$309,'Datos 1-Factores emisión'!$B$43:$B$309,Cálculos!$F156,'Datos 1-Factores emisión'!$C$43:$C$309,Cálculos!$E156,'Datos 1-Factores emisión'!$D$43:$D$309,Cálculos!T$5)","v":0},0,0,0,0,0,0,0,{"$f":"'Datos 2-Potenciales calent glob'!$D$6","v":1},{"$f":"'Datos 2-Potenciales calent glob'!$D$31","v":25},{"$f":"'Datos 2-Potenciales calent glob'!$D$32","v":298},{"$f":"SUMIF('Datos 2-Potenciales calent glob'!$B$6:$B$56,Cálculos!E156,'Datos 2-Potenciales calent glob'!$D$6:$D$56)","v":0},{"$f":"'Datos 2-Potenciales calent glob'!$D$6","v":1},{"$f":"'Datos 2-Potenciales calent glob'!$D$6","v":1},0,0,0,0,0,0,0]
[null,"Energía","Fuente móvil","Combustión",{"$f":"'Alcance 3'!D14","v":"Tipo de propulsión"},{"$f":"'Alcance 3'!C14","v":"Tipo de vehículo"},"Movilidad de los trabajadores","CAPV",3,{"$f":"'Alcance 3'!E14","v":0},{"$f":"'Alcance 3'!F14","v":"km*pasajero"},null,1,null,0,"km*pasajero",{"$f":"SUMIFS('Datos 1-Factores emisión'!$E$43:$E$309,'Datos 1-Factores emisión'!$B$43:$B$309,Cálculos!$F157,'Datos 1-Factores emisión'!$C$43:$C$309,Cálculos!$E157,'Datos 1-Factores emisión'!$D$43:$D$309,Cálculos!Q$5)","v":0},{"$f":"SUMIFS('Datos 1-Factores emisión'!$E$43:$E$309,'Datos 1-Factores emisión'!$B$43:$B$309,Cálculos!$F157,'Datos 1-Factores emisión'!$C$43:$C$309,Cálculos!$E157,'Datos 1-Factores emisión'!$D$43:$D$309,Cálculos!R$5)","v":0},{"$f":"SUMIFS('Datos 1-Factores emisión'!$E$43:$E$309,'Datos 1-Factores emisión'!$B$43:$B$309,Cálculos!$F157,'Datos 1-Factores emisión'!$C$43:$C$309,Cálculos!$E157,'Datos 1-Factores emisión'!$D$43:$D$309,Cálculos!S$5)","v":0},{"$f":"SUMIFS('Datos 1-Factores emisión'!$E$43:$E$309,'Datos 1-Factores emisión'!$B$43:$B$309,Cálculos!$F157,'Datos 1-Factores emisión'!$C$43:$C$309,Cálculos!$E157,'Datos 1-Factores emisión'!$D$43:$D$309,Cálculos!T$5)","v":0},0,0,0,0,0,0,0,{"$f":"'Datos 2-Potenciales calent glob'!$D$6","v":1},{"$f":"'Datos 2-Potenciales calent glob'!$D$31","v":25},{"$f":"'Datos 2-Potenciales calent glob'!$D$32","v":298},{"$f":"SUMIF('Datos 2-Potenciales calent glob'!$B$6:$B$56,Cálculos!E157,'Datos 2-Potenciales calent glob'!$D$6:$D$56)","v":0},{"$f":"'Datos 2-Potenciales calent glob'!$D$6","v":1},{"$f":"'Datos 2-Potenciales calent glob'!$D$6","v":1},0,0,0,0,0,0,0]
[null,"Energía","Fuente móvil","Combustión",{"$f":"'Alcance 3'!D15","v":"Tipo de propulsión"},{"$f":"'Alcance 3'!C15","v":"Tipo de vehículo"},"Movilidad de los trabajadores","CAPV",3,{"$f":"'Alcance 3'!E15","v":0},{"$f":"'Alcance 3'!F15","v":"km*pasajero"},null,1,null,0,"km*pasajero",{"$f":"SUMIFS('Datos 1-Factores emisión'!$E$43:$E$309,'Datos 1-Factores emisión'!$B$43:$B$309,Cálculos!$F158,'Datos 1-Factores emisión'!$C$43:$C$309,Cálculos!$E158,'Datos 1-Factores emisión'!$D$43:$D$309,Cálculos!Q$5)","v":0},{"$f":"SUMIFS('Datos 1-Factores emisión'!$E$43:$E$309,'Datos 1-Factores emisión'!$B$43:$B$309,Cálculos!$F158,'Datos 1-Factores emisión'!$C$43:$C$309,Cálculos!$E158,'Datos 1-Factores emisión'!$D$43:$D$309,Cálculos!R$5)","v":0},{"$f":"SUMIFS('Datos 1-Factores emisión'!$E$43:$E$309,'Datos 1-Factores emisión'!$B$43:$B$309,Cálculos!$F158,'Datos 1-Factores emisión'!$C$43:$C$309,Cálculos!$E158,'Datos 1-Factores emisión'!$D$43:$D$309,Cálculos!S$5)","v":0},{"$f":"SUMIFS('Datos 1-Factores emisión'!$E$43:$E$309,'Datos 1-Factores emisión'!$B$43:$B$309,Cálculos!$F158,'Datos 1-Factores emisión'!$C$43:$C$309,Cálculos!$E158,'Datos 1-Factores emisión'!$D$43:$D$309,Cálculos!T$5)","v":0},0,0,0,0,0,0,0,{"$f":"'Datos 2-Potenciales calent glob'!$D$6","v":1},{"$f":"'Datos 2-Potenciales calent glob'!$D$31","v":25},{"$f":"'Datos 2-Potenciales calent glob'!$D$32","v":298},{"$f":"SUMIF('Datos 2-Potenciales calent glob'!$B$6:$B$56,Cálculos!E158,'Datos 2-Potenciales calent glob'!$D$6:$D$56)","v":0},{"$f":"'Datos 2-Potenciales calent glob'!$D$6","v":1},{"$f":"'Datos 2-Potenciales calent glob'!$D$6","v":1},0,0,0,0,0,0,0]
[null,"Energía","Fuente móvil","Combustión",{"$f":"'Alcance 3'!D16","v":"Tipo de propulsión"},{"$f":"'Alcance 3'!C16","v":"Tipo de vehículo"},"Movilidad de los trabajadores","CAPV",3,{"$f":"'Alcance 3'!E16","v":0},{"$f":"'Alcance 3'!F16","v":"km*pasajero"},null,1,null,0,"km*pasajero",{"$f":"SUMIFS('Datos 1-Factores emisión'!$E$43:$E$309,'Datos 1-Factores emisión'!$B$43:$B$309,Cálculos!$F159,'Datos 1-Factores emisión'!$C$43:$C$309,Cálculos!$E159,'Datos 1-Factores emisión'!$D$43:$D$309,Cálculos!Q$5)","v":0},{"$f":"SUMIFS('Datos 1-Factores emisión'!$E$43:$E$309,'Datos 1-Factores emisión'!$B$43:$B$309,Cálculos!$F159,'Datos 1-Factores emisión'!$C$43:$C$309,Cálculos!$E159,'Datos 1-Factores emisión'!$D$43:$D$309,Cálculos!R$5)","v":0},{"$f":"SUMIFS('Datos 1-Factores emisión'!$E$43:$E$309,'Datos 1-Factores emisión'!$B$43:$B$309,Cálculos!$F159,'Datos 1-Factores emisión'!$C$43:$C$309,Cálculos!$E159,'Datos 1-Factores emisión'!$D$43:$D$309,Cálculos!S$5)","v":0},{"$f":"SUMIFS('Datos 1-Factores emisión'!$E$43:$E$309,'Datos 1-Factores emisión'!$B$43:$B$309,Cálculos!$F159,'Datos 1-Factores emisión'!$C$43:$C$309,Cálculos!$E159,'Datos 1-Factores emisión'!$D$43:$D$309,Cálculos!T$5)","v":0},0,0,0,0,0,0,0,{"$f":"'Datos 2-Potenciales calent glob'!$D$6","v":1},{"$f":"'Datos 2-Potenciales calent glob'!$D$31","v":25},{"$f":"'Datos 2-Potenciales calent glob'!$D$32","v":298},{"$f":"SUMIF('Datos 2-Potenciales calent glob'!$B$6:$B$56,Cálculos!E159,'Datos 2-Potenciales calent glob'!$D$6:$D$56)","v":0},{"$f":"'Datos 2-Potenciales calent glob'!$D$6","v":1},{"$f":"'Datos 2-Potenciales calent glob'!$D$6","v":1},0,0,0,0,0,0,0]
[null,"Energía","Fuente móvil","Combustión",{"$f":"'Alcance 3'!D17","v":"Tipo de propulsión"},{"$f":"'Alcance 3'!C17","v":"Tipo de vehículo"},"Movilidad de los trabajadores","CAPV",3,{"$f":"'Alcance 3'!E17","v":0},{"$f":"'Alcance 3'!F17","v":"km*pasajero"},null,1,null,0,"km*pasajero",{"$f":"SUMIFS('Datos 1-Factores emisión'!$E$43:$E$309,'Datos 1-Factores emisión'!$B$43:$B$309,Cálculos!$F160,'Datos 1-Factores emisión'!$C$43:$C$309,Cálculos!$E160,'Datos 1-Factores emisión'!$D$43:$D$309,Cálculos!Q$5)","v":0},{"$f":"SUMIFS('Datos 1-Factores emisión'!$E$43:$E$309,'Datos 1-Factores emisión'!$B$43:$B$309,Cálculos!$F160,'Datos 1-Factores emisión'!$C$43:$C$309,Cálculos!$E160,'Datos 1-Factores emisión'!$D$43:$D$309,Cálculos!R$5)","v":0},{"$f":"SUMIFS('Datos 1-Factores emisión'!$E$43:$E$309,'Datos 1-Factores emisión'!$B$43:$B$309,Cálculos!$F160,'Datos 1-Factores emisión'!$C$43:$C$309,Cálculos!$E160,'Datos 1-Factores emisión'!$D$43:$D$309,Cálculos!S$5)","v":0},{"$f":"SUMIFS('Datos 1-Factores emisión'!$E$43:$E$309,'Datos 1-Factores emisión'!$B$43:$B$309,Cálculos!$F160,'Datos 1-Factores emisión'!$C$43:$C$309,Cálculos!$E160,'Datos 1-Factores emisión'!$D$43:$D$309,Cálculos!T$5)","v":0},0,0,0,0,0,0,0,{"$f":"'Datos 2-Potenciales calent glob'!$D$6","v":1},{"$f":"'Datos 2-Potenciales calent glob'!$D$31","v":25},{"$f":"'Datos 2-Potenciales calent glob'!$D$32","v":298},{"$f":"SUMIF('Datos 2-Potenciales calent glob'!$B$6:$B$56,Cálculos!E160,'Datos 2-Potenciales calent glob'!$D$6:$D$56)","v":0},{"$f":"'Datos 2-Potenciales calent glob'!$D$6","v":1},{"$f":"'Datos 2-Potenciales calent glob'!$D$6","v":1},0,0,0,0,0,0,0]
[null,"Energía","Fuente móvil","Combustión",{"$f":"'Alcance 3'!D18","v":"Tipo de propulsión"},{"$f":"'Alcance 3'!C18","v":"Tipo de vehículo"},"Movilidad de los trabajadores","CAPV",3,{"$f":"'Alcance 3'!E18","v":0},{"$f":"'Alcance 3'!F18","v":"km*pasajero"},null,1,null,0,"km*pasajero",{"$f":"SUMIFS('Datos 1-Factores emisión'!$E$43:$E$309,'Datos 1-Factores emisión'!$B$43:$B$309,Cálculos!$F161,'Datos 1-Factores emisión'!$C$43:$C$309,Cálculos!$E161,'Datos 1-Factores emisión'!$D$43:$D$309,Cálculos!Q$5)","v":0},{"$f":"SUMIFS('Datos 1-Factores emisión'!$E$43:$E$309,'Datos 1-Factores emisión'!$B$43:$B$309,Cálculos!$F161,'Datos 1-Factores emisión'!$C$43:$C$309,Cálculos!$E161,'Datos 1-Factores emisión'!$D$43:$D$309,Cálculos!R$5)","v":0},{"$f":"SUMIFS('Datos 1-Factores emisión'!$E$43:$E$309,'Datos 1-Factores emisión'!$B$43:$B$309,Cálculos!$F161,'Datos 1-Factores emisión'!$C$43:$C$309,Cálculos!$E161,'Datos 1-Factores emisión'!$D$43:$D$309,Cálculos!S$5)","v":0},{"$f":"SUMIFS('Datos 1-Factores emisión'!$E$43:$E$309,'Datos 1-Factores emisión'!$B$43:$B$309,Cálculos!$F161,'Datos 1-Factores emisión'!$C$43:$C$309,Cálculos!$E161,'Datos 1-Factores emisión'!$D$43:$D$309,Cálculos!T$5)","v":0},0,0,0,0,0,0,0,{"$f":"'Datos 2-Potenciales calent glob'!$D$6","v":1},{"$f":"'Datos 2-Potenciales calent glob'!$D$31","v":25},{"$f":"'Datos 2-Potenciales calent glob'!$D$32","v":298},{"$f":"SUMIF('Datos 2-Potenciales calent glob'!$B$6:$B$56,Cálculos!E161,'Datos 2-Potenciales calent glob'!$D$6:$D$56)","v":0},{"$f":"'Datos 2-Potenciales calent glob'!$D$6","v":1},{"$f":"'Datos 2-Potenciales calent glob'!$D$6","v":1},0,0,0,0,0,0,0]
[null,"Energía","Fuente móvil","Combustión","Combustible desconocido",{"$f":"'Alcance 3'!C25","v":"Autobús urbano"},"Movilidad de los trabajadores","CAPV",3,{"$f":"'Alcance 3'!D25","v":50},{"$f":"'Alcance 3'!E25","v":"km*pasajero"},null,1,null,50,"km*pasajero",{"$f":"SUMIFS('Datos 1-Factores emisión'!$D$324:$D$353,'Datos 1-Factores emisión'!$B$324:$B$353,Cálculos!$F162,'Datos 1-Factores emisión'!$C$324:$C$353,Cálculos!Q$5)","v":2.7279999999999999E-2},{"$f":"SUMIFS('Datos 1-Factores emisión'!$D$324:$D$353,'Datos 1-Factores emisión'!$B$324:$B$353,Cálculos!$F162,'Datos 1-Factores emisión'!$C$324:$C$353,Cálculos!R$5)","v":2.0000000000000002E-5},{"$f":"SUMIFS('Datos 1-Factores emisión'!$D$324:$D$353,'Datos 1-Factores emisión'!$B$324:$B$353,Cálculos!$F162,'Datos 1-Factores emisión'!$C$324:$C$353,Cálculos!S$5)","v":4.8999999999999998E-4},0,0,1.3639999999999999,1E-3,2.4500000000000001E-2,0,0,0,{"$f":"'Datos 2-Potenciales calent glob'!$D$6","v":1},{"$f":"'Datos 2-Potenciales calent glob'!$D$31","v":25},{"$f":"'Datos 2-Potenciales calent glob'!$D$32","v":298},{"$f":"SUMIF('Datos 2-Potenciales calent glob'!$B$6:$B$56,Cálculos!E162,'Datos 2-Potenciales calent glob'!$D$6:$D$56)","v":0},{"$f":"'Datos 2-Potenciales calent glob'!$D$6","v":1},{"$f":"'Datos 2-Potenciales calent glob'!$D$6","v":1},{"$f":"V162*AB162","v":1.3639999999999999},2.5000000000000001E-2,7.3010000000000002,0,8.69,0,0]
[null,"Energía","Fuente móvil","Combustión","Combustible desconocido",{"$f":"'Alcance 3'!C26","v":"Tipo de transporte público"},"Movilidad de los trabajadores","CAPV",3,{"$f":"'Alcance 3'!D26","v":0},{"$f":"'Alcance 3'!E26","v":"km*pasajero"},null,1,null,0,"km*pasajero",{"$f":"SUMIFS('Datos 1-Factores emisión'!$D$324:$D$353,'Datos 1-Factores emisión'!$B$324:$B$353,Cálculos!$F163,'Datos 1-Factores emisión'!$C$324:$C$353,Cálculos!Q$5)","v":0},{"$f":"SUMIFS('Datos 1-Factores emisión'!$D$324:$D$353,'Datos 1-Factores emisión'!$B$324:$B$353,Cálculos!$F163,'Datos 1-Factores emisión'!$C$324:$C$353,Cálculos!R$5)","v":0},{"$f":"SUMIFS('Datos 1-Factores emisión'!$D$324:$D$353,'Datos 1-Factores emisión'!$B$324:$B$353,Cálculos!$F163,'Datos 1-Factores emisión'!$C$324:$C$353,Cálculos!S$5)","v":0},0,0,0,0,0,0,0,0,{"$f":"'Datos 2-Potenciales calent glob'!$D$6","v":1},{"$f":"'Datos 2-Potenciales calent glob'!$D$31","v":25},{"$f":"'Datos 2-Potenciales calent glob'!$D$32","v":298},{"$f":"SUMIF('Datos 2-Potenciales calent glob'!$B$6:$B$56,Cálculos!E163,'Datos 2-Potenciales calent glob'!$D$6:$D$56)","v":0},{"$f":"'Datos 2-Potenciales calent glob'!$D$6","v":1},{"$f":"'Datos 2-Potenciales calent glob'!$D$6","v":1},0,0,0,0,0,0,0]
[null,"Energía","Fuente móvil","Combustión","Combustible desconocido",{"$f":"'Alcance 3'!C27","v":"Tipo de transporte público"},"Movilidad de los trabajadores","CAPV",3,{"$f":"'Alcance 3'!D27","v":0},{"$f":"'Alcance 3'!E27","v":"km*pasajero"},null,1,null,0,"km*pasajero",{"$f":"SUMIFS('Datos 1-Factores emisión'!$D$324:$D$353,'Datos 1-Factores emisión'!$B$324:$B$353,Cálculos!$F164,'Datos 1-Factores emisión'!$C$324:$C$353,Cálculos!Q$5)","v":0},{"$f":"SUMIFS('Datos 1-Factores emisión'!$D$324:$D$353,'Datos 1-Factores emisión'!$B$324:$B$353,Cálculos!$F164,'Datos 1-Factores emisión'!$C$324:$C$353,Cálculos!R$5)","v":0},{"$f":"SUMIFS('Datos 1-Factores emisión'!$D$324:$D$353,'Datos 1-Factores emisión'!$B$324:$B$353,Cálculos!$F164,'Datos 1-Factores emisión'!$C$324:$C$353,Cálculos!S$5)","v":0},0,0,0,0,0,0,0,0,{"$f":"'Datos 2-Potenciales calent glob'!$D$6","v":1},{"$f":"'Datos 2-Potenciales calent glob'!$D$31","v":25},{"$f":"'Datos 2-Potenciales calent glob'!$D$32","v":298},{"$f":"SUMIF('Datos 2-Potenciales calent glob'!$B$6:$B$56,Cálculos!E164,'Datos 2-Potenciales calent glob'!$D$6:$D$56)","v":0},{"$f":"'Datos 2-Potenciales calent glob'!$D$6","v":1},{"$f":"'Datos 2-Potenciales calent glob'!$D$6","v":1},0,0,0,0,0,0,0]
[null,"Energía","Fuente móvil","Combustión","Combustible desconocido",{"$f":"'Alcance 3'!C28","v":"Tipo de transporte público"},"Movilidad de los trabajadores","CAPV",3,{"$f":"'Alcance 3'!D28","v":0},{"$f":"'Alcance 3'!E28","v":"km*pasajero"},null,1,null,0,"km*pasajero",{"$f":"SUMIFS('Datos 1-Factores emisión'!$D$324:$D$353,'Datos 1-Factores emisión'!$B$324:$B$353,Cálculos!$F165,'Datos 1-Factores emisión'!$C$324:$C$353,Cálculos!Q$5)","v":0},{"$f":"SUMIFS('Datos 1-Factores emisión'!$D$324:$D$353,'Datos 1-Factores emisión'!$B$324:$B$353,Cálculos!$F165,'Datos 1-Factores emisión'!$C$324:$C$353,Cálculos!R$5)","v":0},{"$f":"SUMIFS('Datos 1-Factores emisión'!$D$324:$D$353,'Datos 1-Factores emisión'!$B$324:$B$353,Cálculos!$F165,'Datos 1-Factores emisión'!$C$324:$C$353,Cálculos!S$5)","v":0},0,0,0,0,0,0,0,0,{"$f":"'Datos 2-Potenciales calent glob'!$D$6","v":1},{"$f":"'Datos 2-Potenciales calent glob'!$D$31","v":25},{"$f":"'Datos 2-Potenciales calent glob'!$D$32","v":298},{"$f":"SUMIF('Datos 2-Potenciales calent glob'!$B$6:$B$56,Cálculos!E165,'Datos 2-Potenciales calent glob'!$D$6:$D$56)","v":0},{"$f":"'Datos 2-Potenciales calent glob'!$D$6","v":1},{"$f":"'Datos 2-Potenciales calent glob'!$D$6","v":1},0,0,0,0,0,0,0]
[null,"Energía","Fuente móvil","Combustión","Combustible desconocido",{"$f":"'Alcance 3'!C29","v":"Tipo de transporte público"},"Movilidad de los trabajadores","CAPV",3,{"$f":"'Alcance 3'!D29","v":0},{"$f":"'Alcance 3'!E29","v":"km*pasajero"},null,1,null,0,"km*pasajero",{"$f":"SUMIFS('Datos 1-Factores emisión'!$D$324:$D$353,'Datos 1-Factores emisión'!$B$324:$B$353,Cálculos!$F166,'Datos 1-Factores emisión'!$C$324:$C$353,Cálculos!Q$5)","v":0},{"$f":"SUMIFS('Datos 1-Factores emisión'!$D$324:$D$353,'Datos 1-Factores emisión'!$B$324:$B$353,Cálculos!$F166,'Datos 1-Factores emisión'!$C$324:$C$353,Cálculos!R$5)","v":0},{"$f":"SUMIFS('Datos 1-Factores emisión'!$D$324:$D$353,'Datos 1-Factores emisión'!$B$324:$B$353,Cálculos!$F166,'Datos 1-Factores emisión'!$C$324:$C$353,Cálculos!S$5)","v":0},0,0,0,0,0,0,0,0,{"$f":"'Datos 2-Potenciales calent glob'!$D$6","v":1},{"$f":"'Datos 2-Potenciales calent glob'!$D$31","v":25},{"$f":"'Datos 2-Potenciales calent glob'!$D$32","v":298},{"$f":"SUMIF('Datos 2-Potenciales calent glob'!$B$6:$B$56,Cálculos!E166,'Datos 2-Potenciales calent glob'!$D$6:$D$56)","v":0},{"$f":"'Datos 2-Potenciales calent glob'!$D$6","v":1},{"$f":"'Datos 2-Potenciales calent glob'!$D$6","v":1},0,0,0,0,0,0,0]
[null,"Energía","Fuente móvil","Combustión","Combustible desconocido",{"$f":"'Alcance 3'!C30","v":"Tipo de transporte público"},"Movilidad de los trabajadores","CAPV",3,{"$f":"'Alcance 3'!D30","v":0},{"$f":"'Alcance 3'!E30","v":"km*pasajero"},null,1,null,0,"km*pasajero",{"$f":"SUMIFS('Datos 1-Factores emisión'!$D$324:$D$353,'Datos 1-Factores emisión'!$B$324:$B$353,Cálculos!$F167,'Datos 1-Factores emisión'!$C$324:$C$353,Cálculos!Q$5)","v":0},{"$f":"SUMIFS('Datos 1-Factores emisión'!$D$324:$D$353,'Datos 1-Factores emisión'!$B$324:$B$353,Cálculos!$F167,'Datos 1-Factores emisión'!$C$324:$C$353,Cálculos!R$5)","v":0},{"$f":"SUMIFS('Datos 1-Factores emisión'!$D$324:$D$353,'Datos 1-Factores emisión'!$B$324:$B$353,Cálculos!$F167,'Datos 1-Factores emisión'!$C$324:$C$353,Cálculos!S$5)","v":0},0,0,0,0,0,0,0,0,{"$f":"'Datos 2-Potenciales calent glob'!$D$6","v":1},{"$f":"'Datos 2-Potenciales calent glob'!$D$31","v":25},{"$f":"'Datos 2-Potenciales calent glob'!$D$32","v":298},{"$f":"SUMIF('Datos 2-Potenciales calent glob'!$B$6:$B$56,Cálculos!E167,'Datos 2-Potenciales calent glob'!$D$6:$D$56)","v":0},{"$f":"'Datos 2-Potenciales calent glob'!$D$6","v":1},{"$f":"'Datos 2-Potenciales calent glob'!$D$6","v":1},0,0,0,0,0,0,0]
[null,"Energía","Fuente móvil","Combustión","Combustible desconocido",{"$f":"'Alcance 3'!C31","v":"Tipo de transporte público"},"Movilidad de los trabajadores","CAPV",3,{"$f":"'Alcance 3'!D31","v":0},{"$f":"'Alcance 3'!E31","v":"km*pasajero"},null,1,null,0,"km*pasajero",{"$f":"SUMIFS('Datos 1-Factores emisión'!$D$324:$D$353,'Datos 1-Factores emisión'!$B$324:$B$353,Cálculos!$F168,'Datos 1-Factores emisión'!$C$324:$C$353,Cálculos!Q$5)","v":0},{"$f":"SUMIFS('Datos 1-Factores emisión'!$D$324:$D$353,'Datos 1-Factores emisión'!$B$324:$B$353,Cálculos!$F168,'Datos 1-Factores emisión'!$C$324:$C$353,Cálculos!R$5)","v":0},{"$f":"SUMIFS('Datos 1-Factores emisión'!$D$324:$D$353,'Datos 1-Factores emisión'!$B$324:$B$353,Cálculos!$F168,'Datos 1-Factores emisión'!$C$324:$C$353,Cálculos!S$5)","v":0},0,0,0,0,0,0,0,0,{"$f":"'Datos 2-Potenciales calent glob'!$D$6","v":1},{"$f":"'Datos 2-Potenciales calent glob'!$D$31","v":25},{"$f":"'Datos 2-Potenciales calent glob'!$D$32","v":298},{"$f":"SUMIF('Datos 2-Potenciales calent glob'!$B$6:$B$56,Cálculos!E168,'Datos 2-Potenciales calent glob'!$D$6:$D$56)","v":0},{"$f":"'Datos 2-Potenciales calent glob'!$D$6","v":1},{"$f":"'Datos 2-Potenciales calent glob'!$D$6","v":1},0,0,0,0,0,0,0]
[null,"Energía","Fuente móvil","Combustión",{"$f":"'Alcance 3'!D39","v":"Tipo de propulsión"},{"$f":"'Alcance 3'!C39","v":"Tipo de vehículo"},"Viajes de trabajo ","CAPV",3,{"$f":"'Alcance 3'!E39","v":0},{"$f":"'Alcance 3'!F39","v":"km"},null,1,null,0,"km",{"$f":"SUMIFS('Datos 1-Factores emisión'!$E$43:$E$309,'Datos 1-Factores emisión'!$B$43:$B$309,Cálculos!$F169,'Datos 1-Factores emisión'!$C$43:$C$309,Cálculos!$E169,'Datos 1-Factores emisión'!$D$43:$D$309,Cálculos!Q$5)","v":0},{"$f":"SUMIFS('Datos 1-Factores emisión'!$E$43:$E$309,'Datos 1-Factores emisión'!$B$43:$B$309,Cálculos!$F169,'Datos 1-Factores emisión'!$C$43:$C$309,Cálculos!$E169,'Datos 1-Factores emisión'!$D$43:$D$309,Cálculos!R$5)","v":0},{"$f":"SUMIFS('Datos 1-Factores emisión'!$E$43:$E$309,'Datos 1-Factores emisión'!$B$43:$B$309,Cálculos!$F169,'Datos 1-Factores emisión'!$C$43:$C$309,Cálculos!$E169,'Datos 1-Factores emisión'!$D$43:$D$309,Cálculos!S$5)","v":0},0,0,0,0,0,0,0,0,{"$f":"'Datos 2-Potenciales calent glob'!$D$6","v":1},{"$f":"'Datos 2-Potenciales calent glob'!$D$31","v":25},{"$f":"'Datos 2-Potenciales calent glob'!$D$32","v":298},{"$f":"SUMIF('Datos 2-Potenciales calent glob'!$B$6:$B$56,Cálculos!E169,'Datos 2-Potenciales calent glob'!$D$6:$D$56)","v":0},{"$f":"'Datos 2-Potenciales calent glob'!$D$6","v":1},{"$f":"'Datos 2-Potenciales calent glob'!$D$6","v":1},0,0,0,0,0,0,0]
[null,"Energía","Fuente móvil","Combustión",{"$f":"'Alcance 3'!D40","v":"Tipo de propulsión"},{"$f":"'Alcance 3'!C40","v":"Tipo de vehículo"},"Viajes de trabajo ","CAPV",3,{"$f":"'Alcance 3'!E40","v":0},{"$f":"'Alcance 3'!F40","v":"km"},null,1,null,0,"km",{"$f":"SUMIFS('Datos 1-Factores emisión'!$E$43:$E$309,'Datos 1-Factores emisión'!$B$43:$B$309,Cálculos!$F170,'Datos 1-Factores emisión'!$C$43:$C$309,Cálculos!$E170,'Datos 1-Factores emisión'!$D$43:$D$309,Cálculos!Q$5)","v":0},{"$f":"SUMIFS('Datos 1-Factores emisión'!$E$43:$E$309,'Datos 1-Factores emisión'!$B$43:$B$309,Cálculos!$F170,'Datos 1-Factores emisión'!$C$43:$C$309,Cálculos!$E170,'Datos 1-Factores emisión'!$D$43:$D$309,Cálculos!R$5)","v":0},{"$f":"SUMIFS('Datos 1-Factores emisión'!$E$43:$E$309,'Datos 1-Factores emisión'!$B$43:$B$309,Cálculos!$F170,'Datos 1-Factores emisión'!$C$43:$C$309,Cálculos!$E170,'Datos 1-Factores emisión'!$D$43:$D$309,Cálculos!S$5)","v":0},0,0,0,0,0,0,0,0,{"$f":"'Datos 2-Potenciales calent glob'!$D$6","v":1},{"$f":"'Datos 2-Potenciales calent glob'!$D$31","v":25},{"$f":"'Datos 2-Potenciales calent glob'!$D$32","v":298},{"$f":"SUMIF('Datos 2-Potenciales calent glob'!$B$6:$B$56,Cálculos!E170,'Datos 2-Potenciales calent glob'!$D$6:$D$56)","v":0},{"$f":"'Datos 2-Potenciales calent glob'!$D$6","v":1},{"$f":"'Datos 2-Potenciales calent glob'!$D$6","v":1},0,0,0,0,0,0,0]
[null,"Energía","Fuente móvil","Combustión",{"$f":"'Alcance 3'!D41","v":"Tipo de propulsión"},{"$f":"'Alcance 3'!C41","v":"Tipo de vehículo"},"Viajes de trabajo ","CAPV",3,{"$f":"'Alcance 3'!E41","v":0},{"$f":"'Alcance 3'!F41","v":"km"},null,1,null,0,"km",{"$f":"SUMIFS('Datos 1-Factores emisión'!$E$43:$E$309,'Datos 1-Factores emisión'!$B$43:$B$309,Cálculos!$F171,'Datos 1-Factores emisión'!$C$43:$C$309,Cálculos!$E171,'Datos 1-Factores emisión'!$D$43:$D$309,Cálculos!Q$5)","v":0},{"$f":"SUMIFS('Datos 1-Factores emisión'!$E$43:$E$309,'Datos 1-Factores emisión'!$B$43:$B$309,Cálculos!$F171,'Datos 1-Factores emisión'!$C$43:$C$309,Cálculos!$E171,'Datos 1-Factores emisión'!$D$43:$D$309,Cálculos!R$5)","v":0},{"$f":"SUMIFS('Datos 1-Factores emisión'!$E$43:$E$309,'Datos 1-Factores emisión'!$B$43:$B$309,Cálculos!$F171,'Datos 1-Factores emisión'!$C$43:$C$309,Cálculos!$E171,'Datos 1-Factores emisión'!$D$43:$D$309,Cálculos!S$5)","v":0},0,0,0,0,0,0,0,0,{"$f":"'Datos 2-Potenciales calent glob'!$D$6","v":1},{"$f":"'Datos 2-Potenciales calent glob'!$D$31","v":25},{"$f":"'Datos 2-Potenciales calent glob'!$D$32","v":298},{"$f":"SUMIF('Datos 2-Potenciales calent glob'!$B$6:$B$56,Cálculos!E171,'Datos 2-Potenciales calent glob'!$D$6:$D$56)","v":0},{"$f":"'Datos 2-Potenciales calent glob'!$D$6","v":1},{"$f":"'Datos 2-Potenciales calent glob'!$D$6","v":1},0,0,0,0,0,0,0]
[null,"Energía","Fuente móvil","Combustión",{"$f":"'Alcance 3'!D42","v":"Tipo de propulsión"},{"$f":"'Alcance 3'!C42","v":"Tipo de vehículo"},"Viajes de trabajo ","CAPV",3,{"$f":"'Alcance 3'!E42","v":0},{"$f":"'Alcance 3'!F42","v":"km"},null,1,null,0,"km",{"$f":"SUMIFS('Datos 1-Factores emisión'!$E$43:$E$309,'Datos 1-Factores emisión'!$B$43:$B$309,Cálculos!$F172,'Datos 1-Factores emisión'!$C$43:$C$309,Cálculos!$E172,'Datos 1-Factores emisión'!$D$43:$D$309,Cálculos!Q$5)","v":0},{"$f":"SUMIFS('Datos 1-Factores emisión'!$E$43:$E$309,'Datos 1-Factores emisión'!$B$43:$B$309,Cálculos!$F172,'Datos 1-Factores emisión'!$C$43:$C$309,Cálculos!$E172,'Datos 1-Factores emisión'!$D$43:$D$309,Cálculos!R$5)","v":0},{"$f":"SUMIFS('Datos 1-Factores emisión'!$E$43:$E$309,'Datos 1-Factores emisión'!$B$43:$B$309,Cálculos!$F172,'Datos 1-Factores emisión'!$C$43:$C$309,Cálculos!$E172,'Datos 1-Factores emisión'!$D$43:$D$309,Cálculos!S$5)","v":0},0,0,0,0,0,0,0,0,{"$f":"'Datos 2-Potenciales calent glob'!$D$6","v":1},{"$f":"'Datos 2-Potenciales calent glob'!$D$31","v":25},{"$f":"'Datos 2-Potenciales calent glob'!$D$32","v":298},{"$f":"SUMIF('Datos 2-Potenciales calent glob'!$B$6:$B$56,Cálculos!E172,'Datos 2-Potenciales calent glob'!$D$6:$D$56)","v":0},{"$f":"'Datos 2-Potenciales calent glob'!$D$6","v":1},{"$f":"'Datos 2-Potenciales calent glob'!$D$6","v":1},0,0,0,0,0,0,0]
[null,"Energía","Fuente móvil","Combustión",{"$f":"'Alcance 3'!D43","v":"Tipo de propulsión"},{"$f":"'Alcance 3'!C43","v":"Tipo de vehículo"},"Viajes de trabajo ","CAPV",3,{"$f":"'Alcance 3'!E43","v":0},{"$f":"'Alcance 3'!F43","v":"km"},null,1,null,0,"km",{"$f":"SUMIFS('Datos 1-Factores emisión'!$E$43:$E$309,'Datos 1-Factores emisión'!$B$43:$B$309,Cálculos!$F173,'Datos 1-Factores emisión'!$C$43:$C$309,Cálculos!$E173,'Datos 1-Factores emisión'!$D$43:$D$309,Cálculos!Q$5)","v":0},{"$f":"SUMIFS('Datos 1-Factores emisión'!$E$43:$E$309,'Datos 1-Factores emisión'!$B$43:$B$309,Cálculos!$F173,'Datos 1-Factores emisión'!$C$43:$C$309,Cálculos!$E173,'Datos 1-Factores emisión'!$D$43:$D$309,Cálculos!R$5)","v":0},{"$f":"SUMIFS('Datos 1-Factores emisión'!$E$43:$E$309,'Datos 1-Factores emisión'!$B$43:$B$309,Cálculos!$F173,'Datos 1-Factores emisión'!$C$43:$C$309,Cálculos!$E173,'Datos 1-Factores emisión'!$D$43:$D$309,Cálculos!S$5)","v":0},0,0,0,0,0,0,0,0,{"$f":"'Datos 2-Potenciales calent glob'!$D$6","v":1},{"$f":"'Datos 2-Potenciales calent glob'!$D$31","v":25},{"$f":"'Datos 2-Potenciales calent glob'!$D$32","v":298},{"$f":"SUMIF('Datos 2-Potenciales calent glob'!$B$6:$B$56,Cálculos!E173,'Datos 2-Potenciales calent glob'!$D$6:$D$56)","v":0},{"$f":"'Datos 2-Potenciales calent glob'!$D$6","v":1},{"$f":"'Datos 2-Potenciales calent glob'!$D$6","v":1},0,0,0,0,0,0,0]
[null,"Energía","Fuente móvil","Combustión",{"$f":"'Alcance 3'!D44","v":"Tipo de propulsión"},{"$f":"'Alcance 3'!C44","v":"Tipo de vehículo"},"Viajes de trabajo ","CAPV",3,{"$f":"'Alcance 3'!E44","v":0},{"$f":"'Alcance 3'!F44","v":"km"},null,1,null,0,"km",{"$f":"SUMIFS('Datos 1-Factores emisión'!$E$43:$E$309,'Datos 1-Factores emisión'!$B$43:$B$309,Cálculos!$F174,'Datos 1-Factores emisión'!$C$43:$C$309,Cálculos!$E174,'Datos 1-Factores emisión'!$D$43:$D$309,Cálculos!Q$5)","v":0},{"$f":"SUMIFS('Datos 1-Factores emisión'!$E$43:$E$309,'Datos 1-Factores emisión'!$B$43:$B$309,Cálculos!$F174,'Datos 1-Factores emisión'!$C$43:$C$309,Cálculos!$E174,'Datos 1-Factores emisión'!$D$43:$D$309,Cálculos!R$5)","v":0},{"$f":"SUMIFS('Datos 1-Factores emisión'!$E$43:$E$309,'Datos 1-Factores emisión'!$B$43:$B$309,Cálculos!$F174,'Datos 1-Factores emisión'!$C$43:$C$309,Cálculos!$E174,'Datos 1-Factores emisión'!$D$43:$D$309,Cálculos!S$5)","v":0},0,0,0,0,0,0,0,0,{"$f":"'Datos 2-Potenciales calent glob'!$D$6","v":1},{"$f":"'Datos 2-Potenciales calent glob'!$D$31","v":25},{"$f":"'Datos 2-Potenciales calent glob'!$D$32","v":298},{"$f":"SUMIF('Datos 2-Potenciales calent glob'!$B$6:$B$56,Cálculos!E174,'Datos 2-Potenciales calent glob'!$D$6:$D$56)","v":0},{"$f":"'Datos 2-Potenciales calent glob'!$D$6","v":1},{"$f":"'Datos 2-Potenciales calent glob'!$D$6","v":1},0,0,0,0,0,0,0]
[null,"Energía","Fuente móvil","Combustión",{"$f":"'Alcance 3'!D45","v":"Tipo de propulsión"},{"$f":"'Alcance 3'!C45","v":"Tipo de vehículo"},"Viajes de trabajo ","CAPV",3,{"$f":"'Alcance 3'!E45","v":0},{"$f":"'Alcance 3'!F45","v":"km"},null,1,null,0,"km",{"$f":"SUMIFS('Datos 1-Factores emisión'!$E$43:$E$309,'Datos 1-Factores emisión'!$B$43:$B$309,Cálculos!$F175,'Datos 1-Factores emisión'!$C$43:$C$309,Cálculos!$E175,'Datos 1-Factores emisión'!$D$43:$D$309,Cálculos!Q$5)","v":0},{"$f":"SUMIFS('Datos 1-Factores emisión'!$E$43:$E$309,'Datos 1-Factores emisión'!$B$43:$B$309,Cálculos!$F175,'Datos 1-Factores emisión'!$C$43:$C$309,Cálculos!$E175,'Datos 1-Factores emisión'!$D$43:$D$309,Cálculos!R$5)","v":0},{"$f":"SUMIFS('Datos 1-Factores emisión'!$E$43:$E$309,'Datos 1-Factores emisión'!$B$43:$B$309,Cálculos!$F175,'Datos 1-Factores emisión'!$C$43:$C$309,Cálculos!$E175,'Datos 1-Factores emisión'!$D$43:$D$309,Cálculos!S$5)","v":0},0,0,0,0,0,0,0,0,{"$f":"'Datos 2-Potenciales calent glob'!$D$6","v":1},{"$f":"'Datos 2-Potenciales calent glob'!$D$31","v":25},{"$f":"'Datos 2-Potenciales calent glob'!$D$32","v":298},{"$f":"SUMIF('Datos 2-Potenciales calent glob'!$B$6:$B$56,Cálculos!E175,'Datos 2-Potenciales calent glob'!$D$6:$D$56)","v":0},{"$f":"'Datos 2-Potenciales calent glob'!$D$6","v":1},{"$f":"'Datos 2-Potenciales calent glob'!$D$6","v":1},0,0,0,0,0,0,0]
[null,"Energía","Fuente móvil","Combustión",{"$f":"'Alcance 3'!D46","v":"Tipo de propulsión"},{"$f":"'Alcance 3'!C46","v":"Tipo de vehículo"},"Viajes de trabajo ","CAPV",3,{"$f":"'Alcance 3'!E46","v":0},{"$f":"'Alcance 3'!F46","v":"km"},null,1,null,0,"km",{"$f":"SUMIFS('Datos 1-Factores emisión'!$E$43:$E$309,'Datos 1-Factores emisión'!$B$43:$B$309,Cálculos!$F176,'Datos 1-Factores emisión'!$C$43:$C$309,Cálculos!$E176,'Datos 1-Factores emisión'!$D$43:$D$309,Cálculos!Q$5)","v":0},{"$f":"SUMIFS('Datos 1-Factores emisión'!$E$43:$E$309,'Datos 1-Factores emisión'!$B$43:$B$309,Cálculos!$F176,'Datos 1-Factores emisión'!$C$43:$C$309,Cálculos!$E176,'Datos 1-Factores emisión'!$D$43:$D$309,Cálculos!R$5)","v":0},{"$f":"SUMIFS('Datos 1-Factores emisión'!$E$43:$E$309,'Datos 1-Factores emisión'!$B$43:$B$309,Cálculos!$F176,'Datos 1-Factores emisión'!$C$43:$C$309,Cálculos!$E176,'Datos 1-Factores emisión'!$D$43:$D$309,Cálculos!S$5)","v":0},0,0,0,0,0,0,0,0,{"$f":"'Datos 2-Potenciales calent glob'!$D$6","v":1},{"$f":"'Datos 2-Potenciales calent glob'!$D$31","v":25},{"$f":"'Datos 2-Potenciales calent glob'!$D$32","v":298},{"$f":"SUMIF('Datos 2-Potenciales calent glob'!$B$6:$B$56,Cálculos!E176,'Datos 2-Potenciales calent glob'!$D$6:$D$56)","v":0},{"$f":"'Datos 2-Potenciales calent glob'!$D$6","v":1},{"$f":"'Datos 2-Potenciales calent glob'!$D$6","v":1},0,0,0,0,0,0,0]
[null,"Energía","Fuente móvil","Combustión","Combustible desconocido",{"$f":"'Alcance 3'!C54","v":"Tipo de transporte público"},"Viajes de trabajo ","CAPV",3,{"$f":"'Alcance 3'!D54","v":0},{"$f":"'Alcance 3'!E54","v":"km"},null,1,null,0,"km",{"$f":"SUMIFS('Datos 1-Factores emisión'!$D$324:$D$353,'Datos 1-Factores emisión'!$B$324:$B$353,Cálculos!$F177,'Datos 1-Factores emisión'!$C$324:$C$353,Cálculos!Q$5)","v":0},{"$f":"SUMIFS('Datos 1-Factores emisión'!$D$324:$D$353,'Datos 1-Factores emisión'!$B$324:$B$353,Cálculos!$F177,'Datos 1-Factores emisión'!$C$324:$C$353,Cálculos!R$5)","v":0},{"$f":"SUMIFS('Datos 1-Factores emisión'!$D$324:$D$353,'Datos 1-Factores emisión'!$B$324:$B$353,Cálculos!$F177,'Datos 1-Factores emisión'!$C$324:$C$353,Cálculos!S$5)","v":0},0,0,0,0,0,0,0,0,{"$f":"'Datos 2-Potenciales calent glob'!$D$6","v":1},{"$f":"'Datos 2-Potenciales calent glob'!$D$31","v":25},{"$f":"'Datos 2-Potenciales calent glob'!$D$32","v":298},{"$f":"SUMIF('Datos 2-Potenciales calent glob'!$B$6:$B$56,Cálculos!E177,'Datos 2-Potenciales calent glob'!$D$6:$D$56)","v":0},{"$f":"'Datos 2-Potenciales calent glob'!$D$6","v":1},{"$f":"'Datos 2-Potenciales calent glob'!$D$6","v":1},0,0,0,0,0,0,0]
[null,"Energía","Fuente móvil","Combustión","Combustible desconocido",{"$f":"'Alcance 3'!C55","v":"Tipo de transporte público"},"Viajes de trabajo ","CAPV",3,{"$f":"'Alcance 3'!D55","v":0},{"$f":"'Alcance 3'!E55","v":"km"},null,1,null,0,"km",{"$f":"SUMIFS('Datos 1-Factores emisión'!$D$324:$D$353,'Datos 1-Factores emisión'!$B$324:$B$353,Cálculos!$F178,'Datos 1-Factores emisión'!$C$324:$C$353,Cálculos!Q$5)","v":0},{"$f":"SUMIFS('Datos 1-Factores emisión'!$D$324:$D$353,'Datos 1-Factores emisión'!$B$324:$B$353,Cálculos!$F178,'Datos 1-Factores emisión'!$C$324:$C$353,Cálculos!R$5)","v":0},{"$f":"SUMIFS('Datos 1-Factores emisión'!$D$324:$D$353,'Datos 1-Factores emisión'!$B$324:$B$353,Cálculos!$F178,'Datos 1-Factores emisión'!$C$324:$C$353,Cálculos!S$5)","v":0},0,0,0,0,0,0,0,0,{"$f":"'Datos 2-Potenciales calent glob'!$D$6","v":1},{"$f":"'Datos 2-Potenciales calent glob'!$D$31","v":25},{"$f":"'Datos 2-Potenciales calent glob'!$D$32","v":298},{"$f":"SUMIF('Datos 2-Potenciales calent glob'!$B$6:$B$56,Cálculos!E178,'Datos 2-Potenciales calent glob'!$D$6:$D$56)","v":0},{"$f":"'Datos 2-Potenciales calent glob'!$D$6","v":1},{"$f":"'Datos 2-Potenciales calent glob'!$D$6","v":1},0,0,0,0,0,0,0]
[null,"Energía","Fuente móvil","Combustión","Combustible desconocido",{"$f":"'Alcance 3'!C56","v":"Tipo de transporte público"},"Viajes de trabajo ","CAPV",3,{"$f":"'Alcance 3'!D56","v":0},{"$f":"'Alcance 3'!E56","v":"km"},null,1,null,0,"km",{"$f":"SUMIFS('Datos 1-Factores emisión'!$D$324:$D$353,'Datos 1-Factores emisión'!$B$324:$B$353,Cálculos!$F179,'Datos 1-Factores emisión'!$C$324:$C$353,Cálculos!Q$5)","v":0},{"$f":"SUMIFS('Datos 1-Factores emisión'!$D$324:$D$353,'Datos 1-Factores emisión'!$B$324:$B$353,Cálculos!$F179,'Datos 1-Factores emisión'!$C$324:$C$353,Cálculos!R$5)","v":0},{"$f":"SUMIFS('Datos 1-Factores emisión'!$D$324:$D$353,'Datos 1-Factores emisión'!$B$324:$B$353,Cálculos!$F179,'Datos 1-Factores emisión'!$C$324:$C$353,Cálculos!S$5)","v":0},0,0,0,0,0,0,0,{"$f":"U179*$O179","v":0},{"$f":"'Datos 2-Potenciales calent glob'!$D$6","v":1},{"$f":"'Datos 2-Potenciales calent glob'!$D$31","v":25},{"$f":"'Datos 2-Potenciales calent glob'!$D$32","v":298},{"$f":"SUMIF('Datos 2-Potenciales calent glob'!$B$6:$B$56,Cálculos!E179,'Datos 2-Potenciales calent glob'!$D$6:$D$56)","v":0},{"$f":"'Datos 2-Potenciales calent glob'!$D$6","v":1},{"$f":"'Datos 2-Potenciales calent glob'!$D$6","v":1},0,0,0,0,0,0,0]
[null,"Energía","Fuente móvil","Combustión","Combustible desconocido",{"$f":"'Alcance 3'!C57","v":"Tipo de transporte público"},"Viajes de trabajo ","CAPV",3,{"$f":"'Alcance 3'!D57","v":0},{"$f":"'Alcance 3'!E57","v":"km"},null,1,null,0,"km",{"$f":"SUMIFS('Datos 1-Factores emisión'!$D$324:$D$353,'Datos 1-Factores emisión'!$B$324:$B$353,Cálculos!$F180,'Datos 1-Factores emisión'!$C$324:$C$353,Cálculos!Q$5)","v":0},{"$f":"SUMIFS('Datos 1-Factores emisión'!$D$324:$D$353,'Datos 1-Factores emisión'!$B$324:$B$353,Cálculos!$F180,'Datos 1-Factores emisión'!$C$324:$C$353,Cálculos!R$5)","v":0},{"$f":"SUMIFS('Datos 1-Factores emisión'!$D$324:$D$353,'Datos 1-Factores emisión'!$B$324:$B$353,Cálculos!$F180,'Datos 1-Factores emisión'!$C$324:$C$353,Cálculos!S$5)","v":0},0,0,0,0,0,0,0,0,{"$f":"'Datos 2-Potenciales calent glob'!$D$6","v":1},{"$f":"'Datos 2-Potenciales calent glob'!$D$31","v":25},{"$f":"'Datos 2-Potenciales calent glob'!$D$32","v":298},{"$f":"SUMIF('Datos 2-Potenciales calent glob'!$B$6:$B$56,Cálculos!E180,'Datos 2-Potenciales calent glob'!$D$6:$D$56)","v":0},{"$f":"'Datos 2-Potenciales calent glob'!$D$6","v":1},{"$f":"'Datos 2-Potenciales calent glob'!$D$6","v":1},0,0,0,0,0,0,0]
[null,"Energía","Fuente móvil","Combustión","Combustible desconocido",{"$f":"'Alcance 3'!C58","v":"Tipo de transporte público"},"Viajes de trabajo ","CAPV",3,{"$f":"'Alcance 3'!D58","v":0},{"$f":"'Alcance 3'!E58","v":"km"},null,1,null,0,"km",{"$f":"SUMIFS('Datos 1-Factores emisión'!$D$324:$D$353,'Datos 1-Factores emisión'!$B$324:$B$353,Cálculos!$F181,'Datos 1-Factores emisión'!$C$324:$C$353,Cálculos!Q$5)","v":0},{"$f":"SUMIFS('Datos 1-Factores emisión'!$D$324:$D$353,'Datos 1-Factores emisión'!$B$324:$B$353,Cálculos!$F181,'Datos 1-Factores emisión'!$C$324:$C$353,Cálculos!R$5)","v":0},{"$f":"SUMIFS('Datos 1-Factores emisión'!$D$324:$D$353,'Datos 1-Factores emisión'!$B$324:$B$353,Cálculos!$F181,'Datos 1-Factores emisión'!$C$324:$C$353,Cálculos!S$5)","v":0},0,0,0,0,0,0,0,0,{"$f":"'Datos 2-Potenciales calent glob'!$D$6","v":1},{"$f":"'Datos 2-Potenciales calent glob'!$D$31","v":25},{"$f":"'Datos 2-Potenciales calent glob'!$D$32","v":298},{"$f":"SUMIF('Datos 2-Potenciales calent glob'!$B$6:$B$56,Cálculos!E181,'Datos 2-Potenciales calent glob'!$D$6:$D$56)","v":0},{"$f":"'Datos 2-Potenciales calent glob'!$D$6","v":1},{"$f":"'Datos 2-Potenciales calent glob'!$D$6","v":1},0,0,0,0,0,0,0]
[null,"Energía","Fuente móvil","Combustión","Combustible desconocido",{"$f":"'Alcance 3'!C59","v":"Tipo de transporte público"},"Viajes de trabajo ","CAPV",3,{"$f":"'Alcance 3'!D59","v":0},{"$f":"'Alcance 3'!E59","v":"km"},null,1,null,0,"km",{"$f":"SUMIFS('Datos 1-Factores emisión'!$D$324:$D$353,'Datos 1-Factores emisión'!$B$324:$B$353,Cálculos!$F182,'Datos 1-Factores emisión'!$C$324:$C$353,Cálculos!Q$5)","v":0},{"$f":"SUMIFS('Datos 1-Factores emisión'!$D$324:$D$353,'Datos 1-Factores emisión'!$B$324:$B$353,Cálculos!$F182,'Datos 1-Factores emisión'!$C$324:$C$353,Cálculos!R$5)","v":0},{"$f":"SUMIFS('Datos 1-Factores emisión'!$D$324:$D$353,'Datos 1-Factores emisión'!$B$324:$B$353,Cálculos!$F182,'Datos 1-Factores emisión'!$C$324:$C$353,Cálculos!S$5)","v":0},0,0,0,0,0,0,0,0,{"$f":"'Datos 2-Potenciales calent glob'!$D$6","v":1},{"$f":"'Datos 2-Potenciales calent glob'!$D$31","v":25},{"$f":"'Datos 2-Potenciales calent glob'!$D$32","v":298},{"$f":"SUMIF('Datos 2-Potenciales calent glob'!$B$6:$B$56,Cálculos!E182,'Datos 2-Potenciales calent glob'!$D$6:$D$56)","v":0},{"$f":"'Datos 2-Potenciales calent glob'!$D$6","v":1},{"$f":"'Datos 2-Potenciales calent glob'!$D$6","v":1},0,0,0,0,0,0,0]
[null,"Energía","Fuente móvil","Combustión","Combustible desconocido",{"$f":"'Alcance 3'!C60","v":"Tipo de transporte público"},"Viajes de trabajo ","CAPV",3,{"$f":"'Alcance 3'!D60","v":0},{"$f":"'Alcance 3'!E60","v":"km"},null,1,null,0,"km",{"$f":"SUMIFS('Datos 1-Factores emisión'!$D$324:$D$353,'Datos 1-Factores emisión'!$B$324:$B$353,Cálculos!$F183,'Datos 1-Factores emisión'!$C$324:$C$353,Cálculos!Q$5)","v":0},{"$f":"SUMIFS('Datos 1-Factores emisión'!$D$324:$D$353,'Datos 1-Factores emisión'!$B$324:$B$353,Cálculos!$F183,'Datos 1-Factores emisión'!$C$324:$C$353,Cálculos!R$5)","v":0},{"$f":"SUMIFS('Datos 1-Factores emisión'!$D$324:$D$353,'Datos 1-Factores emisión'!$B$324:$B$353,Cálculos!$F183,'Datos 1-Factores emisión'!$C$324:$C$353,Cálculos!S$5)","v":0},0,0,0,0,0,0,0,0,{"$f":"'Datos 2-Potenciales calent glob'!$D$6","v":1},{"$f":"'Datos 2-Potenciales calent glob'!$D$31","v":25},{"$f":"'Datos 2-Potenciales calent glob'!$D$32","v":298},{"$f":"SUMIF('Datos 2-Potenciales calent glob'!$B$6:$B$56,Cálculos!E183,'Datos 2-Potenciales calent glob'!$D$6:$D$56)","v":0},{"$f":"'Datos 2-Potenciales calent glob'!$D$6","v":1},{"$f":"'Datos 2-Potenciales calent glob'!$D$6","v":1},0,0,0,0,0,0,0]
[null,"Residuos","Fuente difusa","Residuos","Vertedero",{"$f":"'Alcance 3'!C66","v":"Residuos domiciliarios a vertedero"},"Gestión de residuos","CAPV",3,{"$f":"'Alcance 3'!D66","v":0},{"$f":"'Alcance 3'!E66","v":"kg"},null,{"$f":"1/1000","v":1E-3},null,0,"t ",{"$f":"'Datos 1-Factores emisión'!D770","v":21.353999999999999},{"$f":"SUMIFS('Datos 1-Factores emisión'!$D$324:$D$353,'Datos 1-Factores emisión'!$B$324:$B$353,Cálculos!$F184,'Datos 1-Factores emisión'!$C$324:$C$353,Cálculos!R$5)","v":0},{"$f":"SUMIFS('Datos 1-Factores emisión'!$D$324:$D$353,'Datos 1-Factores emisión'!$B$324:$B$353,Cálculos!$F184,'Datos 1-Factores emisión'!$C$324:$C$353,Cálculos!S$5)","v":0},0,0,0,0,0,0,0,0,{"$f":"'Datos 2-Potenciales calent glob'!$D$6","v":1},{"$f":"'Datos 2-Potenciales calent glob'!$D$31","v":25},{"$f":"'Datos 2-Potenciales calent glob'!$D$32","v":298},{"$f":"SUMIF('Datos 2-Potenciales calent glob'!$B$6:$B$56,Cálculos!E184,'Datos 2-Potenciales calent glob'!$D$6:$D$56)","v":0},{"$f":"'Datos 2-Potenciales calent glob'!$D$6","v":1},{"$f":"'Datos 2-Potenciales calent glob'!$D$6","v":1},0,0,0,0,0,0,0]
[null,"Residuos","Fuente difusa","Residuos","Incineración",{"$f":"'Alcance 3'!C67","v":"Residuos domiciliarios a incineración"},"Gestión de residuos","CAPV",3,{"$f":"'Alcance 3'!D67","v":0},{"$f":"'Alcance 3'!E67","v":"kg"},null,{"$f":"1/1000","v":1E-3},null,0,"t ",{"$f":"'Datos 1-Factores emisión'!D771","v":99.759200000000007},{"$f":"SUMIFS('Datos 1-Factores emisión'!$D$324:$D$353,'Datos 1-Factores emisión'!$B$324:$B$353,Cálculos!$F185,'Datos 1-Factores emisión'!$C$324:$C$353,Cálculos!R$5)","v":0},{"$f":"SUMIFS('Datos 1-Factores emisión'!$D$324:$D$353,'Datos 1-Factores emisión'!$B$324:$B$353,Cálculos!$F185,'Datos 1-Factores emisión'!$C$324:$C$353,Cálculos!S$5)","v":0},0,0,0,0,0,0,0,0,{"$f":"'Datos 2-Potenciales calent glob'!$D$6","v":1},{"$f":"'Datos 2-Potenciales calent glob'!$D$31","v":25},{"$f":"'Datos 2-Potenciales calent glob'!$D$32","v":298},{"$f":"SUMIF('Datos 2-Potenciales calent glob'!$B$6:$B$56,Cálculos!E185,'Datos 2-Potenciales calent glob'!$D$6:$D$56)","v":0},{"$f":"'Datos 2-Potenciales calent glob'!$D$6","v":1},{"$f":"'Datos 2-Potenciales calent glob'!$D$6","v":1},0,0,0,0,0,0,0]
[null,"Residuos","Fuente difusa","Residuos","Vertedero",{"$f":"'Alcance 3'!C68","v":"Residuos comerciales e industriales a vertedero"},"Gestión de residuos","CAPV",3,{"$f":"'Alcance 3'!D68","v":0},{"$f":"'Alcance 3'!E68","v":"kg"},null,1E-3,null,0,"t ",{"$f":"'Datos 1-Factores emisión'!D772","v":21.353999999999999},{"$f":"SUMIFS('Datos 1-Factores emisión'!$D$324:$D$353,'Datos 1-Factores emisión'!$B$324:$B$353,Cálculos!$F186,'Datos 1-Factores emisión'!$C$324:$C$353,Cálculos!R$5)","v":0},{"$f":"SUMIFS('Datos 1-Factores emisión'!$D$324:$D$353,'Datos 1-Factores emisión'!$B$324:$B$353,Cálculos!$F186,'Datos 1-Factores emisión'!$C$324:$C$353,Cálculos!S$5)","v":0},0,0,0,0,0,0,0,0,{"$f":"'Datos 2-Potenciales calent glob'!$D$6","v":1},{"$f":"'Datos 2-Potenciales calent glob'!$D$31","v":25},{"$f":"'Datos 2-Potenciales calent glob'!$D$32","v":298},{"$f":"SUMIF('Datos 2-Potenciales calent glob'!$B$6:$B$56,Cálculos!E186,'Datos 2-Potenciales calent glob'!$D$6:$D$56)","v":0},{"$f":"'Datos 2-Potenciales calent glob'!$D$6","v":1},{"$f":"'Datos 2-Potenciales calent glob'!$D$6","v":1},0,0,0,0,0,0,0]
[null,"Residuos","Fuente difusa","Residuos","Incineración",{"$f":"'Alcance 3'!C69","v":"Residuos comerciales e industriales a incineración"},"Gestión de residuos","CAPV",3,{"$f":"'Alcance 3'!D69","v":0},{"$f":"'Alcance 3'!E69","v":"kg"},null,1E-3,null,0,"t ",{"$f":"'Datos 1-Factores emisión'!D773","v":586.51379999999995},{"$f":"SUMIFS('Datos 1-Factores emisión'!$D$324:$D$353,'Datos 1-Factores emisión'!$B$324:$B$353,Cálculos!$F187,'Datos 1-Factores emisión'!$C$324:$C$353,Cálculos!R$5)","v":0},{"$f":"SUMIFS('Datos 1-Factores emisión'!$D$324:$D$353,'Datos 1-Factores emisión'!$B$324:$B$353,Cálculos!$F187,'Datos 1-Factores emisión'!$C$324:$C$353,Cálculos!S$5)","v":0},0,0,0,0,0,0,0,0,{"$f":"'Datos 2-Potenciales calent glob'!$D$6","v":1},{"$f":"'Datos 2-Potenciales calent glob'!$D$31","v":25},{"$f":"'Datos 2-Potenciales calent glob'!$D$32","v":298},{"$f":"SUMIF('Datos 2-Potenciales calent glob'!$B$6:$B$56,Cálculos!E187,'Datos 2-Potenciales calent glob'!$D$6:$D$56)","v":0},{"$f":"'Datos 2-Potenciales calent glob'!$D$6","v":1},{"$f":"'Datos 2-Potenciales calent glob'!$D$6","v":1},0,0,0,0,0,0,0]
[null,"Residuos","Fuente difusa","Residuos","Compostaje",{"$f":"'Alcance 3'!C70","v":"Fracción orgánica a compostaje"},"Gestión de residuos","CAPV",3,{"$f":"'Alcance 3'!D70","v":0},{"$f":"'Alcance 3'!E70","v":"kg"},null,1E-3,null,{"$f":"J188*M188","v":0},"t ",{"$f":"'Datos 1-Factores emisión'!D774","v":10.204000000000001},{"$f":"SUMIFS('Datos 1-Factores emisión'!$D$324:$D$353,'Datos 1-Factores emisión'!$B$324:$B$353,Cálculos!$F188,'Datos 1-Factores emisión'!$C$324:$C$353,Cálculos!R$5)","v":0},{"$f":"SUMIFS('Datos 1-Factores emisión'!$D$324:$D$353,'Datos 1-Factores emisión'!$B$324:$B$353,Cálculos!$F188,'Datos 1-Factores emisión'!$C$324:$C$353,Cálculos!S$5)","v":0},0,0,0,0,0,0,0,0,{"$f":"'Datos 2-Potenciales calent glob'!$D$6","v":1},{"$f":"'Datos 2-Potenciales calent glob'!$D$31","v":25},{"$f":"'Datos 2-Potenciales calent glob'!$D$32","v":298},{"$f":"SUMIF('Datos 2-Potenciales calent glob'!$B$6:$B$56,Cálculos!E188,'Datos 2-Potenciales calent glob'!$D$6:$D$56)","v":0},{"$f":"'Datos 2-Potenciales calent glob'!$D$6","v":1},{"$f":"'Datos 2-Potenciales calent glob'!$D$6","v":1},0,0,0,0,0,0,0]
[null,"Residuos","Fuente difusa","Residuos","Reciclaje",{"$f":"'Alcance 3'!C71","v":"Vidrio a reciclaje"},"Gestión de residuos","CAPV",3,{"$f":"'Alcance 3'!D71","v":0},{"$f":"'Alcance 3'!E71","v":"kg"},null,1E-3,null,0,"t ",{"$f":"'Datos 1-Factores emisión'!D775","v":21.353999999999999},{"$f":"SUMIFS('Datos 1-Factores emisión'!$D$324:$D$353,'Datos 1-Factores emisión'!$B$324:$B$353,Cálculos!$F189,'Datos 1-Factores emisión'!$C$324:$C$353,Cálculos!R$5)","v":0},{"$f":"SUMIFS('Datos 1-Factores emisión'!$D$324:$D$353,'Datos 1-Factores emisión'!$B$324:$B$353,Cálculos!$F189,'Datos 1-Factores emisión'!$C$324:$C$353,Cálculos!S$5)","v":0},0,0,0,0,0,0,0,0,{"$f":"'Datos 2-Potenciales calent glob'!$D$6","v":1},{"$f":"'Datos 2-Potenciales calent glob'!$D$31","v":25},{"$f":"'Datos 2-Potenciales calent glob'!$D$32","v":298},{"$f":"SUMIF('Datos 2-Potenciales calent glob'!$B$6:$B$56,Cálculos!E189,'Datos 2-Potenciales calent glob'!$D$6:$D$56)","v":0},{"$f":"'Datos 2-Potenciales calent glob'!$D$6","v":1},{"$f":"'Datos 2-Potenciales calent glob'!$D$6","v":1},0,0,0,0,0,0,0]
[null,"Residuos","Fuente difusa","Residuos","Reciclaje",{"$f":"'Alcance 3'!C72","v":"Envases a reciclaje"},"Gestión de residuos","CAPV",3,{"$f":"'Alcance 3'!D72","v":0},{"$f":"'Alcance 3'!E72","v":"kg"},null,1E-3,null,0,"t ",{"$f":"'Datos 1-Factores emisión'!D776","v":21.353999999999999},{"$f":"SUMIFS('Datos 1-Factores emisión'!$D$324:$D$353,'Datos 1-Factores emisión'!$B$324:$B$353,Cálculos!$F190,'Datos 1-Factores emisión'!$C$324:$C$353,Cálculos!R$5)","v":0},{"$f":"SUMIFS('Datos 1-Factores emisión'!$D$324:$D$353,'Datos 1-Factores emisión'!$B$324:$B$353,Cálculos!$F190,'Datos 1-Factores emisión'!$C$324:$C$353,Cálculos!S$5)","v":0},0,0,0,0,0,0,0,0,{"$f":"'Datos 2-Potenciales calent glob'!$D$6","v":1},{"$f":"'Datos 2-Potenciales calent glob'!$D$31","v":25},{"$f":"'Datos 2-Potenciales calent glob'!$D$32","v":298},{"$f":"SUMIF('Datos 2-Potenciales calent glob'!$B$6:$B$56,Cálculos!E190,'Datos 2-Potenciales calent glob'!$D$6:$D$56)","v":0},{"$f":"'Datos 2-Potenciales calent glob'!$D$6","v":1},{"$f":"'Datos 2-Potenciales calent glob'!$D$6","v":1},0,0,0,0,0,0,0]
[null,"Residuos","Fuente difusa","Residuos","Reciclaje",{"$f":"'Alcance 3'!C73","v":"Papel y cartón a reciclaje"},"Gestión de residuos","CAPV",3,{"$f":"'Alcance 3'!D73","v":0},{"$f":"'Alcance 3'!E73","v":"kg"},null,1E-3,null,0,"t ",{"$f":"'Datos 1-Factores emisión'!D777","v":21.353999999999999},{"$f":"SUMIFS('Datos 1-Factores emisión'!$D$324:$D$353,'Datos 1-Factores emisión'!$B$324:$B$353,Cálculos!$F191,'Datos 1-Factores emisión'!$C$324:$C$353,Cálculos!R$5)","v":0},{"$f":"SUMIFS('Datos 1-Factores emisión'!$D$324:$D$353,'Datos 1-Factores emisión'!$B$324:$B$353,Cálculos!$F191,'Datos 1-Factores emisión'!$C$324:$C$353,Cálculos!S$5)","v":0},0,0,0,0,0,0,0,0,{"$f":"'Datos 2-Potenciales calent glob'!$D$6","v":1},{"$f":"'Datos 2-Potenciales calent glob'!$D$31","v":25},{"$f":"'Datos 2-Potenciales calent glob'!$D$32","v":298},{"$f":"SUMIF('Datos 2-Potenciales calent glob'!$B$6:$B$56,Cálculos!E191,'Datos 2-Potenciales calent glob'!$D$6:$D$56)","v":0},{"$f":"'Datos 2-Potenciales calent glob'!$D$6","v":1},{"$f":"'Datos 2-Potenciales calent glob'!$D$6","v":1},0,0,0,0,0,0,0]
[null,"Consumo de agua","Fuente difusa","Ciclo de vida","Consumo de agua","Consumo de agua","Consumo de agua","CAPV",3,{"$f":"'Alcance 3'!D79","v":0},{"$f":"'Alcance 3'!E79","v":"m3"},null,1,null,0,{"$f":"K192","v":"m3"},{"$f":"'Datos 1-Factores emisión'!C783","v":0.34410000000000002},{"$f":"SUMIFS('Datos 1-Factores emisión'!$D$324:$D$353,'Datos 1-Factores emisión'!$B$324:$B$353,Cálculos!$E192,'Datos 1-Factores emisión'!$C$324:$C$353,Cálculos!R$5)","v":0},{"$f":"SUMIFS('Datos 1-Factores emisión'!$D$324:$D$353,'Datos 1-Factores emisión'!$B$324:$B$353,Cálculos!$E192,'Datos 1-Factores emisión'!$C$324:$C$353,Cálculos!S$5)","v":0},0,0,{"$f":"Q192*$O192","v":0},0,0,0,0,0,{"$f":"'Datos 2-Potenciales calent glob'!$D$6","v":1},{"$f":"'Datos 2-Potenciales calent glob'!$D$31","v":25},{"$f":"'Datos 2-Potenciales calent glob'!$D$32","v":298},{"$f":"SUMIF('Datos 2-Potenciales calent glob'!$B$6:$B$56,Cálculos!E192,'Datos 2-Potenciales calent glob'!$D$6:$D$56)","v":0},{"$f":"'Datos 2-Potenciales calent glob'!$D$6","v":1},{"$f":"'Datos 2-Potenciales calent glob'!$D$6","v":1},0,0,0,0,0,0,0]
[null,"Otros","Otros","Otros",{"$f":"'Alcance 3'!C161","v":"<Tipo de emisión 1>"},null,"Consumo de bienes y servicios","CAPV",3,null,null,null,null,null,null,null,null,null,null,null,null,null,null,null,null,null,null,null,null,null,null,null,null,{"$f":"AL193","v":0},null,null,null,{"$f":"'Alcance 3'!D161","v":0},0,0]
[null,"Otros","Otros","Otros",{"$f":"'Alcance 3'!C162","v":"<Tipo de emisión 2>"},null,"Consumo de bienes y servicios","CAPV",3,null,null,null,null,null,null,null,null,null,null,null,null,null,null,null,null,null,null,null,null,null,null,null,null,{"$f":"AL194","v":0},null,null,null,{"$f":"'Alcance 3'!D162","v":0},0,0]
[null,"Otros","Otros","Otros",{"$f":"'Alcance 3'!C163","v":"<Tipo de emisión 3>"},null,"Consumo de bienes y servicios","CAPV",3,null,null,null,null,null,null,null,null,null,null,null,null,null,null,null,null,null,null,null,null,null,null,null,null,0,null,null,null,{"$f":"'Alcance 3'!D163","v":0},0,0]
[null,"Bienes y servicios","Otros","Otros",{"$f":"'Alcance 3'!C85","v":"Router internet"},{"$f":"E196","v":"Router internet"},"Consumo de bienes y servicios","CAPV",3,{"$f":"'Alcance 3'!D85","v":0},{"$f":"'Alcance 3'!E85","v":"ud"},null,1,null,{"$f":"J196*M196","v":0},{"$f":"K196","v":"ud"},{"$f":"VLOOKUP(E196,'Datos 1-Factores emisión'!$B$789:$E$803,2,FALSE)","v":26.7},0,0,0,0,{"$f":"Q196*$O196","v":0},{"$f":"R196*$O196","v":0},0,0,0,{"$f":"U196*$O196","v":0},{"$f":"'Datos 2-Potenciales calent glob'!$D$6","v":1},{"$f":"'Datos 2-Potenciales calent glob'!$D$31","v":25},{"$f":"'Datos 2-Potenciales calent glob'!$D$32","v":298},{"$f":"SUMIF('Datos 2-Potenciales calent glob'!$B$6:$B$56,Cálculos!E196,'Datos 2-Potenciales calent glob'!$D$6:$D$56)","v":0},{"$f":"'Datos 2-Potenciales calent glob'!$D$6","v":1},{"$f":"'Datos 2-Potenciales calent glob'!$D$6","v":1},{"$f":"V196*AB196","v":0},{"$f":"W196*AC196","v":0},0,0,{"$f":"SUM(AH196:AK196)","v":0},0,0]
[null,"Bienes y servicios","Otros","Otros",{"$f":"'Alcance 3'!C86","v":"Papel "},{"$f":"E197","v":"Papel "},"Consumo de bienes y servicios","CAPV",3,{"$f":"'Alcance 3'!D86","v":0},{"$f":"'Alcance 3'!E86","v":"kg"},null,1,null,{"$f":"J197*M197","v":0},"kg",{"$f":"VLOOKUP(E197,'Datos 1-Factores emisión'!$B$789:$E$803,2,FALSE)","v":1.21},0,0,0,0,{"$f":"Q197*$O197","v":0},0,0,0,0,0,{"$f":"'Datos 2-Potenciales calent glob'!$D$6","v":1},{"$f":"'Datos 2-Potenciales calent glob'!$D$31","v":25},{"$f":"'Datos 2-Potenciales calent glob'!$D$32","v":298},{"$f":"SUMIF('Datos 2-Potenciales calent glob'!$B$6:$B$56,Cálculos!E197,'Datos 2-Potenciales calent glob'!$D$6:$D$56)","v":0},{"$f":"'Datos 2-Potenciales calent glob'!$D$6","v":1},{"$f":"'Datos 2-Potenciales calent glob'!$D$6","v":1},0,0,0,0,0,0,0]
[null,"Bienes y servicios","Otros","Otros",{"$f":"'Alcance 3'!C87","v":"Ordenador portátil"},"Ordenador portátil","Consumo de bienes y servicios","CAPV",3,{"$f":"'Alcance 3'!D87","v":0},{"$f":"'Alcance 3'!E87","v":"ud"},null,1,null,0,"ud",{"$f":"VLOOKUP(E198,'Datos 1-Factores emisión'!$B$789:$E$803,2,FALSE)","v":565},0,0,0,0,0,0,0,0,0,0,{"$f":"'Datos 2-Potenciales calent glob'!$D$6","v":1},{"$f":"'Datos 2-Potenciales calent glob'!$D$31","v":25},{"$f":"'Datos 2-Potenciales calent glob'!$D$32","v":298},{"$f":"SUMIF('Datos 2-Potenciales calent glob'!$B$6:$B$56,Cálculos!E198,'Datos 2-Potenciales calent glob'!$D$6:$D$56)","v":0},{"$f":"'Datos 2-Potenciales calent glob'!$D$6","v":1},{"$f":"'Datos 2-Potenciales calent glob'!$D$6","v":1},0,0,0,0,0,0,0]
[null,"Bienes y servicios","Otros","Otros",{"$f":"'Alcance 3'!C88","v":"Mesa escritorio"},"Mesa escritorio","Consumo de bienes y servicios","CAPV",3,{"$f":"'Alcance 3'!D88","v":0},{"$f":"'Alcance 3'!E88","v":"ud"},null,1,null,0,"ud",{"$f":"VLOOKUP(E199,'Datos 1-Factores emisión'!$B$789:$E$803,2,FALSE)","v":47.7},0,0,0,0,0,0,0,0,0,0,{"$f":"'Datos 2-Potenciales calent glob'!$D$6","v":1},{"$f":"'Datos 2-Potenciales calent glob'!$D$31","v":25},{"$f":"'Datos 2-Potenciales calent glob'!$D$32","v":298},{"$f":"SUMIF('Datos 2-Potenciales calent glob'!$B$6:$B$56,Cálculos!E199,'Datos 2-Potenciales calent glob'!$D$6:$D$56)","v":0},{"$f":"'Datos 2-Potenciales calent glob'!$D$6","v":1},{"$f":"'Datos 2-Potenciales calent glob'!$D$6","v":1},0,0,0,0,0,0,0]
[null,"Bienes y servicios","Otros","Otros",{"$f":"'Alcance 3'!C89","v":"Ordenador de mesa completo"},"Ordenador de mesa completo","Consumo de bienes y servicios","CAPV",3,{"$f":"'Alcance 3'!D89","v":0},{"$f":"'Alcance 3'!E89","v":"ud"},null,1,null,0,"ud",{"$f":"VLOOKUP(E200,'Datos 1-Factores emisión'!$B$789:$E$803,2,FALSE)","v":174},0,0,0,0,0,0,0,0,0,0,{"$f":"'Datos 2-Potenciales calent glob'!$D$6","v":1},{"$f":"'Datos 2-Potenciales calent glob'!$D$31","v":25},{"$f":"'Datos 2-Potenciales calent glob'!$D$32","v":298},{"$f":"SUMIF('Datos 2-Potenciales calent glob'!$B$6:$B$56,Cálculos!E200,'Datos 2-Potenciales calent glob'!$D$6:$D$56)","v":0},{"$f":"'Datos 2-Potenciales calent glob'!$D$6","v":1},{"$f":"'Datos 2-Potenciales calent glob'!$D$6","v":1},0,0,0,0,0,0,0]
[null,"Bienes y servicios","Otros","Otros",{"$f":"'Alcance 3'!C90","v":"Cartucho de impresora negro"},"Cartucho de impresora negro","Consumo de bienes y servicios","CAPV",3,{"$f":"'Alcance 3'!D90","v":0},{"$f":"'Alcance 3'!E90","v":"ud"},null,1,null,0,"ud",{"$f":"VLOOKUP(E201,'Datos 1-Factores emisión'!$B$789:$E$803,2,FALSE)","v":29},0,0,0,0,0,0,0,0,0,0,{"$f":"'Datos 2-Potenciales calent glob'!$D$6","v":1},{"$f":"'Datos 2-Potenciales calent glob'!$D$31","v":25},{"$f":"'Datos 2-Potenciales calent glob'!$D$32","v":298},{"$f":"SUMIF('Datos 2-Potenciales calent glob'!$B$6:$B$56,Cálculos!E201,'Datos 2-Potenciales calent glob'!$D$6:$D$56)","v":0},{"$f":"'Datos 2-Potenciales calent glob'!$D$6","v":1},{"$f":"'Datos 2-Potenciales calent glob'!$D$6","v":1},0,0,0,0,0,0,0]
[null,"Bienes y servicios","Otros","Otros",{"$f":"'Alcance 3'!C91","v":"Cartucho de impresora color"},"Cartucho de impresora color","Consumo de bienes y servicios","CAPV",3,{"$f":"'Alcance 3'!D91","v":0},{"$f":"'Alcance 3'!E91","v":"ud"},null,1,null,0,"ud",{"$f":"VLOOKUP(E202,'Datos 1-Factores emisión'!$B$789:$E$803,2,FALSE)","v":30.2},0,0,0,0,0,0,0,0,0,0,{"$f":"'Datos 2-Potenciales calent glob'!$D$6","v":1},{"$f":"'Datos 2-Potenciales calent glob'!$D$31","v":25},{"$f":"'Datos 2-Potenciales calent glob'!$D$32","v":298},{"$f":"SUMIF('Datos 2-Potenciales calent glob'!$B$6:$B$56,Cálculos!E202,'Datos 2-Potenciales calent glob'!$D$6:$D$56)","v":0},{"$f":"'Datos 2-Potenciales calent glob'!$D$6","v":1},{"$f":"'Datos 2-Potenciales calent glob'!$D$6","v":1},0,0,0,0,0,0,0]
[null,"Bienes y servicios","Otros","Otros",{"$f":"'Alcance 3'!C92","v":"Material 1"},"Material 1","Consumo de bienes y servicios","CAPV",3,{"$f":"'Alcance 3'!D92","v":0},{"$f":"'Alcance 3'!E92","v":0},null,1,null,0,0,{"$f":"VLOOKUP(E203,'Datos 1-Factores emisión'!$B$789:$E$803,2,FALSE)","v":0},0,0,0,0,0,0,0,0,0,0,{"$f":"'Datos 2-Potenciales calent glob'!$D$6","v":1},{"$f":"'Datos 2-Potenciales calent glob'!$D$31","v":25},{"$f":"'Datos 2-Potenciales calent glob'!$D$32","v":298},{"$f":"SUMIF('Datos 2-Potenciales calent glob'!$B$6:$B$56,Cálculos!E203,'Datos 2-Potenciales calent glob'!$D$6:$D$56)","v":0},{"$f":"'Datos 2-Potenciales calent glob'!$D$6","v":1},{"$f":"'Datos 2-Potenciales calent glob'!$D$6","v":1},0,0,0,0,0,0,0]
[null,"Bienes y servicios","Otros","Otros",{"$f":"'Alcance 3'!C93","v":"Material 2"},"Material 2","Consumo de bienes y servicios","CAPV",3,{"$f":"'Alcance 3'!D93","v":0},{"$f":"'Alcance 3'!E93","v":0},null,1,null,0,0,{"$f":"VLOOKUP(E204,'Datos 1-Factores emisión'!$B$789:$E$803,2,FALSE)","v":0},0,0,0,0,0,0,0,0,0,0,{"$f":"'Datos 2-Potenciales calent glob'!$D$6","v":1},{"$f":"'Datos 2-Potenciales calent glob'!$D$31","v":25},{"$f":"'Datos 2-Potenciales calent glob'!$D$32","v":298},{"$f":"SUMIF('Datos 2-Potenciales calent glob'!$B$6:$B$56,Cálculos!E204,'Datos 2-Potenciales calent glob'!$D$6:$D$56)","v":0},{"$f":"'Datos 2-Potenciales calent glob'!$D$6","v":1},{"$f":"'Datos 2-Potenciales calent glob'!$D$6","v":1},0,0,0,0,0,0,0]
[null,"Bienes y servicios","Otros","Otros",{"$f":"'Alcance 3'!C94","v":"Material 3"},"Material 3","Consumo de bienes y servicios","CAPV",3,{"$f":"'Alcance 3'!D94","v":0},{"$f":"'Alcance 3'!E94","v":0},null,1,null,0,0,{"$f":"VLOOKUP(E205,'Datos 1-Factores emisión'!$B$789:$E$803,2,FALSE)","v":0},0,0,0,0,0,0,0,0,0,0,{"$f":"'Datos 2-Potenciales calent glob'!$D$6","v":1},{"$f":"'Datos 2-Potenciales calent glob'!$D$31","v":25},{"$f":"'Datos 2-Potenciales calent glob'!$D$32","v":298},{"$f":"SUMIF('Datos 2-Potenciales calent glob'!$B$6:$B$56,Cálculos!E205,'Datos 2-Potenciales calent glob'!$D$6:$D$56)","v":0},{"$f":"'Datos 2-Potenciales calent glob'!$D$6","v":1},{"$f":"'Datos 2-Potenciales calent glob'!$D$6","v":1},0,0,0,0,0,0,0]
[null,"Bienes y servicios","Otros","Otros",{"$f":"'Alcance 3'!C95","v":"Material 4"},"Material 4","Consumo de bienes y servicios","CAPV",3,{"$f":"'Alcance 3'!D95","v":0},{"$f":"'Alcance 3'!E95","v":0},null,1,null,0,0,{"$f":"VLOOKUP(E206,'Datos 1-Factores emisión'!$B$789:$E$803,2,FALSE)","v":0},0,0,0,0,0,0,0,0,0,0,{"$f":"'Datos 2-Potenciales calent glob'!$D$6","v":1},{"$f":"'Datos 2-Potenciales calent glob'!$D$31","v":25},{"$f":"'Datos 2-Potenciales calent glob'!$D$32","v":298},{"$f":"SUMIF('Datos 2-Potenciales calent glob'!$B$6:$B$56,Cálculos!E206,'Datos 2-Potenciales calent glob'!$D$6:$D$56)","v":0},{"$f":"'Datos 2-Potenciales calent glob'!$D$6","v":1},{"$f":"'Datos 2-Potenciales calent glob'!$D$6","v":1},0,0,0,0,0,0,0]
[null,"Bienes y servicios","Otros","Otros",{"$f":"'Alcance 3'!C96","v":"Material 5"},"Material 5","Consumo de bienes y servicios","CAPV",3,{"$f":"'Alcance 3'!D96","v":0},{"$f":"'Alcance 3'!E96","v":0},null,1,null,0,0,{"$f":"VLOOKUP(E207,'Datos 1-Factores emisión'!$B$789:$E$803,2,FALSE)","v":0},0,0,0,0,0,0,0,0,0,0,{"$f":"'Datos 2-Potenciales calent glob'!$D$6","v":1},{"$f":"'Datos 2-Potenciales calent glob'!$D$31","v":25},{"$f":"'Datos 2-Potenciales calent glob'!$D$32","v":298},{"$f":"SUMIF('Datos 2-Potenciales calent glob'!$B$6:$B$56,Cálculos!E207,'Datos 2-Potenciales calent glob'!$D$6:$D$56)","v":0},{"$f":"'Datos 2-Potenciales calent glob'!$D$6","v":1},{"$f":"'Datos 2-Potenciales calent glob'!$D$6","v":1},0,0,0,0,0,0,0]
[null,"Bienes y servicios","Otros","Otros",{"$f":"'Alcance 3'!C97","v":"Material 6"},"Material 6","Consumo de bienes y servicios","CAPV",3,{"$f":"'Alcance 3'!D97","v":0},{"$f":"'Alcance 3'!E97","v":0},null,1,null,0,0,{"$f":"VLOOKUP(E208,'Datos 1-Factores emisión'!$B$789:$E$803,2,FALSE)","v":0},0,0,0,0,0,0,0,0,0,0,{"$f":"'Datos 2-Potenciales calent glob'!$D$6","v":1},{"$f":"'Datos 2-Potenciales calent glob'!$D$31","v":25},{"$f":"'Datos 2-Potenciales calent glob'!$D$32","v":298},{"$f":"SUMIF('Datos 2-Potenciales calent glob'!$B$6:$B$56,Cálculos!E208,'Datos 2-Potenciales calent glob'!$D$6:$D$56)","v":0},{"$f":"'Datos 2-Potenciales calent glob'!$D$6","v":1},{"$f":"'Datos 2-Potenciales calent glob'!$D$6","v":1},0,0,0,0,0,0,0]
[null,"Bienes y servicios","Otros","Otros",{"$f":"'Alcance 3'!C98","v":"Material 7"},"Material 7","Consumo de bienes y servicios","CAPV",3,{"$f":"'Alcance 3'!D98","v":0},{"$f":"'Alcance 3'!E98","v":0},null,1,null,0,0,{"$f":"VLOOKUP(E209,'Datos 1-Factores emisión'!$B$789:$E$803,2,FALSE)","v":0},0,0,0,0,0,0,0,0,0,0,{"$f":"'Datos 2-Potenciales calent glob'!$D$6","v":1},{"$f":"'Datos 2-Potenciales calent glob'!$D$31","v":25},{"$f":"'Datos 2-Potenciales calent glob'!$D$32","v":298},{"$f":"SUMIF('Datos 2-Potenciales calent glob'!$B$6:$B$56,Cálculos!E209,'Datos 2-Potenciales calent glob'!$D$6:$D$56)","v":0},{"$f":"'Datos 2-Potenciales calent glob'!$D$6","v":1},{"$f":"'Datos 2-Potenciales calent glob'!$D$6","v":1},0,0,0,0,0,0,0]
[null,"Bienes y servicios","Otros","Otros",{"$f":"'Alcance 3'!C99","v":"Material 8"},"Material 8","Consumo de bienes y servicios","CAPV",3,{"$f":"'Alcance 3'!D99","v":0},{"$f":"'Alcance 3'!E99","v":0},null,1,null,0,0,{"$f":"VLOOKUP(E210,'Datos 1-Factores emisión'!$B$789:$E$803,2,FALSE)","v":0},0,0,0,0,0,0,0,0,0,0,{"$f":"'Datos 2-Potenciales calent glob'!$D$6","v":1},{"$f":"'Datos 2-Potenciales calent glob'!$D$31","v":25},{"$f":"'Datos 2-Potenciales calent glob'!$D$32","v":298},{"$f":"SUMIF('Datos 2-Potenciales calent glob'!$B$6:$B$56,Cálculos!E210,'Datos 2-Potenciales calent glob'!$D$6:$D$56)","v":0},{"$f":"'Datos 2-Potenciales calent glob'!$D$6","v":1},{"$f":"'Datos 2-Potenciales calent glob'!$D$6","v":1},0,0,0,0,0,0,0]
[null,"Bienes y servicios","Fuente móvil","Combustión",{"$f":"'Alcance 3'!C106","v":"Router internet"},{"$f":"'Alcance 3'!D106","v":"Tipo de transporte de carga"},"Transporte desde proveedor","CAPV",3,{"$f":"'Alcance 3'!E106*'Alcance 3'!E125","v":0},"tkm",null,1,null,0,"tkm",{"$f":"IFERROR(VLOOKUP($F211,'Datos 1-Factores emisión'!$B$809:$D$820,2,FALSE),0)","v":0},0,0,0,0,0,{"$f":"R211*$O211","v":0},0,0,0,0,{"$f":"'Datos 2-Potenciales calent glob'!$D$6","v":1},{"$f":"'Datos 2-Potenciales calent glob'!$D$31","v":25},{"$f":"'Datos 2-Potenciales calent glob'!$D$32","v":298},{"$f":"SUMIF('Datos 2-Potenciales calent glob'!$B$6:$B$56,Cálculos!E211,'Datos 2-Potenciales calent glob'!$D$6:$D$56)","v":0},{"$f":"'Datos 2-Potenciales calent glob'!$D$6","v":1},{"$f":"'Datos 2-Potenciales calent glob'!$D$6","v":1},0,0,0,0,0,0,0]
[null,"Bienes y servicios","Fuente móvil","Combustión",{"$f":"'Alcance 3'!C107","v":"Papel "},{"$f":"'Alcance 3'!D107","v":"Tipo de transporte de carga"},"Transporte desde proveedor","CAPV",3,{"$f":"'Alcance 3'!E107*'Alcance 3'!E126","v":0},"tkm",null,1,null,0,"tkm",{"$f":"IFERROR(VLOOKUP($F212,'Datos 1-Factores emisión'!$B$809:$D$820,2,FALSE),0)","v":0},0,0,0,0,0,0,0,0,0,0,{"$f":"'Datos 2-Potenciales calent glob'!$D$6","v":1},{"$f":"'Datos 2-Potenciales calent glob'!$D$31","v":25},{"$f":"'Datos 2-Potenciales calent glob'!$D$32","v":298},{"$f":"SUMIF('Datos 2-Potenciales calent glob'!$B$6:$B$56,Cálculos!E212,'Datos 2-Potenciales calent glob'!$D$6:$D$56)","v":0},{"$f":"'Datos 2-Potenciales calent glob'!$D$6","v":1},{"$f":"'Datos 2-Potenciales calent glob'!$D$6","v":1},{"$f":"V212*AB212","v":0},0,0,0,0,0,0]
[null,"Bienes y servicios","Fuente móvil","Combustión",{"$f":"'Alcance 3'!C108","v":"Ordenador portátil"},{"$f":"'Alcance 3'!D108","v":"Tipo de transporte de carga"},"Transporte desde proveedor","CAPV",3,{"$f":"'Alcance 3'!E108*'Alcance 3'!E127","v":0},"tkm",null,1,null,0,"tkm",{"$f":"IFERROR(VLOOKUP($F213,'Datos 1-Factores emisión'!$B$809:$D$820,2,FALSE),0)","v":0},0,0,0,0,0,0,0,0,0,0,{"$f":"'Datos 2-Potenciales calent glob'!$D$6","v":1},{"$f":"'Datos 2-Potenciales calent glob'!$D$31","v":25},{"$f":"'Datos 2-Potenciales calent glob'!$D$32","v":298},{"$f":"SUMIF('Datos 2-Potenciales calent glob'!$B$6:$B$56,Cálculos!E213,'Datos 2-Potenciales calent glob'!$D$6:$D$56)","v":0},{"$f":"'Datos 2-Potenciales calent glob'!$D$6","v":1},{"$f":"'Datos 2-Potenciales calent glob'!$D$6","v":1},0,0,0,0,0,0,0]
[null,"Bienes y servicios","Fuente móvil","Combustión",{"$f":"'Alcance 3'!C109","v":"Mesa escritorio"},{"$f":"'Alcance 3'!D109","v":"Tipo de transporte de carga"},"Transporte desde proveedor","CAPV",3,{"$f":"'Alcance 3'!E109*'Alcance 3'!E128","v":0},"tkm",null,1,null,0,"tkm",{"$f":"IFERROR(VLOOKUP($F214,'Datos 1-Factores emisión'!$B$809:$D$820,2,FALSE),0)","v":0},0,0,0,0,{"$f":"Q214*$O214","v":0},0,0,0,0,0,{"$f":"'Datos 2-Potenciales calent glob'!$D$6","v":1},{"$f":"'Datos 2-Potenciales calent glob'!$D$31","v":25},{"$f":"'Datos 2-Potenciales calent glob'!$D$32","v":298},{"$f":"SUMIF('Datos 2-Potenciales calent glob'!$B$6:$B$56,Cálculos!E214,'Datos 2-Potenciales calent glob'!$D$6:$D$56)","v":0},{"$f":"'Datos 2-Potenciales calent glob'!$D$6","v":1},{"$f":"'Datos 2-Potenciales calent glob'!$D$6","v":1},0,0,0,0,0,0,0]
[null,"Bienes y servicios","Fuente móvil","Combustión",{"$f":"'Alcance 3'!C110","v":"Ordenador de mesa completo"},{"$f":"'Alcance 3'!D110","v":"Tipo de transporte de carga"},"Transporte desde proveedor","CAPV",3,{"$f":"'Alcance 3'!E110*'Alcance 3'!E129","v":0},"tkm",null,1,null,0,"tkm",{"$f":"IFERROR(VLOOKUP($F215,'Datos 1-Factores emisión'!$B$809:$D$820,2,FALSE),0)","v":0},0,0,0,0,0,0,0,0,0,0,{"$f":"'Datos 2-Potenciales calent glob'!$D$6","v":1},{"$f":"'Datos 2-Potenciales calent glob'!$D$31","v":25},{"$f":"'Datos 2-Potenciales calent glob'!$D$32","v":298},{"$f":"SUMIF('Datos 2-Potenciales calent glob'!$B$6:$B$56,Cálculos!E215,'Datos 2-Potenciales calent glob'!$D$6:$D$56)","v":0},{"$f":"'Datos 2-Potenciales calent glob'!$D$6","v":1},{"$f":"'Datos 2-Potenciales calent glob'!$D$6","v":1},0,0,0,0,0,0,0]
[null,"Bienes y servicios","Fuente móvil","Combustión",{"$f":"'Alcance 3'!C111","v":"Cartucho de impresora negro"},{"$f":"'Alcance 3'!D111","v":"Tipo de transporte de carga"},"Transporte desde proveedor","CAPV",3,{"$f":"'Alcance 3'!E111*'Alcance 3'!E130","v":0},"tkm",null,1,null,0,"tkm",{"$f":"IFERROR(VLOOKUP($F216,'Datos 1-Factores emisión'!$B$809:$D$820,2,FALSE),0)","v":0},0,0,0,0,0,0,0,0,0,0,{"$f":"'Datos 2-Potenciales calent glob'!$D$6","v":1},{"$f":"'Datos 2-Potenciales calent glob'!$D$31","v":25},{"$f":"'Datos 2-Potenciales calent glob'!$D$32","v":298},{"$f":"SUMIF('Datos 2-Potenciales calent glob'!$B$6:$B$56,Cálculos!E216,'Datos 2-Potenciales calent glob'!$D$6:$D$56)","v":0},{"$f":"'Datos 2-Potenciales calent glob'!$D$6","v":1},{"$f":"'Datos 2-Potenciales calent glob'!$D$6","v":1},0,0,0,0,0,0,0]
[null,"Bienes y servicios","Fuente móvil","Combustión",{"$f":"'Alcance 3'!C112","v":"Cartucho de impresora color"},{"$f":"'Alcance 3'!D112","v":"Tipo de transporte de carga"},"Transporte desde proveedor","CAPV",3,{"$f":"'Alcance 3'!E112*'Alcance 3'!E131","v":0},"tkm",null,1,null,0,"tkm",{"$f":"IFERROR(VLOOKUP($F217,'Datos 1-Factores emisión'!$B$809:$D$820,2,FALSE),0)","v":0},0,0,0,0,0,0,0,0,0,0,{"$f":"'Datos 2-Potenciales calent glob'!$D$6","v":1},{"$f":"'Datos 2-Potenciales calent glob'!$D$31","v":25},{"$f":"'Datos 2-Potenciales calent glob'!$D$32","v":298},{"$f":"SUMIF('Datos 2-Potenciales calent glob'!$B$6:$B$56,Cálculos!E217,'Datos 2-Potenciales calent glob'!$D$6:$D$56)","v":0},{"$f":"'Datos 2-Potenciales calent glob'!$D$6","v":1},{"$f":"'Datos 2-Potenciales calent glob'!$D$6","v":1},0,0,0,0,0,0,0]
[null,"Bienes y servicios","Fuente móvil","Combustión",{"$f":"'Alcance 3'!C113","v":"Material 1"},{"$f":"'Alcance 3'!D113","v":"Tipo de transporte de carga"},"Transporte desde proveedor","CAPV",3,{"$f":"'Alcance 3'!E113*'Alcance 3'!E132","v":0},"tkm",null,1,null,0,"tkm",{"$f":"IFERROR(VLOOKUP($F218,'Datos 1-Factores emisión'!$B$809:$D$820,2,FALSE),0)","v":0},0,0,0,0,0,0,0,0,0,0,{"$f":"'Datos 2-Potenciales calent glob'!$D$6","v":1},{"$f":"'Datos 2-Potenciales calent glob'!$D$31","v":25},{"$f":"'Datos 2-Potenciales calent glob'!$D$32","v":298},{"$f":"SUMIF('Datos 2-Potenciales calent glob'!$B$6:$B$56,Cálculos!E218,'Datos 2-Potenciales calent glob'!$D$6:$D$56)","v":0},{"$f":"'Datos 2-Potenciales calent glob'!$D$6","v":1},{"$f":"'Datos 2-Potenciales calent glob'!$D$6","v":1},0,0,0,0,0,{"$f":"Z218*AF218","v":0},0]
[null,"Bienes y servicios","Fuente móvil","Combustión",{"$f":"'Alcance 3'!C114","v":"Material 2"},{"$f":"'Alcance 3'!D114","v":"Tipo de transporte de carga"},"Transporte desde proveedor","CAPV",3,{"$f":"'Alcance 3'!E114*'Alcance 3'!E133","v":0},"tkm",null,1,null,0,"tkm",{"$f":"IFERROR(VLOOKUP($F219,'Datos 1-Factores emisión'!$B$809:$D$820,2,FALSE),0)","v":0},0,0,0,0,0,0,0,0,0,0,{"$f":"'Datos 2-Potenciales calent glob'!$D$6","v":1},{"$f":"'Datos 2-Potenciales calent glob'!$D$31","v":25},{"$f":"'Datos 2-Potenciales calent glob'!$D$32","v":298},{"$f":"SUMIF('Datos 2-Potenciales calent glob'!$B$6:$B$56,Cálculos!E219,'Datos 2-Potenciales calent glob'!$D$6:$D$56)","v":0},{"$f":"'Datos 2-Potenciales calent glob'!$D$6","v":1},{"$f":"'Datos 2-Potenciales calent glob'!$D$6","v":1},0,0,0,0,0,0,0]
[null,"Bienes y servicios","Fuente móvil","Combustión",{"$f":"'Alcance 3'!C115","v":"Material 3"},{"$f":"'Alcance 3'!D115","v":"Tipo de transporte de carga"},"Transporte desde proveedor","CAPV",3,{"$f":"'Alcance 3'!E115*'Alcance 3'!E134","v":0},"tkm",null,1,null,0,"tkm",{"$f":"IFERROR(VLOOKUP($F220,'Datos 1-Factores emisión'!$B$809:$D$820,2,FALSE),0)","v":0},0,0,0,0,0,0,0,0,0,0,{"$f":"'Datos 2-Potenciales calent glob'!$D$6","v":1},{"$f":"'Datos 2-Potenciales calent glob'!$D$31","v":25},{"$f":"'Datos 2-Potenciales calent glob'!$D$32","v":298},{"$f":"SUMIF('Datos 2-Potenciales calent glob'!$B$6:$B$56,Cálculos!E220,'Datos 2-Potenciales calent glob'!$D$6:$D$56)","v":0},{"$f":"'Datos 2-Potenciales calent glob'!$D$6","v":1},{"$f":"'Datos 2-Potenciales calent glob'!$D$6","v":1},0,0,0,0,0,0,0]
[null,"Bienes y servicios","Fuente móvil","Combustión",{"$f":"'Alcance 3'!C116","v":"Material 4"},{"$f":"'Alcance 3'!D116","v":"Tipo de transporte de carga"},"Transporte desde proveedor","CAPV",3,{"$f":"'Alcance 3'!E116*'Alcance 3'!E135","v":0},"tkm",null,1,null,0,"tkm",{"$f":"IFERROR(VLOOKUP($F221,'Datos 1-Factores emisión'!$B$809:$D$820,2,FALSE),0)","v":0},0,0,0,0,0,0,0,0,0,0,{"$f":"'Datos 2-Potenciales calent glob'!$D$6","v":1},{"$f":"'Datos 2-Potenciales calent glob'!$D$31","v":25},{"$f":"'Datos 2-Potenciales calent glob'!$D$32","v":298},{"$f":"SUMIF('Datos 2-Potenciales calent glob'!$B$6:$B$56,Cálculos!E221,'Datos 2-Potenciales calent glob'!$D$6:$D$56)","v":0},{"$f":"'Datos 2-Potenciales calent glob'!$D$6","v":1},{"$f":"'Datos 2-Potenciales calent glob'!$D$6","v":1},0,0,0,0,0,0,0]
[null,"Bienes y servicios","Fuente móvil","Combustión",{"$f":"'Alcance 3'!C117","v":"Material 5"},{"$f":"'Alcance 3'!D117","v":"Tipo de transporte de carga"},"Transporte desde proveedor","CAPV",3,{"$f":"'Alcance 3'!E117*'Alcance 3'!E136","v":0},"tkm",null,1,null,0,"tkm",{"$f":"IFERROR(VLOOKUP($F222,'Datos 1-Factores emisión'!$B$809:$D$820,2,FALSE),0)","v":0},0,0,0,0,0,0,0,0,0,0,{"$f":"'Datos 2-Potenciales calent glob'!$D$6","v":1},{"$f":"'Datos 2-Potenciales calent glob'!$D$31","v":25},{"$f":"'Datos 2-Potenciales calent glob'!$D$32","v":298},{"$f":"SUMIF('Datos 2-Potenciales calent glob'!$B$6:$B$56,Cálculos!E222,'Datos 2-Potenciales calent glob'!$D$6:$D$56)","v":0},{"$f":"'Datos 2-Potenciales calent glob'!$D$6","v":1},{"$f":"'Datos 2-Potenciales calent glob'!$D$6","v":1},0,0,0,0,0,0,0]
[null,"Bienes y servicios","Fuente móvil","Combustión",{"$f":"'Alcance 3'!C118","v":"Material 6"},{"$f":"'Alcance 3'!D118","v":"Tipo de transporte de carga"},"Transporte desde proveedor","CAPV",3,{"$f":"'Alcance 3'!E118*'Alcance 3'!E137","v":0},"tkm",null,1,null,0,"tkm",{"$f":"IFERROR(VLOOKUP($F223,'Datos 1-Factores emisión'!$B$809:$D$820,2,FALSE),0)","v":0},0,0,0,0,0,0,0,0,0,0,{"$f":"'Datos 2-Potenciales calent glob'!$D$6","v":1},{"$f":"'Datos 2-Potenciales calent glob'!$D$31","v":25},{"$f":"'Datos 2-Potenciales calent glob'!$D$32","v":298},{"$f":"SUMIF('Datos 2-Potenciales calent glob'!$B$6:$B$56,Cálculos!E223,'Datos 2-Potenciales calent glob'!$D$6:$D$56)","v":0},{"$f":"'Datos 2-Potenciales calent glob'!$D$6","v":1},{"$f":"'Datos 2-Potenciales calent glob'!$D$6","v":1},0,0,0,0,0,0,0]
[null,"Bienes y servicios","Fuente móvil","Combustión",{"$f":"'Alcance 3'!C119","v":"Material 7"},{"$f":"'Alcance 3'!D119","v":"Tipo de transporte de carga"},"Transporte desde proveedor","CAPV",3,{"$f":"'Alcance 3'!E119*'Alcance 3'!E138","v":0},"tkm",null,1,null,0,"tkm",{"$f":"IFERROR(VLOOKUP($F224,'Datos 1-Factores emisión'!$B$809:$D$820,2,FALSE),0)","v":0},0,0,0,0,0,0,0,0,0,0,{"$f":"'Datos 2-Potenciales calent glob'!$D$6","v":1},{"$f":"'Datos 2-Potenciales calent glob'!$D$31","v":25},{"$f":"'Datos 2-Potenciales calent glob'!$D$32","v":298},{"$f":"SUMIF('Datos 2-Potenciales calent glob'!$B$6:$B$56,Cálculos!E224,'Datos 2-Potenciales calent glob'!$D$6:$D$56)","v":0},{"$f":"'Datos 2-Potenciales calent glob'!$D$6","v":1},{"$f":"'Datos 2-Potenciales calent glob'!$D$6","v":1},0,0,0,0,0,0,0]
[null,"Bienes y servicios","Fuente móvil","Combustión",{"$f":"'Alcance 3'!C120","v":"Material 8"},{"$f":"'Alcance 3'!D120","v":"Tipo de transporte de carga"},"Transporte desde proveedor","CAPV",3,{"$f":"'Alcance 3'!E120*'Alcance 3'!E139","v":0},"tkm",null,1,null,0,"tkm",{"$f":"IFERROR(VLOOKUP($F225,'Datos 1-Factores emisión'!$B$809:$D$820,2,FALSE),0)","v":0},0,0,0,0,0,0,0,0,0,0,{"$f":"'Datos 2-Potenciales calent glob'!$D$6","v":1},{"$f":"'Datos 2-Potenciales calent glob'!$D$31","v":25},{"$f":"'Datos 2-Potenciales calent glob'!$D$32","v":298},{"$f":"SUMIF('Datos 2-Potenciales calent glob'!$B$6:$B$56,Cálculos!E225,'Datos 2-Potenciales calent glob'!$D$6:$D$56)","v":0},{"$f":"'Datos 2-Potenciales calent glob'!$D$6","v":1},{"$f":"'Datos 2-Potenciales calent glob'!$D$6","v":1},0,0,0,0,0,{"$f":"AA225*AG225","v":0},0]
[null,"Distribución de productos","Fuente móvil","Combustión",{"$f":"'Alcance 3'!C146","v":"Producto"},{"$f":"'Alcance 3'!D146","v":"Tipo de transporte de carga"},"Distribución de productos","CAPV",3,{"$f":"'Alcance 3'!E146*'Alcance 3'!E153","v":0},"tkm",null,1,null,0,"tkm",{"$f":"IFERROR(VLOOKUP($F226,'Datos 1-Factores emisión'!$B$809:$D$820,2,FALSE),0)","v":0},0,0,0,0,0,0,0,0,0,0,{"$f":"'Datos 2-Potenciales calent glob'!$D$6","v":1},{"$f":"'Datos 2-Potenciales calent glob'!$D$31","v":25},{"$f":"'Datos 2-Potenciales calent glob'!$D$32","v":298},{"$f":"SUMIF('Datos 2-Potenciales calent glob'!$B$6:$B$56,Cálculos!E226,'Datos 2-Potenciales calent glob'!$D$6:$D$56)","v":0},{"$f":"'Datos 2-Potenciales calent glob'!$D$6","v":1},{"$f":"'Datos 2-Potenciales calent glob'!$D$6","v":1},0,0,0,0,0,0,0]
[null,"Distribución de productos","Fuente móvil","Combustión",{"$f":"'Alcance 3'!C147","v":"Producto"},{"$f":"'Alcance 3'!D147","v":"Tipo de transporte de carga"},"Distribución de productos","CAPV",3,{"$f":"'Alcance 3'!E147*'Alcance 3'!E154","v":0},"tkm",null,1,null,0,"tkm",{"$f":"IFERROR(VLOOKUP($F227,'Datos 1-Factores emisión'!$B$809:$D$820,2,FALSE),0)","v":0},0,0,0,0,0,0,0,0,0,0,{"$f":"'Datos 2-Potenciales calent glob'!$D$6","v":1},{"$f":"'Datos 2-Potenciales calent glob'!$D$31","v":25},{"$f":"'Datos 2-Potenciales calent glob'!$D$32","v":298},{"$f":"SUMIF('Datos 2-Potenciales calent glob'!$B$6:$B$56,Cálculos!E227,'Datos 2-Potenciales calent glob'!$D$6:$D$56)","v":0},{"$f":"'Datos 2-Potenciales calent glob'!$D$6","v":1},{"$f":"'Datos 2-Potenciales calent glob'!$D$6","v":1},0,0,0,0,0,0,0]
[null,"Distribución de productos","Fuente móvil","Combustión",{"$f":"'Alcance 3'!C148","v":"Producto"},{"$f":"'Alcance 3'!D148","v":"Tipo de transporte de carga"},"Distribución de productos","CAPV",3,{"$f":"'Alcance 3'!E148*'Alcance 3'!E155","v":0},"tkm",null,1,null,0,"tkm",{"$f":"IFERROR(VLOOKUP($F228,'Datos 1-Factores emisión'!$B$809:$D$820,2,FALSE),0)","v":0},0,0,0,0,0,0,0,0,0,0,{"$f":"'Datos 2-Potenciales calent glob'!$D$6","v":1},{"$f":"'Datos 2-Potenciales calent glob'!$D$31","v":25},{"$f":"'Datos 2-Potenciales calent glob'!$D$32","v":298},{"$f":"SUMIF('Datos 2-Potenciales calent glob'!$B$6:$B$56,Cálculos!E228,'Datos 2-Potenciales calent glob'!$D$6:$D$56)","v":0},{"$f":"'Datos 2-Potenciales calent glob'!$D$6","v":1},{"$f":"'Datos 2-Potenciales calent glob'!$D$6","v":1},{"$f":"V228*AB228","v":0},0,0,0,0,0,0]
[null,null,null,null,null,null,null,null,null,null,null,null,null,null,null,null,null,null,0]
[]
[]
[]
[]
[]
[]
[]
[null,null,"Lista","Lista","Lista","Detalle 2",null,"Resultado","Lista"]
[null,"Energía","Fuente fija","Combustión","Biomasa",null,null,"CAPV",1,"Valor numérico del dato, desde las hojas de cuestionario. Las fuentes deben aparecer en las hojas de cuestionario","t",null,"Factor de conversión si se necesita. La fuente del factor debe aparecer en la pestaña de Datos. Si no es necesario, poner 1.","TJ/kg",null,"TJ","Facto emisión en UD coherentes","Facto emisión en UD coherentes","Facto emisión en UD coherentes"]
[null,"Emisiones de proceso y uso de productos","Fuente móvil","Electricidad","Carbón mineral","Movilidad de los trabajadores",null,"España",2,null,"kWh",null,null,"m3/t",null,"kWh"]
[null,"Absorciones","Fuente difusa","Fugitivas","Coque de petróleo","Viajes de trabajo ",null,"Ambos",3,null,"hab",null,null,"TJ/MJ",null,"m3"]
[null,"Residuos","Otros","Residuos","Fueloleo","Gestión de residuos",null,null,null,null,"ha",null,null,"kWh/MJ",null,"t"]
[null,"Otros",null,"Otros","Gas butano","Consumo de bienes y servicios",null,null,null,null,"cabezas",null,null,"TJ/Nm3",null,"hab"]
[null,"Consumo de agua",null,"Ciclo de vida","Gas natural","Transporte desde proveedor",null,null,null,null,"m3",null,null,"ha",null,"kg"]
[null,"Bienes y servicios",null,"Absorción","Gas propano","Distribución de productos",null,null,null,null,"MJ",null,null,null,null,"ha"]
[null,"Distribución de productos",null,null,"Gasóleo C","Consumo de agua",null,null,null,null,"kg/ha",null,null,null,null,"cabezas"]
[null,null,null,null,"GLP genérico"]
[null,null,null,null,"Queroseno"]
[null,null,null,null,"Gasolina "]
[null,null,null,null,"Gasóleo A y B"]
[null,null,null,null,"E10"]
[null,null,null,null,"E85"]
[null,null,null,null,"B30"]
[null,null,null,null,"B100"]
[null,null,null,null,"Gas Natural Comprimido"]
[null,null,null,null,"Gas Natural Licuado"]
[null,null,null,null,"GLP genérico"]
[null,null,null,null,"Lubricantes"]
[null,null,null,null,"Combustible desconocido"]

{"sheet":"Cálculos_5","index":12,"n_rows":258,"n_cols":40,"rows_kept":258,"cut":false,"hidden":true,"merged":[[3,33,3,38],[3,9,3,15],[3,1,3,8],[3,16,3,19],[3,21,3,25],[3,27,3,31]]}
[null,{"$f":"Instrucciones!B1","v":"HERRAMIENTA DE HUELLA DE CARBONO PARA ORGANIZACIONES. Año de cálculo 2020"}]
[null,"CÁLCULOS"]
[]
[null,"Clasificaciones",null,null,null,null,null,null,null,"Dato de actividad (ud)",null,null,null,null,null,null,"Factores de Emisión / absorción (kg /ud)",null,null,null,null,"Emisiones (kg de GEI)",null,null,null,null,null,"Potencial calentamiento global  ",null,null,null,null,null,"Emisiones (kg CO2 e)"]
[null,"Categoría","Sector","Tipo de emisión","Flujo fuente","Detalle 1","Detalle 2","Resultado","Alcance","Dato actividad (valor)","Unidades","Comentarios","Factor conversión","Unidades","Dato actividad final","Unidades","CO2","CH4","N2O","CO2 b ","CO2 abs","CO2","CH4","N2O","Gases fluorados","CO2 b","CO2 abs","CO2","CH4","N2O",{"$f":"Y5","v":"Gases fluorados"},"CO2 b","CO2 abs","CO2","CH4","N2O",{"$f":"Y5","v":"Gases fluorados"},"Total emisiones","CO2 b","CO2 abs"]
[null,"Emisiones de proceso y uso de productos","Fuente fija","Fugitivas",{"$f":"'Alcance 1'!C170","v":"CO2 e"},null,null,"Ambos",1,{"$f":"'Alcance 1'!D170","v":0},{"$f":"'Alcance 1'!E170","v":"kg CO2 e"},null,1,null,{"$f":"J6*M6","v":0},{"$f":"K6","v":"kg CO2 e"},1,0,0,{"$f":"LOOKUP($E6,'Datos 1-Factores emisión'!$B$9:$B$18,'Datos 1-Factores emisión'!$D$9:$D$18)","v":0},0,{"$f":"Q6*$O6","v":0},{"$f":"R6*$O6","v":0},{"$f":"S6*$O6","v":0},0,{"$f":"T6*$O6","v":0},{"$f":"U6*$O6","v":0},{"$f":"'Datos 2-Potenciales calent glob'!$E$6","v":1},{"$f":"'Datos 2-Potenciales calent glob'!$E$31","v":28},{"$f":"'Datos 2-Potenciales calent glob'!$E$32","v":265},{"$f":"SUMIF('Datos 2-Potenciales calent glob'!$B$6:$B$56,Cálculos_5!F6,'Datos 2-Potenciales calent glob'!$E$6:$E$56)","v":0},{"$f":"'Datos 2-Potenciales calent glob'!$E$6","v":1},{"$f":"'Datos 2-Potenciales calent glob'!$E$6","v":1},{"$f":"V6*AB6","v":0},{"$f":"W6*AC6","v":0},{"$f":"X6*AD6","v":0},{"$f":"Y6*AE6","v":0},{"$f":"SUM(AH6:AK6)","v":0},{"$f":"Z6*AF6","v":0},{"$f":"AA6*AG6","v":0}]
[null,"Emisiones de proceso y uso de productos","Fuente fija","Fugitivas",{"$f":"'Alcance 1'!C175","v":"CO2"},null,null,"Ambos",1,{"$f":"'Alcance 1'!D175","v":0},{"$f":"'Alcance 1'!E175","v":"kg"},null,1,null,0,{"$f":"K7","v":"kg"},1,0,0,0,0,0,0,0,0,0,0,{"$f":"'Datos 2-Potenciales calent glob'!$E$6","v":1},{"$f":"'Datos 2-Potenciales calent glob'!$E$31","v":28},{"$f":"'Datos 2-Potenciales calent glob'!$E$32","v":265},{"$f":"SUMIF('Datos 2-Potenciales calent glob'!$B$6:$B$56,Cálculos_5!F7,'Datos 2-Potenciales calent glob'!$E$6:$E$56)","v":0},{"$f":"'Datos 2-Potenciales calent glob'!$E$6","v":1},{"$f":"'Datos 2-Potenciales calent glob'!$E$6","v":1},0,0,0,0,0,0,0]
[null,"Emisiones de proceso y uso de productos","Fuente fija","Fugitivas",{"$f":"'Alcance 1'!C176","v":"CH4"},null,null,"Ambos",1,{"$f":"'Alcance 1'!D176","v":0},{"$f":"'Alcance 1'!E176","v":"kg"},null,1,null,0,{"$f":"K8","v":"kg"},0,1,0,0,0,0,0,0,0,0,0,{"$f":"'Datos 2-Potenciales calent glob'!$E$6","v":1},{"$f":"'Datos 2-Potenciales calent glob'!$E$31","v":28},{"$f":"'Datos 2-Potenciales calent glob'!$E$32","v":265},{"$f":"SUMIF('Datos 2-Potenciales calent glob'!$B$6:$B$56,Cálculos_5!F8,'Datos 2-Potenciales calent glob'!$E$6:$E$56)","v":0},{"$f":"'Datos 2-Potenciales calent glob'!$E$6","v":1},{"$f":"'Datos 2-Potenciales calent glob'!$E$6","v":1},0,0,0,0,0,0,0]
[null,"Emisiones de proceso y uso de productos","Fuente fija","Fugitivas",{"$f":"'Alcance 1'!C177","v":"N2O"},null,null,"Ambos",1,{"$f":"'Alcance 1'!D177","v":0},{"$f":"'Alcance 1'!E177","v":"kg"},null,1,null,0,"kg",0,0,1,0,0,0,0,0,0,0,0,{"$f":"'Datos 2-Potenciales calent glob'!$E$6","v":1},{"$f":"'Datos 2-Potenciales calent glob'!$E$31","v":28},{"$f":"'Datos 2-Potenciales calent glob'!$E$32","v":265},{"$f":"SUMIF('Datos 2-Potenciales calent glob'!$B$6:$B$56,Cálculos_5!F9,'Datos 2-Potenciales calent glob'!$E$6:$E$56)","v":0},{"$f":"'Datos 2-Potenciales calent glob'!$E$6","v":1},{"$f":"'Datos 2-Potenciales calent glob'!$E$6","v":1},0,0,0,0,0,0,0]
[null,"Emisiones de proceso y uso de productos","Fuente fija","Fugitivas","Gases fluorados",{"$f":"'Alcance 1'!C178","v":"Tipo de gas fluorado"},null,"Ambos",1,{"$f":"'Alcance 1'!D178","v":0},{"$f":"'Alcance 1'!E178","v":"kg"},null,1,null,0,"kg",0,0,0,0,0,0,0,0,{"$f":"O10","v":0},0,0,{"$f":"'Datos 2-Potenciales calent glob'!$E$6","v":1},{"$f":"'Datos 2-Potenciales calent glob'!$E$31","v":28},{"$f":"'Datos 2-Potenciales calent glob'!$E$32","v":265},{"$f":"SUMIF('Datos 2-Potenciales calent glob'!$B$6:$B$56,Cálculos_5!F10,'Datos 2-Potenciales calent glob'!$E$6:$E$56)","v":0},{"$f":"'Datos 2-Potenciales calent glob'!$E$6","v":1},{"$f":"'Datos 2-Potenciales calent glob'!$E$6","v":1},0,0,0,0,0,0,0]
[null,"Emisiones de proceso y uso de productos","Fuente fija","Fugitivas","Gases fluorados",{"$f":"'Alcance 1'!C179","v":"Tipo de gas fluorado"},null,"Ambos",1,{"$f":"'Alcance 1'!D179","v":0},{"$f":"'Alcance 1'!E179","v":"kg"},null,1,null,0,"kg",0,0,0,0,0,0,0,0,{"$f":"O11","v":0},0,0,{"$f":"'Datos 2-Potenciales calent glob'!$E$6","v":1},{"$f":"'Datos 2-Potenciales calent glob'!$E$31","v":28},{"$f":"'Datos 2-Potenciales calent glob'!$E$32","v":265},{"$f":"SUMIF('Datos 2-Potenciales calent glob'!$B$6:$B$56,Cálculos_5!F11,'Datos 2-Potenciales calent glob'!$E$6:$E$56)","v":0},{"$f":"'Datos 2-Potenciales calent glob'!$E$6","v":1},{"$f":"'Datos 2-Potenciales calent glob'!$E$6","v":1},0,0,0,0,0,0,0]
[null,"Emisiones de proceso y uso de productos","Fuente fija","Fugitivas","Gases fluorados",{"$f":"'Alcance 1'!C180","v":"Tipo de gas fluorado"},null,"Ambos",1,{"$f":"'Alcance 1'!D180","v":0},{"$f":"'Alcance 1'!E180","v":"kg"},null,1,null,0,"kg",0,0,0,0,0,0,0,0,0,0,0,{"$f":"'Datos 2-Potenciales calent glob'!$E$6","v":1},{"$f":"'Datos 2-Potenciales calent glob'!$E$31","v":28},{"$f":"'Datos 2-Potenciales calent glob'!$E$32","v":265},{"$f":"SUMIF('Datos 2-Potenciales calent glob'!$B$6:$B$56,Cálculos_5!F12,'Datos 2-Potenciales calent glob'!$E$6:$E$56)","v":0},{"$f":"'Datos 2-Potenciales calent glob'!$E$6","v":1},{"$f":"'Datos 2-Potenciales calent glob'!$E$6","v":1},0,0,0,0,0,0,0]
[null,"Emisiones de proceso y uso de productos","Fuente fija","Fugitivas","Gases fluorados",{"$f":"'Alcance 1'!C181","v":"Tipo de gas fluorado"},null,"Ambos",1,{"$f":"'Alcance 1'!D181","v":0},{"$f":"'Alcance 1'!E181","v":"kg"},null,1,null,0,"kg",0,0,0,0,0,0,0,0,0,0,0,{"$f":"'Datos 2-Potenciales calent glob'!$E$6","v":1},{"$f":"'Datos 2-Potenciales calent glob'!$E$31","v":28},{"$f":"'Datos 2-Potenciales calent glob'!$E$32","v":265},{"$f":"SUMIF('Datos 2-Potenciales calent glob'!$B$6:$B$56,Cálculos_5!F13,'Datos 2-Potenciales calent glob'!$E$6:$E$56)","v":0},{"$f":"'Datos 2-Potenciales calent glob'!$E$6","v":1},{"$f":"'Datos 2-Potenciales calent glob'!$E$6","v":1},0,0,0,0,0,0,0]
[null,"Emisiones de proceso y uso de productos","Fuente fija","Fugitivas","Gases fluorados",{"$f":"'Alcance 1'!C182","v":"Tipo de gas fluorado"},null,"Ambos",1,{"$f":"'Alcance 1'!D182","v":0},{"$f":"'Alcance 1'!E182","v":"kg"},null,1,null,0,"kg",0,0,0,0,0,0,0,0,0,0,0,{"$f":"'Datos 2-Potenciales calent glob'!$E$6","v":1},{"$f":"'Datos 2-Potenciales calent glob'!$E$31","v":28},{"$f":"'Datos 2-Potenciales calent glob'!$E$32","v":265},{"$f":"SUMIF('Datos 2-Potenciales calent glob'!$B$6:$B$56,Cálculos_5!F14,'Datos 2-Potenciales calent glob'!$E$6:$E$56)","v":0},{"$f":"'Datos 2-Potenciales calent glob'!$E$6","v":1},{"$f":"'Datos 2-Potenciales calent glob'!$E$6","v":1},0,0,0,0,0,0,0]
[null,"Emisiones de proceso y uso de productos","Fuente fija","Fugitivas","Gases fluorados",{"$f":"'Alcance 1'!C183","v":"Tipo de gas fluorado"},null,"Ambos",1,{"$f":"'Alcance 1'!D183","v":0},{"$f":"'Alcance 1'!E183","v":"kg"},null,1,null,0,"kg",0,0,0,0,0,0,0,0,0,0,0,{"$f":"'Datos 2-Potenciales calent glob'!$E$6","v":1},{"$f":"'Datos 2-Potenciales calent glob'!$E$31","v":28},{"$f":"'Datos 2-Potenciales calent glob'!$E$32","v":265},{"$f":"SUMIF('Datos 2-Potenciales calent glob'!$B$6:$B$56,Cálculos_5!F15,'Datos 2-Potenciales calent glob'!$E$6:$E$56)","v":0},{"$f":"'Datos 2-Potenciales calent glob'!$E$6","v":1},{"$f":"'Datos 2-Potenciales calent glob'!$E$6","v":1},0,0,0,0,0,0,0]
[null,"Emisiones de proceso y uso de productos","Fuente fija","Fugitivas","Gases fluorados",{"$f":"'Alcance 1'!C184","v":"Tipo de gas fluorado"},null,"Ambos",1,{"$f":"'Alcance 1'!D184","v":0},{"$f":"'Alcance 1'!E184","v":"kg"},null,1,null,0,"kg",0,0,0,0,0,0,0,0,0,0,0,{"$f":"'Datos 2-Potenciales calent glob'!$E$6","v":1},{"$f":"'Datos 2-Potenciales calent glob'!$E$31","v":28},{"$f":"'Datos 2-Potenciales calent glob'!$E$32","v":265},{"$f":"SUMIF('Datos 2-Potenciales calent glob'!$B$6:$B$56,Cálculos_5!F16,'Datos 2-Potenciales calent glob'!$E$6:$E$56)","v":0},{"$f":"'Datos 2-Potenciales calent glob'!$E$6","v":1},{"$f":"'Datos 2-Potenciales calent glob'!$E$6","v":1},0,0,0,0,0,0,0]
[null,"Emisiones de proceso y uso de productos","Fuente fija","Fugitivas","Gases fluorados",{"$f":"'Alcance 1'!C185","v":"Tipo de gas fluorado"},null,"Ambos",1,{"$f":"'Alcance 1'!D185","v":0},{"$f":"'Alcance 1'!E185","v":"kg"},null,1,null,0,"kg",0,0,0,0,0,0,0,0,0,0,0,{"$f":"'Datos 2-Potenciales calent glob'!$E$6","v":1},{"$f":"'Datos 2-Potenciales calent glob'!$E$31","v":28},{"$f":"'Datos 2-Potenciales calent glob'!$E$32","v":265},{"$f":"SUMIF('Datos 2-Potenciales calent glob'!$B$6:$B$56,Cálculos_5!F17,'Datos 2-Potenciales calent glob'!$E$6:$E$56)","v":0},{"$f":"'Datos 2-Potenciales calent glob'!$E$6","v":1},{"$f":"'Datos 2-Potenciales calent glob'!$E$6","v":1},0,0,0,0,0,0,0]
[null,"Emisiones de proceso y uso de productos","Fuente fija","Fugitivas","Gases fluorados",{"$f":"'Alcance 1'!C186","v":"Tipo de gas fluorado"},null,"Ambos",1,{"$f":"'Alcance 1'!D186","v":0},{"$f":"'Alcance 1'!E186","v":"kg"},null,1,null,0,"kg",0,0,0,0,0,0,0,0,0,0,0,{"$f":"'Datos 2-Potenciales calent glob'!$E$6","v":1},{"$f":"'Datos 2-Potenciales calent glob'!$E$31","v":28},{"$f":"'Datos 2-Potenciales calent glob'!$E$32","v":265},{"$f":"SUMIF('Datos 2-Potenciales calent glob'!$B$6:$B$56,Cálculos_5!F18,'Datos 2-Potenciales calent glob'!$E$6:$E$56)","v":0},{"$f":"'Datos 2-Potenciales calent glob'!$E$6","v":1},{"$f":"'Datos 2-Potenciales calent glob'!$E$6","v":1},0,0,0,0,0,0,0]
[null,"Emisiones de proceso y uso de productos","Fuente fija","Fugitivas","Gases fluorados",{"$f":"'Alcance 1'!C187","v":"Tipo de gas fluorado"},null,"Ambos",1,{"$f":"'Alcance 1'!D187","v":0},{"$f":"'Alcance 1'!E187","v":"kg"},null,1,null,0,"kg",0,0,0,0,0,0,0,0,0,0,0,{"$f":"'Datos 2-Potenciales calent glob'!$E$6","v":1},{"$f":"'Datos 2-Potenciales calent glob'!$E$31","v":28},{"$f":"'Datos 2-Potenciales calent glob'!$E$32","v":265},{"$f":"SUMIF('Datos 2-Potenciales calent glob'!$B$6:$B$56,Cálculos_5!F19,'Datos 2-Potenciales calent glob'!$E$6:$E$56)","v":0},{"$f":"'Datos 2-Potenciales calent glob'!$E$6","v":1},{"$f":"'Datos 2-Potenciales calent glob'!$E$6","v":1},0,0,0,0,0,0,0]
[null,"Energía","Fuente fija","Combustión","Biomasa",null,null,"Ambos",1,{"$f":"'Alcance 1'!D8","v":0},{"$f":"'Alcance 1'!E8","v":"kg"},null,{"$f":"LOOKUP($E20,'Datos 3-Factores de convers'!$B$29:$B$51,'Datos 3-Factores de convers'!$F$29:$F$51)","v":1.56E-5},{"$f":"LOOKUP($E20,'Datos 3-Factores de convers'!$B$29:$B$51,'Datos 3-Factores de convers'!$G$29:$G$51)","v":"TJ/kg"},{"$f":"J20*M20","v":0},"kg",{"$f":"LOOKUP($E20,'Datos 1-Factores emisión'!$B$9:$B$18,'Datos 1-Factores emisión'!$C$9:$C$18)","v":0},{"$f":"LOOKUP($E20,'Datos 1-Factores emisión'!$B$9:$B$18,'Datos 1-Factores emisión'!$E$9:$E$18)","v":300},{"$f":"LOOKUP($E20,'Datos 1-Factores emisión'!$B$9:$B$18,'Datos 1-Factores emisión'!$F$9:$F$18)","v":4},{"$f":"LOOKUP($E20,'Datos 1-Factores emisión'!$B$9:$B$18,'Datos 1-Factores emisión'!$D$9:$D$18)","v":112000},0,{"$f":"Q20*$O20","v":0},{"$f":"R20*$O20","v":0},{"$f":"S20*$O20","v":0},0,{"$f":"T20*$O20","v":0},{"$f":"U20*$O20","v":0},{"$f":"'Datos 2-Potenciales calent glob'!$E$6","v":1},{"$f":"'Datos 2-Potenciales calent glob'!$E$31","v":28},{"$f":"'Datos 2-Potenciales calent glob'!$E$32","v":265},{"$f":"SUMIF('Datos 2-Potenciales calent glob'!$B$6:$B$56,Cálculos_5!F20,'Datos 2-Potenciales calent glob'!$E$6:$E$56)","v":0},{"$f":"'Datos 2-Potenciales calent glob'!$E$6","v":1},{"$f":"'Datos 2-Potenciales calent glob'!$E$6","v":1},{"$f":"V20*AB20","v":0},{"$f":"W20*AC20","v":0},{"$f":"X20*AD20","v":0},{"$f":"Y20*AE20","v":0},{"$f":"SUM(AH20:AK20)","v":0},{"$f":"Z20*AF20","v":0},{"$f":"AA20*AG20","v":0}]
[null,"Energía","Fuente fija","Combustión","Carbón mineral",null,null,"Ambos",1,{"$f":"'Alcance 1'!D9","v":0},{"$f":"'Alcance 1'!E9","v":"kg"},null,{"$f":"LOOKUP($E21,'Datos 3-Factores de convers'!$B$29:$B$51,'Datos 3-Factores de convers'!$F$29:$F$51)","v":2.5163869999999999E-5},{"$f":"LOOKUP($E21,'Datos 3-Factores de convers'!$B$29:$B$51,'Datos 3-Factores de convers'!$G$29:$G$51)","v":"TJ/kg"},{"$f":"J21*M21","v":0},"kg",{"$f":"LOOKUP($E21,'Datos 1-Factores emisión'!$B$9:$B$18,'Datos 1-Factores emisión'!$C$9:$C$18)","v":99420},{"$f":"LOOKUP($E21,'Datos 1-Factores emisión'!$B$9:$B$18,'Datos 1-Factores emisión'!$E$9:$E$18)","v":10},{"$f":"LOOKUP($E21,'Datos 1-Factores emisión'!$B$9:$B$18,'Datos 1-Factores emisión'!$F$9:$F$18)","v":1.5},{"$f":"LOOKUP($E21,'Datos 1-Factores emisión'!$B$9:$B$18,'Datos 1-Factores emisión'!$D$9:$D$18)","v":0},0,0,0,0,0,{"$f":"T21*$O21","v":0},{"$f":"U21*$O21","v":0},{"$f":"'Datos 2-Potenciales calent glob'!$E$6","v":1},{"$f":"'Datos 2-Potenciales calent glob'!$E$31","v":28},{"$f":"'Datos 2-Potenciales calent glob'!$E$32","v":265},{"$f":"SUMIF('Datos 2-Potenciales calent glob'!$B$6:$B$56,Cálculos_5!F21,'Datos 2-Potenciales calent glob'!$E$6:$E$56)","v":0},{"$f":"'Datos 2-Potenciales calent glob'!$E$6","v":1},{"$f":"'Datos 2-Potenciales calent glob'!$E$6","v":1},0,0,0,0,0,0,{"$f":"AA21*AG21","v":0}]
[null,"Energía","Fuente fija","Combustión","Coque de petróleo",null,null,"Ambos",1,{"$f":"'Alcance 1'!D10","v":0},{"$f":"'Alcance 1'!E10","v":"kg"},null,{"$f":"LOOKUP($E22,'Datos 3-Factores de convers'!$B$29:$B$51,'Datos 3-Factores de convers'!$F$29:$F$51)","v":3.4961449999999997E-5},{"$f":"LOOKUP($E22,'Datos 3-Factores de convers'!$B$29:$B$51,'Datos 3-Factores de convers'!$G$29:$G$51)","v":"TJ/kg"},0,"kg",{"$f":"LOOKUP($E22,'Datos 1-Factores emisión'!$B$9:$B$18,'Datos 1-Factores emisión'!$C$9:$C$18)","v":97500},{"$f":"LOOKUP($E22,'Datos 1-Factores emisión'!$B$9:$B$18,'Datos 1-Factores emisión'!$E$9:$E$18)","v":10},{"$f":"LOOKUP($E22,'Datos 1-Factores emisión'!$B$9:$B$18,'Datos 1-Factores emisión'!$F$9:$F$18)","v":0.6},{"$f":"LOOKUP($E22,'Datos 1-Factores emisión'!$B$9:$B$18,'Datos 1-Factores emisión'!$D$9:$D$18)","v":0},0,0,0,0,0,0,0,{"$f":"'Datos 2-Potenciales calent glob'!$E$6","v":1},{"$f":"'Datos 2-Potenciales calent glob'!$E$31","v":28},{"$f":"'Datos 2-Potenciales calent glob'!$E$32","v":265},{"$f":"SUMIF('Datos 2-Potenciales calent glob'!$B$6:$B$56,Cálculos_5!F22,'Datos 2-Potenciales calent glob'!$E$6:$E$56)","v":0},{"$f":"'Datos 2-Potenciales calent glob'!$E$6","v":1},{"$f":"'Datos 2-Potenciales calent glob'!$E$6","v":1},0,0,0,0,0,0,0]
[null,"Energía","Fuente fija","Combustión","Fueloleo",null,null,"Ambos",1,{"$f":"'Alcance 1'!D11","v":0},{"$f":"'Alcance 1'!E11","v":"L"},null,{"$f":"LOOKUP($E23,'Datos 3-Factores de convers'!$B$29:$B$51,'Datos 3-Factores de convers'!$F$29:$F$51)","v":3.1352255999999994E-5},{"$f":"LOOKUP($E23,'Datos 3-Factores de convers'!$B$29:$B$51,'Datos 3-Factores de convers'!$G$29:$G$51)","v":"TJ/L"},0,"TJ",{"$f":"LOOKUP($E23,'Datos 1-Factores emisión'!$B$9:$B$18,'Datos 1-Factores emisión'!$C$9:$C$18)","v":77400},{"$f":"LOOKUP($E23,'Datos 1-Factores emisión'!$B$9:$B$18,'Datos 1-Factores emisión'!$E$9:$E$18)","v":10},{"$f":"LOOKUP($E23,'Datos 1-Factores emisión'!$B$9:$B$18,'Datos 1-Factores emisión'!$F$9:$F$18)","v":0.6},{"$f":"LOOKUP($E23,'Datos 1-Factores emisión'!$B$9:$B$18,'Datos 1-Factores emisión'!$D$9:$D$18)","v":0},0,0,0,0,0,0,0,{"$f":"'Datos 2-Potenciales calent glob'!$E$6","v":1},{"$f":"'Datos 2-Potenciales calent glob'!$E$31","v":28},{"$f":"'Datos 2-Potenciales calent glob'!$E$32","v":265},{"$f":"SUMIF('Datos 2-Potenciales calent glob'!$B$6:$B$56,Cálculos_5!F23,'Datos 2-Potenciales calent glob'!$E$6:$E$56)","v":0},{"$f":"'Datos 2-Potenciales calent glob'!$E$6","v":1},{"$f":"'Datos 2-Potenciales calent glob'!$E$6","v":1},0,0,0,0,0,0,0]
[null,"Energía","Fuente fija","Combustión","Gas butano",null,null,"Ambos",1,{"$f":"'Alcance 1'!D12","v":0},{"$f":"'Alcance 1'!E12","v":"L"},null,{"$f":"LOOKUP($E24,'Datos 3-Factores de convers'!$B$29:$B$51,'Datos 3-Factores de convers'!$F$29:$F$51)","v":2.6495335999999999E-5},{"$f":"LOOKUP($E24,'Datos 3-Factores de convers'!$B$29:$B$51,'Datos 3-Factores de convers'!$G$29:$G$51)","v":"TJ/L"},0,"TJ",{"$f":"LOOKUP($E24,'Datos 1-Factores emisión'!$B$9:$B$18,'Datos 1-Factores emisión'!$C$9:$C$18)","v":66200},{"$f":"LOOKUP($E24,'Datos 1-Factores emisión'!$B$9:$B$18,'Datos 1-Factores emisión'!$E$9:$E$18)","v":5},{"$f":"LOOKUP($E24,'Datos 1-Factores emisión'!$B$9:$B$18,'Datos 1-Factores emisión'!$F$9:$F$18)","v":0.1},{"$f":"LOOKUP($E24,'Datos 1-Factores emisión'!$B$9:$B$18,'Datos 1-Factores emisión'!$D$9:$D$18)","v":0},0,0,0,0,0,0,0,{"$f":"'Datos 2-Potenciales calent glob'!$E$6","v":1},{"$f":"'Datos 2-Potenciales calent glob'!$E$31","v":28},{"$f":"'Datos 2-Potenciales calent glob'!$E$32","v":265},{"$f":"SUMIF('Datos 2-Potenciales calent glob'!$B$6:$B$56,Cálculos_5!F24,'Datos 2-Potenciales calent glob'!$E$6:$E$56)","v":0},{"$f":"'Datos 2-Potenciales calent glob'!$E$6","v":1},{"$f":"'Datos 2-Potenciales calent glob'!$E$6","v":1},0,0,0,0,0,0,0]
[null,"Energía","Fuente fija","Combustión","Gas natural",null,null,"Ambos",1,{"$f":"'Alcance 1'!D13","v":0},{"$f":"'Alcance 1'!E13","v":"Nm3"},null,{"$f":"LOOKUP($E25,'Datos 3-Factores de convers'!$B$29:$B$51,'Datos 3-Factores de convers'!$F$29:$F$51)","v":3.7845600000000002E-5},{"$f":"LOOKUP($E25,'Datos 3-Factores de convers'!$B$29:$B$51,'Datos 3-Factores de convers'!$G$29:$G$51)","v":"TJ/Nm3"},0,"TJ",{"$f":"LOOKUP($E25,'Datos 1-Factores emisión'!$B$9:$B$18,'Datos 1-Factores emisión'!$C$9:$C$18)","v":56130},{"$f":"LOOKUP($E25,'Datos 1-Factores emisión'!$B$9:$B$18,'Datos 1-Factores emisión'!$E$9:$E$18)","v":5},{"$f":"LOOKUP($E25,'Datos 1-Factores emisión'!$B$9:$B$18,'Datos 1-Factores emisión'!$F$9:$F$18)","v":0.1},{"$f":"LOOKUP($E25,'Datos 1-Factores emisión'!$B$9:$B$18,'Datos 1-Factores emisión'!$D$9:$D$18)","v":0},0,0,0,0,0,0,0,{"$f":"'Datos 2-Potenciales calent glob'!$E$6","v":1},{"$f":"'Datos 2-Potenciales calent glob'!$E$31","v":28},{"$f":"'Datos 2-Potenciales calent glob'!$E$32","v":265},{"$f":"SUMIF('Datos 2-Potenciales calent glob'!$B$6:$B$56,Cálculos_5!F25,'Datos 2-Potenciales calent glob'!$E$6:$E$56)","v":0},{"$f":"'Datos 2-Potenciales calent glob'!$E$6","v":1},{"$f":"'Datos 2-Potenciales calent glob'!$E$6","v":1},0,0,0,0,0,0,0]
[null,"Energía","Fuente fija","Combustión","Gas propano",null,null,"Ambos",1,{"$f":"'Alcance 1'!D14","v":0},{"$f":"'Alcance 1'!E14","v":"L"},null,{"$f":"LOOKUP($E26,'Datos 3-Factores de convers'!$B$29:$B$51,'Datos 3-Factores de convers'!$F$29:$F$51)","v":2.453184234999999E-5},{"$f":"LOOKUP($E26,'Datos 3-Factores de convers'!$B$29:$B$51,'Datos 3-Factores de convers'!$G$29:$G$51)","v":"TJ/L"},0,"TJ",{"$f":"LOOKUP($E26,'Datos 1-Factores emisión'!$B$9:$B$18,'Datos 1-Factores emisión'!$C$9:$C$18)","v":63600},{"$f":"LOOKUP($E26,'Datos 1-Factores emisión'!$B$9:$B$18,'Datos 1-Factores emisión'!$E$9:$E$18)","v":5},{"$f":"LOOKUP($E26,'Datos 1-Factores emisión'!$B$9:$B$18,'Datos 1-Factores emisión'!$F$9:$F$18)","v":0.1},{"$f":"LOOKUP($E26,'Datos 1-Factores emisión'!$B$9:$B$18,'Datos 1-Factores emisión'!$D$9:$D$18)","v":0},0,0,0,0,0,0,0,{"$f":"'Datos 2-Potenciales calent glob'!$E$6","v":1},{"$f":"'Datos 2-Potenciales calent glob'!$E$31","v":28},{"$f":"'Datos 2-Potenciales calent glob'!$E$32","v":265},{"$f":"SUMIF('Datos 2-Potenciales calent glob'!$B$6:$B$56,Cálculos_5!F26,'Datos 2-Potenciales calent glob'!$E$6:$E$56)","v":0},{"$f":"'Datos 2-Potenciales calent glob'!$E$6","v":1},{"$f":"'Datos 2-Potenciales calent glob'!$E$6","v":1},0,0,0,0,0,0,0]
[null,"Energía","Fuente fija","Combustión","Gasóleo C",null,null,"Ambos",1,{"$f":"'Alcance 1'!D15","v":0},{"$f":"'Alcance 1'!E15","v":"L"},null,{"$f":"LOOKUP($E27,'Datos 3-Factores de convers'!$B$29:$B$51,'Datos 3-Factores de convers'!$F$29:$F$51)","v":3.9001904999999983E-5},{"$f":"LOOKUP($E27,'Datos 3-Factores de convers'!$B$29:$B$51,'Datos 3-Factores de convers'!$G$29:$G$51)","v":"TJ/L"},0,"TJ",{"$f":"LOOKUP($E27,'Datos 1-Factores emisión'!$B$9:$B$18,'Datos 1-Factores emisión'!$C$9:$C$18)","v":74100},{"$f":"LOOKUP($E27,'Datos 1-Factores emisión'!$B$9:$B$18,'Datos 1-Factores emisión'!$E$9:$E$18)","v":10},{"$f":"LOOKUP($E27,'Datos 1-Factores emisión'!$B$9:$B$18,'Datos 1-Factores emisión'!$F$9:$F$18)","v":0.6},{"$f":"LOOKUP($E27,'Datos 1-Factores emisión'!$B$9:$B$18,'Datos 1-Factores emisión'!$D$9:$D$18)","v":0},0,0,0,0,0,0,0,{"$f":"'Datos 2-Potenciales calent glob'!$E$6","v":1},{"$f":"'Datos 2-Potenciales calent glob'!$E$31","v":28},{"$f":"'Datos 2-Potenciales calent glob'!$E$32","v":265},{"$f":"SUMIF('Datos 2-Potenciales calent glob'!$B$6:$B$56,Cálculos_5!F27,'Datos 2-Potenciales calent glob'!$E$6:$E$56)","v":0},{"$f":"'Datos 2-Potenciales calent glob'!$E$6","v":1},{"$f":"'Datos 2-Potenciales calent glob'!$E$6","v":1},0,0,0,0,0,0,0]
[null,"Energía","Fuente fija","Combustión","GLP genérico",null,null,"Ambos",1,{"$f":"'Alcance 1'!D16","v":0},{"$f":"'Alcance 1'!E16","v":"L"},null,{"$f":"LOOKUP($E28,'Datos 3-Factores de convers'!$B$29:$B$51,'Datos 3-Factores de convers'!$F$29:$F$51)","v":2.6495336000000002E-5},{"$f":"LOOKUP($E28,'Datos 3-Factores de convers'!$B$29:$B$51,'Datos 3-Factores de convers'!$G$29:$G$51)","v":"TJ/L"},0,"TJ",{"$f":"LOOKUP($E28,'Datos 1-Factores emisión'!$B$9:$B$18,'Datos 1-Factores emisión'!$C$9:$C$18)","v":63100},{"$f":"LOOKUP($E28,'Datos 1-Factores emisión'!$B$9:$B$18,'Datos 1-Factores emisión'!$E$9:$E$18)","v":5},{"$f":"LOOKUP($E28,'Datos 1-Factores emisión'!$B$9:$B$18,'Datos 1-Factores emisión'!$F$9:$F$18)","v":0.1},{"$f":"LOOKUP($E28,'Datos 1-Factores emisión'!$B$9:$B$18,'Datos 1-Factores emisión'!$D$9:$D$18)","v":0},0,0,0,0,0,0,0,{"$f":"'Datos 2-Potenciales calent glob'!$E$6","v":1},{"$f":"'Datos 2-Potenciales calent glob'!$E$31","v":28},{"$f":"'Datos 2-Potenciales calent glob'!$E$32","v":265},{"$f":"SUMIF('Datos 2-Potenciales calent glob'!$B$6:$B$56,Cálculos_5!F28,'Datos 2-Potenciales calent glob'!$E$6:$E$56)","v":0},{"$f":"'Datos 2-Potenciales calent glob'!$E$6","v":1},{"$f":"'Datos 2-Potenciales calent glob'!$E$6","v":1},0,0,0,0,0,0,0]
[null,"Energía","Fuente fija","Combustión","Queroseno",null,null,"Ambos",1,{"$f":"'Alcance 1'!D17","v":0},{"$f":"'Alcance 1'!E17","v":"L"},null,{"$f":"LOOKUP($E29,'Datos 3-Factores de convers'!$B$29:$B$51,'Datos 3-Factores de convers'!$F$29:$F$51)","v":3.5673239999999992E-5},{"$f":"LOOKUP($E29,'Datos 3-Factores de convers'!$B$29:$B$51,'Datos 3-Factores de convers'!$G$29:$G$51)","v":"TJ/L"},0,"TJ",{"$f":"LOOKUP($E29,'Datos 1-Factores emisión'!$B$9:$B$18,'Datos 1-Factores emisión'!$C$9:$C$18)","v":71900},{"$f":"LOOKUP($E29,'Datos 1-Factores emisión'!$B$9:$B$18,'Datos 1-Factores emisión'!$E$9:$E$18)","v":10},{"$f":"LOOKUP($E29,'Datos 1-Factores emisión'!$B$9:$B$18,'Datos 1-Factores emisión'!$F$9:$F$18)","v":0.6},{"$f":"LOOKUP($E29,'Datos 1-Factores emisión'!$B$9:$B$18,'Datos 1-Factores emisión'!$D$9:$D$18)","v":0},0,0,0,0,0,0,0,{"$f":"'Datos 2-Potenciales calent glob'!$E$6","v":1},{"$f":"'Datos 2-Potenciales calent glob'!$E$31","v":28},{"$f":"'Datos 2-Potenciales calent glob'!$E$32","v":265},{"$f":"SUMIF('Datos 2-Potenciales calent glob'!$B$6:$B$56,Cálculos_5!F29,'Datos 2-Potenciales calent glob'!$E$6:$E$56)","v":0},{"$f":"'Datos 2-Potenciales calent glob'!$E$6","v":1},{"$f":"'Datos 2-Potenciales calent glob'!$E$6","v":1},0,0,0,0,0,0,0]
[null,"Energía","Fuente móvil","Combustión","Gasolina ",null,null,"Ambos",1,{"$f":"'Alcance 1'!D24","v":0},{"$f":"'Alcance 1'!E24","v":"L"},null,{"$f":"LOOKUP($E30,'Datos 3-Factores de convers'!$B$29:$B$51,'Datos 3-Factores de convers'!$F$29:$F$51)","v":3.6076762124999995E-5},{"$f":"LOOKUP($E30,'Datos 3-Factores de convers'!$B$29:$B$51,'Datos 3-Factores de convers'!$G$29:$G$51)","v":"TJ/L"},0,"TJ",{"$f":"LOOKUP($E30,'Datos 1-Factores emisión'!$B$23:$B$33,'Datos 1-Factores emisión'!$C$23:$C$33)","v":{"$error":"#N/A"}},{"$f":"LOOKUP($E30,'Datos 1-Factores emisión'!$B$23:$B$33,'Datos 1-Factores emisión'!$E$23:$E$33)","v":{"$error":"#N/A"}},{"$f":"LOOKUP($E30,'Datos 1-Factores emisión'!$B$23:$B$33,'Datos 1-Factores emisión'!$F$23:$F$33)","v":{"$error":"#N/A"}},{"$f":"LOOKUP($E30,'Datos 1-Factores emisión'!$B$23:$B$33,'Datos 1-Factores emisión'!$D$23:$D$33)","v":{"$error":"#N/A"}},0,{"$error":"#N/A"},{"$error":"#N/A"},{"$error":"#N/A"},0,{"$error":"#N/A"},0,{"$f":"'Datos 2-Potenciales calent glob'!$E$6","v":1},{"$f":"'Datos 2-Potenciales calent glob'!$E$31","v":28},{"$f":"'Datos 2-Potenciales calent glob'!$E$32","v":265},{"$f":"SUMIF('Datos 2-Potenciales calent glob'!$B$6:$B$56,Cálculos_5!F30,'Datos 2-Potenciales calent glob'!$E$6:$E$56)","v":0},{"$f":"'Datos 2-Potenciales calent glob'!$E$6","v":1},{"$f":"'Datos 2-Potenciales calent glob'!$E$6","v":1},{"$error":"#N/A"},{"$error":"#N/A"},{"$error":"#N/A"},0,{"$error":"#N/A"},{"$error":"#N/A"},0]
[null,"Energía","Fuente móvil","Combustión","Gasóleo A y B",null,null,"Ambos",1,{"$f":"'Alcance 1'!D25","v":0},{"$f":"'Alcance 1'!E25","v":"L"},null,{"$f":"LOOKUP($E31,'Datos 3-Factores de convers'!$B$29:$B$51,'Datos 3-Factores de convers'!$F$29:$F$51)","v":{"$error":"#N/A"}},{"$f":"LOOKUP($E31,'Datos 3-Factores de convers'!$B$29:$B$51,'Datos 3-Factores de convers'!$G$29:$G$51)","v":"TJ/L"},{"$f":"J31*M31","v":{"$error":"#N/A"}},"TJ",{"$f":"LOOKUP($E31,'Datos 1-Factores emisión'!$B$23:$B$33,'Datos 1-Factores emisión'!$C$23:$C$33)","v":{"$error":"#N/A"}},{"$f":"LOOKUP($E31,'Datos 1-Factores emisión'!$B$23:$B$33,'Datos 1-Factores emisión'!$E$23:$E$33)","v":{"$error":"#N/A"}},{"$f":"LOOKUP($E31,'Datos 1-Factores emisión'!$B$23:$B$33,'Datos 1-Factores emisión'!$F$23:$F$33)","v":{"$error":"#N/A"}},{"$f":"LOOKUP($E31,'Datos 1-Factores emisión'!$B$23:$B$33,'Datos 1-Factores emisión'!$D$23:$D$33)","v":{"$error":"#N/A"}},0,{"$error":"#N/A"},{"$error":"#N/A"},{"$error":"#N/A"},0,{"$error":"#N/A"},{"$error":"#N/A"},{"$f":"'Datos 2-Potenciales calent glob'!$E$6","v":1},{"$f":"'Datos 2-Potenciales calent glob'!$E$31","v":28},{"$f":"'Datos 2-Potenciales calent glob'!$E$32","v":265},{"$f":"SUMIF('Datos 2-Potenciales calent glob'!$B$6:$B$56,Cálculos_5!F31,'Datos 2-Potenciales calent glob'!$E$6:$E$56)","v":0},{"$f":"'Datos 2-Potenciales calent glob'!$E$6","v":1},{"$f":"'Datos 2-Potenciales calent glob'!$E$6","v":1},{"$error":"#N/A"},{"$error":"#N/A"},{"$error":"#N/A"},0,{"$error":"#N/A"},{"$error":"#N/A"},{"$error":"#N/A"}]
[null,"Energía","Fuente móvil","Combustión","E10",null,null,"Ambos",1,{"$f":"'Alcance 1'!D26","v":0},{"$f":"'Alcance 1'!E26","v":"L"},null,{"$f":"LOOKUP($E32,'Datos 3-Factores de convers'!$B$29:$B$51,'Datos 3-Factores de convers'!$F$29:$F$51)","v":3.2299805475000003E-5},{"$f":"LOOKUP($E32,'Datos 3-Factores de convers'!$B$29:$B$51,'Datos 3-Factores de convers'!$G$29:$G$51)","v":"TJ/L"},0,"TJ",{"$f":"LOOKUP($E32,'Datos 1-Factores emisión'!$B$23:$B$33,'Datos 1-Factores emisión'!$C$23:$C$33)","v":62370},{"$f":"LOOKUP($E32,'Datos 1-Factores emisión'!$B$23:$B$33,'Datos 1-Factores emisión'!$E$23:$E$33)","v":30.09},{"$f":"LOOKUP($E32,'Datos 1-Factores emisión'!$B$23:$B$33,'Datos 1-Factores emisión'!$F$23:$F$33)","v":3.2700000000000005},{"$f":"LOOKUP($E32,'Datos 1-Factores emisión'!$B$23:$B$33,'Datos 1-Factores emisión'!$D$23:$D$33)","v":7080},0,0,0,0,0,0,0,{"$f":"'Datos 2-Potenciales calent glob'!$E$6","v":1},{"$f":"'Datos 2-Potenciales calent glob'!$E$31","v":28},{"$f":"'Datos 2-Potenciales calent glob'!$E$32","v":265},{"$f":"SUMIF('Datos 2-Potenciales calent glob'!$B$6:$B$56,Cálculos_5!F32,'Datos 2-Potenciales calent glob'!$E$6:$E$56)","v":0},{"$f":"'Datos 2-Potenciales calent glob'!$E$6","v":1},{"$f":"'Datos 2-Potenciales calent glob'!$E$6","v":1},0,0,0,0,0,0,0]
[null,"Energía","Fuente móvil","Combustión","E85",null,null,"Ambos",1,{"$f":"'Alcance 1'!D27","v":0},{"$f":"'Alcance 1'!E27","v":"L"},null,{"$f":"LOOKUP($E33,'Datos 3-Factores de convers'!$B$29:$B$51,'Datos 3-Factores de convers'!$F$29:$F$51)","v":2.3383300912499999E-5},{"$f":"LOOKUP($E33,'Datos 3-Factores de convers'!$B$29:$B$51,'Datos 3-Factores de convers'!$G$29:$G$51)","v":"TJ/L"},0,"TJ",{"$f":"LOOKUP($E33,'Datos 1-Factores emisión'!$B$23:$B$33,'Datos 1-Factores emisión'!$C$23:$C$33)","v":10395},{"$f":"LOOKUP($E33,'Datos 1-Factores emisión'!$B$23:$B$33,'Datos 1-Factores emisión'!$E$23:$E$33)","v":8.2650000000000006},{"$f":"LOOKUP($E33,'Datos 1-Factores emisión'!$B$23:$B$33,'Datos 1-Factores emisión'!$F$23:$F$33)","v":3.7949999999999999},{"$f":"LOOKUP($E33,'Datos 1-Factores emisión'!$B$23:$B$33,'Datos 1-Factores emisión'!$D$23:$D$33)","v":60180},0,0,0,0,0,0,0,{"$f":"'Datos 2-Potenciales calent glob'!$E$6","v":1},{"$f":"'Datos 2-Potenciales calent glob'!$E$31","v":28},{"$f":"'Datos 2-Potenciales calent glob'!$E$32","v":265},{"$f":"SUMIF('Datos 2-Potenciales calent glob'!$B$6:$B$56,Cálculos_5!F33,'Datos 2-Potenciales calent glob'!$E$6:$E$56)","v":0},{"$f":"'Datos 2-Potenciales calent glob'!$E$6","v":1},{"$f":"'Datos 2-Potenciales calent glob'!$E$6","v":1},0,0,0,0,0,0,0]
[null,"Energía","Fuente móvil","Combustión","B30",null,null,"Ambos",1,{"$f":"'Alcance 1'!D28","v":0},{"$f":"'Alcance 1'!E28","v":"L"},null,{"$f":"LOOKUP($E34,'Datos 3-Factores de convers'!$B$29:$B$51,'Datos 3-Factores de convers'!$F$29:$F$51)","v":3.23817334875E-5},{"$f":"LOOKUP($E34,'Datos 3-Factores de convers'!$B$29:$B$51,'Datos 3-Factores de convers'!$G$29:$G$51)","v":"TJ/L"},0,"TJ",{"$f":"LOOKUP($E34,'Datos 1-Factores emisión'!$B$23:$B$33,'Datos 1-Factores emisión'!$C$23:$C$33)","v":51870},{"$f":"LOOKUP($E34,'Datos 1-Factores emisión'!$B$23:$B$33,'Datos 1-Factores emisión'!$E$23:$E$33)","v":3.9},{"$f":"LOOKUP($E34,'Datos 1-Factores emisión'!$B$23:$B$33,'Datos 1-Factores emisión'!$F$23:$F$33)","v":3.9},{"$f":"LOOKUP($E34,'Datos 1-Factores emisión'!$B$23:$B$33,'Datos 1-Factores emisión'!$D$23:$D$33)","v":21240},0,0,0,0,0,0,0,{"$f":"'Datos 2-Potenciales calent glob'!$E$6","v":1},{"$f":"'Datos 2-Potenciales calent glob'!$E$31","v":28},{"$f":"'Datos 2-Potenciales calent glob'!$E$32","v":265},{"$f":"SUMIF('Datos 2-Potenciales calent glob'!$B$6:$B$56,Cálculos_5!F34,'Datos 2-Potenciales calent glob'!$E$6:$E$56)","v":0},{"$f":"'Datos 2-Potenciales calent glob'!$E$6","v":1},{"$f":"'Datos 2-Potenciales calent glob'!$E$6","v":1},0,0,0,0,0,0,0]
[null,"Energía","Fuente móvil","Combustión","B100",null,null,"Ambos",1,{"$f":"'Alcance 1'!D29","v":0},{"$f":"'Alcance 1'!E29","v":"L"},null,{"$f":"LOOKUP($E35,'Datos 3-Factores de convers'!$B$29:$B$51,'Datos 3-Factores de convers'!$F$29:$F$51)","v":2.3760000000000003E-5},{"$f":"LOOKUP($E35,'Datos 3-Factores de convers'!$B$29:$B$51,'Datos 3-Factores de convers'!$G$29:$G$51)","v":"TJ/L"},0,"TJ",{"$f":"LOOKUP($E35,'Datos 1-Factores emisión'!$B$23:$B$33,'Datos 1-Factores emisión'!$C$23:$C$33)","v":0},{"$f":"LOOKUP($E35,'Datos 1-Factores emisión'!$B$23:$B$33,'Datos 1-Factores emisión'!$E$23:$E$33)","v":3.9},{"$f":"LOOKUP($E35,'Datos 1-Factores emisión'!$B$23:$B$33,'Datos 1-Factores emisión'!$F$23:$F$33)","v":3.9},{"$f":"LOOKUP($E35,'Datos 1-Factores emisión'!$B$23:$B$33,'Datos 1-Factores emisión'!$D$23:$D$33)","v":70800},0,0,0,0,0,0,0,{"$f":"'Datos 2-Potenciales calent glob'!$E$6","v":1},{"$f":"'Datos 2-Potenciales calent glob'!$E$31","v":28},{"$f":"'Datos 2-Potenciales calent glob'!$E$32","v":265},{"$f":"SUMIF('Datos 2-Potenciales calent glob'!$B$6:$B$56,Cálculos_5!F35,'Datos 2-Potenciales calent glob'!$E$6:$E$56)","v":0},{"$f":"'Datos 2-Potenciales calent glob'!$E$6","v":1},{"$f":"'Datos 2-Potenciales calent glob'!$E$6","v":1},0,0,0,0,0,0,0]
[null,"Energía","Fuente móvil","Combustión","Gas Natural Comprimido",null,null,"Ambos",1,{"$f":"'Alcance 1'!D30","v":0},{"$f":"'Alcance 1'!E30","v":"Nm3"},null,{"$f":"LOOKUP($E36,'Datos 3-Factores de convers'!$B$29:$B$51,'Datos 3-Factores de convers'!$F$29:$F$51)","v":3.7845600000000002E-5},{"$f":"LOOKUP($E36,'Datos 3-Factores de convers'!$B$29:$B$51,'Datos 3-Factores de convers'!$G$29:$G$51)","v":"TJ/Nm3"},0,"TJ",{"$f":"LOOKUP($E36,'Datos 1-Factores emisión'!$B$23:$B$33,'Datos 1-Factores emisión'!$C$23:$C$33)","v":56100},{"$f":"LOOKUP($E36,'Datos 1-Factores emisión'!$B$23:$B$33,'Datos 1-Factores emisión'!$E$23:$E$33)","v":92},{"$f":"LOOKUP($E36,'Datos 1-Factores emisión'!$B$23:$B$33,'Datos 1-Factores emisión'!$F$23:$F$33)","v":3},{"$f":"LOOKUP($E36,'Datos 1-Factores emisión'!$B$23:$B$33,'Datos 1-Factores emisión'!$D$23:$D$33)","v":0},0,0,0,0,0,0,0,{"$f":"'Datos 2-Potenciales calent glob'!$E$6","v":1},{"$f":"'Datos 2-Potenciales calent glob'!$E$31","v":28},{"$f":"'Datos 2-Potenciales calent glob'!$E$32","v":265},{"$f":"SUMIF('Datos 2-Potenciales calent glob'!$B$6:$B$56,Cálculos_5!F36,'Datos 2-Potenciales calent glob'!$E$6:$E$56)","v":0},{"$f":"'Datos 2-Potenciales calent glob'!$E$6","v":1},{"$f":"'Datos 2-Potenciales calent glob'!$E$6","v":1},0,0,0,0,0,0,0]
[null,"Energía","Fuente móvil","Combustión","Gas Natural Licuado",null,null,"Ambos",1,{"$f":"'Alcance 1'!D31","v":0},{"$f":"'Alcance 1'!E31","v":"L"},null,{"$f":"LOOKUP($E37,'Datos 3-Factores de convers'!$B$29:$B$51,'Datos 3-Factores de convers'!$F$29:$F$51)","v":1.9890000000000001E-5},{"$f":"LOOKUP($E37,'Datos 3-Factores de convers'!$B$29:$B$51,'Datos 3-Factores de convers'!$G$29:$G$51)","v":"TJ/L"},0,"TJ",{"$f":"LOOKUP($E37,'Datos 1-Factores emisión'!$B$23:$B$33,'Datos 1-Factores emisión'!$C$23:$C$33)","v":56100},{"$f":"LOOKUP($E37,'Datos 1-Factores emisión'!$B$23:$B$33,'Datos 1-Factores emisión'!$E$23:$E$33)","v":92},{"$f":"LOOKUP($E37,'Datos 1-Factores emisión'!$B$23:$B$33,'Datos 1-Factores emisión'!$F$23:$F$33)","v":3},{"$f":"LOOKUP($E37,'Datos 1-Factores emisión'!$B$23:$B$33,'Datos 1-Factores emisión'!$D$23:$D$33)","v":0},0,0,0,0,0,0,0,{"$f":"'Datos 2-Potenciales calent glob'!$E$6","v":1},{"$f":"'Datos 2-Potenciales calent glob'!$E$31","v":28},{"$f":"'Datos 2-Potenciales calent glob'!$E$32","v":265},{"$f":"SUMIF('Datos 2-Potenciales calent glob'!$B$6:$B$56,Cálculos_5!F37,'Datos 2-Potenciales calent glob'!$E$6:$E$56)","v":0},{"$f":"'Datos 2-Potenciales calent glob'!$E$6","v":1},{"$f":"'Datos 2-Potenciales calent glob'!$E$6","v":1},0,0,0,0,0,0,0]
[null,"Energía","Fuente móvil","Combustión","GLP genérico",null,null,"Ambos",1,{"$f":"'Alcance 1'!D32","v":0},{"$f":"'Alcance 1'!E32","v":"L"},null,{"$f":"LOOKUP($E38,'Datos 3-Factores de convers'!$B$29:$B$51,'Datos 3-Factores de convers'!$F$29:$F$51)","v":2.6495336000000002E-5},{"$f":"LOOKUP($E38,'Datos 3-Factores de convers'!$B$29:$B$51,'Datos 3-Factores de convers'!$G$29:$G$51)","v":"TJ/L"},0,"TJ",{"$f":"LOOKUP($E38,'Datos 1-Factores emisión'!$B$23:$B$33,'Datos 1-Factores emisión'!$C$23:$C$33)","v":63100},{"$f":"LOOKUP($E38,'Datos 1-Factores emisión'!$B$23:$B$33,'Datos 1-Factores emisión'!$E$23:$E$33)","v":62},{"$f":"LOOKUP($E38,'Datos 1-Factores emisión'!$B$23:$B$33,'Datos 1-Factores emisión'!$F$23:$F$33)","v":0.2},{"$f":"LOOKUP($E38,'Datos 1-Factores emisión'!$B$23:$B$33,'Datos 1-Factores emisión'!$D$23:$D$33)","v":0},0,0,0,0,0,0,0,{"$f":"'Datos 2-Potenciales calent glob'!$E$6","v":1},{"$f":"'Datos 2-Potenciales calent glob'!$E$31","v":28},{"$f":"'Datos 2-Potenciales calent glob'!$E$32","v":265},{"$f":"SUMIF('Datos 2-Potenciales calent glob'!$B$6:$B$56,Cálculos_5!F38,'Datos 2-Potenciales calent glob'!$E$6:$E$56)","v":0},{"$f":"'Datos 2-Potenciales calent glob'!$E$6","v":1},{"$f":"'Datos 2-Potenciales calent glob'!$E$6","v":1},0,0,0,0,0,0,0]
[null,"Energía","Fuente móvil","Combustión",{"$f":"'Alcance 1'!D37","v":"Tipo de propulsión"},{"$f":"'Alcance 1'!C37","v":"Tipo de vehículo"},null,"Ambos",1,{"$f":"'Alcance 1'!E37","v":0},"km",null,1,null,{"$f":"J39*M39","v":0},{"$f":"K39","v":"km"},{"$f":"SUMIFS('Datos 1-Factores emisión'!$E$43:$E$321,'Datos 1-Factores emisión'!$B$43:$B$321,Cálculos_5!$F39,'Datos 1-Factores emisión'!$C$43:$C$321,Cálculos_5!$E39,'Datos 1-Factores emisión'!$D$43:$D$321,Cálculos_5!Q$5)","v":0},{"$f":"SUMIFS('Datos 1-Factores emisión'!$E$43:$E$321,'Datos 1-Factores emisión'!$B$43:$B$321,Cálculos_5!$F39,'Datos 1-Factores emisión'!$C$43:$C$321,Cálculos_5!$E39,'Datos 1-Factores emisión'!$D$43:$D$321,Cálculos_5!R$5)","v":0},{"$f":"SUMIFS('Datos 1-Factores emisión'!$E$43:$E$321,'Datos 1-Factores emisión'!$B$43:$B$321,Cálculos_5!$F39,'Datos 1-Factores emisión'!$C$43:$C$321,Cálculos_5!$E39,'Datos 1-Factores emisión'!$D$43:$D$321,Cálculos_5!S$5)","v":0},{"$f":"SUMIFS('Datos 1-Factores emisión'!$E$43:$E$321,'Datos 1-Factores emisión'!$B$43:$B$321,Cálculos_5!$F39,'Datos 1-Factores emisión'!$C$43:$C$321,Cálculos_5!$E39,'Datos 1-Factores emisión'!$D$43:$D$321,Cálculos_5!T$5)","v":0},{"$f":"SUMIFS('Datos 1-Factores emisión'!$E$43:$E$321,'Datos 1-Factores emisión'!$B$43:$B$321,Cálculos_5!$F39,'Datos 1-Factores emisión'!$C$43:$C$321,Cálculos_5!$E39,'Datos 1-Factores emisión'!$D$43:$D$321,Cálculos_5!U$5)","v":0},0,0,0,0,0,0,{"$f":"'Datos 2-Potenciales calent glob'!$E$6","v":1},{"$f":"'Datos 2-Potenciales calent glob'!$E$31","v":28},{"$f":"'Datos 2-Potenciales calent glob'!$E$32","v":265},{"$f":"SUMIF('Datos 2-Potenciales calent glob'!$B$6:$B$56,Cálculos_5!F39,'Datos 2-Potenciales calent glob'!$E$6:$E$56)","v":0},{"$f":"'Datos 2-Potenciales calent glob'!$E$6","v":1},{"$f":"'Datos 2-Potenciales calent glob'!$E$6","v":1},0,0,0,0,0,0,0]
[null,"Energía","Fuente móvil","Combustión",{"$f":"'Alcance 1'!D38","v":"Tipo de propulsión"},{"$f":"'Alcance 1'!C38","v":"Tipo de vehículo"},null,"Ambos",1,{"$f":"'Alcance 1'!E38","v":0},"km",null,1,null,{"$f":"J40*M40","v":0},{"$f":"K40","v":"km"},{"$f":"SUMIFS('Datos 1-Factores emisión'!$E$43:$E$321,'Datos 1-Factores emisión'!$B$43:$B$321,Cálculos_5!$F40,'Datos 1-Factores emisión'!$C$43:$C$321,Cálculos_5!$E40,'Datos 1-Factores emisión'!$D$43:$D$321,Cálculos_5!Q$5)","v":0},{"$f":"SUMIFS('Datos 1-Factores emisión'!$E$43:$E$321,'Datos 1-Factores emisión'!$B$43:$B$321,Cálculos_5!$F40,'Datos 1-Factores emisión'!$C$43:$C$321,Cálculos_5!$E40,'Datos 1-Factores emisión'!$D$43:$D$321,Cálculos_5!R$5)","v":0},{"$f":"SUMIFS('Datos 1-Factores emisión'!$E$43:$E$321,'Datos 1-Factores emisión'!$B$43:$B$321,Cálculos_5!$F40,'Datos 1-Factores emisión'!$C$43:$C$321,Cálculos_5!$E40,'Datos 1-Factores emisión'!$D$43:$D$321,Cálculos_5!S$5)","v":0},{"$f":"SUMIFS('Datos 1-Factores emisión'!$E$43:$E$321,'Datos 1-Factores emisión'!$B$43:$B$321,Cálculos_5!$F40,'Datos 1-Factores emisión'!$C$43:$C$321,Cálculos_5!$E40,'Datos 1-Factores emisión'!$D$43:$D$321,Cálculos_5!T$5)","v":0},{"$f":"SUMIFS('Datos 1-Factores emisión'!$E$43:$E$321,'Datos 1-Factores emisión'!$B$43:$B$321,Cálculos_5!$F40,'Datos 1-Factores emisión'!$C$43:$C$321,Cálculos_5!$E40,'Datos 1-Factores emisión'!$D$43:$D$321,Cálculos_5!U$5)","v":0},0,0,0,0,0,0,{"$f":"'Datos 2-Potenciales calent glob'!$E$6","v":1},{"$f":"'Datos 2-Potenciales calent glob'!$E$31","v":28},{"$f":"'Datos 2-Potenciales calent glob'!$E$32","v":265},{"$f":"SUMIF('Datos 2-Potenciales calent glob'!$B$6:$B$56,Cálculos_5!F40,'Datos 2-Potenciales calent glob'!$E$6:$E$56)","v":0},{"$f":"'Datos 2-Potenciales calent glob'!$E$6","v":1},{"$f":"'Datos 2-Potenciales calent glob'!$E$6","v":1},0,0,0,0,0,0,0]
[null,"Energía","Fuente móvil","Combustión",{"$f":"'Alcance 1'!D39","v":"Tipo de propulsión"},{"$f":"'Alcance 1'!C39","v":"Tipo de vehículo"},null,"Ambos",1,{"$f":"'Alcance 1'!E39","v":0},"km",null,1,null,0,"km",{"$f":"SUMIFS('Datos 1-Factores emisión'!$E$43:$E$321,'Datos 1-Factores emisión'!$B$43:$B$321,Cálculos_5!$F41,'Datos 1-Factores emisión'!$C$43:$C$321,Cálculos_5!$E41,'Datos 1-Factores emisión'!$D$43:$D$321,Cálculos_5!Q$5)","v":0},{"$f":"SUMIFS('Datos 1-Factores emisión'!$E$43:$E$321,'Datos 1-Factores emisión'!$B$43:$B$321,Cálculos_5!$F41,'Datos 1-Factores emisión'!$C$43:$C$321,Cálculos_5!$E41,'Datos 1-Factores emisión'!$D$43:$D$321,Cálculos_5!R$5)","v":0},{"$f":"SUMIFS('Datos 1-Factores emisión'!$E$43:$E$321,'Datos 1-Factores emisión'!$B$43:$B$321,Cálculos_5!$F41,'Datos 1-Factores emisión'!$C$43:$C$321,Cálculos_5!$E41,'Datos 1-Factores emisión'!$D$43:$D$321,Cálculos_5!S$5)","v":0},{"$f":"SUMIFS('Datos 1-Factores emisión'!$E$43:$E$321,'Datos 1-Factores emisión'!$B$43:$B$321,Cálculos_5!$F41,'Datos 1-Factores emisión'!$C$43:$C$321,Cálculos_5!$E41,'Datos 1-Factores emisión'!$D$43:$D$321,Cálculos_5!T$5)","v":0},{"$f":"SUMIFS('Datos 1-Factores emisión'!$E$43:$E$321,'Datos 1-Factores emisión'!$B$43:$B$321,Cálculos_5!$F41,'Datos 1-Factores emisión'!$C$43:$C$321,Cálculos_5!$E41,'Datos 1-Factores emisión'!$D$43:$D$321,Cálculos_5!U$5)","v":0},0,0,0,0,0,0,{"$f":"'Datos 2-Potenciales calent glob'!$E$6","v":1},{"$f":"'Datos 2-Potenciales calent glob'!$E$31","v":28},{"$f":"'Datos 2-Potenciales calent glob'!$E$32","v":265},{"$f":"SUMIF('Datos 2-Potenciales calent glob'!$B$6:$B$56,Cálculos_5!F41,'Datos 2-Potenciales calent glob'!$E$6:$E$56)","v":0},{"$f":"'Datos 2-Potenciales calent glob'!$E$6","v":1},{"$f":"'Datos 2-Potenciales calent glob'!$E$6","v":1},0,0,0,0,0,0,0]
[null,"Energía","Fuente móvil","Combustión",{"$f":"'Alcance 1'!D40","v":"Tipo de propulsión"},{"$f":"'Alcance 1'!C40","v":"Tipo de vehículo"},null,"Ambos",1,{"$f":"'Alcance 1'!E40","v":0},"km",null,1,null,0,"km",{"$f":"SUMIFS('Datos 1-Factores emisión'!$E$43:$E$321,'Datos 1-Factores emisión'!$B$43:$B$321,Cálculos_5!$F42,'Datos 1-Factores emisión'!$C$43:$C$321,Cálculos_5!$E42,'Datos 1-Factores emisión'!$D$43:$D$321,Cálculos_5!Q$5)","v":0},{"$f":"SUMIFS('Datos 1-Factores emisión'!$E$43:$E$321,'Datos 1-Factores emisión'!$B$43:$B$321,Cálculos_5!$F42,'Datos 1-Factores emisión'!$C$43:$C$321,Cálculos_5!$E42,'Datos 1-Factores emisión'!$D$43:$D$321,Cálculos_5!R$5)","v":0},{"$f":"SUMIFS('Datos 1-Factores emisión'!$E$43:$E$321,'Datos 1-Factores emisión'!$B$43:$B$321,Cálculos_5!$F42,'Datos 1-Factores emisión'!$C$43:$C$321,Cálculos_5!$E42,'Datos 1-Factores emisión'!$D$43:$D$321,Cálculos_5!S$5)","v":0},{"$f":"SUMIFS('Datos 1-Factores emisión'!$E$43:$E$321,'Datos 1-Factores emisión'!$B$43:$B$321,Cálculos_5!$F42,'Datos 1-Factores emisión'!$C$43:$C$321,Cálculos_5!$E42,'Datos 1-Factores emisión'!$D$43:$D$321,Cálculos_5!T$5)","v":0},{"$f":"SUMIFS('Datos 1-Factores emisión'!$E$43:$E$321,'Datos 1-Factores emisión'!$B$43:$B$321,Cálculos_5!$F42,'Datos 1-Factores emisión'!$C$43:$C$321,Cálculos_5!$E42,'Datos 1-Factores emisión'!$D$43:$D$321,Cálculos_5!U$5)","v":0},0,0,0,0,0,0,{"$f":"'Datos 2-Potenciales calent glob'!$E$6","v":1},{"$f":"'Datos 2-Potenciales calent glob'!$E$31","v":28},{"$f":"'Datos 2-Potenciales calent glob'!$E$32","v":265},{"$f":"SUMIF('Datos 2-Potenciales calent glob'!$B$6:$B$56,Cálculos_5!F42,'Datos 2-Potenciales calent glob'!$E$6:$E$56)","v":0},{"$f":"'Datos 2-Potenciales calent glob'!$E$6","v":1},{"$f":"'Datos 2-Potenciales calent glob'!$E$6","v":1},0,0,0,0,0,0,0]
[null,"Energía","Fuente móvil","Combustión",{"$f":"'Alcance 1'!D41","v":"Tipo de propulsión"},{"$f":"'Alcance 1'!C41","v":"Tipo de vehículo"},null,"Ambos",1,{"$f":"'Alcance 1'!E41","v":0},"km",null,1,null,0,"km",{"$f":"SUMIFS('Datos 1-Factores emisión'!$E$43:$E$321,'Datos 1-Factores emisión'!$B$43:$B$321,Cálculos_5!$F43,'Datos 1-Factores emisión'!$C$43:$C$321,Cálculos_5!$E43,'Datos 1-Factores emisión'!$D$43:$D$321,Cálculos_5!Q$5)","v":0},{"$f":"SUMIFS('Datos 1-Factores emisión'!$E$43:$E$321,'Datos 1-Factores emisión'!$B$43:$B$321,Cálculos_5!$F43,'Datos 1-Factores emisión'!$C$43:$C$321,Cálculos_5!$E43,'Datos 1-Factores emisión'!$D$43:$D$321,Cálculos_5!R$5)","v":0},{"$f":"SUMIFS('Datos 1-Factores emisión'!$E$43:$E$321,'Datos 1-Factores emisión'!$B$43:$B$321,Cálculos_5!$F43,'Datos 1-Factores emisión'!$C$43:$C$321,Cálculos_5!$E43,'Datos 1-Factores emisión'!$D$43:$D$321,Cálculos_5!S$5)","v":0},{"$f":"SUMIFS('Datos 1-Factores emisión'!$E$43:$E$321,'Datos 1-Factores emisión'!$B$43:$B$321,Cálculos_5!$F43,'Datos 1-Factores emisión'!$C$43:$C$321,Cálculos_5!$E43,'Datos 1-Factores emisión'!$D$43:$D$321,Cálculos_5!T$5)","v":0},{"$f":"SUMIFS('Datos 1-Factores emisión'!$E$43:$E$321,'Datos 1-Factores emisión'!$B$43:$B$321,Cálculos_5!$F43,'Datos 1-Factores emisión'!$C$43:$C$321,Cálculos_5!$E43,'Datos 1-Factores emisión'!$D$43:$D$321,Cálculos_5!U$5)","v":0},0,0,0,0,0,0,{"$f":"'Datos 2-Potenciales calent glob'!$E$6","v":1},{"$f":"'Datos 2-Potenciales calent glob'!$E$31","v":28},{"$f":"'Datos 2-Potenciales calent glob'!$E$32","v":265},{"$f":"SUMIF('Datos 2-Potenciales calent glob'!$B$6:$B$56,Cálculos_5!F43,'Datos 2-Potenciales calent glob'!$E$6:$E$56)","v":0},{"$f":"'Datos 2-Potenciales calent glob'!$E$6","v":1},{"$f":"'Datos 2-Potenciales calent glob'!$E$6","v":1},0,0,0,0,0,0,0]
[null,"Energía","Fuente móvil","Combustión",{"$f":"'Alcance 1'!D42","v":"Tipo de propulsión"},{"$f":"'Alcance 1'!C42","v":"Tipo de vehículo"},null,"Ambos",1,{"$f":"'Alcance 1'!E42","v":0},"km",null,1,null,0,"km",{"$f":"SUMIFS('Datos 1-Factores emisión'!$E$43:$E$321,'Datos 1-Factores emisión'!$B$43:$B$321,Cálculos_5!$F44,'Datos 1-Factores emisión'!$C$43:$C$321,Cálculos_5!$E44,'Datos 1-Factores emisión'!$D$43:$D$321,Cálculos_5!Q$5)","v":0},{"$f":"SUMIFS('Datos 1-Factores emisión'!$E$43:$E$321,'Datos 1-Factores emisión'!$B$43:$B$321,Cálculos_5!$F44,'Datos 1-Factores emisión'!$C$43:$C$321,Cálculos_5!$E44,'Datos 1-Factores emisión'!$D$43:$D$321,Cálculos_5!R$5)","v":0},{"$f":"SUMIFS('Datos 1-Factores emisión'!$E$43:$E$321,'Datos 1-Factores emisión'!$B$43:$B$321,Cálculos_5!$F44,'Datos 1-Factores emisión'!$C$43:$C$321,Cálculos_5!$E44,'Datos 1-Factores emisión'!$D$43:$D$321,Cálculos_5!S$5)","v":0},{"$f":"SUMIFS('Datos 1-Factores emisión'!$E$43:$E$321,'Datos 1-Factores emisión'!$B$43:$B$321,Cálculos_5!$F44,'Datos 1-Factores emisión'!$C$43:$C$321,Cálculos_5!$E44,'Datos 1-Factores emisión'!$D$43:$D$321,Cálculos_5!T$5)","v":0},{"$f":"SUMIFS('Datos 1-Factores emisión'!$E$43:$E$321,'Datos 1-Factores emisión'!$B$43:$B$321,Cálculos_5!$F44,'Datos 1-Factores emisión'!$C$43:$C$321,Cálculos_5!$E44,'Datos 1-Factores emisión'!$D$43:$D$321,Cálculos_5!U$5)","v":0},0,0,0,0,null,0,{"$f":"'Datos 2-Potenciales calent glob'!$E$6","v":1},{"$f":"'Datos 2-Potenciales calent glob'!$E$31","v":28},{"$f":"'Datos 2-Potenciales calent glob'!$E$32","v":265},{"$f":"SUMIF('Datos 2-Potenciales calent glob'!$B$6:$B$56,Cálculos_5!F44,'Datos 2-Potenciales calent glob'!$E$6:$E$56)","v":0},{"$f":"'Datos 2-Potenciales calent glob'!$E$6","v":1},{"$f":"'Datos 2-Potenciales calent glob'!$E$6","v":1},0,0,0,0,0,0,0]
[null,"Energía","Fuente móvil","Combustión",{"$f":"'Alcance 1'!D43","v":"Tipo de propulsión"},{"$f":"'Alcance 1'!C43","v":"Tipo de vehículo"},null,"Ambos",1,{"$f":"'Alcance 1'!E43","v":0},"km",null,1,null,0,"km",{"$f":"SUMIFS('Datos 1-Factores emisión'!$E$43:$E$321,'Datos 1-Factores emisión'!$B$43:$B$321,Cálculos_5!$F45,'Datos 1-Factores emisión'!$C$43:$C$321,Cálculos_5!$E45,'Datos 1-Factores emisión'!$D$43:$D$321,Cálculos_5!Q$5)","v":0},{"$f":"SUMIFS('Datos 1-Factores emisión'!$E$43:$E$321,'Datos 1-Factores emisión'!$B$43:$B$321,Cálculos_5!$F45,'Datos 1-Factores emisión'!$C$43:$C$321,Cálculos_5!$E45,'Datos 1-Factores emisión'!$D$43:$D$321,Cálculos_5!R$5)","v":0},{"$f":"SUMIFS('Datos 1-Factores emisión'!$E$43:$E$321,'Datos 1-Factores emisión'!$B$43:$B$321,Cálculos_5!$F45,'Datos 1-Factores emisión'!$C$43:$C$321,Cálculos_5!$E45,'Datos 1-Factores emisión'!$D$43:$D$321,Cálculos_5!S$5)","v":0},{"$f":"SUMIFS('Datos 1-Factores emisión'!$E$43:$E$321,'Datos 1-Factores emisión'!$B$43:$B$321,Cálculos_5!$F45,'Datos 1-Factores emisión'!$C$43:$C$321,Cálculos_5!$E45,'Datos 1-Factores emisión'!$D$43:$D$321,Cálculos_5!T$5)","v":0},{"$f":"SUMIFS('Datos 1-Factores emisión'!$E$43:$E$321,'Datos 1-Factores emisión'!$B$43:$B$321,Cálculos_5!$F45,'Datos 1-Factores emisión'!$C$43:$C$321,Cálculos_5!$E45,'Datos 1-Factores emisión'!$D$43:$D$321,Cálculos_5!U$5)","v":0},0,0,0,0,0,0,{"$f":"'Datos 2-Potenciales calent glob'!$E$6","v":1},{"$f":"'Datos 2-Potenciales calent glob'!$E$31","v":28},{"$f":"'Datos 2-Potenciales calent glob'!$E$32","v":265},{"$f":"SUMIF('Datos 2-Potenciales calent glob'!$B$6:$B$56,Cálculos_5!F45,'Datos 2-Potenciales calent glob'!$E$6:$E$56)","v":0},{"$f":"'Datos 2-Potenciales calent glob'!$E$6","v":1},{"$f":"'Datos 2-Potenciales calent glob'!$E$6","v":1},0,0,0,0,0,0,0]
[null,"Energía","Fuente móvil","Combustión",{"$f":"'Alcance 1'!D44","v":"Tipo de propulsión"},{"$f":"'Alcance 1'!C44","v":"Tipo de vehículo"},null,"Ambos",1,{"$f":"'Alcance 1'!E44","v":0},"km",null,1,null,0,"km",{"$f":"SUMIFS('Datos 1-Factores emisión'!$E$43:$E$321,'Datos 1-Factores emisión'!$B$43:$B$321,Cálculos_5!$F46,'Datos 1-Factores emisión'!$C$43:$C$321,Cálculos_5!$E46,'Datos 1-Factores emisión'!$D$43:$D$321,Cálculos_5!Q$5)","v":0},{"$f":"SUMIFS('Datos 1-Factores emisión'!$E$43:$E$321,'Datos 1-Factores emisión'!$B$43:$B$321,Cálculos_5!$F46,'Datos 1-Factores emisión'!$C$43:$C$321,Cálculos_5!$E46,'Datos 1-Factores emisión'!$D$43:$D$321,Cálculos_5!R$5)","v":0},{"$f":"SUMIFS('Datos 1-Factores emisión'!$E$43:$E$321,'Datos 1-Factores emisión'!$B$43:$B$321,Cálculos_5!$F46,'Datos 1-Factores emisión'!$C$43:$C$321,Cálculos_5!$E46,'Datos 1-Factores emisión'!$D$43:$D$321,Cálculos_5!S$5)","v":0},{"$f":"SUMIFS('Datos 1-Factores emisión'!$E$43:$E$321,'Datos 1-Factores emisión'!$B$43:$B$321,Cálculos_5!$F46,'Datos 1-Factores emisión'!$C$43:$C$321,Cálculos_5!$E46,'Datos 1-Factores emisión'!$D$43:$D$321,Cálculos_5!T$5)","v":0},{"$f":"SUMIFS('Datos 1-Factores emisión'!$E$43:$E$321,'Datos 1-Factores emisión'!$B$43:$B$321,Cálculos_5!$F46,'Datos 1-Factores emisión'!$C$43:$C$321,Cálculos_5!$E46,'Datos 1-Factores emisión'!$D$43:$D$321,Cálculos_5!U$5)","v":0},0,0,0,0,0,0,{"$f":"'Datos 2-Potenciales calent glob'!$E$6","v":1},{"$f":"'Datos 2-Potenciales calent glob'!$E$31","v":28},{"$f":"'Datos 2-Potenciales calent glob'!$E$32","v":265},{"$f":"SUMIF('Datos 2-Potenciales calent glob'!$B$6:$B$56,Cálculos_5!F46,'Datos 2-Potenciales calent glob'!$E$6:$E$56)","v":0},{"$f":"'Datos 2-Potenciales calent glob'!$E$6","v":1},{"$f":"'Datos 2-Potenciales calent glob'!$E$6","v":1},0,0,0,0,0,0,0]
[null,"Energía","Fuente móvil","Combustión",{"$f":"'Alcance 1'!D45","v":"Tipo de propulsión"},{"$f":"'Alcance 1'!C45","v":"Tipo de vehículo"},null,"Ambos",1,{"$f":"'Alcance 1'!E45","v":0},"km",null,1,null,0,"km",{"$f":"SUMIFS('Datos 1-Factores emisión'!$E$43:$E$321,'Datos 1-Factores emisión'!$B$43:$B$321,Cálculos_5!$F47,'Datos 1-Factores emisión'!$C$43:$C$321,Cálculos_5!$E47,'Datos 1-Factores emisión'!$D$43:$D$321,Cálculos_5!Q$5)","v":0},{"$f":"SUMIFS('Datos 1-Factores emisión'!$E$43:$E$321,'Datos 1-Factores emisión'!$B$43:$B$321,Cálculos_5!$F47,'Datos 1-Factores emisión'!$C$43:$C$321,Cálculos_5!$E47,'Datos 1-Factores emisión'!$D$43:$D$321,Cálculos_5!R$5)","v":0},{"$f":"SUMIFS('Datos 1-Factores emisión'!$E$43:$E$321,'Datos 1-Factores emisión'!$B$43:$B$321,Cálculos_5!$F47,'Datos 1-Factores emisión'!$C$43:$C$321,Cálculos_5!$E47,'Datos 1-Factores emisión'!$D$43:$D$321,Cálculos_5!S$5)","v":0},{"$f":"SUMIFS('Datos 1-Factores emisión'!$E$43:$E$321,'Datos 1-Factores emisión'!$B$43:$B$321,Cálculos_5!$F47,'Datos 1-Factores emisión'!$C$43:$C$321,Cálculos_5!$E47,'Datos 1-Factores emisión'!$D$43:$D$321,Cálculos_5!T$5)","v":0},{"$f":"SUMIFS('Datos 1-Factores emisión'!$E$43:$E$321,'Datos 1-Factores emisión'!$B$43:$B$321,Cálculos_5!$F47,'Datos 1-Factores emisión'!$C$43:$C$321,Cálculos_5!$E47,'Datos 1-Factores emisión'!$D$43:$D$321,Cálculos_5!U$5)","v":0},0,0,0,0,0,0,{"$f":"'Datos 2-Potenciales calent glob'!$E$6","v":1},{"$f":"'Datos 2-Potenciales calent glob'!$E$31","v":28},{"$f":"'Datos 2-Potenciales calent glob'!$E$32","v":265},{"$f":"SUMIF('Datos 2-Potenciales calent glob'!$B$6:$B$56,Cálculos_5!F47,'Datos 2-Potenciales calent glob'!$E$6:$E$56)","v":0},{"$f":"'Datos 2-Potenciales calent glob'!$E$6","v":1},{"$f":"'Datos 2-Potenciales calent glob'!$E$6","v":1},0,0,0,0,0,0,0]
[null,"Energía","Fuente móvil","Combustión",{"$f":"'Alcance 1'!D46","v":"Tipo de propulsión"},{"$f":"'Alcance 1'!C46","v":"Tipo de vehículo"},null,"Ambos",1,{"$f":"'Alcance 1'!E46","v":0},"km",null,1,null,0,"km",{"$f":"SUMIFS('Datos 1-Factores emisión'!$E$43:$E$321,'Datos 1-Factores emisión'!$B$43:$B$321,Cálculos_5!$F48,'Datos 1-Factores emisión'!$C$43:$C$321,Cálculos_5!$E48,'Datos 1-Factores emisión'!$D$43:$D$321,Cálculos_5!Q$5)","v":0},{"$f":"SUMIFS('Datos 1-Factores emisión'!$E$43:$E$321,'Datos 1-Factores emisión'!$B$43:$B$321,Cálculos_5!$F48,'Datos 1-Factores emisión'!$C$43:$C$321,Cálculos_5!$E48,'Datos 1-Factores emisión'!$D$43:$D$321,Cálculos_5!R$5)","v":0},{"$f":"SUMIFS('Datos 1-Factores emisión'!$E$43:$E$321,'Datos 1-Factores emisión'!$B$43:$B$321,Cálculos_5!$F48,'Datos 1-Factores emisión'!$C$43:$C$321,Cálculos_5!$E48,'Datos 1-Factores emisión'!$D$43:$D$321,Cálculos_5!S$5)","v":0},{"$f":"SUMIFS('Datos 1-Factores emisión'!$E$43:$E$321,'Datos 1-Factores emisión'!$B$43:$B$321,Cálculos_5!$F48,'Datos 1-Factores emisión'!$C$43:$C$321,Cálculos_5!$E48,'Datos 1-Factores emisión'!$D$43:$D$321,Cálculos_5!T$5)","v":0},{"$f":"SUMIFS('Datos 1-Factores emisión'!$E$43:$E$321,'Datos 1-Factores emisión'!$B$43:$B$321,Cálculos_5!$F48,'Datos 1-Factores emisión'!$C$43:$C$321,Cálculos_5!$E48,'Datos 1-Factores emisión'!$D$43:$D$321,Cálculos_5!U$5)","v":0},0,0,0,0,0,0,{"$f":"'Datos 2-Potenciales calent glob'!$E$6","v":1},{"$f":"'Datos 2-Potenciales calent glob'!$E$31","v":28},{"$f":"'Datos 2-Potenciales calent glob'!$E$32","v":265},{"$f":"SUMIF('Datos 2-Potenciales calent glob'!$B$6:$B$56,Cálculos_5!F48,'Datos 2-Potenciales calent glob'!$E$6:$E$56)","v":0},{"$f":"'Datos 2-Potenciales calent glob'!$E$6","v":1},{"$f":"'Datos 2-Potenciales calent glob'!$E$6","v":1},0,0,0,0,0,0,0]
[null,"Emisiones de proceso y uso de productos","Fuente difusa","Fugitivas","Lubricantes","Grasas",null,"CAPV",1,{"$f":"'Alcance 1'!D58","v":0},{"$f":"'Alcance 1'!E58","v":"L"},null,{"$f":"LOOKUP($E49,'Datos 3-Factores de convers'!$B$29:$B$51,'Datos 3-Factores de convers'!$F$29:$F$51)","v":3.5778000000000009E-5},{"$f":"LOOKUP($E49,'Datos 3-Factores de convers'!$B$29:$B$51,'Datos 3-Factores de convers'!$G$29:$G$51)","v":"TJ/L"},0,"TJ",{"$f":"'Datos 1-Factores emisión'!C763","v":3666.6666666666665},{"$f":"SUMIFS('Datos 1-Factores emisión'!$E$43:$E$309,'Datos 1-Factores emisión'!$B$43:$B$309,Cálculos_5!$F49,'Datos 1-Factores emisión'!$C$43:$C$309,Cálculos_5!$E49,'Datos 1-Factores emisión'!$D$43:$D$309,Cálculos_5!R$5)","v":0},{"$f":"SUMIFS('Datos 1-Factores emisión'!$E$43:$E$309,'Datos 1-Factores emisión'!$B$43:$B$309,Cálculos_5!$F49,'Datos 1-Factores emisión'!$C$43:$C$309,Cálculos_5!$E49,'Datos 1-Factores emisión'!$D$43:$D$309,Cálculos_5!S$5)","v":0},0,0,0,0,0,{"$f":"T49*$O49","v":0},0,0,{"$f":"'Datos 2-Potenciales calent glob'!$E$6","v":1},{"$f":"'Datos 2-Potenciales calent glob'!$E$31","v":28},{"$f":"'Datos 2-Potenciales calent glob'!$E$32","v":265},{"$f":"SUMIF('Datos 2-Potenciales calent glob'!$B$6:$B$56,Cálculos_5!F49,'Datos 2-Potenciales calent glob'!$E$6:$E$56)","v":0},{"$f":"'Datos 2-Potenciales calent glob'!$E$6","v":1},{"$f":"'Datos 2-Potenciales calent glob'!$E$6","v":1},0,0,0,0,0,0,0]
[null,"Emisiones de proceso y uso de productos","Fuente difusa","Fugitivas","Lubricantes","Aceites",null,"CAPV",1,{"$f":"'Alcance 1'!D59","v":0},{"$f":"'Alcance 1'!E59","v":"L"},null,{"$f":"LOOKUP($E50,'Datos 3-Factores de convers'!$B$29:$B$51,'Datos 3-Factores de convers'!$F$29:$F$51)","v":3.5778000000000009E-5},{"$f":"LOOKUP($E50,'Datos 3-Factores de convers'!$B$29:$B$51,'Datos 3-Factores de convers'!$G$29:$G$51)","v":"TJ/L"},0,"TJ",{"$f":"'Datos 1-Factores emisión'!C764","v":14666.666666666666},{"$f":"SUMIFS('Datos 1-Factores emisión'!$E$43:$E$309,'Datos 1-Factores emisión'!$B$43:$B$309,Cálculos_5!$F50,'Datos 1-Factores emisión'!$C$43:$C$309,Cálculos_5!$E50,'Datos 1-Factores emisión'!$D$43:$D$309,Cálculos_5!R$5)","v":0},{"$f":"SUMIFS('Datos 1-Factores emisión'!$E$43:$E$309,'Datos 1-Factores emisión'!$B$43:$B$309,Cálculos_5!$F50,'Datos 1-Factores emisión'!$C$43:$C$309,Cálculos_5!$E50,'Datos 1-Factores emisión'!$D$43:$D$309,Cálculos_5!S$5)","v":0},0,0,0,0,0,{"$f":"T50*$O50","v":0},{"$f":"U50*$O50","v":0},0,{"$f":"'Datos 2-Potenciales calent glob'!$E$6","v":1},{"$f":"'Datos 2-Potenciales calent glob'!$E$31","v":28},{"$f":"'Datos 2-Potenciales calent glob'!$E$32","v":265},{"$f":"SUMIF('Datos 2-Potenciales calent glob'!$B$6:$B$56,Cálculos_5!F50,'Datos 2-Potenciales calent glob'!$E$6:$E$56)","v":0},{"$f":"'Datos 2-Potenciales calent glob'!$E$6","v":1},{"$f":"'Datos 2-Potenciales calent glob'!$E$6","v":1},0,0,0,0,0,0,0]
[null,"Emisiones de proceso y uso de productos","Fuente difusa","Fugitivas","Gases fluorados",{"$f":"'Alcance 1'!C64","v":"Tipo de gas fluorado"},null,"Ambos",1,{"$f":"'Alcance 1'!D64","v":0},{"$f":"'Alcance 1'!E64","v":"kg"},null,1,null,{"$f":"J51*M51","v":0},{"$f":"K51","v":"kg"},0,0,0,0,0,0,0,0,{"$f":"O51","v":0},0,0,{"$f":"'Datos 2-Potenciales calent glob'!$E$6","v":1},{"$f":"'Datos 2-Potenciales calent glob'!$E$31","v":28},{"$f":"'Datos 2-Potenciales calent glob'!$E$32","v":265},{"$f":"SUMIF('Datos 2-Potenciales calent glob'!$B$6:$B$56,Cálculos_5!F51,'Datos 2-Potenciales calent glob'!$E$6:$E$56)","v":0},{"$f":"'Datos 2-Potenciales calent glob'!$E$6","v":1},{"$f":"'Datos 2-Potenciales calent glob'!$E$6","v":1},0,{"$f":"W51*AC51","v":0},{"$f":"X51*AD51","v":0},{"$f":"Y51*AE51","v":0},{"$f":"SUM(AH51:AK51)","v":0},{"$f":"Z51*AF51","v":0},0]
[null,"Emisiones de proceso y uso de productos","Fuente difusa","Fugitivas","Gases fluorados",{"$f":"'Alcance 1'!C65","v":"Tipo de gas fluorado"},null,"Ambos",1,{"$f":"'Alcance 1'!D65","v":0},{"$f":"'Alcance 1'!E65","v":"kg"},null,1,null,{"$f":"J52*M52","v":0},{"$f":"K52","v":"kg"},0,0,0,0,0,0,0,0,0,0,0,{"$f":"'Datos 2-Potenciales calent glob'!$E$6","v":1},{"$f":"'Datos 2-Potenciales calent glob'!$E$31","v":28},{"$f":"'Datos 2-Potenciales calent glob'!$E$32","v":265},{"$f":"SUMIF('Datos 2-Potenciales calent glob'!$B$6:$B$56,Cálculos_5!F52,'Datos 2-Potenciales calent glob'!$E$6:$E$56)","v":0},{"$f":"'Datos 2-Potenciales calent glob'!$E$6","v":1},{"$f":"'Datos 2-Potenciales calent glob'!$E$6","v":1},0,0,0,0,0,0,0]
[null,"Emisiones de proceso y uso de productos","Fuente difusa","Fugitivas","Gases fluorados",{"$f":"'Alcance 1'!C66","v":"Tipo de gas fluorado"},null,"Ambos",1,{"$f":"'Alcance 1'!D66","v":0},{"$f":"'Alcance 1'!E66","v":"kg"},null,1,null,0,"kg",0,0,0,0,0,0,0,0,0,0,0,{"$f":"'Datos 2-Potenciales calent glob'!$E$6","v":1},{"$f":"'Datos 2-Potenciales calent glob'!$E$31","v":28},{"$f":"'Datos 2-Potenciales calent glob'!$E$32","v":265},{"$f":"SUMIF('Datos 2-Potenciales calent glob'!$B$6:$B$56,Cálculos_5!F53,'Datos 2-Potenciales calent glob'!$E$6:$E$56)","v":0},{"$f":"'Datos 2-Potenciales calent glob'!$E$6","v":1},{"$f":"'Datos 2-Potenciales calent glob'!$E$6","v":1},0,0,0,0,0,0,0]
[null,"Emisiones de proceso y uso de productos","Fuente difusa","Fugitivas","Gases fluorados",{"$f":"'Alcance 1'!C67","v":"Tipo de gas fluorado"},null,"Ambos",1,{"$f":"'Alcance 1'!D67","v":0},{"$f":"'Alcance 1'!E67","v":"kg"},null,1,null,0,"kg",0,0,0,0,0,0,0,0,0,0,0,{"$f":"'Datos 2-Potenciales calent glob'!$E$6","v":1},{"$f":"'Datos 2-Potenciales calent glob'!$E$31","v":28},{"$f":"'Datos 2-Potenciales calent glob'!$E$32","v":265},{"$f":"SUMIF('Datos 2-Potenciales calent glob'!$B$6:$B$56,Cálculos_5!F54,'Datos 2-Potenciales calent glob'!$E$6:$E$56)","v":0},{"$f":"'Datos 2-Potenciales calent glob'!$E$6","v":1},{"$f":"'Datos 2-Potenciales calent glob'!$E$6","v":1},0,0,0,0,0,0,0]
[null,"Emisiones de proceso y uso de productos","Fuente difusa","Fugitivas","Gases fluorados",{"$f":"'Alcance 1'!C68","v":"Tipo de gas fluorado"},null,"Ambos",1,{"$f":"'Alcance 1'!D68","v":0},{"$f":"'Alcance 1'!E68","v":"kg"},null,1,null,0,"kg",0,0,0,0,0,0,0,0,0,0,0,{"$f":"'Datos 2-Potenciales calent glob'!$E$6","v":1},{"$f":"'Datos 2-Potenciales calent glob'!$E$31","v":28},{"$f":"'Datos 2-Potenciales calent glob'!$E$32","v":265},{"$f":"SUMIF('Datos 2-Potenciales calent glob'!$B$6:$B$56,Cálculos_5!F55,'Datos 2-Potenciales calent glob'!$E$6:$E$56)","v":0},{"$f":"'Datos 2-Potenciales calent glob'!$E$6","v":1},{"$f":"'Datos 2-Potenciales calent glob'!$E$6","v":1},0,0,0,0,0,0,0]
[null,"Emisiones de proceso y uso de productos","Fuente difusa","Fugitivas","Gases fluorados",{"$f":"'Alcance 1'!C69","v":"Tipo de gas fluorado"},null,"Ambos",1,{"$f":"'Alcance 1'!D69","v":0},{"$f":"'Alcance 1'!E69","v":"kg"},null,1,null,0,"kg",0,0,0,0,0,0,0,0,0,0,0,{"$f":"'Datos 2-Potenciales calent glob'!$E$6","v":1},{"$f":"'Datos 2-Potenciales calent glob'!$E$31","v":28},{"$f":"'Datos 2-Potenciales calent glob'!$E$32","v":265},{"$f":"SUMIF('Datos 2-Potenciales calent glob'!$B$6:$B$56,Cálculos_5!F56,'Datos 2-Potenciales calent glob'!$E$6:$E$56)","v":0},{"$f":"'Datos 2-Potenciales calent glob'!$E$6","v":1},{"$f":"'Datos 2-Potenciales calent glob'!$E$6","v":1},0,0,0,0,0,0,0]
[null,"Emisiones de proceso y uso de productos","Fuente difusa","Fugitivas","Gases fluorados",{"$f":"'Alcance 1'!C70","v":"Tipo de gas fluorado"},null,"Ambos",1,{"$f":"'Alcance 1'!D70","v":0},{"$f":"'Alcance 1'!E70","v":"kg"},null,1,null,0,"kg",0,0,0,0,0,0,0,0,0,0,0,{"$f":"'Datos 2-Potenciales calent glob'!$E$6","v":1},{"$f":"'Datos 2-Potenciales calent glob'!$E$31","v":28},{"$f":"'Datos 2-Potenciales calent glob'!$E$32","v":265},{"$f":"SUMIF('Datos 2-Potenciales calent glob'!$B$6:$B$56,Cálculos_5!F57,'Datos 2-Potenciales calent glob'!$E$6:$E$56)","v":0},{"$f":"'Datos 2-Potenciales calent glob'!$E$6","v":1},{"$f":"'Datos 2-Potenciales calent glob'!$E$6","v":1},0,0,0,0,0,0,0]
[null,"Emisiones de proceso y uso de productos","Fuente difusa","Fugitivas","Gases fluorados",{"$f":"'Alcance 1'!C71","v":"Tipo de gas fluorado"},null,"Ambos",1,{"$f":"'Alcance 1'!D71","v":0},{"$f":"'Alcance 1'!E71","v":"kg"},null,1,null,0,"kg",0,0,0,0,0,0,0,0,0,0,0,{"$f":"'Datos 2-Potenciales calent glob'!$E$6","v":1},{"$f":"'Datos 2-Potenciales calent glob'!$E$31","v":28},{"$f":"'Datos 2-Potenciales calent glob'!$E$32","v":265},{"$f":"SUMIF('Datos 2-Potenciales calent glob'!$B$6:$B$56,Cálculos_5!F58,'Datos 2-Potenciales calent glob'!$E$6:$E$56)","v":0},{"$f":"'Datos 2-Potenciales calent glob'!$E$6","v":1},{"$f":"'Datos 2-Potenciales calent glob'!$E$6","v":1},0,0,0,0,0,0,0]
[null,"Emisiones de proceso y uso de productos","Fuente difusa","Fugitivas","Gases fluorados",{"$f":"'Alcance 1'!C72","v":"Tipo de gas fluorado"},null,"Ambos",1,{"$f":"'Alcance 1'!D72","v":0},{"$f":"'Alcance 1'!E72","v":"kg"},null,1,null,0,"kg",0,0,0,0,0,0,0,0,0,0,0,{"$f":"'Datos 2-Potenciales calent glob'!$E$6","v":1},{"$f":"'Datos 2-Potenciales calent glob'!$E$31","v":28},{"$f":"'Datos 2-Potenciales calent glob'!$E$32","v":265},{"$f":"SUMIF('Datos 2-Potenciales calent glob'!$B$6:$B$56,Cálculos_5!F59,'Datos 2-Potenciales calent glob'!$E$6:$E$56)","v":0},{"$f":"'Datos 2-Potenciales calent glob'!$E$6","v":1},{"$f":"'Datos 2-Potenciales calent glob'!$E$6","v":1},0,0,0,0,0,0,0]
[null,"Emisiones de proceso y uso de productos","Fuente difusa","Fugitivas","Gases fluorados",{"$f":"'Alcance 1'!C73","v":"Tipo de gas fluorado"},null,"Ambos",1,{"$f":"'Alcance 1'!D73","v":0},{"$f":"'Alcance 1'!E73","v":"kg"},null,1,null,0,"kg",0,0,0,0,0,0,0,0,0,0,0,{"$f":"'Datos 2-Potenciales calent glob'!$E$6","v":1},{"$f":"'Datos 2-Potenciales calent glob'!$E$31","v":28},{"$f":"'Datos 2-Potenciales calent glob'!$E$32","v":265},{"$f":"SUMIF('Datos 2-Potenciales calent glob'!$B$6:$B$56,Cálculos_5!F60,'Datos 2-Potenciales calent glob'!$E$6:$E$56)","v":0},{"$f":"'Datos 2-Potenciales calent glob'!$E$6","v":1},{"$f":"'Datos 2-Potenciales calent glob'!$E$6","v":1},0,0,0,0,0,0,0]
[null,"Absorciones","Fuente fija","Absorción","Abies alba",null,null,"Ambos",1,{"$f":"'Alcance 1'!D80","v":0},{"$f":"'Alcance 1'!E80","v":"árboles"},null,1,null,0,"árboles",0,0,0,0,{"$f":"-'Datos 1-Factores emisión'!C674","v":-3.1772408058067998},{"$f":"Q61*$O61","v":0},{"$f":"R61*$O61","v":0},{"$f":"S61*$O61","v":0},0,{"$f":"T61*$O61","v":0},{"$f":"U61*$O61","v":0},{"$f":"'Datos 2-Potenciales calent glob'!$E$6","v":1},{"$f":"'Datos 2-Potenciales calent glob'!$E$31","v":28},{"$f":"'Datos 2-Potenciales calent glob'!$E$32","v":265},{"$f":"SUMIF('Datos 2-Potenciales calent glob'!$B$6:$B$56,Cálculos_5!F61,'Datos 2-Potenciales calent glob'!$E$6:$E$56)","v":0},{"$f":"'Datos 2-Potenciales calent glob'!$E$6","v":1},{"$f":"'Datos 2-Potenciales calent glob'!$E$6","v":1},{"$f":"V61*AB61","v":0},{"$f":"W61*AC61","v":0},{"$f":"X61*AD61","v":0},{"$f":"Y61*AE61","v":0},{"$f":"SUM(AH61:AK61)","v":0},{"$f":"Z61*AF61","v":0},{"$f":"AA61*AG61","v":0}]
[null,"Absorciones","Fuente fija","Absorción","Abies pinsapo",null,null,"Ambos",1,{"$f":"'Alcance 1'!D81","v":0},{"$f":"'Alcance 1'!E81","v":"árboles"},null,1,null,0,"árboles",0,0,0,0,{"$f":"-'Datos 1-Factores emisión'!C675","v":-10.96954854239571},0,0,0,0,{"$f":"T62*$O62","v":0},0,{"$f":"'Datos 2-Potenciales calent glob'!$E$6","v":1},{"$f":"'Datos 2-Potenciales calent glob'!$E$31","v":28},{"$f":"'Datos 2-Potenciales calent glob'!$E$32","v":265},{"$f":"SUMIF('Datos 2-Potenciales calent glob'!$B$6:$B$56,Cálculos_5!F62,'Datos 2-Potenciales calent glob'!$E$6:$E$56)","v":0},{"$f":"'Datos 2-Potenciales calent glob'!$E$6","v":1},{"$f":"'Datos 2-Potenciales calent glob'!$E$6","v":1},0,0,0,0,0,0,0]
[null,"Absorciones","Fuente fija","Absorción","Acacia spp.",null,null,"Ambos",1,{"$f":"'Alcance 1'!D82","v":0},{"$f":"'Alcance 1'!E82","v":"árboles"},null,1,null,0,"árboles",0,0,0,0,{"$f":"-'Datos 1-Factores emisión'!C676","v":-1.5274431310354604},0,0,0,0,0,0,{"$f":"'Datos 2-Potenciales calent glob'!$E$6","v":1},{"$f":"'Datos 2-Potenciales calent glob'!$E$31","v":28},{"$f":"'Datos 2-Potenciales calent glob'!$E$32","v":265},{"$f":"SUMIF('Datos 2-Potenciales calent glob'!$B$6:$B$56,Cálculos_5!F63,'Datos 2-Potenciales calent glob'!$E$6:$E$56)","v":0},{"$f":"'Datos 2-Potenciales calent glob'!$E$6","v":1},{"$f":"'Datos 2-Potenciales calent glob'!$E$6","v":1},0,0,0,0,0,0,0]
[null,"Absorciones","Fuente fija","Absorción","Acer spp.",null,null,"Ambos",1,{"$f":"'Alcance 1'!D83","v":0},{"$f":"'Alcance 1'!E83","v":"árboles"},null,1,null,0,"árboles",0,0,0,0,{"$f":"-'Datos 1-Factores emisión'!C677","v":-7.4877680651170682},0,0,0,0,0,0,{"$f":"'Datos 2-Potenciales calent glob'!$E$6","v":1},{"$f":"'Datos 2-Potenciales calent glob'!$E$31","v":28},{"$f":"'Datos 2-Potenciales calent glob'!$E$32","v":265},{"$f":"SUMIF('Datos 2-Potenciales calent glob'!$B$6:$B$56,Cálculos_5!F64,'Datos 2-Potenciales calent glob'!$E$6:$E$56)","v":0},{"$f":"'Datos 2-Potenciales calent glob'!$E$6","v":1},{"$f":"'Datos 2-Potenciales calent glob'!$E$6","v":1},0,0,0,0,0,0,0]
[null,"Absorciones","Fuente fija","Absorción","Ailanthus altissima",null,null,"Ambos",1,{"$f":"'Alcance 1'!D84","v":0},{"$f":"'Alcance 1'!E84","v":"árboles"},null,1,null,0,"árboles",0,0,0,0,{"$f":"-'Datos 1-Factores emisión'!C678","v":-1.5274431310354604},0,0,0,0,0,0,{"$f":"'Datos 2-Potenciales calent glob'!$E$6","v":1},{"$f":"'Datos 2-Potenciales calent glob'!$E$31","v":28},{"$f":"'Datos 2-Potenciales calent glob'!$E$32","v":265},{"$f":"SUMIF('Datos 2-Potenciales calent glob'!$B$6:$B$56,Cálculos_5!F65,'Datos 2-Potenciales calent glob'!$E$6:$E$56)","v":0},{"$f":"'Datos 2-Potenciales calent glob'!$E$6","v":1},{"$f":"'Datos 2-Potenciales calent glob'!$E$6","v":1},0,0,0,0,0,0,0]
[null,"Absorciones","Fuente fija","Absorción","Alnus spp.",null,null,"Ambos",1,{"$f":"'Alcance 1'!D85","v":0},{"$f":"'Alcance 1'!E85","v":"árboles"},null,1,null,0,"árboles",0,0,0,0,{"$f":"-'Datos 1-Factores emisión'!C679","v":-5.4639403243265612},0,0,0,0,0,0,{"$f":"'Datos 2-Potenciales calent glob'!$E$6","v":1},{"$f":"'Datos 2-Potenciales calent glob'!$E$31","v":28},{"$f":"'Datos 2-Potenciales calent glob'!$E$32","v":265},{"$f":"SUMIF('Datos 2-Potenciales calent glob'!$B$6:$B$56,Cálculos_5!F66,'Datos 2-Potenciales calent glob'!$E$6:$E$56)","v":0},{"$f":"'Datos 2-Potenciales calent glob'!$E$6","v":1},{"$f":"'Datos 2-Potenciales calent glob'!$E$6","v":1},0,0,0,0,0,0,0]
[null,"Absorciones","Fuente fija","Absorción","Amelanchier ovalis",null,null,"Ambos",1,{"$f":"'Alcance 1'!D86","v":0},{"$f":"'Alcance 1'!E86","v":"árboles"},null,1,null,0,"árboles",0,0,0,0,{"$f":"-'Datos 1-Factores emisión'!C680","v":-6.8388617226212753},0,0,0,0,0,0,{"$f":"'Datos 2-Potenciales calent glob'!$E$6","v":1},{"$f":"'Datos 2-Potenciales calent glob'!$E$31","v":28},{"$f":"'Datos 2-Potenciales calent glob'!$E$32","v":265},{"$f":"SUMIF('Datos 2-Potenciales calent glob'!$B$6:$B$56,Cálculos_5!F67,'Datos 2-Potenciales calent glob'!$E$6:$E$56)","v":0},{"$f":"'Datos 2-Potenciales calent glob'!$E$6","v":1},{"$f":"'Datos 2-Potenciales calent glob'!$E$6","v":1},0,0,0,0,0,0,0]
[null,"Absorciones","Fuente fija","Absorción","Arbutus unedo",null,null,"Ambos",1,{"$f":"'Alcance 1'!D87","v":0},{"$f":"'Alcance 1'!E87","v":"árboles"},null,1,null,0,"árboles",0,0,0,0,{"$f":"-'Datos 1-Factores emisión'!C681","v":-2.9802258656182734},0,0,0,0,0,0,{"$f":"'Datos 2-Potenciales calent glob'!$E$6","v":1},{"$f":"'Datos 2-Potenciales calent glob'!$E$31","v":28},{"$f":"'Datos 2-Potenciales calent glob'!$E$32","v":265},{"$f":"SUMIF('Datos 2-Potenciales calent glob'!$B$6:$B$56,Cálculos_5!F68,'Datos 2-Potenciales calent glob'!$E$6:$E$56)","v":0},{"$f":"'Datos 2-Potenciales calent glob'!$E$6","v":1},{"$f":"'Datos 2-Potenciales calent glob'!$E$6","v":1},0,0,0,0,0,0,0]
[null,"Absorciones","Fuente fija","Absorción","Betula spp.",null,null,"Ambos",1,{"$f":"'Alcance 1'!D88","v":0},{"$f":"'Alcance 1'!E88","v":"árboles"},null,1,null,0,"árboles",0,0,0,0,{"$f":"-'Datos 1-Factores emisión'!C682","v":-3.1139114485025972},0,0,0,0,0,0,{"$f":"'Datos 2-Potenciales calent glob'!$E$6","v":1},{"$f":"'Datos 2-Potenciales calent glob'!$E$31","v":28},{"$f":"'Datos 2-Potenciales calent glob'!$E$32","v":265},{"$f":"SUMIF('Datos 2-Potenciales calent glob'!$B$6:$B$56,Cálculos_5!F69,'Datos 2-Potenciales calent glob'!$E$6:$E$56)","v":0},{"$f":"'Datos 2-Potenciales calent glob'!$E$6","v":1},{"$f":"'Datos 2-Potenciales calent glob'!$E$6","v":1},0,0,0,0,0,0,0]
[null,"Absorciones","Fuente fija","Absorción","Carpinus betulus",null,null,"Ambos",1,{"$f":"'Alcance 1'!D89","v":0},{"$f":"'Alcance 1'!E89","v":"árboles"},null,1,null,0,"árboles",0,0,0,0,{"$f":"-'Datos 1-Factores emisión'!C683","v":-3.1139114485025972},0,0,0,0,0,0,{"$f":"'Datos 2-Potenciales calent glob'!$E$6","v":1},{"$f":"'Datos 2-Potenciales calent glob'!$E$31","v":28},{"$f":"'Datos 2-Potenciales calent glob'!$E$32","v":265},{"$f":"SUMIF('Datos 2-Potenciales calent glob'!$B$6:$B$56,Cálculos_5!F70,'Datos 2-Potenciales calent glob'!$E$6:$E$56)","v":0},{"$f":"'Datos 2-Potenciales calent glob'!$E$6","v":1},{"$f":"'Datos 2-Potenciales calent glob'!$E$6","v":1},0,0,0,0,0,0,0]
[null,"Absorciones","Fuente fija","Absorción","Castanea sativa",null,null,"Ambos",1,{"$f":"'Alcance 1'!D90","v":0},{"$f":"'Alcance 1'!E90","v":"árboles"},null,1,null,0,"árboles",0,0,0,0,{"$f":"-'Datos 1-Factores emisión'!C684","v":-6.2059076975914902},0,0,0,0,0,0,{"$f":"'Datos 2-Potenciales calent glob'!$E$6","v":1},{"$f":"'Datos 2-Potenciales calent glob'!$E$31","v":28},{"$f":"'Datos 2-Potenciales calent glob'!$E$32","v":265},{"$f":"SUMIF('Datos 2-Potenciales calent glob'!$B$6:$B$56,Cálculos_5!F71,'Datos 2-Potenciales calent glob'!$E$6:$E$56)","v":0},{"$f":"'Datos 2-Potenciales calent glob'!$E$6","v":1},{"$f":"'Datos 2-Potenciales calent glob'!$E$6","v":1},0,0,0,0,0,0,0]
[null,"Absorciones","Fuente fija","Absorción","Ceratonia siliqua",null,null,"Ambos",1,{"$f":"'Alcance 1'!D91","v":0},{"$f":"'Alcance 1'!E91","v":"árboles"},null,1,null,0,"árboles",0,0,0,0,{"$f":"-'Datos 1-Factores emisión'!C685","v":-3.0980229224587688},0,0,0,0,0,0,{"$f":"'Datos 2-Potenciales calent glob'!$E$6","v":1},{"$f":"'Datos 2-Potenciales calent glob'!$E$31","v":28},{"$f":"'Datos 2-Potenciales calent glob'!$E$32","v":265},{"$f":"SUMIF('Datos 2-Potenciales calent glob'!$B$6:$B$56,Cálculos_5!F72,'Datos 2-Potenciales calent glob'!$E$6:$E$56)","v":0},{"$f":"'Datos 2-Potenciales calent glob'!$E$6","v":1},{"$f":"'Datos 2-Potenciales calent glob'!$E$6","v":1},0,0,0,0,0,0,0]
[null,"Absorciones","Fuente fija","Absorción","Cedrus atlantica",null,null,"Ambos",1,{"$f":"'Alcance 1'!D92","v":0},{"$f":"'Alcance 1'!E92","v":"árboles"},null,1,null,0,"árboles",0,0,0,0,{"$f":"-'Datos 1-Factores emisión'!C686","v":-43.215604411883824},0,0,0,0,0,0,{"$f":"'Datos 2-Potenciales calent glob'!$E$6","v":1},{"$f":"'Datos 2-Potenciales calent glob'!$E$31","v":28},{"$f":"'Datos 2-Potenciales calent glob'!$E$32","v":265},{"$f":"SUMIF('Datos 2-Potenciales calent glob'!$B$6:$B$56,Cálculos_5!F73,'Datos 2-Potenciales calent glob'!$E$6:$E$56)","v":0},{"$f":"'Datos 2-Potenciales calent glob'!$E$6","v":1},{"$f":"'Datos 2-Potenciales calent glob'!$E$6","v":1},0,0,0,0,0,0,0]
[null,"Absorciones","Fuente fija","Absorción","Celtis australis",null,null,"Ambos",1,{"$f":"'Alcance 1'!D93","v":0},{"$f":"'Alcance 1'!E93","v":"árboles"},null,1,null,0,"árboles",0,0,0,0,{"$f":"-'Datos 1-Factores emisión'!C687","v":-33.54816511050106},0,0,0,0,0,0,{"$f":"'Datos 2-Potenciales calent glob'!$E$6","v":1},{"$f":"'Datos 2-Potenciales calent glob'!$E$31","v":28},{"$f":"'Datos 2-Potenciales calent glob'!$E$32","v":265},{"$f":"SUMIF('Datos 2-Potenciales calent glob'!$B$6:$B$56,Cálculos_5!F74,'Datos 2-Potenciales calent glob'!$E$6:$E$56)","v":0},{"$f":"'Datos 2-Potenciales calent glob'!$E$6","v":1},{"$f":"'Datos 2-Potenciales calent glob'!$E$6","v":1},0,0,0,0,0,0,0]
[null,"Absorciones","Fuente fija","Absorción","Chamaecyparis lawsoniana",null,null,"Ambos",1,{"$f":"'Alcance 1'!D94","v":0},{"$f":"'Alcance 1'!E94","v":"árboles"},null,1,null,0,"árboles",0,0,0,0,{"$f":"-'Datos 1-Factores emisión'!C688","v":-0.36451014816266286},0,0,0,0,0,0,{"$f":"'Datos 2-Potenciales calent glob'!$E$6","v":1},{"$f":"'Datos 2-Potenciales calent glob'!$E$31","v":28},{"$f":"'Datos 2-Potenciales calent glob'!$E$32","v":265},{"$f":"SUMIF('Datos 2-Potenciales calent glob'!$B$6:$B$56,Cálculos_5!F75,'Datos 2-Potenciales calent glob'!$E$6:$E$56)","v":0},{"$f":"'Datos 2-Potenciales calent glob'!$E$6","v":1},{"$f":"'Datos 2-Potenciales calent glob'!$E$6","v":1},0,0,0,0,0,0,0]
[null,"Absorciones","Fuente fija","Absorción","Cornus sanguinea",null,null,"Ambos",1,{"$f":"'Alcance 1'!D95","v":0},{"$f":"'Alcance 1'!E95","v":"árboles"},null,1,null,0,"árboles",0,0,0,0,{"$f":"-'Datos 1-Factores emisión'!C689","v":-6.8388617226212753},0,0,0,0,0,0,{"$f":"'Datos 2-Potenciales calent glob'!$E$6","v":1},{"$f":"'Datos 2-Potenciales calent glob'!$E$31","v":28},{"$f":"'Datos 2-Potenciales calent glob'!$E$32","v":265},{"$f":"SUMIF('Datos 2-Potenciales calent glob'!$B$6:$B$56,Cálculos_5!F76,'Datos 2-Potenciales calent glob'!$E$6:$E$56)","v":0},{"$f":"'Datos 2-Potenciales calent glob'!$E$6","v":1},{"$f":"'Datos 2-Potenciales calent glob'!$E$6","v":1},0,0,0,0,0,0,0]
[null,"Absorciones","Fuente fija","Absorción","Corylus avellana",null,null,"Ambos",1,{"$f":"'Alcance 1'!D96","v":0},{"$f":"'Alcance 1'!E96","v":"árboles"},null,1,null,0,"árboles",0,0,0,0,{"$f":"-'Datos 1-Factores emisión'!C690","v":-3.9176100218165013},0,0,0,0,0,0,{"$f":"'Datos 2-Potenciales calent glob'!$E$6","v":1},{"$f":"'Datos 2-Potenciales calent glob'!$E$31","v":28},{"$f":"'Datos 2-Potenciales calent glob'!$E$32","v":265},{"$f":"SUMIF('Datos 2-Potenciales calent glob'!$B$6:$B$56,Cálculos_5!F77,'Datos 2-Potenciales calent glob'!$E$6:$E$56)","v":0},{"$f":"'Datos 2-Potenciales calent glob'!$E$6","v":1},{"$f":"'Datos 2-Potenciales calent glob'!$E$6","v":1},0,0,0,0,0,0,0]
[null,"Absorciones","Fuente fija","Absorción","Crataegus spp.",null,null,"Ambos",1,{"$f":"'Alcance 1'!D97","v":0},{"$f":"'Alcance 1'!E97","v":"árboles"},null,1,null,0,"árboles",0,0,0,0,{"$f":"-'Datos 1-Factores emisión'!C691","v":-6.8388617226212753},0,0,0,0,0,0,{"$f":"'Datos 2-Potenciales calent glob'!$E$6","v":1},{"$f":"'Datos 2-Potenciales calent glob'!$E$31","v":28},{"$f":"'Datos 2-Potenciales calent glob'!$E$32","v":265},{"$f":"SUMIF('Datos 2-Potenciales calent glob'!$B$6:$B$56,Cálculos_5!F78,'Datos 2-Potenciales calent glob'!$E$6:$E$56)","v":0},{"$f":"'Datos 2-Potenciales calent glob'!$E$6","v":1},{"$f":"'Datos 2-Potenciales calent glob'!$E$6","v":1},0,0,0,0,0,0,0]
[null,"Absorciones","Fuente fija","Absorción","Cupressus arizonica",null,null,"Ambos",1,{"$f":"'Alcance 1'!D98","v":0},{"$f":"'Alcance 1'!E98","v":"árboles"},null,1,null,0,"árboles",0,0,0,0,{"$f":"-'Datos 1-Factores emisión'!C692","v":-1.9326280185357239},0,0,0,0,0,0,{"$f":"'Datos 2-Potenciales calent glob'!$E$6","v":1},{"$f":"'Datos 2-Potenciales calent glob'!$E$31","v":28},{"$f":"'Datos 2-Potenciales calent glob'!$E$32","v":265},{"$f":"SUMIF('Datos 2-Potenciales calent glob'!$B$6:$B$56,Cálculos_5!F79,'Datos 2-Potenciales calent glob'!$E$6:$E$56)","v":0},{"$f":"'Datos 2-Potenciales calent glob'!$E$6","v":1},{"$f":"'Datos 2-Potenciales calent glob'!$E$6","v":1},0,0,0,0,0,0,0]
[null,"Absorciones","Fuente fija","Absorción","Cupressus macrocarpa",null,null,"Ambos",1,{"$f":"'Alcance 1'!D99","v":0},{"$f":"'Alcance 1'!E99","v":"árboles"},null,1,null,0,"árboles",0,0,0,0,{"$f":"-'Datos 1-Factores emisión'!C693","v":-1.9326280185357239},0,0,0,0,0,0,{"$f":"'Datos 2-Potenciales calent glob'!$E$6","v":1},{"$f":"'Datos 2-Potenciales calent glob'!$E$31","v":28},{"$f":"'Datos 2-Potenciales calent glob'!$E$32","v":265},{"$f":"SUMIF('Datos 2-Potenciales calent glob'!$B$6:$B$56,Cálculos_5!F80,'Datos 2-Potenciales calent glob'!$E$6:$E$56)","v":0},{"$f":"'Datos 2-Potenciales calent glob'!$E$6","v":1},{"$f":"'Datos 2-Potenciales calent glob'!$E$6","v":1},0,0,0,0,0,0,0]
[null,"Absorciones","Fuente fija","Absorción","Cupressus sempervirens",null,null,"Ambos",1,{"$f":"'Alcance 1'!D100","v":0},{"$f":"'Alcance 1'!E100","v":"árboles"},null,1,null,0,"árboles",0,0,0,0,{"$f":"-'Datos 1-Factores emisión'!C694","v":-1.9326280185357239},0,0,0,0,0,0,{"$f":"'Datos 2-Potenciales calent glob'!$E$6","v":1},{"$f":"'Datos 2-Potenciales calent glob'!$E$31","v":28},{"$f":"'Datos 2-Potenciales calent glob'!$E$32","v":265},{"$f":"SUMIF('Datos 2-Potenciales calent glob'!$B$6:$B$56,Cálculos_5!F81,'Datos 2-Potenciales calent glob'!$E$6:$E$56)","v":0},{"$f":"'Datos 2-Potenciales calent glob'!$E$6","v":1},{"$f":"'Datos 2-Potenciales calent glob'!$E$6","v":1},0,0,0,0,0,0,0]
[null,"Absorciones","Fuente fija","Absorción","Erica arborea",null,null,"Ambos",1,{"$f":"'Alcance 1'!D101","v":0},{"$f":"'Alcance 1'!E101","v":"árboles"},null,1,null,0,"árboles",0,0,0,0,{"$f":"-'Datos 1-Factores emisión'!C695","v":-6.8388617226212753},0,0,0,0,0,0,{"$f":"'Datos 2-Potenciales calent glob'!$E$6","v":1},{"$f":"'Datos 2-Potenciales calent glob'!$E$31","v":28},{"$f":"'Datos 2-Potenciales calent glob'!$E$32","v":265},{"$f":"SUMIF('Datos 2-Potenciales calent glob'!$B$6:$B$56,Cálculos_5!F82,'Datos 2-Potenciales calent glob'!$E$6:$E$56)","v":0},{"$f":"'Datos 2-Potenciales calent glob'!$E$6","v":1},{"$f":"'Datos 2-Potenciales calent glob'!$E$6","v":1},0,0,0,0,0,0,0]
[null,"Absorciones","Fuente fija","Absorción","Eucalyptus camaldulensis",null,null,"Ambos",1,{"$f":"'Alcance 1'!D102","v":0},{"$f":"'Alcance 1'!E102","v":"árboles"},null,1,null,0,"árboles",0,0,0,0,{"$f":"-'Datos 1-Factores emisión'!C696","v":-52.194267408741631},0,0,0,0,0,0,{"$f":"'Datos 2-Potenciales calent glob'!$E$6","v":1},{"$f":"'Datos 2-Potenciales calent glob'!$E$31","v":28},{"$f":"'Datos 2-Potenciales calent glob'!$E$32","v":265},{"$f":"SUMIF('Datos 2-Potenciales calent glob'!$B$6:$B$56,Cálculos_5!F83,'Datos 2-Potenciales calent glob'!$E$6:$E$56)","v":0},{"$f":"'Datos 2-Potenciales calent glob'!$E$6","v":1},{"$f":"'Datos 2-Potenciales calent glob'!$E$6","v":1},0,0,0,0,0,0,0]
[null,"Absorciones","Fuente fija","Absorción","Eucalyptus globulus",null,null,"Ambos",1,{"$f":"'Alcance 1'!D103","v":0},{"$f":"'Alcance 1'!E103","v":"árboles"},null,1,null,0,"árboles",0,0,0,0,{"$f":"-'Datos 1-Factores emisión'!C697","v":-67.870994677230485},0,0,0,0,0,0,{"$f":"'Datos 2-Potenciales calent glob'!$E$6","v":1},{"$f":"'Datos 2-Potenciales calent glob'!$E$31","v":28},{"$f":"'Datos 2-Potenciales calent glob'!$E$32","v":265},{"$f":"SUMIF('Datos 2-Potenciales calent glob'!$B$6:$B$56,Cálculos_5!F84,'Datos 2-Potenciales calent glob'!$E$6:$E$56)","v":0},{"$f":"'Datos 2-Potenciales calent glob'!$E$6","v":1},{"$f":"'Datos 2-Potenciales calent glob'!$E$6","v":1},0,0,0,0,0,0,0]
[null,"Absorciones","Fuente fija","Absorción","Fagus sylvatica",null,null,"Ambos",1,{"$f":"'Alcance 1'!D104","v":0},{"$f":"'Alcance 1'!E104","v":"árboles"},null,1,null,0,"árboles",0,0,0,0,{"$f":"-'Datos 1-Factores emisión'!C698","v":-0.9069668055751493},0,0,0,0,0,0,{"$f":"'Datos 2-Potenciales calent glob'!$E$6","v":1},{"$f":"'Datos 2-Potenciales calent glob'!$E$31","v":28},{"$f":"'Datos 2-Potenciales calent glob'!$E$32","v":265},{"$f":"SUMIF('Datos 2-Potenciales calent glob'!$B$6:$B$56,Cálculos_5!F85,'Datos 2-Potenciales calent glob'!$E$6:$E$56)","v":0},{"$f":"'Datos 2-Potenciales calent glob'!$E$6","v":1},{"$f":"'Datos 2-Potenciales calent glob'!$E$6","v":1},0,0,0,0,0,0,0]
[null,"Absorciones","Fuente fija","Absorción","Fraxinus spp.",null,null,"Ambos",1,{"$f":"'Alcance 1'!D105","v":0},{"$f":"'Alcance 1'!E105","v":"árboles"},null,1,null,0,"árboles",0,0,0,0,{"$f":"-'Datos 1-Factores emisión'!C699","v":-6.1568550562671884},0,0,0,0,0,0,{"$f":"'Datos 2-Potenciales calent glob'!$E$6","v":1},{"$f":"'Datos 2-Potenciales calent glob'!$E$31","v":28},{"$f":"'Datos 2-Potenciales calent glob'!$E$32","v":265},{"$f":"SUMIF('Datos 2-Potenciales calent glob'!$B$6:$B$56,Cálculos_5!F86,'Datos 2-Potenciales calent glob'!$E$6:$E$56)","v":0},{"$f":"'Datos 2-Potenciales calent glob'!$E$6","v":1},{"$f":"'Datos 2-Potenciales calent glob'!$E$6","v":1},0,0,0,0,0,0,0]
[null,"Absorciones","Fuente fija","Absorción","Ilex aquifolium",null,null,"Ambos",1,{"$f":"'Alcance 1'!D106","v":0},{"$f":"'Alcance 1'!E106","v":"árboles"},null,1,null,0,"árboles",0,0,0,0,{"$f":"-'Datos 1-Factores emisión'!C700","v":-1.5935674438940231},0,0,0,0,0,0,{"$f":"'Datos 2-Potenciales calent glob'!$E$6","v":1},{"$f":"'Datos 2-Potenciales calent glob'!$E$31","v":28},{"$f":"'Datos 2-Potenciales calent glob'!$E$32","v":265},{"$f":"SUMIF('Datos 2-Potenciales calent glob'!$B$6:$B$56,Cálculos_5!F87,'Datos 2-Potenciales calent glob'!$E$6:$E$56)","v":0},{"$f":"'Datos 2-Potenciales calent glob'!$E$6","v":1},{"$f":"'Datos 2-Potenciales calent glob'!$E$6","v":1},0,0,0,0,0,0,0]
[null,"Absorciones","Fuente fija","Absorción","Ilex canariensis",null,null,"Ambos",1,{"$f":"'Alcance 1'!D107","v":0},{"$f":"'Alcance 1'!E107","v":"árboles"},null,1,null,0,"árboles",0,0,0,0,{"$f":"-'Datos 1-Factores emisión'!C701","v":-1.7947778277173432},0,0,0,0,0,0,{"$f":"'Datos 2-Potenciales calent glob'!$E$6","v":1},{"$f":"'Datos 2-Potenciales calent glob'!$E$31","v":28},{"$f":"'Datos 2-Potenciales calent glob'!$E$32","v":265},{"$f":"SUMIF('Datos 2-Potenciales calent glob'!$B$6:$B$56,Cálculos_5!F88,'Datos 2-Potenciales calent glob'!$E$6:$E$56)","v":0},{"$f":"'Datos 2-Potenciales calent glob'!$E$6","v":1},{"$f":"'Datos 2-Potenciales calent glob'!$E$6","v":1},0,0,0,0,0,0,0]
[null,"Absorciones","Fuente fija","Absorción","Juglans regia",null,null,"Ambos",1,{"$f":"'Alcance 1'!D108","v":0},{"$f":"'Alcance 1'!E108","v":"árboles"},null,1,null,0,"árboles",0,0,0,0,{"$f":"-'Datos 1-Factores emisión'!C702","v":-6.2059076975914902},0,0,0,0,0,0,{"$f":"'Datos 2-Potenciales calent glob'!$E$6","v":1},{"$f":"'Datos 2-Potenciales calent glob'!$E$31","v":28},{"$f":"'Datos 2-Potenciales calent glob'!$E$32","v":265},{"$f":"SUMIF('Datos 2-Potenciales calent glob'!$B$6:$B$56,Cálculos_5!F89,'Datos 2-Potenciales calent glob'!$E$6:$E$56)","v":0},{"$f":"'Datos 2-Potenciales calent glob'!$E$6","v":1},{"$f":"'Datos 2-Potenciales calent glob'!$E$6","v":1},0,0,0,0,0,0,0]
[null,"Absorciones","Fuente fija","Absorción","Juniperus oxycedrus, J. communis",null,null,"Ambos",1,{"$f":"'Alcance 1'!D109","v":0},{"$f":"'Alcance 1'!E109","v":"árboles"},null,1,null,0,"árboles",0,0,0,0,{"$f":"-'Datos 1-Factores emisión'!C703","v":-0.56923772177230947},0,0,0,0,0,0,{"$f":"'Datos 2-Potenciales calent glob'!$E$6","v":1},{"$f":"'Datos 2-Potenciales calent glob'!$E$31","v":28},{"$f":"'Datos 2-Potenciales calent glob'!$E$32","v":265},{"$f":"SUMIF('Datos 2-Potenciales calent glob'!$B$6:$B$56,Cálculos_5!F90,'Datos 2-Potenciales calent glob'!$E$6:$E$56)","v":0},{"$f":"'Datos 2-Potenciales calent glob'!$E$6","v":1},{"$f":"'Datos 2-Potenciales calent glob'!$E$6","v":1},0,0,0,0,0,0,0]
[null,"Absorciones","Fuente fija","Absorción","Juniperus phoenicea",null,null,"Ambos",1,{"$f":"'Alcance 1'!D110","v":0},{"$f":"'Alcance 1'!E110","v":"árboles"},null,1,null,0,"árboles",0,0,0,0,{"$f":"-'Datos 1-Factores emisión'!C704","v":-0.94277066105405549},0,0,0,0,0,0,{"$f":"'Datos 2-Potenciales calent glob'!$E$6","v":1},{"$f":"'Datos 2-Potenciales calent glob'!$E$31","v":28},{"$f":"'Datos 2-Potenciales calent glob'!$E$32","v":265},{"$f":"SUMIF('Datos 2-Potenciales calent glob'!$B$6:$B$56,Cálculos_5!F91,'Datos 2-Potenciales calent glob'!$E$6:$E$56)","v":0},{"$f":"'Datos 2-Potenciales calent glob'!$E$6","v":1},{"$f":"'Datos 2-Potenciales calent glob'!$E$6","v":1},0,0,0,0,0,0,0]
[null,"Absorciones","Fuente fija","Absorción","Juniperus thurifera",null,null,"Ambos",1,{"$f":"'Alcance 1'!D111","v":0},{"$f":"'Alcance 1'!E111","v":"árboles"},null,1,null,0,"árboles",0,0,0,0,{"$f":"-'Datos 1-Factores emisión'!C705","v":-0.69711873280079795},0,0,0,0,0,0,{"$f":"'Datos 2-Potenciales calent glob'!$E$6","v":1},{"$f":"'Datos 2-Potenciales calent glob'!$E$31","v":28},{"$f":"'Datos 2-Potenciales calent glob'!$E$32","v":265},{"$f":"SUMIF('Datos 2-Potenciales calent glob'!$B$6:$B$56,Cálculos_5!F92,'Datos 2-Potenciales calent glob'!$E$6:$E$56)","v":0},{"$f":"'Datos 2-Potenciales calent glob'!$E$6","v":1},{"$f":"'Datos 2-Potenciales calent glob'!$E$6","v":1},0,0,0,0,0,0,0]
[null,"Absorciones","Fuente fija","Absorción","Larix spp.",null,null,"Ambos",1,{"$f":"'Alcance 1'!D112","v":0},{"$f":"'Alcance 1'!E112","v":"árboles"},null,1,null,{"$f":"J93*M93","v":0},{"$f":"K93","v":"árboles"},0,0,0,0,{"$f":"-'Datos 1-Factores emisión'!C706","v":-17.191216576532284},{"$f":"Q93*$O93","v":0},{"$f":"R93*$O93","v":0},{"$f":"S93*$O93","v":0},0,{"$f":"T93*$O93","v":0},{"$f":"U93*$O93","v":0},{"$f":"'Datos 2-Potenciales calent glob'!$E$6","v":1},{"$f":"'Datos 2-Potenciales calent glob'!$E$31","v":28},{"$f":"'Datos 2-Potenciales calent glob'!$E$32","v":265},{"$f":"SUMIF('Datos 2-Potenciales calent glob'!$B$6:$B$56,Cálculos_5!F93,'Datos 2-Potenciales calent glob'!$E$6:$E$56)","v":0},{"$f":"'Datos 2-Potenciales calent glob'!$E$6","v":1},{"$f":"'Datos 2-Potenciales calent glob'!$E$6","v":1},{"$f":"V93*AB93","v":0},{"$f":"W93*AC93","v":0},{"$f":"X93*AD93","v":0},{"$f":"Y93*AE93","v":0},{"$f":"SUM(AH93:AK93)","v":0},{"$f":"Z93*AF93","v":0},{"$f":"AA93*AG93","v":0}]
[null,"Absorciones","Fuente fija","Absorción","Laurus azorica",null,null,"Ambos",1,{"$f":"'Alcance 1'!D113","v":0},{"$f":"'Alcance 1'!E113","v":"árboles"},null,1,null,0,"árboles",0,0,0,0,{"$f":"-'Datos 1-Factores emisión'!C707","v":-6.8388617226212753},0,0,0,0,0,0,{"$f":"'Datos 2-Potenciales calent glob'!$E$6","v":1},{"$f":"'Datos 2-Potenciales calent glob'!$E$31","v":28},{"$f":"'Datos 2-Potenciales calent glob'!$E$32","v":265},{"$f":"SUMIF('Datos 2-Potenciales calent glob'!$B$6:$B$56,Cálculos_5!F94,'Datos 2-Potenciales calent glob'!$E$6:$E$56)","v":0},{"$f":"'Datos 2-Potenciales calent glob'!$E$6","v":1},{"$f":"'Datos 2-Potenciales calent glob'!$E$6","v":1},0,0,0,0,0,0,0]
[null,"Absorciones","Fuente fija","Absorción","Laurus nobilis",null,null,"Ambos",1,{"$f":"'Alcance 1'!D114","v":0},{"$f":"'Alcance 1'!E114","v":"árboles"},null,1,null,0,"árboles",0,0,0,0,{"$f":"-'Datos 1-Factores emisión'!C708","v":-6.8388617226212753},0,0,0,0,0,0,{"$f":"'Datos 2-Potenciales calent glob'!$E$6","v":1},{"$f":"'Datos 2-Potenciales calent glob'!$E$31","v":28},{"$f":"'Datos 2-Potenciales calent glob'!$E$32","v":265},{"$f":"SUMIF('Datos 2-Potenciales calent glob'!$B$6:$B$56,Cálculos_5!F95,'Datos 2-Potenciales calent glob'!$E$6:$E$56)","v":0},{"$f":"'Datos 2-Potenciales calent glob'!$E$6","v":1},{"$f":"'Datos 2-Potenciales calent glob'!$E$6","v":1},0,0,0,0,0,0,0]
[null,"Absorciones","Fuente fija","Absorción","Malus sylvestris",null,null,"Ambos",1,{"$f":"'Alcance 1'!D115","v":0},{"$f":"'Alcance 1'!E115","v":"árboles"},null,1,null,0,"árboles",0,0,0,0,{"$f":"-'Datos 1-Factores emisión'!C709","v":-7.4877680651170682},0,0,0,0,0,0,{"$f":"'Datos 2-Potenciales calent glob'!$E$6","v":1},{"$f":"'Datos 2-Potenciales calent glob'!$E$31","v":28},{"$f":"'Datos 2-Potenciales calent glob'!$E$32","v":265},{"$f":"SUMIF('Datos 2-Potenciales calent glob'!$B$6:$B$56,Cálculos_5!F96,'Datos 2-Potenciales calent glob'!$E$6:$E$56)","v":0},{"$f":"'Datos 2-Potenciales calent glob'!$E$6","v":1},{"$f":"'Datos 2-Potenciales calent glob'!$E$6","v":1},0,0,0,0,0,0,0]
[null,"Absorciones","Fuente fija","Absorción","Myrica faya",null,null,"Ambos",1,{"$f":"'Alcance 1'!D116","v":0},{"$f":"'Alcance 1'!E116","v":"árboles"},null,1,null,{"$f":"J97*M97","v":0},{"$f":"K97","v":"árboles"},0,0,0,0,{"$f":"-'Datos 1-Factores emisión'!C710","v":-6.8388617226212753},{"$f":"Q97*$O97","v":0},{"$f":"R97*$O97","v":0},{"$f":"S97*$O97","v":0},0,{"$f":"T97*$O97","v":0},{"$f":"U97*$O97","v":0},{"$f":"'Datos 2-Potenciales calent glob'!$E$6","v":1},{"$f":"'Datos 2-Potenciales calent glob'!$E$31","v":28},{"$f":"'Datos 2-Potenciales calent glob'!$E$32","v":265},{"$f":"SUMIF('Datos 2-Potenciales calent glob'!$B$6:$B$56,Cálculos_5!F97,'Datos 2-Potenciales calent glob'!$E$6:$E$56)","v":0},{"$f":"'Datos 2-Potenciales calent glob'!$E$6","v":1},{"$f":"'Datos 2-Potenciales calent glob'!$E$6","v":1},{"$f":"V97*AB97","v":0},{"$f":"W97*AC97","v":0},{"$f":"X97*AD97","v":0},{"$f":"Y97*AE97","v":0},{"$f":"SUM(AH97:AK97)","v":0},{"$f":"Z97*AF97","v":0},{"$f":"AA97*AG97","v":0}]
[null,"Absorciones","Fuente fija","Absorción","Myrtus communis",null,null,"Ambos",1,{"$f":"'Alcance 1'!D117","v":0},{"$f":"'Alcance 1'!E117","v":"árboles"},null,1,null,0,"árboles",0,0,0,0,{"$f":"-'Datos 1-Factores emisión'!C711","v":-6.8388617226212753},0,0,0,0,0,0,{"$f":"'Datos 2-Potenciales calent glob'!$E$6","v":1},{"$f":"'Datos 2-Potenciales calent glob'!$E$31","v":28},{"$f":"'Datos 2-Potenciales calent glob'!$E$32","v":265},{"$f":"SUMIF('Datos 2-Potenciales calent glob'!$B$6:$B$56,Cálculos_5!F98,'Datos 2-Potenciales calent glob'!$E$6:$E$56)","v":0},{"$f":"'Datos 2-Potenciales calent glob'!$E$6","v":1},{"$f":"'Datos 2-Potenciales calent glob'!$E$6","v":1},0,0,0,0,0,0,0]
[null,"Absorciones","Fuente fija","Absorción","Olea europaea",null,null,"Ambos",1,{"$f":"'Alcance 1'!D118","v":0},{"$f":"'Alcance 1'!E118","v":"árboles"},null,1,null,0,"árboles",0,0,0,0,{"$f":"-'Datos 1-Factores emisión'!C712","v":-2.8027299826087879},0,0,0,0,0,0,{"$f":"'Datos 2-Potenciales calent glob'!$E$6","v":1},{"$f":"'Datos 2-Potenciales calent glob'!$E$31","v":28},{"$f":"'Datos 2-Potenciales calent glob'!$E$32","v":265},{"$f":"SUMIF('Datos 2-Potenciales calent glob'!$B$6:$B$56,Cálculos_5!F99,'Datos 2-Potenciales calent glob'!$E$6:$E$56)","v":0},{"$f":"'Datos 2-Potenciales calent glob'!$E$6","v":1},{"$f":"'Datos 2-Potenciales calent glob'!$E$6","v":1},0,0,0,0,0,0,0]
[null,"Absorciones","Fuente fija","Absorción","Phillyrea latifolia",null,null,"Ambos",1,{"$f":"'Alcance 1'!D119","v":0},{"$f":"'Alcance 1'!E119","v":"árboles"},null,1,null,0,"árboles",0,0,0,0,{"$f":"-'Datos 1-Factores emisión'!C713","v":-2.9786645246888788},0,0,0,0,0,0,{"$f":"'Datos 2-Potenciales calent glob'!$E$6","v":1},{"$f":"'Datos 2-Potenciales calent glob'!$E$31","v":28},{"$f":"'Datos 2-Potenciales calent glob'!$E$32","v":265},{"$f":"SUMIF('Datos 2-Potenciales calent glob'!$B$6:$B$56,Cálculos_5!F100,'Datos 2-Potenciales calent glob'!$E$6:$E$56)","v":0},{"$f":"'Datos 2-Potenciales calent glob'!$E$6","v":1},{"$f":"'Datos 2-Potenciales calent glob'!$E$6","v":1},0,0,0,0,0,0,0]
[null,"Absorciones","Fuente fija","Absorción","Phoenix spp.",null,null,"Ambos",1,{"$f":"'Alcance 1'!D120","v":0},{"$f":"'Alcance 1'!E120","v":"árboles"},null,1,null,0,"árboles",0,0,0,0,{"$f":"-'Datos 1-Factores emisión'!C714","v":-29.855313544367842},0,0,0,0,0,0,{"$f":"'Datos 2-Potenciales calent glob'!$E$6","v":1},{"$f":"'Datos 2-Potenciales calent glob'!$E$31","v":28},{"$f":"'Datos 2-Potenciales calent glob'!$E$32","v":265},{"$f":"SUMIF('Datos 2-Potenciales calent glob'!$B$6:$B$56,Cálculos_5!F101,'Datos 2-Potenciales calent glob'!$E$6:$E$56)","v":0},{"$f":"'Datos 2-Potenciales calent glob'!$E$6","v":1},{"$f":"'Datos 2-Potenciales calent glob'!$E$6","v":1},0,0,0,0,0,0,0]
[null,"Absorciones","Fuente fija","Absorción","Picea abies",null,null,"Ambos",1,{"$f":"'Alcance 1'!D121","v":0},{"$f":"'Alcance 1'!E121","v":"árboles"},null,1,null,0,"árboles",0,0,0,0,{"$f":"-'Datos 1-Factores emisión'!C715","v":-43.215604411883824},0,0,0,0,0,0,{"$f":"'Datos 2-Potenciales calent glob'!$E$6","v":1},{"$f":"'Datos 2-Potenciales calent glob'!$E$31","v":28},{"$f":"'Datos 2-Potenciales calent glob'!$E$32","v":265},{"$f":"SUMIF('Datos 2-Potenciales calent glob'!$B$6:$B$56,Cálculos_5!F102,'Datos 2-Potenciales calent glob'!$E$6:$E$56)","v":0},{"$f":"'Datos 2-Potenciales calent glob'!$E$6","v":1},{"$f":"'Datos 2-Potenciales calent glob'!$E$6","v":1},0,0,0,0,0,0,0]
[null,"Absorciones","Fuente fija","Absorción","Pinus canariensis",null,null,"Ambos",1,{"$f":"'Alcance 1'!D122","v":0},{"$f":"'Alcance 1'!E122","v":"árboles"},null,1,null,0,"árboles",0,0,0,0,{"$f":"-'Datos 1-Factores emisión'!C716","v":-4.5116335469456423},0,0,0,0,0,0,{"$f":"'Datos 2-Potenciales calent glob'!$E$6","v":1},{"$f":"'Datos 2-Potenciales calent glob'!$E$31","v":28},{"$f":"'Datos 2-Potenciales calent glob'!$E$32","v":265},{"$f":"SUMIF('Datos 2-Potenciales calent glob'!$B$6:$B$56,Cálculos_5!F103,'Datos 2-Potenciales calent glob'!$E$6:$E$56)","v":0},{"$f":"'Datos 2-Potenciales calent glob'!$E$6","v":1},{"$f":"'Datos 2-Potenciales calent glob'!$E$6","v":1},0,0,0,0,0,0,0]
[null,"Absorciones","Fuente fija","Absorción","Pinus halepensis",null,null,"Ambos",1,{"$f":"'Alcance 1'!D123","v":0},{"$f":"'Alcance 1'!E123","v":"árboles"},null,1,null,0,"árboles",0,0,0,0,{"$f":"-'Datos 1-Factores emisión'!C717","v":-2.7396409014675265},0,0,0,0,0,0,{"$f":"'Datos 2-Potenciales calent glob'!$E$6","v":1},{"$f":"'Datos 2-Potenciales calent glob'!$E$31","v":28},{"$f":"'Datos 2-Potenciales calent glob'!$E$32","v":265},{"$f":"SUMIF('Datos 2-Potenciales calent glob'!$B$6:$B$56,Cálculos_5!F104,'Datos 2-Potenciales calent glob'!$E$6:$E$56)","v":0},{"$f":"'Datos 2-Potenciales calent glob'!$E$6","v":1},{"$f":"'Datos 2-Potenciales calent glob'!$E$6","v":1},0,0,0,0,0,0,0]
[null,"Absorciones","Fuente fija","Absorción","Pinus nigra Sistema Ibérico",null,null,"Ambos",1,{"$f":"'Alcance 1'!D124","v":0},{"$f":"'Alcance 1'!E124","v":"árboles"},null,1,null,0,"árboles",0,0,0,0,{"$f":"-'Datos 1-Factores emisión'!C718","v":-1.707884856498515},0,0,0,0,0,0,{"$f":"'Datos 2-Potenciales calent glob'!$E$6","v":1},{"$f":"'Datos 2-Potenciales calent glob'!$E$31","v":28},{"$f":"'Datos 2-Potenciales calent glob'!$E$32","v":265},{"$f":"SUMIF('Datos 2-Potenciales calent glob'!$B$6:$B$56,Cálculos_5!F105,'Datos 2-Potenciales calent glob'!$E$6:$E$56)","v":0},{"$f":"'Datos 2-Potenciales calent glob'!$E$6","v":1},{"$f":"'Datos 2-Potenciales calent glob'!$E$6","v":1},0,0,0,0,0,0,0]
[null,"Absorciones","Fuente fija","Absorción","Pinus nigra (Resto)",null,null,"Ambos",1,{"$f":"'Alcance 1'!D125","v":0},{"$f":"'Alcance 1'!E125","v":"árboles"},null,1,null,0,"árboles",0,0,0,0,{"$f":"-'Datos 1-Factores emisión'!C719","v":-2.6399271233093504},0,0,0,0,0,0,{"$f":"'Datos 2-Potenciales calent glob'!$E$6","v":1},{"$f":"'Datos 2-Potenciales calent glob'!$E$31","v":28},{"$f":"'Datos 2-Potenciales calent glob'!$E$32","v":265},{"$f":"SUMIF('Datos 2-Potenciales calent glob'!$B$6:$B$56,Cálculos_5!F106,'Datos 2-Potenciales calent glob'!$E$6:$E$56)","v":0},{"$f":"'Datos 2-Potenciales calent glob'!$E$6","v":1},{"$f":"'Datos 2-Potenciales calent glob'!$E$6","v":1},0,0,0,0,0,0,0]
[null,"Absorciones","Fuente fija","Absorción","Pinus pinaster ssp. atlantica Zona Norte interior",null,null,"Ambos",1,{"$f":"'Alcance 1'!D126","v":0},{"$f":"'Alcance 1'!E126","v":"árboles"},null,1,null,0,"árboles",0,0,0,0,{"$f":"-'Datos 1-Factores emisión'!C720","v":-19.416497876984124},0,0,0,0,0,0,{"$f":"'Datos 2-Potenciales calent glob'!$E$6","v":1},{"$f":"'Datos 2-Potenciales calent glob'!$E$31","v":28},{"$f":"'Datos 2-Potenciales calent glob'!$E$32","v":265},{"$f":"SUMIF('Datos 2-Potenciales calent glob'!$B$6:$B$56,Cálculos_5!F107,'Datos 2-Potenciales calent glob'!$E$6:$E$56)","v":0},{"$f":"'Datos 2-Potenciales calent glob'!$E$6","v":1},{"$f":"'Datos 2-Potenciales calent glob'!$E$6","v":1},0,0,0,0,0,0,0]
[null,"Absorciones","Fuente fija","Absorción","Pinus pinaster ssp. atlantica Zona Norte costera",null,null,"Ambos",1,{"$f":"'Alcance 1'!D127","v":0},{"$f":"'Alcance 1'!E127","v":"árboles"},null,1,null,0,"árboles",0,0,0,0,{"$f":"-'Datos 1-Factores emisión'!C721","v":-23.040528217655929},0,0,0,0,0,0,{"$f":"'Datos 2-Potenciales calent glob'!$E$6","v":1},{"$f":"'Datos 2-Potenciales calent glob'!$E$31","v":28},{"$f":"'Datos 2-Potenciales calent glob'!$E$32","v":265},{"$f":"SUMIF('Datos 2-Potenciales calent glob'!$B$6:$B$56,Cálculos_5!F108,'Datos 2-Potenciales calent glob'!$E$6:$E$56)","v":0},{"$f":"'Datos 2-Potenciales calent glob'!$E$6","v":1},{"$f":"'Datos 2-Potenciales calent glob'!$E$6","v":1},0,0,0,0,0,0,0]
[null,"Absorciones","Fuente fija","Absorción","Pinus pinaster ssp. mesogeensis Sistema Central",null,null,"Ambos",1,{"$f":"'Alcance 1'!D128","v":0},{"$f":"'Alcance 1'!E128","v":"árboles"},null,1,null,0,"árboles",0,0,0,0,{"$f":"-'Datos 1-Factores emisión'!C722","v":-5.9914245101205994},0,0,0,0,0,0,{"$f":"'Datos 2-Potenciales calent glob'!$E$6","v":1},{"$f":"'Datos 2-Potenciales calent glob'!$E$31","v":28},{"$f":"'Datos 2-Potenciales calent glob'!$E$32","v":265},{"$f":"SUMIF('Datos 2-Potenciales calent glob'!$B$6:$B$56,Cálculos_5!F109,'Datos 2-Potenciales calent glob'!$E$6:$E$56)","v":0},{"$f":"'Datos 2-Potenciales calent glob'!$E$6","v":1},{"$f":"'Datos 2-Potenciales calent glob'!$E$6","v":1},0,0,0,0,0,0,0]
[null,"Absorciones","Fuente fija","Absorción","Pinus pinaster (Resto)",null,null,"Ambos",1,{"$f":"'Alcance 1'!D129","v":0},{"$f":"'Alcance 1'!E129","v":"árboles"},null,1,null,0,"árboles",0,0,0,0,{"$f":"-'Datos 1-Factores emisión'!C723","v":-1.1282045142491459},0,0,0,0,0,0,{"$f":"'Datos 2-Potenciales calent glob'!$E$6","v":1},{"$f":"'Datos 2-Potenciales calent glob'!$E$31","v":28},{"$f":"'Datos 2-Potenciales calent glob'!$E$32","v":265},{"$f":"SUMIF('Datos 2-Potenciales calent glob'!$B$6:$B$56,Cálculos_5!F110,'Datos 2-Potenciales calent glob'!$E$6:$E$56)","v":0},{"$f":"'Datos 2-Potenciales calent glob'!$E$6","v":1},{"$f":"'Datos 2-Potenciales calent glob'!$E$6","v":1},0,0,0,0,0,0,0]
[null,"Absorciones","Fuente fija","Absorción","Pinus pinea",null,null,"Ambos",1,{"$f":"'Alcance 1'!D130","v":0},{"$f":"'Alcance 1'!E130","v":"árboles"},null,1,null,0,"árboles",0,0,0,0,{"$f":"-'Datos 1-Factores emisión'!C724","v":-5.5869000612925124},0,0,0,0,0,0,{"$f":"'Datos 2-Potenciales calent glob'!$E$6","v":1},{"$f":"'Datos 2-Potenciales calent glob'!$E$31","v":28},{"$f":"'Datos 2-Potenciales calent glob'!$E$32","v":265},{"$f":"SUMIF('Datos 2-Potenciales calent glob'!$B$6:$B$56,Cálculos_5!F111,'Datos 2-Potenciales calent glob'!$E$6:$E$56)","v":0},{"$f":"'Datos 2-Potenciales calent glob'!$E$6","v":1},{"$f":"'Datos 2-Potenciales calent glob'!$E$6","v":1},0,0,0,0,0,0,0]
[null,"Absorciones","Fuente fija","Absorción","Pinus radiata",null,null,"Ambos",1,{"$f":"'Alcance 1'!D131","v":0},{"$f":"'Alcance 1'!E131","v":"árboles"},null,1,null,0,"árboles",0,0,0,0,{"$f":"-'Datos 1-Factores emisión'!C725","v":-38.837192462473482},0,0,0,0,0,0,{"$f":"'Datos 2-Potenciales calent glob'!$E$6","v":1},{"$f":"'Datos 2-Potenciales calent glob'!$E$31","v":28},{"$f":"'Datos 2-Potenciales calent glob'!$E$32","v":265},{"$f":"SUMIF('Datos 2-Potenciales calent glob'!$B$6:$B$56,Cálculos_5!F112,'Datos 2-Potenciales calent glob'!$E$6:$E$56)","v":0},{"$f":"'Datos 2-Potenciales calent glob'!$E$6","v":1},{"$f":"'Datos 2-Potenciales calent glob'!$E$6","v":1},0,0,0,0,0,0,0]
[null,"Absorciones","Fuente fija","Absorción","Pinus sylvestris Sistema Central",null,null,"Ambos",1,{"$f":"'Alcance 1'!D132","v":0},{"$f":"'Alcance 1'!E132","v":"árboles"},null,1,null,0,"árboles",0,0,0,0,{"$f":"-'Datos 1-Factores emisión'!C726","v":-2.0341483274480723},0,0,0,0,0,0,{"$f":"'Datos 2-Potenciales calent glob'!$E$6","v":1},{"$f":"'Datos 2-Potenciales calent glob'!$E$31","v":28},{"$f":"'Datos 2-Potenciales calent glob'!$E$32","v":265},{"$f":"SUMIF('Datos 2-Potenciales calent glob'!$B$6:$B$56,Cálculos_5!F113,'Datos 2-Potenciales calent glob'!$E$6:$E$56)","v":0},{"$f":"'Datos 2-Potenciales calent glob'!$E$6","v":1},{"$f":"'Datos 2-Potenciales calent glob'!$E$6","v":1},0,0,0,0,0,0,0]
[null,"Absorciones","Fuente fija","Absorción","Pinus sylvestris Sistema Ibérico",null,null,"Ambos",1,{"$f":"'Alcance 1'!D133","v":0},{"$f":"'Alcance 1'!E133","v":"árboles"},null,1,null,0,"árboles",0,0,0,0,{"$f":"-'Datos 1-Factores emisión'!C727","v":-1.5819644153320491},0,0,0,0,0,0,{"$f":"'Datos 2-Potenciales calent glob'!$E$6","v":1},{"$f":"'Datos 2-Potenciales calent glob'!$E$31","v":28},{"$f":"'Datos 2-Potenciales calent glob'!$E$32","v":265},{"$f":"SUMIF('Datos 2-Potenciales calent glob'!$B$6:$B$56,Cálculos_5!F114,'Datos 2-Potenciales calent glob'!$E$6:$E$56)","v":0},{"$f":"'Datos 2-Potenciales calent glob'!$E$6","v":1},{"$f":"'Datos 2-Potenciales calent glob'!$E$6","v":1},0,0,0,0,0,0,0]
[null,"Absorciones","Fuente fija","Absorción","Pinus sylvestris Pirineos",null,null,"Ambos",1,{"$f":"'Alcance 1'!D134","v":0},{"$f":"'Alcance 1'!E134","v":"árboles"},null,1,null,0,"árboles",0,0,0,0,{"$f":"-'Datos 1-Factores emisión'!C728","v":-2.1817713128270504},0,0,0,0,0,0,{"$f":"'Datos 2-Potenciales calent glob'!$E$6","v":1},{"$f":"'Datos 2-Potenciales calent glob'!$E$31","v":28},{"$f":"'Datos 2-Potenciales calent glob'!$E$32","v":265},{"$f":"SUMIF('Datos 2-Potenciales calent glob'!$B$6:$B$56,Cálculos_5!F115,'Datos 2-Potenciales calent glob'!$E$6:$E$56)","v":0},{"$f":"'Datos 2-Potenciales calent glob'!$E$6","v":1},{"$f":"'Datos 2-Potenciales calent glob'!$E$6","v":1},0,0,0,0,0,0,0]
[null,"Absorciones","Fuente fija","Absorción","Pinus sylvestris (Resto)",null,null,"Ambos",1,{"$f":"'Alcance 1'!D135","v":0},{"$f":"'Alcance 1'!E135","v":"árboles"},null,1,null,0,"árboles",0,0,0,0,{"$f":"-'Datos 1-Factores emisión'!C729","v":-1.9326280185357239},0,0,0,0,0,0,{"$f":"'Datos 2-Potenciales calent glob'!$E$6","v":1},{"$f":"'Datos 2-Potenciales calent glob'!$E$31","v":28},{"$f":"'Datos 2-Potenciales calent glob'!$E$32","v":265},{"$f":"SUMIF('Datos 2-Potenciales calent glob'!$B$6:$B$56,Cálculos_5!F116,'Datos 2-Potenciales calent glob'!$E$6:$E$56)","v":0},{"$f":"'Datos 2-Potenciales calent glob'!$E$6","v":1},{"$f":"'Datos 2-Potenciales calent glob'!$E$6","v":1},0,0,0,0,0,0,0]
[null,"Absorciones","Fuente fija","Absorción","Pinus uncinata",null,null,"Ambos",1,{"$f":"'Alcance 1'!D136","v":0},{"$f":"'Alcance 1'!E136","v":"árboles"},null,1,null,0,"árboles",0,0,0,0,{"$f":"-'Datos 1-Factores emisión'!C730","v":-3.0046801095706153},0,0,0,0,0,0,{"$f":"'Datos 2-Potenciales calent glob'!$E$6","v":1},{"$f":"'Datos 2-Potenciales calent glob'!$E$31","v":28},{"$f":"'Datos 2-Potenciales calent glob'!$E$32","v":265},{"$f":"SUMIF('Datos 2-Potenciales calent glob'!$B$6:$B$56,Cálculos_5!F117,'Datos 2-Potenciales calent glob'!$E$6:$E$56)","v":0},{"$f":"'Datos 2-Potenciales calent glob'!$E$6","v":1},{"$f":"'Datos 2-Potenciales calent glob'!$E$6","v":1},0,0,0,0,0,0,0]
[null,"Absorciones","Fuente fija","Absorción","Pistacia terebinthus",null,null,"Ambos",1,{"$f":"'Alcance 1'!D137","v":0},{"$f":"'Alcance 1'!E137","v":"árboles"},null,1,null,0,"árboles",0,0,0,0,{"$f":"-'Datos 1-Factores emisión'!C731","v":-6.8388617226212753},0,0,0,0,0,0,{"$f":"'Datos 2-Potenciales calent glob'!$E$6","v":1},{"$f":"'Datos 2-Potenciales calent glob'!$E$31","v":28},{"$f":"'Datos 2-Potenciales calent glob'!$E$32","v":265},{"$f":"SUMIF('Datos 2-Potenciales calent glob'!$B$6:$B$56,Cálculos_5!F118,'Datos 2-Potenciales calent glob'!$E$6:$E$56)","v":0},{"$f":"'Datos 2-Potenciales calent glob'!$E$6","v":1},{"$f":"'Datos 2-Potenciales calent glob'!$E$6","v":1},0,0,0,0,0,0,0]
[null,"Absorciones","Fuente fija","Absorción","Platanus hispanica",null,null,"Ambos",1,{"$f":"'Alcance 1'!D138","v":0},{"$f":"'Alcance 1'!E138","v":"árboles"},null,1,null,0,"árboles",0,0,0,0,{"$f":"-'Datos 1-Factores emisión'!C732","v":-22.388426654141334},0,0,0,0,0,0,{"$f":"'Datos 2-Potenciales calent glob'!$E$6","v":1},{"$f":"'Datos 2-Potenciales calent glob'!$E$31","v":28},{"$f":"'Datos 2-Potenciales calent glob'!$E$32","v":265},{"$f":"SUMIF('Datos 2-Potenciales calent glob'!$B$6:$B$56,Cálculos_5!F119,'Datos 2-Potenciales calent glob'!$E$6:$E$56)","v":0},{"$f":"'Datos 2-Potenciales calent glob'!$E$6","v":1},{"$f":"'Datos 2-Potenciales calent glob'!$E$6","v":1},0,0,0,0,0,0,0]
[null,"Absorciones","Fuente fija","Absorción","Populus alba",null,null,"Ambos",1,{"$f":"'Alcance 1'!D139","v":0},{"$f":"'Alcance 1'!E139","v":"árboles"},null,1,null,0,"árboles",0,0,0,0,{"$f":"-'Datos 1-Factores emisión'!C733","v":-22.388426654141334},0,0,0,0,0,0,{"$f":"'Datos 2-Potenciales calent glob'!$E$6","v":1},{"$f":"'Datos 2-Potenciales calent glob'!$E$31","v":28},{"$f":"'Datos 2-Potenciales calent glob'!$E$32","v":265},{"$f":"SUMIF('Datos 2-Potenciales calent glob'!$B$6:$B$56,Cálculos_5!F120,'Datos 2-Potenciales calent glob'!$E$6:$E$56)","v":0},{"$f":"'Datos 2-Potenciales calent glob'!$E$6","v":1},{"$f":"'Datos 2-Potenciales calent glob'!$E$6","v":1},0,0,0,0,0,0,0]
[null,"Absorciones","Fuente fija","Absorción","Populus nigra",null,null,"Ambos",1,{"$f":"'Alcance 1'!D140","v":0},{"$f":"'Alcance 1'!E140","v":"árboles"},null,1,null,0,"árboles",0,0,0,0,{"$f":"-'Datos 1-Factores emisión'!C734","v":-33.54816511050106},0,0,0,0,0,0,{"$f":"'Datos 2-Potenciales calent glob'!$E$6","v":1},{"$f":"'Datos 2-Potenciales calent glob'!$E$31","v":28},{"$f":"'Datos 2-Potenciales calent glob'!$E$32","v":265},{"$f":"SUMIF('Datos 2-Potenciales calent glob'!$B$6:$B$56,Cálculos_5!F121,'Datos 2-Potenciales calent glob'!$E$6:$E$56)","v":0},{"$f":"'Datos 2-Potenciales calent glob'!$E$6","v":1},{"$f":"'Datos 2-Potenciales calent glob'!$E$6","v":1},0,0,0,0,0,0,0]
[null,"Absorciones","Fuente fija","Absorción","Populus x canadensis",null,null,"Ambos",1,{"$f":"'Alcance 1'!D141","v":0},{"$f":"'Alcance 1'!E141","v":"árboles"},null,1,null,0,"árboles",0,0,0,0,{"$f":"-'Datos 1-Factores emisión'!C735","v":-39.246727504175098},0,0,0,0,0,0,{"$f":"'Datos 2-Potenciales calent glob'!$E$6","v":1},{"$f":"'Datos 2-Potenciales calent glob'!$E$31","v":28},{"$f":"'Datos 2-Potenciales calent glob'!$E$32","v":265},{"$f":"SUMIF('Datos 2-Potenciales calent glob'!$B$6:$B$56,Cálculos_5!F122,'Datos 2-Potenciales calent glob'!$E$6:$E$56)","v":0},{"$f":"'Datos 2-Potenciales calent glob'!$E$6","v":1},{"$f":"'Datos 2-Potenciales calent glob'!$E$6","v":1},0,0,0,0,0,0,0]
[null,"Absorciones","Fuente fija","Absorción","Prunus spp.",null,null,"Ambos",1,{"$f":"'Alcance 1'!D142","v":0},{"$f":"'Alcance 1'!E142","v":"árboles"},null,1,null,0,"árboles",0,0,0,0,{"$f":"-'Datos 1-Factores emisión'!C736","v":-7.4877680651170682},0,0,0,0,0,0,{"$f":"'Datos 2-Potenciales calent glob'!$E$6","v":1},{"$f":"'Datos 2-Potenciales calent glob'!$E$31","v":28},{"$f":"'Datos 2-Potenciales calent glob'!$E$32","v":265},{"$f":"SUMIF('Datos 2-Potenciales calent glob'!$B$6:$B$56,Cálculos_5!F123,'Datos 2-Potenciales calent glob'!$E$6:$E$56)","v":0},{"$f":"'Datos 2-Potenciales calent glob'!$E$6","v":1},{"$f":"'Datos 2-Potenciales calent glob'!$E$6","v":1},0,0,0,0,0,0,0]
[null,"Absorciones","Fuente fija","Absorción","Pseudotsuga menziesii",null,null,"Ambos",1,{"$f":"'Alcance 1'!D143","v":0},{"$f":"'Alcance 1'!E143","v":"árboles"},null,1,null,0,"árboles",0,0,0,0,{"$f":"-'Datos 1-Factores emisión'!C737","v":-43.215604411883824},0,0,0,0,0,0,{"$f":"'Datos 2-Potenciales calent glob'!$E$6","v":1},{"$f":"'Datos 2-Potenciales calent glob'!$E$31","v":28},{"$f":"'Datos 2-Potenciales calent glob'!$E$32","v":265},{"$f":"SUMIF('Datos 2-Potenciales calent glob'!$B$6:$B$56,Cálculos_5!F124,'Datos 2-Potenciales calent glob'!$E$6:$E$56)","v":0},{"$f":"'Datos 2-Potenciales calent glob'!$E$6","v":1},{"$f":"'Datos 2-Potenciales calent glob'!$E$6","v":1},0,0,0,0,0,0,0]
[null,"Absorciones","Fuente fija","Absorción","Pyrus spp.",null,null,"Ambos",1,{"$f":"'Alcance 1'!D144","v":0},{"$f":"'Alcance 1'!E144","v":"árboles"},null,1,null,0,"árboles",0,0,0,0,{"$f":"-'Datos 1-Factores emisión'!C738","v":-7.4877680651170682},0,0,0,0,0,0,{"$f":"'Datos 2-Potenciales calent glob'!$E$6","v":1},{"$f":"'Datos 2-Potenciales calent glob'!$E$31","v":28},{"$f":"'Datos 2-Potenciales calent glob'!$E$32","v":265},{"$f":"SUMIF('Datos 2-Potenciales calent glob'!$B$6:$B$56,Cálculos_5!F125,'Datos 2-Potenciales calent glob'!$E$6:$E$56)","v":0},{"$f":"'Datos 2-Potenciales calent glob'!$E$6","v":1},{"$f":"'Datos 2-Potenciales calent glob'!$E$6","v":1},0,0,0,0,0,0,0]
[null,"Absorciones","Fuente fija","Absorción","Quercus canariensis",null,null,"Ambos",1,{"$f":"'Alcance 1'!D145","v":0},{"$f":"'Alcance 1'!E145","v":"árboles"},null,1,null,0,"árboles",0,0,0,0,{"$f":"-'Datos 1-Factores emisión'!C739","v":-4.2404885182243426},0,0,0,0,0,0,{"$f":"'Datos 2-Potenciales calent glob'!$E$6","v":1},{"$f":"'Datos 2-Potenciales calent glob'!$E$31","v":28},{"$f":"'Datos 2-Potenciales calent glob'!$E$32","v":265},{"$f":"SUMIF('Datos 2-Potenciales calent glob'!$B$6:$B$56,Cálculos_5!F126,'Datos 2-Potenciales calent glob'!$E$6:$E$56)","v":0},{"$f":"'Datos 2-Potenciales calent glob'!$E$6","v":1},{"$f":"'Datos 2-Potenciales calent glob'!$E$6","v":1},0,0,0,0,0,0,0]
[null,"Absorciones","Fuente fija","Absorción","Quercus faginea",null,null,"Ambos",1,{"$f":"'Alcance 1'!D146","v":0},{"$f":"'Alcance 1'!E146","v":"árboles"},null,1,null,0,"árboles",0,0,0,0,{"$f":"-'Datos 1-Factores emisión'!C740","v":-3.2518891322263328},0,0,0,0,0,0,{"$f":"'Datos 2-Potenciales calent glob'!$E$6","v":1},{"$f":"'Datos 2-Potenciales calent glob'!$E$31","v":28},{"$f":"'Datos 2-Potenciales calent glob'!$E$32","v":265},{"$f":"SUMIF('Datos 2-Potenciales calent glob'!$B$6:$B$56,Cálculos_5!F127,'Datos 2-Potenciales calent glob'!$E$6:$E$56)","v":0},{"$f":"'Datos 2-Potenciales calent glob'!$E$6","v":1},{"$f":"'Datos 2-Potenciales calent glob'!$E$6","v":1},0,0,0,0,0,0,0]
[null,"Absorciones","Fuente fija","Absorción","Quercus ilex",null,null,"Ambos",1,{"$f":"'Alcance 1'!D147","v":0},{"$f":"'Alcance 1'!E147","v":"árboles"},null,1,null,0,"árboles",0,0,0,0,{"$f":"-'Datos 1-Factores emisión'!C741","v":-2.4045190789989985},0,0,0,0,0,0,{"$f":"'Datos 2-Potenciales calent glob'!$E$6","v":1},{"$f":"'Datos 2-Potenciales calent glob'!$E$31","v":28},{"$f":"'Datos 2-Potenciales calent glob'!$E$32","v":265},{"$f":"SUMIF('Datos 2-Potenciales calent glob'!$B$6:$B$56,Cálculos_5!F128,'Datos 2-Potenciales calent glob'!$E$6:$E$56)","v":0},{"$f":"'Datos 2-Potenciales calent glob'!$E$6","v":1},{"$f":"'Datos 2-Potenciales calent glob'!$E$6","v":1},0,0,0,0,0,0,0]
[null,"Absorciones","Fuente fija","Absorción","Quercus petraea",null,null,"Ambos",1,{"$f":"'Alcance 1'!D148","v":0},{"$f":"'Alcance 1'!E148","v":"árboles"},null,1,null,0,"árboles",0,0,0,0,{"$f":"-'Datos 1-Factores emisión'!C742","v":-5.9666879957040377},0,0,0,0,0,0,{"$f":"'Datos 2-Potenciales calent glob'!$E$6","v":1},{"$f":"'Datos 2-Potenciales calent glob'!$E$31","v":28},{"$f":"'Datos 2-Potenciales calent glob'!$E$32","v":265},{"$f":"SUMIF('Datos 2-Potenciales calent glob'!$B$6:$B$56,Cálculos_5!F129,'Datos 2-Potenciales calent glob'!$E$6:$E$56)","v":0},{"$f":"'Datos 2-Potenciales calent glob'!$E$6","v":1},{"$f":"'Datos 2-Potenciales calent glob'!$E$6","v":1},0,0,0,0,0,0,0]
[null,"Absorciones","Fuente fija","Absorción","Quercus pubescens",null,null,"Ambos",1,{"$f":"'Alcance 1'!D149","v":0},{"$f":"'Alcance 1'!E149","v":"árboles"},null,1,null,0,"árboles",0,0,0,0,{"$f":"-'Datos 1-Factores emisión'!C743","v":-4.9185979668704967},0,0,0,0,0,0,{"$f":"'Datos 2-Potenciales calent glob'!$E$6","v":1},{"$f":"'Datos 2-Potenciales calent glob'!$E$31","v":28},{"$f":"'Datos 2-Potenciales calent glob'!$E$32","v":265},{"$f":"SUMIF('Datos 2-Potenciales calent glob'!$B$6:$B$56,Cálculos_5!F130,'Datos 2-Potenciales calent glob'!$E$6:$E$56)","v":0},{"$f":"'Datos 2-Potenciales calent glob'!$E$6","v":1},{"$f":"'Datos 2-Potenciales calent glob'!$E$6","v":1},0,0,0,0,0,0,0]
[null,"Absorciones","Fuente fija","Absorción","Quercus pyrenaica",null,null,"Ambos",1,{"$f":"'Alcance 1'!D150","v":0},{"$f":"'Alcance 1'!E150","v":"árboles"},null,1,null,0,"árboles",0,0,0,0,{"$f":"-'Datos 1-Factores emisión'!C744","v":-4.9310644038237283},0,0,0,0,0,0,{"$f":"'Datos 2-Potenciales calent glob'!$E$6","v":1},{"$f":"'Datos 2-Potenciales calent glob'!$E$31","v":28},{"$f":"'Datos 2-Potenciales calent glob'!$E$32","v":265},{"$f":"SUMIF('Datos 2-Potenciales calent glob'!$B$6:$B$56,Cálculos_5!F131,'Datos 2-Potenciales calent glob'!$E$6:$E$56)","v":0},{"$f":"'Datos 2-Potenciales calent glob'!$E$6","v":1},{"$f":"'Datos 2-Potenciales calent glob'!$E$6","v":1},0,0,0,0,0,0,0]
[null,"Absorciones","Fuente fija","Absorción","Quercus robur",null,null,"Ambos",1,{"$f":"'Alcance 1'!D151","v":0},{"$f":"'Alcance 1'!E151","v":"árboles"},null,1,null,0,"árboles",0,0,0,0,{"$f":"-'Datos 1-Factores emisión'!C745","v":-6.415655592075364},0,0,0,0,0,0,{"$f":"'Datos 2-Potenciales calent glob'!$E$6","v":1},{"$f":"'Datos 2-Potenciales calent glob'!$E$31","v":28},{"$f":"'Datos 2-Potenciales calent glob'!$E$32","v":265},{"$f":"SUMIF('Datos 2-Potenciales calent glob'!$B$6:$B$56,Cálculos_5!F132,'Datos 2-Potenciales calent glob'!$E$6:$E$56)","v":0},{"$f":"'Datos 2-Potenciales calent glob'!$E$6","v":1},{"$f":"'Datos 2-Potenciales calent glob'!$E$6","v":1},0,0,0,0,0,0,0]
[null,"Absorciones","Fuente fija","Absorción","Quercus rubra",null,null,"Ambos",1,{"$f":"'Alcance 1'!D152","v":0},{"$f":"'Alcance 1'!E152","v":"árboles"},null,1,null,0,"árboles",0,0,0,0,{"$f":"-'Datos 1-Factores emisión'!C746","v":-7.3846859261478635},0,0,0,0,0,0,{"$f":"'Datos 2-Potenciales calent glob'!$E$6","v":1},{"$f":"'Datos 2-Potenciales calent glob'!$E$31","v":28},{"$f":"'Datos 2-Potenciales calent glob'!$E$32","v":265},{"$f":"SUMIF('Datos 2-Potenciales calent glob'!$B$6:$B$56,Cálculos_5!F133,'Datos 2-Potenciales calent glob'!$E$6:$E$56)","v":0},{"$f":"'Datos 2-Potenciales calent glob'!$E$6","v":1},{"$f":"'Datos 2-Potenciales calent glob'!$E$6","v":1},0,0,0,0,0,0,0]
[null,"Absorciones","Fuente fija","Absorción","Quercus suber",null,null,"Ambos",1,{"$f":"'Alcance 1'!D153","v":0},{"$f":"'Alcance 1'!E153","v":"árboles"},null,1,null,0,"árboles",0,0,0,0,{"$f":"-'Datos 1-Factores emisión'!C747","v":-3.7055579179222637},0,0,0,0,0,0,{"$f":"'Datos 2-Potenciales calent glob'!$E$6","v":1},{"$f":"'Datos 2-Potenciales calent glob'!$E$31","v":28},{"$f":"'Datos 2-Potenciales calent glob'!$E$32","v":265},{"$f":"SUMIF('Datos 2-Potenciales calent glob'!$B$6:$B$56,Cálculos_5!F134,'Datos 2-Potenciales calent glob'!$E$6:$E$56)","v":0},{"$f":"'Datos 2-Potenciales calent glob'!$E$6","v":1},{"$f":"'Datos 2-Potenciales calent glob'!$E$6","v":1},0,0,0,0,0,0,0]
[null,"Absorciones","Fuente fija","Absorción","Rhamnus alaternus",null,null,"Ambos",1,{"$f":"'Alcance 1'!D154","v":0},{"$f":"'Alcance 1'!E154","v":"árboles"},null,1,null,0,"árboles",0,0,0,0,{"$f":"-'Datos 1-Factores emisión'!C748","v":-6.8388617226212753},0,0,0,0,0,0,{"$f":"'Datos 2-Potenciales calent glob'!$E$6","v":1},{"$f":"'Datos 2-Potenciales calent glob'!$E$31","v":28},{"$f":"'Datos 2-Potenciales calent glob'!$E$32","v":265},{"$f":"SUMIF('Datos 2-Potenciales calent glob'!$B$6:$B$56,Cálculos_5!F135,'Datos 2-Potenciales calent glob'!$E$6:$E$56)","v":0},{"$f":"'Datos 2-Potenciales calent glob'!$E$6","v":1},{"$f":"'Datos 2-Potenciales calent glob'!$E$6","v":1},0,0,0,0,0,0,0]
[null,"Absorciones","Fuente fija","Absorción","Robinia pseudacacia",null,null,"Ambos",1,{"$f":"'Alcance 1'!D155","v":0},{"$f":"'Alcance 1'!E155","v":"árboles"},null,1,null,0,"árboles",0,0,0,0,{"$f":"-'Datos 1-Factores emisión'!C749","v":-6.3715179137139337},0,0,0,0,0,0,{"$f":"'Datos 2-Potenciales calent glob'!$E$6","v":1},{"$f":"'Datos 2-Potenciales calent glob'!$E$31","v":28},{"$f":"'Datos 2-Potenciales calent glob'!$E$32","v":265},{"$f":"SUMIF('Datos 2-Potenciales calent glob'!$B$6:$B$56,Cálculos_5!F136,'Datos 2-Potenciales calent glob'!$E$6:$E$56)","v":0},{"$f":"'Datos 2-Potenciales calent glob'!$E$6","v":1},{"$f":"'Datos 2-Potenciales calent glob'!$E$6","v":1},0,0,0,0,0,0,0]
[null,"Absorciones","Fuente fija","Absorción","Salix spp.",null,null,"Ambos",1,{"$f":"'Alcance 1'!D156","v":0},{"$f":"'Alcance 1'!E156","v":"árboles"},null,1,null,0,"árboles",0,0,0,0,{"$f":"-'Datos 1-Factores emisión'!C750","v":-29.855313544367842},0,0,0,0,0,0,{"$f":"'Datos 2-Potenciales calent glob'!$E$6","v":1},{"$f":"'Datos 2-Potenciales calent glob'!$E$31","v":28},{"$f":"'Datos 2-Potenciales calent glob'!$E$32","v":265},{"$f":"SUMIF('Datos 2-Potenciales calent glob'!$B$6:$B$56,Cálculos_5!F137,'Datos 2-Potenciales calent glob'!$E$6:$E$56)","v":0},{"$f":"'Datos 2-Potenciales calent glob'!$E$6","v":1},{"$f":"'Datos 2-Potenciales calent glob'!$E$6","v":1},0,0,0,0,0,0,0]
[null,"Absorciones","Fuente fija","Absorción","Sorbus spp.",null,null,"Ambos",1,{"$f":"'Alcance 1'!D157","v":0},{"$f":"'Alcance 1'!E157","v":"árboles"},null,1,null,0,"árboles",0,0,0,0,{"$f":"-'Datos 1-Factores emisión'!C751","v":-8.2572717408149465},0,0,0,0,0,0,{"$f":"'Datos 2-Potenciales calent glob'!$E$6","v":1},{"$f":"'Datos 2-Potenciales calent glob'!$E$31","v":28},{"$f":"'Datos 2-Potenciales calent glob'!$E$32","v":265},{"$f":"SUMIF('Datos 2-Potenciales calent glob'!$B$6:$B$56,Cálculos_5!F138,'Datos 2-Potenciales calent glob'!$E$6:$E$56)","v":0},{"$f":"'Datos 2-Potenciales calent glob'!$E$6","v":1},{"$f":"'Datos 2-Potenciales calent glob'!$E$6","v":1},0,0,0,0,0,0,0]
[null,"Absorciones","Fuente fija","Absorción","Tamarix spp.",null,null,"Ambos",1,{"$f":"'Alcance 1'!D158","v":0},{"$f":"'Alcance 1'!E158","v":"árboles"},null,1,null,0,"árboles",0,0,0,0,{"$f":"-'Datos 1-Factores emisión'!C752","v":-2.664728979500588},0,0,0,0,0,0,{"$f":"'Datos 2-Potenciales calent glob'!$E$6","v":1},{"$f":"'Datos 2-Potenciales calent glob'!$E$31","v":28},{"$f":"'Datos 2-Potenciales calent glob'!$E$32","v":265},{"$f":"SUMIF('Datos 2-Potenciales calent glob'!$B$6:$B$56,Cálculos_5!F139,'Datos 2-Potenciales calent glob'!$E$6:$E$56)","v":0},{"$f":"'Datos 2-Potenciales calent glob'!$E$6","v":1},{"$f":"'Datos 2-Potenciales calent glob'!$E$6","v":1},0,0,0,0,0,0,0]
[null,"Absorciones","Fuente fija","Absorción","Taxus baccata",null,null,"Ambos",1,{"$f":"'Alcance 1'!D159","v":0},{"$f":"'Alcance 1'!E159","v":"árboles"},null,1,null,0,"árboles",0,0,0,0,{"$f":"-'Datos 1-Factores emisión'!C753","v":-1.9326280185357239},0,0,0,0,0,0,{"$f":"'Datos 2-Potenciales calent glob'!$E$6","v":1},{"$f":"'Datos 2-Potenciales calent glob'!$E$31","v":28},{"$f":"'Datos 2-Potenciales calent glob'!$E$32","v":265},{"$f":"SUMIF('Datos 2-Potenciales calent glob'!$B$6:$B$56,Cálculos_5!F140,'Datos 2-Potenciales calent glob'!$E$6:$E$56)","v":0},{"$f":"'Datos 2-Potenciales calent glob'!$E$6","v":1},{"$f":"'Datos 2-Potenciales calent glob'!$E$6","v":1},0,0,0,0,0,0,0]
[null,"Absorciones","Fuente fija","Absorción","Tetraclinis articulata",null,null,"Ambos",1,{"$f":"'Alcance 1'!D160","v":0},{"$f":"'Alcance 1'!E160","v":"árboles"},null,1,null,0,"árboles",0,0,0,0,{"$f":"-'Datos 1-Factores emisión'!C754","v":-2.664728979500588},0,0,0,0,0,0,{"$f":"'Datos 2-Potenciales calent glob'!$E$6","v":1},{"$f":"'Datos 2-Potenciales calent glob'!$E$31","v":28},{"$f":"'Datos 2-Potenciales calent glob'!$E$32","v":265},{"$f":"SUMIF('Datos 2-Potenciales calent glob'!$B$6:$B$56,Cálculos_5!F141,'Datos 2-Potenciales calent glob'!$E$6:$E$56)","v":0},{"$f":"'Datos 2-Potenciales calent glob'!$E$6","v":1},{"$f":"'Datos 2-Potenciales calent glob'!$E$6","v":1},0,0,0,0,0,0,0]
[null,"Absorciones","Fuente fija","Absorción","Thuja spp.",null,null,"Ambos",1,{"$f":"'Alcance 1'!D161","v":0},{"$f":"'Alcance 1'!E161","v":"árboles"},null,1,null,0,"árboles",0,0,0,0,{"$f":"-'Datos 1-Factores emisión'!C755","v":-0.56923772177230947},0,0,0,0,0,0,{"$f":"'Datos 2-Potenciales calent glob'!$E$6","v":1},{"$f":"'Datos 2-Potenciales calent glob'!$E$31","v":28},{"$f":"'Datos 2-Potenciales calent glob'!$E$32","v":265},{"$f":"SUMIF('Datos 2-Potenciales calent glob'!$B$6:$B$56,Cálculos_5!F142,'Datos 2-Potenciales calent glob'!$E$6:$E$56)","v":0},{"$f":"'Datos 2-Potenciales calent glob'!$E$6","v":1},{"$f":"'Datos 2-Potenciales calent glob'!$E$6","v":1},0,0,0,0,0,0,0]
[null,"Absorciones","Fuente fija","Absorción","Tilia spp.",null,null,"Ambos",1,{"$f":"'Alcance 1'!D162","v":0},{"$f":"'Alcance 1'!E162","v":"árboles"},null,1,null,0,"árboles",0,0,0,0,{"$f":"-'Datos 1-Factores emisión'!C756","v":-2.9163008532261041},0,0,0,0,0,0,{"$f":"'Datos 2-Potenciales calent glob'!$E$6","v":1},{"$f":"'Datos 2-Potenciales calent glob'!$E$31","v":28},{"$f":"'Datos 2-Potenciales calent glob'!$E$32","v":265},{"$f":"SUMIF('Datos 2-Potenciales calent glob'!$B$6:$B$56,Cálculos_5!F143,'Datos 2-Potenciales calent glob'!$E$6:$E$56)","v":0},{"$f":"'Datos 2-Potenciales calent glob'!$E$6","v":1},{"$f":"'Datos 2-Potenciales calent glob'!$E$6","v":1},0,0,0,0,0,0,0]
[null,"Absorciones","Fuente fija","Absorción","Ulmus spp.",null,null,"Ambos",1,{"$f":"'Alcance 1'!D163","v":0},{"$f":"'Alcance 1'!E163","v":"árboles"},null,1,null,0,"árboles",0,0,0,0,{"$f":"-'Datos 1-Factores emisión'!C757","v":-9.0164800000000014},0,0,0,0,0,0,{"$f":"'Datos 2-Potenciales calent glob'!$E$6","v":1},{"$f":"'Datos 2-Potenciales calent glob'!$E$31","v":28},{"$f":"'Datos 2-Potenciales calent glob'!$E$32","v":265},{"$f":"SUMIF('Datos 2-Potenciales calent glob'!$B$6:$B$56,Cálculos_5!F144,'Datos 2-Potenciales calent glob'!$E$6:$E$56)","v":0},{"$f":"'Datos 2-Potenciales calent glob'!$E$6","v":1},{"$f":"'Datos 2-Potenciales calent glob'!$E$6","v":1},0,0,0,0,0,0,0]
[null,"Energía","Fuente fija","Electricidad","Electricidad",{"$f":"'Alcance 2'!F8","v":"Compañía suministradora"},null,"Ambos",2,{"$f":"'Alcance 2'!D8","v":0},{"$f":"'Alcance 2'!E8","v":"kWh"},null,1,null,{"$f":"J145*M145","v":0},{"$f":"K145","v":"kWh"},{"$f":"IF(F145=\"Compañía suministradora\",0,IF(INDEX('Datos 1-Factores emisión'!$B$358:$S$669,MATCH(Cálculos_5!$F145,'Datos 1-Factores emisión'!$B$358:$B$669,0),MATCH('Datos generales organización'!$D$14,'Datos 1-Factores emisión'!$D$358:$S$358,0)+2)=\"No aplica\",INDEX('Datos 1-Factores emisión'!$B$358:$S$669,LOOKUP('Datos 1-Factores emisión'!$B$419,'Datos 1-Factores emisión'!$B$358:$B$669,'Datos 1-Factores emisión'!$A$358:$A$669),MATCH('Datos generales organización'!$D$14,'Datos 1-Factores emisión'!$D$358:$S$358,0)+2),INDEX('Datos 1-Factores emisión'!$B$358:$S$669,MATCH(Cálculos_5!$F145,'Datos 1-Factores emisión'!$B$358:$B$669,0),MATCH('Datos generales organización'!$D$14,'Datos 1-Factores emisión'!$D$358:$S$358,0)+2)))","v":0},0,0,0,0,{"$f":"Q145*$O145","v":0},{"$f":"R145*$O145","v":0},{"$f":"S145*$O145","v":0},0,0,0,{"$f":"'Datos 2-Potenciales calent glob'!$E$6","v":1},{"$f":"'Datos 2-Potenciales calent glob'!$E$31","v":28},{"$f":"'Datos 2-Potenciales calent glob'!$E$32","v":265},{"$f":"SUMIF('Datos 2-Potenciales calent glob'!$B$6:$B$56,Cálculos_5!F145,'Datos 2-Potenciales calent glob'!$E$6:$E$56)","v":0},{"$f":"'Datos 2-Potenciales calent glob'!$E$6","v":1},{"$f":"'Datos 2-Potenciales calent glob'!$E$6","v":1},{"$f":"V145*AB145","v":0},{"$f":"W145*AC145","v":0},{"$f":"X145*AD145","v":0},{"$f":"Y145*AE145","v":0},{"$f":"SUM(AH145:AK145)","v":0},{"$f":"Z145*AF145","v":0},0]
[null,"Energía","Fuente fija","Electricidad","Electricidad",{"$f":"'Alcance 2'!F9","v":"Compañía suministradora"},null,"Ambos",2,{"$f":"'Alcance 2'!D9","v":0},{"$f":"'Alcance 2'!E9","v":"kWh"},null,1,null,{"$f":"J146*M146","v":0},{"$f":"K146","v":"kWh"},{"$f":"IF(F146=\"Compañía suministradora\",0,IF(INDEX('Datos 1-Factores emisión'!$B$358:$S$669,MATCH(Cálculos_5!$F146,'Datos 1-Factores emisión'!$B$358:$B$669,0),MATCH('Datos generales organización'!$D$14,'Datos 1-Factores emisión'!$D$358:$S$358,0)+2)=\"No aplica\",INDEX('Datos 1-Factores emisión'!$B$358:$S$669,LOOKUP('Datos 1-Factores emisión'!$B$419,'Datos 1-Factores emisión'!$B$358:$B$669,'Datos 1-Factores emisión'!$A$358:$A$669),MATCH('Datos generales organización'!$D$14,'Datos 1-Factores emisión'!$D$358:$S$358,0)+2),INDEX('Datos 1-Factores emisión'!$B$358:$S$669,MATCH(Cálculos_5!$F146,'Datos 1-Factores emisión'!$B$358:$B$669,0),MATCH('Datos generales organización'!$D$14,'Datos 1-Factores emisión'!$D$358:$S$358,0)+2)))","v":0},0,0,0,0,{"$f":"Q146*$O146","v":0},{"$f":"R146*$O146","v":0},{"$f":"S146*$O146","v":0},0,0,{"$f":"U146*$O146","v":0},{"$f":"'Datos 2-Potenciales calent glob'!$E$6","v":1},{"$f":"'Datos 2-Potenciales calent glob'!$E$31","v":28},{"$f":"'Datos 2-Potenciales calent glob'!$E$32","v":265},{"$f":"SUMIF('Datos 2-Potenciales calent glob'!$B$6:$B$56,Cálculos_5!F146,'Datos 2-Potenciales calent glob'!$E$6:$E$56)","v":0},{"$f":"'Datos 2-Potenciales calent glob'!$E$6","v":1},{"$f":"'Datos 2-Potenciales calent glob'!$E$6","v":1},{"$f":"V146*AB146","v":0},{"$f":"W146*AC146","v":0},{"$f":"X146*AD146","v":0},{"$f":"Y146*AE146","v":0},{"$f":"SUM(AH146:AK146)","v":0},{"$f":"Z146*AF146","v":0},{"$f":"AA146*AG146","v":0}]
[null,"Energía","Fuente fija","Electricidad","Electricidad",{"$f":"'Alcance 2'!F10","v":"Compañía suministradora"},null,"Ambos",2,{"$f":"'Alcance 2'!D10","v":0},{"$f":"'Alcance 2'!E10","v":"kWh"},null,1,null,0,"kWh",{"$f":"IF(F147=\"Compañía suministradora\",0,IF(INDEX('Datos 1-Factores emisión'!$B$358:$S$669,MATCH(Cálculos_5!$F147,'Datos 1-Factores emisión'!$B$358:$B$669,0),MATCH('Datos generales organización'!$D$14,'Datos 1-Factores emisión'!$D$358:$S$358,0)+2)=\"No aplica\",INDEX('Datos 1-Factores emisión'!$B$358:$S$669,LOOKUP('Datos 1-Factores emisión'!$B$419,'Datos 1-Factores emisión'!$B$358:$B$669,'Datos 1-Factores emisión'!$A$358:$A$669),MATCH('Datos generales organización'!$D$14,'Datos 1-Factores emisión'!$D$358:$S$358,0)+2),INDEX('Datos 1-Factores emisión'!$B$358:$S$669,MATCH(Cálculos_5!$F147,'Datos 1-Factores emisión'!$B$358:$B$669,0),MATCH('Datos generales organización'!$D$14,'Datos 1-Factores emisión'!$D$358:$S$358,0)+2)))","v":0},0,0,0,0,0,0,0,0,0,0,{"$f":"'Datos 2-Potenciales calent glob'!$E$6","v":1},{"$f":"'Datos 2-Potenciales calent glob'!$E$31","v":28},{"$f":"'Datos 2-Potenciales calent glob'!$E$32","v":265},{"$f":"SUMIF('Datos 2-Potenciales calent glob'!$B$6:$B$56,Cálculos_5!F147,'Datos 2-Potenciales calent glob'!$E$6:$E$56)","v":0},{"$f":"'Datos 2-Potenciales calent glob'!$E$6","v":1},{"$f":"'Datos 2-Potenciales calent glob'!$E$6","v":1},0,0,0,0,0,0,0]
[null,"Energía","Fuente móvil","Electricidad","Electricidad",{"$f":"'Alcance 2'!F17","v":"Compañía suministradora"},null,"Ambos",2,{"$f":"'Alcance 2'!D17","v":0},{"$f":"'Alcance 2'!E17","v":"kWh"},null,1,null,{"$f":"J148*M148","v":0},{"$f":"K148","v":"kWh"},{"$f":"IF(F148=\"Compañía suministradora\",0,IF(INDEX('Datos 1-Factores emisión'!$B$358:$S$669,MATCH(Cálculos_5!$F148,'Datos 1-Factores emisión'!$B$358:$B$669,0),MATCH('Datos generales organización'!$D$14,'Datos 1-Factores emisión'!$D$358:$S$358,0)+2)=\"No aplica\",INDEX('Datos 1-Factores emisión'!$B$358:$S$669,LOOKUP('Datos 1-Factores emisión'!$B$419,'Datos 1-Factores emisión'!$B$358:$B$669,'Datos 1-Factores emisión'!$A$358:$A$669),MATCH('Datos generales organización'!$D$14,'Datos 1-Factores emisión'!$D$358:$S$358,0)+2),INDEX('Datos 1-Factores emisión'!$B$358:$S$669,MATCH(Cálculos_5!$F148,'Datos 1-Factores emisión'!$B$358:$B$669,0),MATCH('Datos generales organización'!$D$14,'Datos 1-Factores emisión'!$D$358:$S$358,0)+2)))","v":0},0,0,0,0,{"$f":"Q148*$O148","v":0},0,0,0,0,0,{"$f":"'Datos 2-Potenciales calent glob'!$E$6","v":1},{"$f":"'Datos 2-Potenciales calent glob'!$E$31","v":28},{"$f":"'Datos 2-Potenciales calent glob'!$E$32","v":265},{"$f":"SUMIF('Datos 2-Potenciales calent glob'!$B$6:$B$56,Cálculos_5!F148,'Datos 2-Potenciales calent glob'!$E$6:$E$56)","v":0},{"$f":"'Datos 2-Potenciales calent glob'!$E$6","v":1},{"$f":"'Datos 2-Potenciales calent glob'!$E$6","v":1},{"$f":"V148*AB148","v":0},{"$f":"W148*AC148","v":0},{"$f":"X148*AD148","v":0},{"$f":"Y148*AE148","v":0},{"$f":"SUM(AH148:AK148)","v":0},{"$f":"Z148*AF148","v":0},0]
[null,"Energía","Fuente móvil","Electricidad",{"$f":"'Alcance 2'!C22","v":"Tipo de vehículo"},{"$f":"'Alcance 2'!F22","v":"Compañía suministradora"},null,"Ambos",2,{"$f":"'Alcance 2'!D22","v":0},{"$f":"'Alcance 2'!E22","v":"km"},null,{"$f":"SUMIF('Datos 3-Factores de convers'!$B$6:$B$9,Cálculos_5!E149,'Datos 3-Factores de convers'!$C$6:$C$9)/100","v":0},null,{"$f":"J149*M149","v":0},"kWh",{"$f":"IF(F149=\"Compañía suministradora\",0,IF(INDEX('Datos 1-Factores emisión'!$B$358:$S$669,MATCH(Cálculos_5!$F149,'Datos 1-Factores emisión'!$B$358:$B$669,0),MATCH('Datos generales organización'!$D$14,'Datos 1-Factores emisión'!$D$358:$S$358,0)+2)=\"No aplica\",INDEX('Datos 1-Factores emisión'!$B$358:$S$669,LOOKUP('Datos 1-Factores emisión'!$B$419,'Datos 1-Factores emisión'!$B$358:$B$669,'Datos 1-Factores emisión'!$A$358:$A$669),MATCH('Datos generales organización'!$D$14,'Datos 1-Factores emisión'!$D$358:$S$358,0)+2),INDEX('Datos 1-Factores emisión'!$B$358:$S$669,MATCH(Cálculos_5!$F149,'Datos 1-Factores emisión'!$B$358:$B$669,0),MATCH('Datos generales organización'!$D$14,'Datos 1-Factores emisión'!$D$358:$S$358,0)+2)))","v":0},0,0,0,0,{"$f":"Q149*$O149","v":0},0,0,0,0,0,{"$f":"'Datos 2-Potenciales calent glob'!$E$6","v":1},{"$f":"'Datos 2-Potenciales calent glob'!$E$31","v":28},{"$f":"'Datos 2-Potenciales calent glob'!$E$32","v":265},{"$f":"SUMIF('Datos 2-Potenciales calent glob'!$B$6:$B$56,Cálculos_5!F149,'Datos 2-Potenciales calent glob'!$E$6:$E$56)","v":0},{"$f":"'Datos 2-Potenciales calent glob'!$E$6","v":1},{"$f":"'Datos 2-Potenciales calent glob'!$E$6","v":1},0,{"$f":"W149*AC149","v":0},{"$f":"X149*AD149","v":0},{"$f":"Y149*AE149","v":0},{"$f":"SUM(AH149:AK149)","v":0},{"$f":"Z149*AF149","v":0},0]
[null,"Energía","Fuente móvil","Electricidad",{"$f":"'Alcance 2'!C23","v":"Tipo de vehículo"},{"$f":"'Alcance 2'!F23","v":"Compañía suministradora"},null,"Ambos",2,{"$f":"'Alcance 2'!D23","v":0},{"$f":"'Alcance 2'!E23","v":"km"},null,{"$f":"SUMIF('Datos 3-Factores de convers'!$B$6:$B$9,Cálculos_5!E150,'Datos 3-Factores de convers'!$C$6:$C$9)/100","v":0},null,{"$f":"J150*M150","v":0},"kWh",{"$f":"IF(F150=\"Compañía suministradora\",0,IF(INDEX('Datos 1-Factores emisión'!$B$358:$S$669,MATCH(Cálculos_5!$F150,'Datos 1-Factores emisión'!$B$358:$B$669,0),MATCH('Datos generales organización'!$D$14,'Datos 1-Factores emisión'!$D$358:$S$358,0)+2)=\"No aplica\",INDEX('Datos 1-Factores emisión'!$B$358:$S$669,LOOKUP('Datos 1-Factores emisión'!$B$419,'Datos 1-Factores emisión'!$B$358:$B$669,'Datos 1-Factores emisión'!$A$358:$A$669),MATCH('Datos generales organización'!$D$14,'Datos 1-Factores emisión'!$D$358:$S$358,0)+2),INDEX('Datos 1-Factores emisión'!$B$358:$S$669,MATCH(Cálculos_5!$F150,'Datos 1-Factores emisión'!$B$358:$B$669,0),MATCH('Datos generales organización'!$D$14,'Datos 1-Factores emisión'!$D$358:$S$358,0)+2)))","v":0},0,0,0,0,0,0,0,0,0,0,{"$f":"'Datos 2-Potenciales calent glob'!$E$6","v":1},{"$f":"'Datos 2-Potenciales calent glob'!$E$31","v":28},{"$f":"'Datos 2-Potenciales calent glob'!$E$32","v":265},{"$f":"SUMIF('Datos 2-Potenciales calent glob'!$B$6:$B$56,Cálculos_5!F150,'Datos 2-Potenciales calent glob'!$E$6:$E$56)","v":0},{"$f":"'Datos 2-Potenciales calent glob'!$E$6","v":1},{"$f":"'Datos 2-Potenciales calent glob'!$E$6","v":1},{"$f":"V150*AB150","v":0},{"$f":"W150*AC150","v":0},{"$f":"X150*AD150","v":0},{"$f":"Y150*AE150","v":0},{"$f":"SUM(AH150:AK150)","v":0},{"$f":"Z150*AF150","v":0},0]
[null,"Energía","Fuente móvil","Electricidad",{"$f":"'Alcance 2'!C24","v":"Tipo de vehículo"},{"$f":"'Alcance 2'!F24","v":"Compañía suministradora"},null,"Ambos",2,{"$f":"'Alcance 2'!D24","v":0},{"$f":"'Alcance 2'!E24","v":"km"},null,{"$f":"SUMIF('Datos 3-Factores de convers'!$B$6:$B$9,Cálculos_5!E151,'Datos 3-Factores de convers'!$C$6:$C$9)/100","v":0},null,0,"kWh",{"$f":"IF(F151=\"Compañía suministradora\",0,IF(INDEX('Datos 1-Factores emisión'!$B$358:$S$669,MATCH(Cálculos_5!$F151,'Datos 1-Factores emisión'!$B$358:$B$669,0),MATCH('Datos generales organización'!$D$14,'Datos 1-Factores emisión'!$D$358:$S$358,0)+2)=\"No aplica\",INDEX('Datos 1-Factores emisión'!$B$358:$S$669,LOOKUP('Datos 1-Factores emisión'!$B$419,'Datos 1-Factores emisión'!$B$358:$B$669,'Datos 1-Factores emisión'!$A$358:$A$669),MATCH('Datos generales organización'!$D$14,'Datos 1-Factores emisión'!$D$358:$S$358,0)+2),INDEX('Datos 1-Factores emisión'!$B$358:$S$669,MATCH(Cálculos_5!$F151,'Datos 1-Factores emisión'!$B$358:$B$669,0),MATCH('Datos generales organización'!$D$14,'Datos 1-Factores emisión'!$D$358:$S$358,0)+2)))","v":0},0,0,0,0,0,0,0,0,0,0,{"$f":"'Datos 2-Potenciales calent glob'!$E$6","v":1},{"$f":"'Datos 2-Potenciales calent glob'!$E$31","v":28},{"$f":"'Datos 2-Potenciales calent glob'!$E$32","v":265},{"$f":"SUMIF('Datos 2-Potenciales calent glob'!$B$6:$B$56,Cálculos_5!F151,'Datos 2-Potenciales calent glob'!$E$6:$E$56)","v":0},{"$f":"'Datos 2-Potenciales calent glob'!$E$6","v":1},{"$f":"'Datos 2-Potenciales calent glob'!$E$6","v":1},{"$f":"V151*AB151","v":0},0,0,0,0,0,0]
[null,"Energía","Fuente móvil","Electricidad",{"$f":"'Alcance 2'!C29","v":"Híbrido enchufable"},{"$f":"'Alcance 2'!F29","v":"Compañía suministradora"},null,"Ambos",2,{"$f":"'Alcance 2'!D29","v":0},{"$f":"'Alcance 2'!E29","v":"km"},null,{"$f":"SUMIF('Datos 3-Factores de convers'!$B$6:$B$9,Cálculos_5!E152,'Datos 3-Factores de convers'!$C$6:$C$9)/100","v":0.20956666666666668},null,{"$f":"J152*M152","v":0},"kWh",{"$f":"IF(F152=\"Compañía suministradora\",0,IF(INDEX('Datos 1-Factores emisión'!$B$358:$S$669,MATCH(Cálculos_5!$F152,'Datos 1-Factores emisión'!$B$358:$B$669,0),MATCH('Datos generales organización'!$D$14,'Datos 1-Factores emisión'!$D$358:$S$358,0)+2)=\"No aplica\",INDEX('Datos 1-Factores emisión'!$B$358:$S$669,31,MATCH('Datos generales organización'!$D$14,'Datos 1-Factores emisión'!$D$358:$S$358,0)+2),INDEX('Datos 1-Factores emisión'!$B$358:$S$669,MATCH(Cálculos_5!$F152,'Datos 1-Factores emisión'!$B$358:$B$669,0),MATCH('Datos generales organización'!$D$14,'Datos 1-Factores emisión'!$D$358:$S$358,0)+2)))","v":0},0,0,0,0,{"$f":"Q152*$O152","v":0},{"$f":"R152*$O152","v":0},{"$f":"S152*$O152","v":0},0,0,{"$f":"U152*$O152","v":0},{"$f":"'Datos 2-Potenciales calent glob'!$E$6","v":1},{"$f":"'Datos 2-Potenciales calent glob'!$E$31","v":28},{"$f":"'Datos 2-Potenciales calent glob'!$E$32","v":265},{"$f":"SUMIF('Datos 2-Potenciales calent glob'!$B$6:$B$56,Cálculos_5!F152,'Datos 2-Potenciales calent glob'!$E$6:$E$56)","v":0},{"$f":"'Datos 2-Potenciales calent glob'!$E$6","v":1},{"$f":"'Datos 2-Potenciales calent glob'!$E$6","v":1},{"$f":"V152*AB152","v":0},{"$f":"W152*AC152","v":0},{"$f":"X152*AD152","v":0},{"$f":"Y152*AE152","v":0},{"$f":"SUM(AH152:AK152)","v":0},{"$f":"Z152*AF152","v":0},{"$f":"AA152*AG152","v":0}]
[null,"Energía","Fuente móvil","Combustión",{"$f":"'Alcance 3'!D10","v":"Tipo de propulsión"},{"$f":"'Alcance 3'!C10","v":"Tipo de vehículo"},"Movilidad de los trabajadores","CAPV",3,{"$f":"'Alcance 3'!E10","v":0},{"$f":"'Alcance 3'!F10","v":"km*pasajero"},null,1,null,0,{"$f":"K153","v":"km*pasajero"},{"$f":"SUMIFS('Datos 1-Factores emisión'!$E$43:$E$309,'Datos 1-Factores emisión'!$B$43:$B$309,Cálculos_5!$F153,'Datos 1-Factores emisión'!$C$43:$C$309,Cálculos_5!$E153,'Datos 1-Factores emisión'!$D$43:$D$309,Cálculos_5!Q$5)","v":0},{"$f":"SUMIFS('Datos 1-Factores emisión'!$E$43:$E$309,'Datos 1-Factores emisión'!$B$43:$B$309,Cálculos_5!$F153,'Datos 1-Factores emisión'!$C$43:$C$309,Cálculos_5!$E153,'Datos 1-Factores emisión'!$D$43:$D$309,Cálculos_5!R$5)","v":0},{"$f":"SUMIFS('Datos 1-Factores emisión'!$E$43:$E$309,'Datos 1-Factores emisión'!$B$43:$B$309,Cálculos_5!$F153,'Datos 1-Factores emisión'!$C$43:$C$309,Cálculos_5!$E153,'Datos 1-Factores emisión'!$D$43:$D$309,Cálculos_5!S$5)","v":0},{"$f":"SUMIFS('Datos 1-Factores emisión'!$E$43:$E$309,'Datos 1-Factores emisión'!$B$43:$B$309,Cálculos_5!$F153,'Datos 1-Factores emisión'!$C$43:$C$309,Cálculos_5!$E153,'Datos 1-Factores emisión'!$D$43:$D$309,Cálculos_5!T$5)","v":0},0,0,0,0,0,0,0,{"$f":"'Datos 2-Potenciales calent glob'!$E$6","v":1},{"$f":"'Datos 2-Potenciales calent glob'!$E$31","v":28},{"$f":"'Datos 2-Potenciales calent glob'!$E$32","v":265},{"$f":"SUMIF('Datos 2-Potenciales calent glob'!$B$6:$B$56,Cálculos_5!F153,'Datos 2-Potenciales calent glob'!$E$6:$E$56)","v":0},{"$f":"'Datos 2-Potenciales calent glob'!$E$6","v":1},{"$f":"'Datos 2-Potenciales calent glob'!$E$6","v":1},0,{"$f":"W153*AC153","v":0},{"$f":"X153*AD153","v":0},{"$f":"Y153*AE153","v":0},{"$f":"SUM(AH153:AK153)","v":0},{"$f":"Z153*AF153","v":0},0]
[null,"Energía","Fuente móvil","Combustión",{"$f":"'Alcance 3'!D11","v":"Tipo de propulsión"},{"$f":"'Alcance 3'!C11","v":"Tipo de vehículo"},"Movilidad de los trabajadores","CAPV",3,{"$f":"'Alcance 3'!E11","v":0},{"$f":"'Alcance 3'!F11","v":"km*pasajero"},null,1,null,{"$f":"J154*M154","v":0},{"$f":"K154","v":"km*pasajero"},{"$f":"SUMIFS('Datos 1-Factores emisión'!$E$43:$E$309,'Datos 1-Factores emisión'!$B$43:$B$309,Cálculos_5!$F154,'Datos 1-Factores emisión'!$C$43:$C$309,Cálculos_5!$E154,'Datos 1-Factores emisión'!$D$43:$D$309,Cálculos_5!Q$5)","v":0},{"$f":"SUMIFS('Datos 1-Factores emisión'!$E$43:$E$309,'Datos 1-Factores emisión'!$B$43:$B$309,Cálculos_5!$F154,'Datos 1-Factores emisión'!$C$43:$C$309,Cálculos_5!$E154,'Datos 1-Factores emisión'!$D$43:$D$309,Cálculos_5!R$5)","v":0},{"$f":"SUMIFS('Datos 1-Factores emisión'!$E$43:$E$309,'Datos 1-Factores emisión'!$B$43:$B$309,Cálculos_5!$F154,'Datos 1-Factores emisión'!$C$43:$C$309,Cálculos_5!$E154,'Datos 1-Factores emisión'!$D$43:$D$309,Cálculos_5!S$5)","v":0},{"$f":"SUMIFS('Datos 1-Factores emisión'!$E$43:$E$309,'Datos 1-Factores emisión'!$B$43:$B$309,Cálculos_5!$F154,'Datos 1-Factores emisión'!$C$43:$C$309,Cálculos_5!$E154,'Datos 1-Factores emisión'!$D$43:$D$309,Cálculos_5!T$5)","v":0},0,0,0,0,0,0,0,{"$f":"'Datos 2-Potenciales calent glob'!$E$6","v":1},{"$f":"'Datos 2-Potenciales calent glob'!$E$31","v":28},{"$f":"'Datos 2-Potenciales calent glob'!$E$32","v":265},{"$f":"SUMIF('Datos 2-Potenciales calent glob'!$B$6:$B$56,Cálculos_5!F154,'Datos 2-Potenciales calent glob'!$E$6:$E$56)","v":0},{"$f":"'Datos 2-Potenciales calent glob'!$E$6","v":1},{"$f":"'Datos 2-Potenciales calent glob'!$E$6","v":1},0,{"$f":"W154*AC154","v":0},{"$f":"X154*AD154","v":0},{"$f":"Y154*AE154","v":0},{"$f":"SUM(AH154:AK154)","v":0},{"$f":"Z154*AF154","v":0},0]
[null,"Energía","Fuente móvil","Combustión",{"$f":"'Alcance 3'!D12","v":"Tipo de propulsión"},{"$f":"'Alcance 3'!C12","v":"Tipo de vehículo"},"Movilidad de los trabajadores","CAPV",3,{"$f":"'Alcance 3'!E12","v":0},{"$f":"'Alcance 3'!F12","v":"km*pasajero"},null,1,null,0,"km*pasajero",{"$f":"SUMIFS('Datos 1-Factores emisión'!$E$43:$E$309,'Datos 1-Factores emisión'!$B$43:$B$309,Cálculos_5!$F155,'Datos 1-Factores emisión'!$C$43:$C$309,Cálculos_5!$E155,'Datos 1-Factores emisión'!$D$43:$D$309,Cálculos_5!Q$5)","v":0},{"$f":"SUMIFS('Datos 1-Factores emisión'!$E$43:$E$309,'Datos 1-Factores emisión'!$B$43:$B$309,Cálculos_5!$F155,'Datos 1-Factores emisión'!$C$43:$C$309,Cálculos_5!$E155,'Datos 1-Factores emisión'!$D$43:$D$309,Cálculos_5!R$5)","v":0},{"$f":"SUMIFS('Datos 1-Factores emisión'!$E$43:$E$309,'Datos 1-Factores emisión'!$B$43:$B$309,Cálculos_5!$F155,'Datos 1-Factores emisión'!$C$43:$C$309,Cálculos_5!$E155,'Datos 1-Factores emisión'!$D$43:$D$309,Cálculos_5!S$5)","v":0},{"$f":"SUMIFS('Datos 1-Factores emisión'!$E$43:$E$309,'Datos 1-Factores emisión'!$B$43:$B$309,Cálculos_5!$F155,'Datos 1-Factores emisión'!$C$43:$C$309,Cálculos_5!$E155,'Datos 1-Factores emisión'!$D$43:$D$309,Cálculos_5!T$5)","v":0},0,0,0,0,0,0,0,{"$f":"'Datos 2-Potenciales calent glob'!$E$6","v":1},{"$f":"'Datos 2-Potenciales calent glob'!$E$31","v":28},{"$f":"'Datos 2-Potenciales calent glob'!$E$32","v":265},{"$f":"SUMIF('Datos 2-Potenciales calent glob'!$B$6:$B$56,Cálculos_5!F155,'Datos 2-Potenciales calent glob'!$E$6:$E$56)","v":0},{"$f":"'Datos 2-Potenciales calent glob'!$E$6","v":1},{"$f":"'Datos 2-Potenciales calent glob'!$E$6","v":1},0,0,0,0,0,0,0]
[null,"Energía","Fuente móvil","Combustión",{"$f":"'Alcance 3'!D13","v":"Tipo de propulsión"},{"$f":"'Alcance 3'!C13","v":"Tipo de vehículo"},"Movilidad de los trabajadores","CAPV",3,{"$f":"'Alcance 3'!E13","v":0},{"$f":"'Alcance 3'!F13","v":"km*pasajero"},null,1,null,0,"km*pasajero",{"$f":"SUMIFS('Datos 1-Factores emisión'!$E$43:$E$309,'Datos 1-Factores emisión'!$B$43:$B$309,Cálculos_5!$F156,'Datos 1-Factores emisión'!$C$43:$C$309,Cálculos_5!$E156,'Datos 1-Factores emisión'!$D$43:$D$309,Cálculos_5!Q$5)","v":0},{"$f":"SUMIFS('Datos 1-Factores emisión'!$E$43:$E$309,'Datos 1-Factores emisión'!$B$43:$B$309,Cálculos_5!$F156,'Datos 1-Factores emisión'!$C$43:$C$309,Cálculos_5!$E156,'Datos 1-Factores emisión'!$D$43:$D$309,Cálculos_5!R$5)","v":0},{"$f":"SUMIFS('Datos 1-Factores emisión'!$E$43:$E$309,'Datos 1-Factores emisión'!$B$43:$B$309,Cálculos_5!$F156,'Datos 1-Factores emisión'!$C$43:$C$309,Cálculos_5!$E156,'Datos 1-Factores emisión'!$D$43:$D$309,Cálculos_5!S$5)","v":0},{"$f":"SUMIFS('Datos 1-Factores emisión'!$E$43:$E$309,'Datos 1-Factores emisión'!$B$43:$B$309,Cálculos_5!$F156,'Datos 1-Factores emisión'!$C$43:$C$309,Cálculos_5!$E156,'Datos 1-Factores emisión'!$D$43:$D$309,Cálculos_5!T$5)","v":0},0,0,0,0,0,0,0,{"$f":"'Datos 2-Potenciales calent glob'!$E$6","v":1},{"$f":"'Datos 2-Potenciales calent glob'!$E$31","v":28},{"$f":"'Datos 2-Potenciales calent glob'!$E$32","v":265},{"$f":"SUMIF('Datos 2-Potenciales calent glob'!$B$6:$B$56,Cálculos_5!F156,'Datos 2-Potenciales calent glob'!$E$6:$E$56)","v":0},{"$f":"'Datos 2-Potenciales calent glob'!$E$6","v":1},{"$f":"'Datos 2-Potenciales calent glob'!$E$6","v":1},0,0,0,0,0,0,0]
[null,"Energía","Fuente móvil","Combustión",{"$f":"'Alcance 3'!D14","v":"Tipo de propulsión"},{"$f":"'Alcance 3'!C14","v":"Tipo de vehículo"},"Movilidad de los trabajadores","CAPV",3,{"$f":"'Alcance 3'!E14","v":0},{"$f":"'Alcance 3'!F14","v":"km*pasajero"},null,1,null,0,"km*pasajero",{"$f":"SUMIFS('Datos 1-Factores emisión'!$E$43:$E$309,'Datos 1-Factores emisión'!$B$43:$B$309,Cálculos_5!$F157,'Datos 1-Factores emisión'!$C$43:$C$309,Cálculos_5!$E157,'Datos 1-Factores emisión'!$D$43:$D$309,Cálculos_5!Q$5)","v":0},{"$f":"SUMIFS('Datos 1-Factores emisión'!$E$43:$E$309,'Datos 1-Factores emisión'!$B$43:$B$309,Cálculos_5!$F157,'Datos 1-Factores emisión'!$C$43:$C$309,Cálculos_5!$E157,'Datos 1-Factores emisión'!$D$43:$D$309,Cálculos_5!R$5)","v":0},{"$f":"SUMIFS('Datos 1-Factores emisión'!$E$43:$E$309,'Datos 1-Factores emisión'!$B$43:$B$309,Cálculos_5!$F157,'Datos 1-Factores emisión'!$C$43:$C$309,Cálculos_5!$E157,'Datos 1-Factores emisión'!$D$43:$D$309,Cálculos_5!S$5)","v":0},{"$f":"SUMIFS('Datos 1-Factores emisión'!$E$43:$E$309,'Datos 1-Factores emisión'!$B$43:$B$309,Cálculos_5!$F157,'Datos 1-Factores emisión'!$C$43:$C$309,Cálculos_5!$E157,'Datos 1-Factores emisión'!$D$43:$D$309,Cálculos_5!T$5)","v":0},0,0,0,0,0,0,0,{"$f":"'Datos 2-Potenciales calent glob'!$E$6","v":1},{"$f":"'Datos 2-Potenciales calent glob'!$E$31","v":28},{"$f":"'Datos 2-Potenciales calent glob'!$E$32","v":265},{"$f":"SUMIF('Datos 2-Potenciales calent glob'!$B$6:$B$56,Cálculos_5!F157,'Datos 2-Potenciales calent glob'!$E$6:$E$56)","v":0},{"$f":"'Datos 2-Potenciales calent glob'!$E$6","v":1},{"$f":"'Datos 2-Potenciales calent glob'!$E$6","v":1},0,0,0,0,0,0,0]
[null,"Energía","Fuente móvil","Combustión",{"$f":"'Alcance 3'!D15","v":"Tipo de propulsión"},{"$f":"'Alcance 3'!C15","v":"Tipo de vehículo"},"Movilidad de los trabajadores","CAPV",3,{"$f":"'Alcance 3'!E15","v":0},{"$f":"'Alcance 3'!F15","v":"km*pasajero"},null,1,null,0,"km*pasajero",{"$f":"SUMIFS('Datos 1-Factores emisión'!$E$43:$E$309,'Datos 1-Factores emisión'!$B$43:$B$309,Cálculos_5!$F158,'Datos 1-Factores emisión'!$C$43:$C$309,Cálculos_5!$E158,'Datos 1-Factores emisión'!$D$43:$D$309,Cálculos_5!Q$5)","v":0},{"$f":"SUMIFS('Datos 1-Factores emisión'!$E$43:$E$309,'Datos 1-Factores emisión'!$B$43:$B$309,Cálculos_5!$F158,'Datos 1-Factores emisión'!$C$43:$C$309,Cálculos_5!$E158,'Datos 1-Factores emisión'!$D$43:$D$309,Cálculos_5!R$5)","v":0},{"$f":"SUMIFS('Datos 1-Factores emisión'!$E$43:$E$309,'Datos 1-Factores emisión'!$B$43:$B$309,Cálculos_5!$F158,'Datos 1-Factores emisión'!$C$43:$C$309,Cálculos_5!$E158,'Datos 1-Factores emisión'!$D$43:$D$309,Cálculos_5!S$5)","v":0},{"$f":"SUMIFS('Datos 1-Factores emisión'!$E$43:$E$309,'Datos 1-Factores emisión'!$B$43:$B$309,Cálculos_5!$F158,'Datos 1-Factores emisión'!$C$43:$C$309,Cálculos_5!$E158,'Datos 1-Factores emisión'!$D$43:$D$309,Cálculos_5!T$5)","v":0},0,0,0,0,0,0,0,{"$f":"'Datos 2-Potenciales calent glob'!$E$6","v":1},{"$f":"'Datos 2-Potenciales calent glob'!$E$31","v":28},{"$f":"'Datos 2-Potenciales calent glob'!$E$32","v":265},{"$f":"SUMIF('Datos 2-Potenciales calent glob'!$B$6:$B$56,Cálculos_5!F158,'Datos 2-Potenciales calent glob'!$E$6:$E$56)","v":0},{"$f":"'Datos 2-Potenciales calent glob'!$E$6","v":1},{"$f":"'Datos 2-Potenciales calent glob'!$E$6","v":1},0,0,0,0,0,0,0]
[null,"Energía","Fuente móvil","Combustión",{"$f":"'Alcance 3'!D16","v":"Tipo de propulsión"},{"$f":"'Alcance 3'!C16","v":"Tipo de vehículo"},"Movilidad de los trabajadores","CAPV",3,{"$f":"'Alcance 3'!E16","v":0},{"$f":"'Alcance 3'!F16","v":"km*pasajero"},null,1,null,0,"km*pasajero",{"$f":"SUMIFS('Datos 1-Factores emisión'!$E$43:$E$309,'Datos 1-Factores emisión'!$B$43:$B$309,Cálculos_5!$F159,'Datos 1-Factores emisión'!$C$43:$C$309,Cálculos_5!$E159,'Datos 1-Factores emisión'!$D$43:$D$309,Cálculos_5!Q$5)","v":0},{"$f":"SUMIFS('Datos 1-Factores emisión'!$E$43:$E$309,'Datos 1-Factores emisión'!$B$43:$B$309,Cálculos_5!$F159,'Datos 1-Factores emisión'!$C$43:$C$309,Cálculos_5!$E159,'Datos 1-Factores emisión'!$D$43:$D$309,Cálculos_5!R$5)","v":0},{"$f":"SUMIFS('Datos 1-Factores emisión'!$E$43:$E$309,'Datos 1-Factores emisión'!$B$43:$B$309,Cálculos_5!$F159,'Datos 1-Factores emisión'!$C$43:$C$309,Cálculos_5!$E159,'Datos 1-Factores emisión'!$D$43:$D$309,Cálculos_5!S$5)","v":0},{"$f":"SUMIFS('Datos 1-Factores emisión'!$E$43:$E$309,'Datos 1-Factores emisión'!$B$43:$B$309,Cálculos_5!$F159,'Datos 1-Factores emisión'!$C$43:$C$309,Cálculos_5!$E159,'Datos 1-Factores emisión'!$D$43:$D$309,Cálculos_5!T$5)","v":0},0,0,0,0,0,0,0,{"$f":"'Datos 2-Potenciales calent glob'!$E$6","v":1},{"$f":"'Datos 2-Potenciales calent glob'!$E$31","v":28},{"$f":"'Datos 2-Potenciales calent glob'!$E$32","v":265},{"$f":"SUMIF('Datos 2-Potenciales calent glob'!$B$6:$B$56,Cálculos_5!F159,'Datos 2-Potenciales calent glob'!$E$6:$E$56)","v":0},{"$f":"'Datos 2-Potenciales calent glob'!$E$6","v":1},{"$f":"'Datos 2-Potenciales calent glob'!$E$6","v":1},0,0,0,0,0,0,0]
[null,"Energía","Fuente móvil","Combustión",{"$f":"'Alcance 3'!D17","v":"Tipo de propulsión"},{"$f":"'Alcance 3'!C17","v":"Tipo de vehículo"},"Movilidad de los trabajadores","CAPV",3,{"$f":"'Alcance 3'!E17","v":0},{"$f":"'Alcance 3'!F17","v":"km*pasajero"},null,1,null,0,"km*pasajero",{"$f":"SUMIFS('Datos 1-Factores emisión'!$E$43:$E$309,'Datos 1-Factores emisión'!$B$43:$B$309,Cálculos_5!$F160,'Datos 1-Factores emisión'!$C$43:$C$309,Cálculos_5!$E160,'Datos 1-Factores emisión'!$D$43:$D$309,Cálculos_5!Q$5)","v":0},{"$f":"SUMIFS('Datos 1-Factores emisión'!$E$43:$E$309,'Datos 1-Factores emisión'!$B$43:$B$309,Cálculos_5!$F160,'Datos 1-Factores emisión'!$C$43:$C$309,Cálculos_5!$E160,'Datos 1-Factores emisión'!$D$43:$D$309,Cálculos_5!R$5)","v":0},{"$f":"SUMIFS('Datos 1-Factores emisión'!$E$43:$E$309,'Datos 1-Factores emisión'!$B$43:$B$309,Cálculos_5!$F160,'Datos 1-Factores emisión'!$C$43:$C$309,Cálculos_5!$E160,'Datos 1-Factores emisión'!$D$43:$D$309,Cálculos_5!S$5)","v":0},{"$f":"SUMIFS('Datos 1-Factores emisión'!$E$43:$E$309,'Datos 1-Factores emisión'!$B$43:$B$309,Cálculos_5!$F160,'Datos 1-Factores emisión'!$C$43:$C$309,Cálculos_5!$E160,'Datos 1-Factores emisión'!$D$43:$D$309,Cálculos_5!T$5)","v":0},0,0,0,0,0,0,0,{"$f":"'Datos 2-Potenciales calent glob'!$E$6","v":1},{"$f":"'Datos 2-Potenciales calent glob'!$E$31","v":28},{"$f":"'Datos 2-Potenciales calent glob'!$E$32","v":265},{"$f":"SUMIF('Datos 2-Potenciales calent glob'!$B$6:$B$56,Cálculos_5!F160,'Datos 2-Potenciales calent glob'!$E$6:$E$56)","v":0},{"$f":"'Datos 2-Potenciales calent glob'!$E$6","v":1},{"$f":"'Datos 2-Potenciales calent glob'!$E$6","v":1},0,0,0,0,0,0,0]
[null,"Energía","Fuente móvil","Combustión",{"$f":"'Alcance 3'!D18","v":"Tipo de propulsión"},{"$f":"'Alcance 3'!C18","v":"Tipo de vehículo"},"Movilidad de los trabajadores","CAPV",3,{"$f":"'Alcance 3'!E18","v":0},{"$f":"'Alcance 3'!F18","v":"km*pasajero"},null,1,null,0,"km*pasajero",{"$f":"SUMIFS('Datos 1-Factores emisión'!$E$43:$E$309,'Datos 1-Factores emisión'!$B$43:$B$309,Cálculos_5!$F161,'Datos 1-Factores emisión'!$C$43:$C$309,Cálculos_5!$E161,'Datos 1-Factores emisión'!$D$43:$D$309,Cálculos_5!Q$5)","v":0},{"$f":"SUMIFS('Datos 1-Factores emisión'!$E$43:$E$309,'Datos 1-Factores emisión'!$B$43:$B$309,Cálculos_5!$F161,'Datos 1-Factores emisión'!$C$43:$C$309,Cálculos_5!$E161,'Datos 1-Factores emisión'!$D$43:$D$309,Cálculos_5!R$5)","v":0},{"$f":"SUMIFS('Datos 1-Factores emisión'!$E$43:$E$309,'Datos 1-Factores emisión'!$B$43:$B$309,Cálculos_5!$F161,'Datos 1-Factores emisión'!$C$43:$C$309,Cálculos_5!$E161,'Datos 1-Factores emisión'!$D$43:$D$309,Cálculos_5!S$5)","v":0},{"$f":"SUMIFS('Datos 1-Factores emisión'!$E$43:$E$309,'Datos 1-Factores emisión'!$B$43:$B$309,Cálculos_5!$F161,'Datos 1-Factores emisión'!$C$43:$C$309,Cálculos_5!$E161,'Datos 1-Factores emisión'!$D$43:$D$309,Cálculos_5!T$5)","v":0},0,0,0,0,0,0,0,{"$f":"'Datos 2-Potenciales calent glob'!$E$6","v":1},{"$f":"'Datos 2-Potenciales calent glob'!$E$31","v":28},{"$f":"'Datos 2-Potenciales calent glob'!$E$32","v":265},{"$f":"SUMIF('Datos 2-Potenciales calent glob'!$B$6:$B$56,Cálculos_5!F161,'Datos 2-Potenciales calent glob'!$E$6:$E$56)","v":0},{"$f":"'Datos 2-Potenciales calent glob'!$E$6","v":1},{"$f":"'Datos 2-Potenciales calent glob'!$E$6","v":1},0,0,0,0,0,0,0]
[null,"Energía","Fuente móvil","Combustión","Combustible desconocido",{"$f":"'Alcance 3'!C25","v":"Autobús urbano"},"Movilidad de los trabajadores","CAPV",3,{"$f":"'Alcance 3'!D25","v":50},{"$f":"'Alcance 3'!E25","v":"km*pasajero"},null,1,null,{"$f":"J162*M162","v":50},{"$f":"K162","v":"km*pasajero"},{"$f":"SUMIFS('Datos 1-Factores emisión'!$D$324:$D$353,'Datos 1-Factores emisión'!$B$324:$B$353,Cálculos_5!$F162,'Datos 1-Factores emisión'!$C$324:$C$353,Cálculos_5!Q$5)","v":2.7279999999999999E-2},{"$f":"SUMIFS('Datos 1-Factores emisión'!$D$324:$D$353,'Datos 1-Factores emisión'!$B$324:$B$353,Cálculos_5!$F162,'Datos 1-Factores emisión'!$C$324:$C$353,Cálculos_5!R$5)","v":2.0000000000000002E-5},{"$f":"SUMIFS('Datos 1-Factores emisión'!$D$324:$D$353,'Datos 1-Factores emisión'!$B$324:$B$353,Cálculos_5!$F162,'Datos 1-Factores emisión'!$C$324:$C$353,Cálculos_5!S$5)","v":4.8999999999999998E-4},0,0,1.3639999999999999,1E-3,2.4500000000000001E-2,0,0,0,{"$f":"'Datos 2-Potenciales calent glob'!$E$6","v":1},{"$f":"'Datos 2-Potenciales calent glob'!$E$31","v":28},{"$f":"'Datos 2-Potenciales calent glob'!$E$32","v":265},{"$f":"SUMIF('Datos 2-Potenciales calent glob'!$B$6:$B$56,Cálculos_5!F162,'Datos 2-Potenciales calent glob'!$E$6:$E$56)","v":0},{"$f":"'Datos 2-Potenciales calent glob'!$E$6","v":1},{"$f":"'Datos 2-Potenciales calent glob'!$E$6","v":1},1.3639999999999999,{"$f":"W162*AC162","v":2.8000000000000001E-2},{"$f":"X162*AD162","v":6.4925000000000006},{"$f":"Y162*AE162","v":0},{"$f":"SUM(AH162:AK162)","v":7.884500000000001},{"$f":"Z162*AF162","v":0},0]
[null,"Energía","Fuente móvil","Combustión","Combustible desconocido",{"$f":"'Alcance 3'!C26","v":"Tipo de transporte público"},"Movilidad de los trabajadores","CAPV",3,{"$f":"'Alcance 3'!D26","v":0},{"$f":"'Alcance 3'!E26","v":"km*pasajero"},null,1,null,{"$f":"J163*M163","v":0},{"$f":"K163","v":"km*pasajero"},{"$f":"SUMIFS('Datos 1-Factores emisión'!$D$324:$D$353,'Datos 1-Factores emisión'!$B$324:$B$353,Cálculos_5!$F163,'Datos 1-Factores emisión'!$C$324:$C$353,Cálculos_5!Q$5)","v":0},{"$f":"SUMIFS('Datos 1-Factores emisión'!$D$324:$D$353,'Datos 1-Factores emisión'!$B$324:$B$353,Cálculos_5!$F163,'Datos 1-Factores emisión'!$C$324:$C$353,Cálculos_5!R$5)","v":0},{"$f":"SUMIFS('Datos 1-Factores emisión'!$D$324:$D$353,'Datos 1-Factores emisión'!$B$324:$B$353,Cálculos_5!$F163,'Datos 1-Factores emisión'!$C$324:$C$353,Cálculos_5!S$5)","v":0},0,0,0,0,0,0,0,0,{"$f":"'Datos 2-Potenciales calent glob'!$E$6","v":1},{"$f":"'Datos 2-Potenciales calent glob'!$E$31","v":28},{"$f":"'Datos 2-Potenciales calent glob'!$E$32","v":265},{"$f":"SUMIF('Datos 2-Potenciales calent glob'!$B$6:$B$56,Cálculos_5!F163,'Datos 2-Potenciales calent glob'!$E$6:$E$56)","v":0},{"$f":"'Datos 2-Potenciales calent glob'!$E$6","v":1},{"$f":"'Datos 2-Potenciales calent glob'!$E$6","v":1},0,{"$f":"W163*AC163","v":0},{"$f":"X163*AD163","v":0},{"$f":"Y163*AE163","v":0},{"$f":"SUM(AH163:AK163)","v":0},{"$f":"Z163*AF163","v":0},0]
[null,"Energía","Fuente móvil","Combustión","Combustible desconocido",{"$f":"'Alcance 3'!C27","v":"Tipo de transporte público"},"Movilidad de los trabajadores","CAPV",3,{"$f":"'Alcance 3'!D27","v":0},{"$f":"'Alcance 3'!E27","v":"km*pasajero"},null,1,null,0,"km*pasajero",{"$f":"SUMIFS('Datos 1-Factores emisión'!$D$324:$D$353,'Datos 1-Factores emisión'!$B$324:$B$353,Cálculos_5!$F164,'Datos 1-Factores emisión'!$C$324:$C$353,Cálculos_5!Q$5)","v":0},{"$f":"SUMIFS('Datos 1-Factores emisión'!$D$324:$D$353,'Datos 1-Factores emisión'!$B$324:$B$353,Cálculos_5!$F164,'Datos 1-Factores emisión'!$C$324:$C$353,Cálculos_5!R$5)","v":0},{"$f":"SUMIFS('Datos 1-Factores emisión'!$D$324:$D$353,'Datos 1-Factores emisión'!$B$324:$B$353,Cálculos_5!$F164,'Datos 1-Factores emisión'!$C$324:$C$353,Cálculos_5!S$5)","v":0},0,0,0,0,0,0,0,0,{"$f":"'Datos 2-Potenciales calent glob'!$E$6","v":1},{"$f":"'Datos 2-Potenciales calent glob'!$E$31","v":28},{"$f":"'Datos 2-Potenciales calent glob'!$E$32","v":265},{"$f":"SUMIF('Datos 2-Potenciales calent glob'!$B$6:$B$56,Cálculos_5!F164,'Datos 2-Potenciales calent glob'!$E$6:$E$56)","v":0},{"$f":"'Datos 2-Potenciales calent glob'!$E$6","v":1},{"$f":"'Datos 2-Potenciales calent glob'!$E$6","v":1},0,0,0,0,0,0,0]
[null,"Energía","Fuente móvil","Combustión","Combustible desconocido",{"$f":"'Alcance 3'!C28","v":"Tipo de transporte público"},"Movilidad de los trabajadores","CAPV",3,{"$f":"'Alcance 3'!D28","v":0},{"$f":"'Alcance 3'!E28","v":"km*pasajero"},null,1,null,0,"km*pasajero",{"$f":"SUMIFS('Datos 1-Factores emisión'!$D$324:$D$353,'Datos 1-Factores emisión'!$B$324:$B$353,Cálculos_5!$F165,'Datos 1-Factores emisión'!$C$324:$C$353,Cálculos_5!Q$5)","v":0},{"$f":"SUMIFS('Datos 1-Factores emisión'!$D$324:$D$353,'Datos 1-Factores emisión'!$B$324:$B$353,Cálculos_5!$F165,'Datos 1-Factores emisión'!$C$324:$C$353,Cálculos_5!R$5)","v":0},{"$f":"SUMIFS('Datos 1-Factores emisión'!$D$324:$D$353,'Datos 1-Factores emisión'!$B$324:$B$353,Cálculos_5!$F165,'Datos 1-Factores emisión'!$C$324:$C$353,Cálculos_5!S$5)","v":0},0,0,0,0,0,0,0,0,{"$f":"'Datos 2-Potenciales calent glob'!$E$6","v":1},{"$f":"'Datos 2-Potenciales calent glob'!$E$31","v":28},{"$f":"'Datos 2-Potenciales calent glob'!$E$32","v":265},{"$f":"SUMIF('Datos 2-Potenciales calent glob'!$B$6:$B$56,Cálculos_5!F165,'Datos 2-Potenciales calent glob'!$E$6:$E$56)","v":0},{"$f":"'Datos 2-Potenciales calent glob'!$E$6","v":1},{"$f":"'Datos 2-Potenciales calent glob'!$E$6","v":1},0,0,0,0,0,0,0]
[null,"Energía","Fuente móvil","Combustión","Combustible desconocido",{"$f":"'Alcance 3'!C29","v":"Tipo de transporte público"},"Movilidad de los trabajadores","CAPV",3,{"$f":"'Alcance 3'!D29","v":0},{"$f":"'Alcance 3'!E29","v":"km*pasajero"},null,1,null,0,"km*pasajero",{"$f":"SUMIFS('Datos 1-Factores emisión'!$D$324:$D$353,'Datos 1-Factores emisión'!$B$324:$B$353,Cálculos_5!$F166,'Datos 1-Factores emisión'!$C$324:$C$353,Cálculos_5!Q$5)","v":0},{"$f":"SUMIFS('Datos 1-Factores emisión'!$D$324:$D$353,'Datos 1-Factores emisión'!$B$324:$B$353,Cálculos_5!$F166,'Datos 1-Factores emisión'!$C$324:$C$353,Cálculos_5!R$5)","v":0},{"$f":"SUMIFS('Datos 1-Factores emisión'!$D$324:$D$353,'Datos 1-Factores emisión'!$B$324:$B$353,Cálculos_5!$F166,'Datos 1-Factores emisión'!$C$324:$C$353,Cálculos_5!S$5)","v":0},0,0,0,0,0,0,0,0,{"$f":"'Datos 2-Potenciales calent glob'!$E$6","v":1},{"$f":"'Datos 2-Potenciales calent glob'!$E$31","v":28},{"$f":"'Datos 2-Potenciales calent glob'!$E$32","v":265},{"$f":"SUMIF('Datos 2-Potenciales calent glob'!$B$6:$B$56,Cálculos_5!F166,'Datos 2-Potenciales calent glob'!$E$6:$E$56)","v":0},{"$f":"'Datos 2-Potenciales calent glob'!$E$6","v":1},{"$f":"'Datos 2-Potenciales calent glob'!$E$6","v":1},0,0,0,0,0,0,0]
[null,"Energía","Fuente móvil","Combustión","Combustible desconocido",{"$f":"'Alcance 3'!C30","v":"Tipo de transporte público"},"Movilidad de los trabajadores","CAPV",3,{"$f":"'Alcance 3'!D30","v":0},{"$f":"'Alcance 3'!E30","v":"km*pasajero"},null,1,null,0,"km*pasajero",{"$f":"SUMIFS('Datos 1-Factores emisión'!$D$324:$D$353,'Datos 1-Factores emisión'!$B$324:$B$353,Cálculos_5!$F167,'Datos 1-Factores emisión'!$C$324:$C$353,Cálculos_5!Q$5)","v":0},{"$f":"SUMIFS('Datos 1-Factores emisión'!$D$324:$D$353,'Datos 1-Factores emisión'!$B$324:$B$353,Cálculos_5!$F167,'Datos 1-Factores emisión'!$C$324:$C$353,Cálculos_5!R$5)","v":0},{"$f":"SUMIFS('Datos 1-Factores emisión'!$D$324:$D$353,'Datos 1-Factores emisión'!$B$324:$B$353,Cálculos_5!$F167,'Datos 1-Factores emisión'!$C$324:$C$353,Cálculos_5!S$5)","v":0},0,0,0,0,0,0,0,0,{"$f":"'Datos 2-Potenciales calent glob'!$E$6","v":1},{"$f":"'Datos 2-Potenciales calent glob'!$E$31","v":28},{"$f":"'Datos 2-Potenciales calent glob'!$E$32","v":265},{"$f":"SUMIF('Datos 2-Potenciales calent glob'!$B$6:$B$56,Cálculos_5!F167,'Datos 2-Potenciales calent glob'!$E$6:$E$56)","v":0},{"$f":"'Datos 2-Potenciales calent glob'!$E$6","v":1},{"$f":"'Datos 2-Potenciales calent glob'!$E$6","v":1},0,0,0,0,0,0,0]
[null,"Energía","Fuente móvil","Combustión","Combustible desconocido",{"$f":"'Alcance 3'!C31","v":"Tipo de transporte público"},"Movilidad de los trabajadores","CAPV",3,{"$f":"'Alcance 3'!D31","v":0},{"$f":"'Alcance 3'!E31","v":"km*pasajero"},null,1,null,0,"km*pasajero",{"$f":"SUMIFS('Datos 1-Factores emisión'!$D$324:$D$353,'Datos 1-Factores emisión'!$B$324:$B$353,Cálculos_5!$F168,'Datos 1-Factores emisión'!$C$324:$C$353,Cálculos_5!Q$5)","v":0},{"$f":"SUMIFS('Datos 1-Factores emisión'!$D$324:$D$353,'Datos 1-Factores emisión'!$B$324:$B$353,Cálculos_5!$F168,'Datos 1-Factores emisión'!$C$324:$C$353,Cálculos_5!R$5)","v":0},{"$f":"SUMIFS('Datos 1-Factores emisión'!$D$324:$D$353,'Datos 1-Factores emisión'!$B$324:$B$353,Cálculos_5!$F168,'Datos 1-Factores emisión'!$C$324:$C$353,Cálculos_5!S$5)","v":0},0,0,0,0,0,0,0,0,{"$f":"'Datos 2-Potenciales calent glob'!$E$6","v":1},{"$f":"'Datos 2-Potenciales calent glob'!$E$31","v":28},{"$f":"'Datos 2-Potenciales calent glob'!$E$32","v":265},{"$f":"SUMIF('Datos 2-Potenciales calent glob'!$B$6:$B$56,Cálculos_5!F168,'Datos 2-Potenciales calent glob'!$E$6:$E$56)","v":0},{"$f":"'Datos 2-Potenciales calent glob'!$E$6","v":1},{"$f":"'Datos 2-Potenciales calent glob'!$E$6","v":1},0,0,0,0,0,0,0]
[null,"Energía","Fuente móvil","Combustión",{"$f":"'Alcance 3'!D39","v":"Tipo de propulsión"},{"$f":"'Alcance 3'!C39","v":"Tipo de vehículo"},"Viajes de trabajo ","CAPV",3,{"$f":"'Alcance 3'!E39","v":0},{"$f":"'Alcance 3'!F39","v":"km"},null,1,null,0,"km",{"$f":"SUMIFS('Datos 1-Factores emisión'!$E$43:$E$309,'Datos 1-Factores emisión'!$B$43:$B$309,Cálculos_5!$F169,'Datos 1-Factores emisión'!$C$43:$C$309,Cálculos_5!$E169,'Datos 1-Factores emisión'!$D$43:$D$309,Cálculos_5!Q$5)","v":0},{"$f":"SUMIFS('Datos 1-Factores emisión'!$E$43:$E$309,'Datos 1-Factores emisión'!$B$43:$B$309,Cálculos_5!$F169,'Datos 1-Factores emisión'!$C$43:$C$309,Cálculos_5!$E169,'Datos 1-Factores emisión'!$D$43:$D$309,Cálculos_5!R$5)","v":0},{"$f":"SUMIFS('Datos 1-Factores emisión'!$E$43:$E$309,'Datos 1-Factores emisión'!$B$43:$B$309,Cálculos_5!$F169,'Datos 1-Factores emisión'!$C$43:$C$309,Cálculos_5!$E169,'Datos 1-Factores emisión'!$D$43:$D$309,Cálculos_5!S$5)","v":0},0,0,0,0,0,0,0,0,{"$f":"'Datos 2-Potenciales calent glob'!$E$6","v":1},{"$f":"'Datos 2-Potenciales calent glob'!$E$31","v":28},{"$f":"'Datos 2-Potenciales calent glob'!$E$32","v":265},{"$f":"SUMIF('Datos 2-Potenciales calent glob'!$B$6:$B$56,Cálculos_5!F169,'Datos 2-Potenciales calent glob'!$E$6:$E$56)","v":0},{"$f":"'Datos 2-Potenciales calent glob'!$E$6","v":1},{"$f":"'Datos 2-Potenciales calent glob'!$E$6","v":1},0,0,0,0,0,0,0]
[null,"Energía","Fuente móvil","Combustión",{"$f":"'Alcance 3'!D40","v":"Tipo de propulsión"},{"$f":"'Alcance 3'!C40","v":"Tipo de vehículo"},"Viajes de trabajo ","CAPV",3,{"$f":"'Alcance 3'!E40","v":0},{"$f":"'Alcance 3'!F40","v":"km"},null,1,null,{"$f":"J170*M170","v":0},{"$f":"K170","v":"km"},{"$f":"SUMIFS('Datos 1-Factores emisión'!$E$43:$E$309,'Datos 1-Factores emisión'!$B$43:$B$309,Cálculos_5!$F170,'Datos 1-Factores emisión'!$C$43:$C$309,Cálculos_5!$E170,'Datos 1-Factores emisión'!$D$43:$D$309,Cálculos_5!Q$5)","v":0},{"$f":"SUMIFS('Datos 1-Factores emisión'!$E$43:$E$309,'Datos 1-Factores emisión'!$B$43:$B$309,Cálculos_5!$F170,'Datos 1-Factores emisión'!$C$43:$C$309,Cálculos_5!$E170,'Datos 1-Factores emisión'!$D$43:$D$309,Cálculos_5!R$5)","v":0},{"$f":"SUMIFS('Datos 1-Factores emisión'!$E$43:$E$309,'Datos 1-Factores emisión'!$B$43:$B$309,Cálculos_5!$F170,'Datos 1-Factores emisión'!$C$43:$C$309,Cálculos_5!$E170,'Datos 1-Factores emisión'!$D$43:$D$309,Cálculos_5!S$5)","v":0},0,0,0,0,0,0,0,0,{"$f":"'Datos 2-Potenciales calent glob'!$E$6","v":1},{"$f":"'Datos 2-Potenciales calent glob'!$E$31","v":28},{"$f":"'Datos 2-Potenciales calent glob'!$E$32","v":265},{"$f":"SUMIF('Datos 2-Potenciales calent glob'!$B$6:$B$56,Cálculos_5!F170,'Datos 2-Potenciales calent glob'!$E$6:$E$56)","v":0},{"$f":"'Datos 2-Potenciales calent glob'!$E$6","v":1},{"$f":"'Datos 2-Potenciales calent glob'!$E$6","v":1},0,{"$f":"W170*AC170","v":0},{"$f":"X170*AD170","v":0},{"$f":"Y170*AE170","v":0},{"$f":"SUM(AH170:AK170)","v":0},{"$f":"Z170*AF170","v":0},0]
[null,"Energía","Fuente móvil","Combustión",{"$f":"'Alcance 3'!D41","v":"Tipo de propulsión"},{"$f":"'Alcance 3'!C41","v":"Tipo de vehículo"},"Viajes de trabajo ","CAPV",3,{"$f":"'Alcance 3'!E41","v":0},{"$f":"'Alcance 3'!F41","v":"km"},null,1,null,0,"km",{"$f":"SUMIFS('Datos 1-Factores emisión'!$E$43:$E$309,'Datos 1-Factores emisión'!$B$43:$B$309,Cálculos_5!$F171,'Datos 1-Factores emisión'!$C$43:$C$309,Cálculos_5!$E171,'Datos 1-Factores emisión'!$D$43:$D$309,Cálculos_5!Q$5)","v":0},{"$f":"SUMIFS('Datos 1-Factores emisión'!$E$43:$E$309,'Datos 1-Factores emisión'!$B$43:$B$309,Cálculos_5!$F171,'Datos 1-Factores emisión'!$C$43:$C$309,Cálculos_5!$E171,'Datos 1-Factores emisión'!$D$43:$D$309,Cálculos_5!R$5)","v":0},{"$f":"SUMIFS('Datos 1-Factores emisión'!$E$43:$E$309,'Datos 1-Factores emisión'!$B$43:$B$309,Cálculos_5!$F171,'Datos 1-Factores emisión'!$C$43:$C$309,Cálculos_5!$E171,'Datos 1-Factores emisión'!$D$43:$D$309,Cálculos_5!S$5)","v":0},0,0,0,0,0,0,0,0,{"$f":"'Datos 2-Potenciales calent glob'!$E$6","v":1},{"$f":"'Datos 2-Potenciales calent glob'!$E$31","v":28},{"$f":"'Datos 2-Potenciales calent glob'!$E$32","v":265},{"$f":"SUMIF('Datos 2-Potenciales calent glob'!$B$6:$B$56,Cálculos_5!F171,'Datos 2-Potenciales calent glob'!$E$6:$E$56)","v":0},{"$f":"'Datos 2-Potenciales calent glob'!$E$6","v":1},{"$f":"'Datos 2-Potenciales calent glob'!$E$6","v":1},0,0,0,0,0,0,0]
[null,"Energía","Fuente móvil","Combustión",{"$f":"'Alcance 3'!D42","v":"Tipo de propulsión"},{"$f":"'Alcance 3'!C42","v":"Tipo de vehículo"},"Viajes de trabajo ","CAPV",3,{"$f":"'Alcance 3'!E42","v":0},{"$f":"'Alcance 3'!F42","v":"km"},null,1,null,0,"km",{"$f":"SUMIFS('Datos 1-Factores emisión'!$E$43:$E$309,'Datos 1-Factores emisión'!$B$43:$B$309,Cálculos_5!$F172,'Datos 1-Factores emisión'!$C$43:$C$309,Cálculos_5!$E172,'Datos 1-Factores emisión'!$D$43:$D$309,Cálculos_5!Q$5)","v":0},{"$f":"SUMIFS('Datos 1-Factores emisión'!$E$43:$E$309,'Datos 1-Factores emisión'!$B$43:$B$309,Cálculos_5!$F172,'Datos 1-Factores emisión'!$C$43:$C$309,Cálculos_5!$E172,'Datos 1-Factores emisión'!$D$43:$D$309,Cálculos_5!R$5)","v":0},{"$f":"SUMIFS('Datos 1-Factores emisión'!$E$43:$E$309,'Datos 1-Factores emisión'!$B$43:$B$309,Cálculos_5!$F172,'Datos 1-Factores emisión'!$C$43:$C$309,Cálculos_5!$E172,'Datos 1-Factores emisión'!$D$43:$D$309,Cálculos_5!S$5)","v":0},0,0,0,0,0,0,0,0,{"$f":"'Datos 2-Potenciales calent glob'!$E$6","v":1},{"$f":"'Datos 2-Potenciales calent glob'!$E$31","v":28},{"$f":"'Datos 2-Potenciales calent glob'!$E$32","v":265},{"$f":"SUMIF('Datos 2-Potenciales calent glob'!$B$6:$B$56,Cálculos_5!F172,'Datos 2-Potenciales calent glob'!$E$6:$E$56)","v":0},{"$f":"'Datos 2-Potenciales calent glob'!$E$6","v":1},{"$f":"'Datos 2-Potenciales calent glob'!$E$6","v":1},0,0,0,0,0,0,{"$f":"AA172*AG172","v":0}]
[null,"Energía","Fuente móvil","Combustión",{"$f":"'Alcance 3'!D43","v":"Tipo de propulsión"},{"$f":"'Alcance 3'!C43","v":"Tipo de vehículo"},"Viajes de trabajo ","CAPV",3,{"$f":"'Alcance 3'!E43","v":0},{"$f":"'Alcance 3'!F43","v":"km"},null,1,null,0,"km",{"$f":"SUMIFS('Datos 1-Factores emisión'!$E$43:$E$309,'Datos 1-Factores emisión'!$B$43:$B$309,Cálculos_5!$F173,'Datos 1-Factores emisión'!$C$43:$C$309,Cálculos_5!$E173,'Datos 1-Factores emisión'!$D$43:$D$309,Cálculos_5!Q$5)","v":0},{"$f":"SUMIFS('Datos 1-Factores emisión'!$E$43:$E$309,'Datos 1-Factores emisión'!$B$43:$B$309,Cálculos_5!$F173,'Datos 1-Factores emisión'!$C$43:$C$309,Cálculos_5!$E173,'Datos 1-Factores emisión'!$D$43:$D$309,Cálculos_5!R$5)","v":0},{"$f":"SUMIFS('Datos 1-Factores emisión'!$E$43:$E$309,'Datos 1-Factores emisión'!$B$43:$B$309,Cálculos_5!$F173,'Datos 1-Factores emisión'!$C$43:$C$309,Cálculos_5!$E173,'Datos 1-Factores emisión'!$D$43:$D$309,Cálculos_5!S$5)","v":0},0,0,0,0,0,0,0,0,{"$f":"'Datos 2-Potenciales calent glob'!$E$6","v":1},{"$f":"'Datos 2-Potenciales calent glob'!$E$31","v":28},{"$f":"'Datos 2-Potenciales calent glob'!$E$32","v":265},{"$f":"SUMIF('Datos 2-Potenciales calent glob'!$B$6:$B$56,Cálculos_5!F173,'Datos 2-Potenciales calent glob'!$E$6:$E$56)","v":0},{"$f":"'Datos 2-Potenciales calent glob'!$E$6","v":1},{"$f":"'Datos 2-Potenciales calent glob'!$E$6","v":1},0,0,0,0,0,0,0]
[null,"Energía","Fuente móvil","Combustión",{"$f":"'Alcance 3'!D44","v":"Tipo de propulsión"},{"$f":"'Alcance 3'!C44","v":"Tipo de vehículo"},"Viajes de trabajo ","CAPV",3,{"$f":"'Alcance 3'!E44","v":0},{"$f":"'Alcance 3'!F44","v":"km"},null,1,null,0,"km",{"$f":"SUMIFS('Datos 1-Factores emisión'!$E$43:$E$309,'Datos 1-Factores emisión'!$B$43:$B$309,Cálculos_5!$F174,'Datos 1-Factores emisión'!$C$43:$C$309,Cálculos_5!$E174,'Datos 1-Factores emisión'!$D$43:$D$309,Cálculos_5!Q$5)","v":0},{"$f":"SUMIFS('Datos 1-Factores emisión'!$E$43:$E$309,'Datos 1-Factores emisión'!$B$43:$B$309,Cálculos_5!$F174,'Datos 1-Factores emisión'!$C$43:$C$309,Cálculos_5!$E174,'Datos 1-Factores emisión'!$D$43:$D$309,Cálculos_5!R$5)","v":0},{"$f":"SUMIFS('Datos 1-Factores emisión'!$E$43:$E$309,'Datos 1-Factores emisión'!$B$43:$B$309,Cálculos_5!$F174,'Datos 1-Factores emisión'!$C$43:$C$309,Cálculos_5!$E174,'Datos 1-Factores emisión'!$D$43:$D$309,Cálculos_5!S$5)","v":0},0,0,0,0,0,0,0,0,{"$f":"'Datos 2-Potenciales calent glob'!$E$6","v":1},{"$f":"'Datos 2-Potenciales calent glob'!$E$31","v":28},{"$f":"'Datos 2-Potenciales calent glob'!$E$32","v":265},{"$f":"SUMIF('Datos 2-Potenciales calent glob'!$B$6:$B$56,Cálculos_5!F174,'Datos 2-Potenciales calent glob'!$E$6:$E$56)","v":0},{"$f":"'Datos 2-Potenciales calent glob'!$E$6","v":1},{"$f":"'Datos 2-Potenciales calent glob'!$E$6","v":1},0,0,0,0,0,0,0]
[null,"Energía","Fuente móvil","Combustión",{"$f":"'Alcance 3'!D45","v":"Tipo de propulsión"},{"$f":"'Alcance 3'!C45","v":"Tipo de vehículo"},"Viajes de trabajo ","CAPV",3,{"$f":"'Alcance 3'!E45","v":0},{"$f":"'Alcance 3'!F45","v":"km"},null,1,null,0,"km",{"$f":"SUMIFS('Datos 1-Factores emisión'!$E$43:$E$309,'Datos 1-Factores emisión'!$B$43:$B$309,Cálculos_5!$F175,'Datos 1-Factores emisión'!$C$43:$C$309,Cálculos_5!$E175,'Datos 1-Factores emisión'!$D$43:$D$309,Cálculos_5!Q$5)","v":0},{"$f":"SUMIFS('Datos 1-Factores emisión'!$E$43:$E$309,'Datos 1-Factores emisión'!$B$43:$B$309,Cálculos_5!$F175,'Datos 1-Factores emisión'!$C$43:$C$309,Cálculos_5!$E175,'Datos 1-Factores emisión'!$D$43:$D$309,Cálculos_5!R$5)","v":0},{"$f":"SUMIFS('Datos 1-Factores emisión'!$E$43:$E$309,'Datos 1-Factores emisión'!$B$43:$B$309,Cálculos_5!$F175,'Datos 1-Factores emisión'!$C$43:$C$309,Cálculos_5!$E175,'Datos 1-Factores emisión'!$D$43:$D$309,Cálculos_5!S$5)","v":0},0,0,0,0,0,0,0,0,{"$f":"'Datos 2-Potenciales calent glob'!$E$6","v":1},{"$f":"'Datos 2-Potenciales calent glob'!$E$31","v":28},{"$f":"'Datos 2-Potenciales calent glob'!$E$32","v":265},{"$f":"SUMIF('Datos 2-Potenciales calent glob'!$B$6:$B$56,Cálculos_5!F175,'Datos 2-Potenciales calent glob'!$E$6:$E$56)","v":0},{"$f":"'Datos 2-Potenciales calent glob'!$E$6","v":1},{"$f":"'Datos 2-Potenciales calent glob'!$E$6","v":1},0,0,0,0,0,0,0]
[null,"Energía","Fuente móvil","Combustión",{"$f":"'Alcance 3'!D46","v":"Tipo de propulsión"},{"$f":"'Alcance 3'!C46","v":"Tipo de vehículo"},"Viajes de trabajo ","CAPV",3,{"$f":"'Alcance 3'!E46","v":0},{"$f":"'Alcance 3'!F46","v":"km"},null,1,null,0,"km",{"$f":"SUMIFS('Datos 1-Factores emisión'!$E$43:$E$309,'Datos 1-Factores emisión'!$B$43:$B$309,Cálculos_5!$F176,'Datos 1-Factores emisión'!$C$43:$C$309,Cálculos_5!$E176,'Datos 1-Factores emisión'!$D$43:$D$309,Cálculos_5!Q$5)","v":0},{"$f":"SUMIFS('Datos 1-Factores emisión'!$E$43:$E$309,'Datos 1-Factores emisión'!$B$43:$B$309,Cálculos_5!$F176,'Datos 1-Factores emisión'!$C$43:$C$309,Cálculos_5!$E176,'Datos 1-Factores emisión'!$D$43:$D$309,Cálculos_5!R$5)","v":0},{"$f":"SUMIFS('Datos 1-Factores emisión'!$E$43:$E$309,'Datos 1-Factores emisión'!$B$43:$B$309,Cálculos_5!$F176,'Datos 1-Factores emisión'!$C$43:$C$309,Cálculos_5!$E176,'Datos 1-Factores emisión'!$D$43:$D$309,Cálculos_5!S$5)","v":0},0,0,0,0,0,0,0,0,{"$f":"'Datos 2-Potenciales calent glob'!$E$6","v":1},{"$f":"'Datos 2-Potenciales calent glob'!$E$31","v":28},{"$f":"'Datos 2-Potenciales calent glob'!$E$32","v":265},{"$f":"SUMIF('Datos 2-Potenciales calent glob'!$B$6:$B$56,Cálculos_5!F176,'Datos 2-Potenciales calent glob'!$E$6:$E$56)","v":0},{"$f":"'Datos 2-Potenciales calent glob'!$E$6","v":1},{"$f":"'Datos 2-Potenciales calent glob'!$E$6","v":1},0,0,0,0,0,0,0]
[null,"Energía","Fuente móvil","Combustión","Combustible desconocido",{"$f":"'Alcance 3'!C54","v":"Tipo de transporte público"},"Viajes de trabajo ","CAPV",3,{"$f":"'Alcance 3'!D54","v":0},{"$f":"'Alcance 3'!E54","v":"km"},null,1,null,0,"km",{"$f":"SUMIFS('Datos 1-Factores emisión'!$D$324:$D$353,'Datos 1-Factores emisión'!$B$324:$B$353,Cálculos_5!$F177,'Datos 1-Factores emisión'!$C$324:$C$353,Cálculos_5!Q$5)","v":0},{"$f":"SUMIFS('Datos 1-Factores emisión'!$D$324:$D$353,'Datos 1-Factores emisión'!$B$324:$B$353,Cálculos_5!$F177,'Datos 1-Factores emisión'!$C$324:$C$353,Cálculos_5!R$5)","v":0},{"$f":"SUMIFS('Datos 1-Factores emisión'!$D$324:$D$353,'Datos 1-Factores emisión'!$B$324:$B$353,Cálculos_5!$F177,'Datos 1-Factores emisión'!$C$324:$C$353,Cálculos_5!S$5)","v":0},0,0,0,0,0,0,0,0,{"$f":"'Datos 2-Potenciales calent glob'!$E$6","v":1},{"$f":"'Datos 2-Potenciales calent glob'!$E$31","v":28},{"$f":"'Datos 2-Potenciales calent glob'!$E$32","v":265},{"$f":"SUMIF('Datos 2-Potenciales calent glob'!$B$6:$B$56,Cálculos_5!F177,'Datos 2-Potenciales calent glob'!$E$6:$E$56)","v":0},{"$f":"'Datos 2-Potenciales calent glob'!$E$6","v":1},{"$f":"'Datos 2-Potenciales calent glob'!$E$6","v":1},0,0,0,0,0,0,0]
[null,"Energía","Fuente móvil","Combustión","Combustible desconocido",{"$f":"'Alcance 3'!C55","v":"Tipo de transporte público"},"Viajes de trabajo ","CAPV",3,{"$f":"'Alcance 3'!D55","v":0},{"$f":"'Alcance 3'!E55","v":"km"},null,1,null,{"$f":"J178*M178","v":0},{"$f":"K178","v":"km"},{"$f":"SUMIFS('Datos 1-Factores emisión'!$D$324:$D$353,'Datos 1-Factores emisión'!$B$324:$B$353,Cálculos_5!$F178,'Datos 1-Factores emisión'!$C$324:$C$353,Cálculos_5!Q$5)","v":0},{"$f":"SUMIFS('Datos 1-Factores emisión'!$D$324:$D$353,'Datos 1-Factores emisión'!$B$324:$B$353,Cálculos_5!$F178,'Datos 1-Factores emisión'!$C$324:$C$353,Cálculos_5!R$5)","v":0},{"$f":"SUMIFS('Datos 1-Factores emisión'!$D$324:$D$353,'Datos 1-Factores emisión'!$B$324:$B$353,Cálculos_5!$F178,'Datos 1-Factores emisión'!$C$324:$C$353,Cálculos_5!S$5)","v":0},0,0,0,0,0,0,0,0,{"$f":"'Datos 2-Potenciales calent glob'!$E$6","v":1},{"$f":"'Datos 2-Potenciales calent glob'!$E$31","v":28},{"$f":"'Datos 2-Potenciales calent glob'!$E$32","v":265},{"$f":"SUMIF('Datos 2-Potenciales calent glob'!$B$6:$B$56,Cálculos_5!F178,'Datos 2-Potenciales calent glob'!$E$6:$E$56)","v":0},{"$f":"'Datos 2-Potenciales calent glob'!$E$6","v":1},{"$f":"'Datos 2-Potenciales calent glob'!$E$6","v":1},0,{"$f":"W178*AC178","v":0},{"$f":"X178*AD178","v":0},{"$f":"Y178*AE178","v":0},{"$f":"SUM(AH178:AK178)","v":0},{"$f":"Z178*AF178","v":0},0]
[null,"Energía","Fuente móvil","Combustión","Combustible desconocido",{"$f":"'Alcance 3'!C56","v":"Tipo de transporte público"},"Viajes de trabajo ","CAPV",3,{"$f":"'Alcance 3'!D56","v":0},{"$f":"'Alcance 3'!E56","v":"km"},null,1,null,0,"km",{"$f":"SUMIFS('Datos 1-Factores emisión'!$D$324:$D$353,'Datos 1-Factores emisión'!$B$324:$B$353,Cálculos_5!$F179,'Datos 1-Factores emisión'!$C$324:$C$353,Cálculos_5!Q$5)","v":0},{"$f":"SUMIFS('Datos 1-Factores emisión'!$D$324:$D$353,'Datos 1-Factores emisión'!$B$324:$B$353,Cálculos_5!$F179,'Datos 1-Factores emisión'!$C$324:$C$353,Cálculos_5!R$5)","v":0},{"$f":"SUMIFS('Datos 1-Factores emisión'!$D$324:$D$353,'Datos 1-Factores emisión'!$B$324:$B$353,Cálculos_5!$F179,'Datos 1-Factores emisión'!$C$324:$C$353,Cálculos_5!S$5)","v":0},0,0,0,0,0,0,0,{"$f":"U179*$O179","v":0},{"$f":"'Datos 2-Potenciales calent glob'!$E$6","v":1},{"$f":"'Datos 2-Potenciales calent glob'!$E$31","v":28},{"$f":"'Datos 2-Potenciales calent glob'!$E$32","v":265},{"$f":"SUMIF('Datos 2-Potenciales calent glob'!$B$6:$B$56,Cálculos_5!F179,'Datos 2-Potenciales calent glob'!$E$6:$E$56)","v":0},{"$f":"'Datos 2-Potenciales calent glob'!$E$6","v":1},{"$f":"'Datos 2-Potenciales calent glob'!$E$6","v":1},0,0,0,0,0,0,0]
[null,"Energía","Fuente móvil","Combustión","Combustible desconocido",{"$f":"'Alcance 3'!C57","v":"Tipo de transporte público"},"Viajes de trabajo ","CAPV",3,{"$f":"'Alcance 3'!D57","v":0},{"$f":"'Alcance 3'!E57","v":"km"},null,1,null,0,"km",{"$f":"SUMIFS('Datos 1-Factores emisión'!$D$324:$D$353,'Datos 1-Factores emisión'!$B$324:$B$353,Cálculos_5!$F180,'Datos 1-Factores emisión'!$C$324:$C$353,Cálculos_5!Q$5)","v":0},{"$f":"SUMIFS('Datos 1-Factores emisión'!$D$324:$D$353,'Datos 1-Factores emisión'!$B$324:$B$353,Cálculos_5!$F180,'Datos 1-Factores emisión'!$C$324:$C$353,Cálculos_5!R$5)","v":0},{"$f":"SUMIFS('Datos 1-Factores emisión'!$D$324:$D$353,'Datos 1-Factores emisión'!$B$324:$B$353,Cálculos_5!$F180,'Datos 1-Factores emisión'!$C$324:$C$353,Cálculos_5!S$5)","v":0},0,0,0,0,0,0,0,0,{"$f":"'Datos 2-Potenciales calent glob'!$E$6","v":1},{"$f":"'Datos 2-Potenciales calent glob'!$E$31","v":28},{"$f":"'Datos 2-Potenciales calent glob'!$E$32","v":265},{"$f":"SUMIF('Datos 2-Potenciales calent glob'!$B$6:$B$56,Cálculos_5!F180,'Datos 2-Potenciales calent glob'!$E$6:$E$56)","v":0},{"$f":"'Datos 2-Potenciales calent glob'!$E$6","v":1},{"$f":"'Datos 2-Potenciales calent glob'!$E$6","v":1},0,0,0,0,0,0,0]
[null,"Energía","Fuente móvil","Combustión","Combustible desconocido",{"$f":"'Alcance 3'!C58","v":"Tipo de transporte público"},"Viajes de trabajo ","CAPV",3,{"$f":"'Alcance 3'!D58","v":0},{"$f":"'Alcance 3'!E58","v":"km"},null,1,null,0,"km",{"$f":"SUMIFS('Datos 1-Factores emisión'!$D$324:$D$353,'Datos 1-Factores emisión'!$B$324:$B$353,Cálculos_5!$F181,'Datos 1-Factores emisión'!$C$324:$C$353,Cálculos_5!Q$5)","v":0},{"$f":"SUMIFS('Datos 1-Factores emisión'!$D$324:$D$353,'Datos 1-Factores emisión'!$B$324:$B$353,Cálculos_5!$F181,'Datos 1-Factores emisión'!$C$324:$C$353,Cálculos_5!R$5)","v":0},{"$f":"SUMIFS('Datos 1-Factores emisión'!$D$324:$D$353,'Datos 1-Factores emisión'!$B$324:$B$353,Cálculos_5!$F181,'Datos 1-Factores emisión'!$C$324:$C$353,Cálculos_5!S$5)","v":0},0,0,0,0,0,0,0,0,{"$f":"'Datos 2-Potenciales calent glob'!$E$6","v":1},{"$f":"'Datos 2-Potenciales calent glob'!$E$31","v":28},{"$f":"'Datos 2-Potenciales calent glob'!$E$32","v":265},{"$f":"SUMIF('Datos 2-Potenciales calent glob'!$B$6:$B$56,Cálculos_5!F181,'Datos 2-Potenciales calent glob'!$E$6:$E$56)","v":0},{"$f":"'Datos 2-Potenciales calent glob'!$E$6","v":1},{"$f":"'Datos 2-Potenciales calent glob'!$E$6","v":1},0,0,0,0,0,0,0]
[null,"Energía","Fuente móvil","Combustión","Combustible desconocido",{"$f":"'Alcance 3'!C59","v":"Tipo de transporte público"},"Viajes de trabajo ","CAPV",3,{"$f":"'Alcance 3'!D59","v":0},{"$f":"'Alcance 3'!E59","v":"km"},null,1,null,0,"km",{"$f":"SUMIFS('Datos 1-Factores emisión'!$D$324:$D$353,'Datos 1-Factores emisión'!$B$324:$B$353,Cálculos_5!$F182,'Datos 1-Factores emisión'!$C$324:$C$353,Cálculos_5!Q$5)","v":0},{"$f":"SUMIFS('Datos 1-Factores emisión'!$D$324:$D$353,'Datos 1-Factores emisión'!$B$324:$B$353,Cálculos_5!$F182,'Datos 1-Factores emisión'!$C$324:$C$353,Cálculos_5!R$5)","v":0},{"$f":"SUMIFS('Datos 1-Factores emisión'!$D$324:$D$353,'Datos 1-Factores emisión'!$B$324:$B$353,Cálculos_5!$F182,'Datos 1-Factores emisión'!$C$324:$C$353,Cálculos_5!S$5)","v":0},0,0,0,0,0,0,0,0,{"$f":"'Datos 2-Potenciales calent glob'!$E$6","v":1},{"$f":"'Datos 2-Potenciales calent glob'!$E$31","v":28},{"$f":"'Datos 2-Potenciales calent glob'!$E$32","v":265},{"$f":"SUMIF('Datos 2-Potenciales calent glob'!$B$6:$B$56,Cálculos_5!F182,'Datos 2-Potenciales calent glob'!$E$6:$E$56)","v":0},{"$f":"'Datos 2-Potenciales calent glob'!$E$6","v":1},{"$f":"'Datos 2-Potenciales calent glob'!$E$6","v":1},0,0,0,0,0,0,0]
[null,"Energía","Fuente móvil","Combustión","Combustible desconocido",{"$f":"'Alcance 3'!C60","v":"Tipo de transporte público"},"Viajes de trabajo ","CAPV",3,{"$f":"'Alcance 3'!D60","v":0},{"$f":"'Alcance 3'!E60","v":"km"},null,1,null,{"$f":"J183*M183","v":0},{"$f":"K183","v":"km"},{"$f":"SUMIFS('Datos 1-Factores emisión'!$D$324:$D$353,'Datos 1-Factores emisión'!$B$324:$B$353,Cálculos_5!$F183,'Datos 1-Factores emisión'!$C$324:$C$353,Cálculos_5!Q$5)","v":0},{"$f":"SUMIFS('Datos 1-Factores emisión'!$D$324:$D$353,'Datos 1-Factores emisión'!$B$324:$B$353,Cálculos_5!$F183,'Datos 1-Factores emisión'!$C$324:$C$353,Cálculos_5!R$5)","v":0},{"$f":"SUMIFS('Datos 1-Factores emisión'!$D$324:$D$353,'Datos 1-Factores emisión'!$B$324:$B$353,Cálculos_5!$F183,'Datos 1-Factores emisión'!$C$324:$C$353,Cálculos_5!S$5)","v":0},0,0,0,0,0,0,0,0,{"$f":"'Datos 2-Potenciales calent glob'!$E$6","v":1},{"$f":"'Datos 2-Potenciales calent glob'!$E$31","v":28},{"$f":"'Datos 2-Potenciales calent glob'!$E$32","v":265},{"$f":"SUMIF('Datos 2-Potenciales calent glob'!$B$6:$B$56,Cálculos_5!F183,'Datos 2-Potenciales calent glob'!$E$6:$E$56)","v":0},{"$f":"'Datos 2-Potenciales calent glob'!$E$6","v":1},{"$f":"'Datos 2-Potenciales calent glob'!$E$6","v":1},0,{"$f":"W183*AC183","v":0},{"$f":"X183*AD183","v":0},{"$f":"Y183*AE183","v":0},{"$f":"SUM(AH183:AK183)","v":0},{"$f":"Z183*AF183","v":0},0]
[null,"Residuos","Fuente difusa","Residuos","Vertedero",{"$f":"'Alcance 3'!C66","v":"Residuos domiciliarios a vertedero"},"Gestión de residuos","CAPV",3,{"$f":"'Alcance 3'!D66","v":0},{"$f":"'Alcance 3'!E66","v":"kg"},null,{"$f":"1/1000","v":1E-3},null,{"$f":"J184*M184","v":0},"t ",{"$f":"'Datos 1-Factores emisión'!D770","v":21.353999999999999},{"$f":"SUMIFS('Datos 1-Factores emisión'!$D$324:$D$353,'Datos 1-Factores emisión'!$B$324:$B$353,Cálculos_5!$F184,'Datos 1-Factores emisión'!$C$324:$C$353,Cálculos_5!R$5)","v":0},{"$f":"SUMIFS('Datos 1-Factores emisión'!$D$324:$D$353,'Datos 1-Factores emisión'!$B$324:$B$353,Cálculos_5!$F184,'Datos 1-Factores emisión'!$C$324:$C$353,Cálculos_5!S$5)","v":0},0,0,0,0,0,0,0,0,{"$f":"'Datos 2-Potenciales calent glob'!$E$6","v":1},{"$f":"'Datos 2-Potenciales calent glob'!$E$31","v":28},{"$f":"'Datos 2-Potenciales calent glob'!$E$32","v":265},{"$f":"SUMIF('Datos 2-Potenciales calent glob'!$B$6:$B$56,Cálculos_5!F184,'Datos 2-Potenciales calent glob'!$E$6:$E$56)","v":0},{"$f":"'Datos 2-Potenciales calent glob'!$E$6","v":1},{"$f":"'Datos 2-Potenciales calent glob'!$E$6","v":1},0,{"$f":"W184*AC184","v":0},{"$f":"X184*AD184","v":0},{"$f":"Y184*AE184","v":0},{"$f":"SUM(AH184:AK184)","v":0},{"$f":"Z184*AF184","v":0},0]
[null,"Residuos","Fuente difusa","Residuos","Incineración",{"$f":"'Alcance 3'!C67","v":"Residuos domiciliarios a incineración"},"Gestión de residuos","CAPV",3,{"$f":"'Alcance 3'!D67","v":0},{"$f":"'Alcance 3'!E67","v":"kg"},null,{"$f":"1/1000","v":1E-3},null,0,"t ",{"$f":"'Datos 1-Factores emisión'!D771","v":99.759200000000007},{"$f":"SUMIFS('Datos 1-Factores emisión'!$D$324:$D$353,'Datos 1-Factores emisión'!$B$324:$B$353,Cálculos_5!$F185,'Datos 1-Factores emisión'!$C$324:$C$353,Cálculos_5!R$5)","v":0},{"$f":"SUMIFS('Datos 1-Factores emisión'!$D$324:$D$353,'Datos 1-Factores emisión'!$B$324:$B$353,Cálculos_5!$F185,'Datos 1-Factores emisión'!$C$324:$C$353,Cálculos_5!S$5)","v":0},0,0,0,0,0,0,0,0,{"$f":"'Datos 2-Potenciales calent glob'!$E$6","v":1},{"$f":"'Datos 2-Potenciales calent glob'!$E$31","v":28},{"$f":"'Datos 2-Potenciales calent glob'!$E$32","v":265},{"$f":"SUMIF('Datos 2-Potenciales calent glob'!$B$6:$B$56,Cálculos_5!F185,'Datos 2-Potenciales calent glob'!$E$6:$E$56)","v":0},{"$f":"'Datos 2-Potenciales calent glob'!$E$6","v":1},{"$f":"'Datos 2-Potenciales calent glob'!$E$6","v":1},0,0,0,0,0,0,0]
[null,"Residuos","Fuente difusa","Residuos","Vertedero",{"$f":"'Alcance 3'!C68","v":"Residuos comerciales e industriales a vertedero"},"Gestión de residuos","CAPV",3,{"$f":"'Alcance 3'!D68","v":0},{"$f":"'Alcance 3'!E68","v":"kg"},null,1E-3,null,0,"t ",{"$f":"'Datos 1-Factores emisión'!D772","v":21.353999999999999},{"$f":"SUMIFS('Datos 1-Factores emisión'!$D$324:$D$353,'Datos 1-Factores emisión'!$B$324:$B$353,Cálculos_5!$F186,'Datos 1-Factores emisión'!$C$324:$C$353,Cálculos_5!R$5)","v":0},{"$f":"SUMIFS('Datos 1-Factores emisión'!$D$324:$D$353,'Datos 1-Factores emisión'!$B$324:$B$353,Cálculos_5!$F186,'Datos 1-Factores emisión'!$C$324:$C$353,Cálculos_5!S$5)","v":0},0,0,0,0,0,0,0,0,{"$f":"'Datos 2-Potenciales calent glob'!$E$6","v":1},{"$f":"'Datos 2-Potenciales calent glob'!$E$31","v":28},{"$f":"'Datos 2-Potenciales calent glob'!$E$32","v":265},{"$f":"SUMIF('Datos 2-Potenciales calent glob'!$B$6:$B$56,Cálculos_5!F186,'Datos 2-Potenciales calent glob'!$E$6:$E$56)","v":0},{"$f":"'Datos 2-Potenciales calent glob'!$E$6","v":1},{"$f":"'Datos 2-Potenciales calent glob'!$E$6","v":1},0,0,0,0,0,0,0]
[null,"Residuos","Fuente difusa","Residuos","Incineración",{"$f":"'Alcance 3'!C69","v":"Residuos comerciales e industriales a incineración"},"Gestión de residuos","CAPV",3,{"$f":"'Alcance 3'!D69","v":0},{"$f":"'Alcance 3'!E69","v":"kg"},null,1E-3,null,0,"t ",{"$f":"'Datos 1-Factores emisión'!D773","v":586.51379999999995},{"$f":"SUMIFS('Datos 1-Factores emisión'!$D$324:$D$353,'Datos 1-Factores emisión'!$B$324:$B$353,Cálculos_5!$F187,'Datos 1-Factores emisión'!$C$324:$C$353,Cálculos_5!R$5)","v":0},{"$f":"SUMIFS('Datos 1-Factores emisión'!$D$324:$D$353,'Datos 1-Factores emisión'!$B$324:$B$353,Cálculos_5!$F187,'Datos 1-Factores emisión'!$C$324:$C$353,Cálculos_5!S$5)","v":0},0,0,0,0,0,0,0,0,{"$f":"'Datos 2-Potenciales calent glob'!$E$6","v":1},{"$f":"'Datos 2-Potenciales calent glob'!$E$31","v":28},{"$f":"'Datos 2-Potenciales calent glob'!$E$32","v":265},{"$f":"SUMIF('Datos 2-Potenciales calent glob'!$B$6:$B$56,Cálculos_5!F187,'Datos 2-Potenciales calent glob'!$E$6:$E$56)","v":0},{"$f":"'Datos 2-Potenciales calent glob'!$E$6","v":1},{"$f":"'Datos 2-Potenciales calent glob'!$E$6","v":1},0,0,0,0,0,0,0]
[null,"Residuos","Fuente difusa","Residuos","Compostaje",{"$f":"'Alcance 3'!C70","v":"Fracción orgánica a compostaje"},"Gestión de residuos","CAPV",3,{"$f":"'Alcance 3'!D70","v":0},{"$f":"'Alcance 3'!E70","v":"kg"},null,1E-3,null,{"$f":"J188*M188","v":0},"t ",{"$f":"'Datos 1-Factores emisión'!D774","v":10.204000000000001},{"$f":"SUMIFS('Datos 1-Factores emisión'!$D$324:$D$353,'Datos 1-Factores emisión'!$B$324:$B$353,Cálculos_5!$F188,'Datos 1-Factores emisión'!$C$324:$C$353,Cálculos_5!R$5)","v":0},{"$f":"SUMIFS('Datos 1-Factores emisión'!$D$324:$D$353,'Datos 1-Factores emisión'!$B$324:$B$353,Cálculos_5!$F188,'Datos 1-Factores emisión'!$C$324:$C$353,Cálculos_5!S$5)","v":0},0,0,0,0,0,0,0,0,{"$f":"'Datos 2-Potenciales calent glob'!$E$6","v":1},{"$f":"'Datos 2-Potenciales calent glob'!$E$31","v":28},{"$f":"'Datos 2-Potenciales calent glob'!$E$32","v":265},{"$f":"SUMIF('Datos 2-Potenciales calent glob'!$B$6:$B$56,Cálculos_5!F188,'Datos 2-Potenciales calent glob'!$E$6:$E$56)","v":0},{"$f":"'Datos 2-Potenciales calent glob'!$E$6","v":1},{"$f":"'Datos 2-Potenciales calent glob'!$E$6","v":1},0,0,0,0,0,0,0]
[null,"Residuos","Fuente difusa","Residuos","Reciclaje",{"$f":"'Alcance 3'!C71","v":"Vidrio a reciclaje"},"Gestión de residuos","CAPV",3,{"$f":"'Alcance 3'!D71","v":0},{"$f":"'Alcance 3'!E71","v":"kg"},null,1E-3,null,0,"t ",{"$f":"'Datos 1-Factores emisión'!D775","v":21.353999999999999},{"$f":"SUMIFS('Datos 1-Factores emisión'!$D$324:$D$353,'Datos 1-Factores emisión'!$B$324:$B$353,Cálculos_5!$F189,'Datos 1-Factores emisión'!$C$324:$C$353,Cálculos_5!R$5)","v":0},{"$f":"SUMIFS('Datos 1-Factores emisión'!$D$324:$D$353,'Datos 1-Factores emisión'!$B$324:$B$353,Cálculos_5!$F189,'Datos 1-Factores emisión'!$C$324:$C$353,Cálculos_5!S$5)","v":0},0,0,0,0,0,0,0,0,{"$f":"'Datos 2-Potenciales calent glob'!$E$6","v":1},{"$f":"'Datos 2-Potenciales calent glob'!$E$31","v":28},{"$f":"'Datos 2-Potenciales calent glob'!$E$32","v":265},{"$f":"SUMIF('Datos 2-Potenciales calent glob'!$B$6:$B$56,Cálculos_5!F189,'Datos 2-Potenciales calent glob'!$E$6:$E$56)","v":0},{"$f":"'Datos 2-Potenciales calent glob'!$E$6","v":1},{"$f":"'Datos 2-Potenciales calent glob'!$E$6","v":1},0,0,0,0,0,0,0]
[null,"Residuos","Fuente difusa","Residuos","Reciclaje",{"$f":"'Alcance 3'!C72","v":"Envases a reciclaje"},"Gestión de residuos","CAPV",3,{"$f":"'Alcance 3'!D72","v":0},{"$f":"'Alcance 3'!E72","v":"kg"},null,1E-3,null,0,"t ",{"$f":"'Datos 1-Factores emisión'!D776","v":21.353999999999999},{"$f":"SUMIFS('Datos 1-Factores emisión'!$D$324:$D$353,'Datos 1-Factores emisión'!$B$324:$B$353,Cálculos_5!$F190,'Datos 1-Factores emisión'!$C$324:$C$353,Cálculos_5!R$5)","v":0},{"$f":"SUMIFS('Datos 1-Factores emisión'!$D$324:$D$353,'Datos 1-Factores emisión'!$B$324:$B$353,Cálculos_5!$F190,'Datos 1-Factores emisión'!$C$324:$C$353,Cálculos_5!S$5)","v":0},0,0,0,0,0,0,0,0,{"$f":"'Datos 2-Potenciales calent glob'!$E$6","v":1},{"$f":"'Datos 2-Potenciales calent glob'!$E$31","v":28},{"$f":"'Datos 2-Potenciales calent glob'!$E$32","v":265},{"$f":"SUMIF('Datos 2-Potenciales calent glob'!$B$6:$B$56,Cálculos_5!F190,'Datos 2-Potenciales calent glob'!$E$6:$E$56)","v":0},{"$f":"'Datos 2-Potenciales calent glob'!$E$6","v":1},{"$f":"'Datos 2-Potenciales calent glob'!$E$6","v":1},0,0,0,0,0,0,0]
[null,"Residuos","Fuente difusa","Residuos","Reciclaje",{"$f":"'Alcance 3'!C73","v":"Papel y cartón a reciclaje"},"Gestión de residuos","CAPV",3,{"$f":"'Alcance 3'!D73","v":0},{"$f":"'Alcance 3'!E73","v":"kg"},null,1E-3,null,0,"t ",{"$f":"'Datos 1-Factores emisión'!D777","v":21.353999999999999},{"$f":"SUMIFS('Datos 1-Factores emisión'!$D$324:$D$353,'Datos 1-Factores emisión'!$B$324:$B$353,Cálculos_5!$F191,'Datos 1-Factores emisión'!$C$324:$C$353,Cálculos_5!R$5)","v":0},{"$f":"SUMIFS('Datos 1-Factores emisión'!$D$324:$D$353,'Datos 1-Factores emisión'!$B$324:$B$353,Cálculos_5!$F191,'Datos 1-Factores emisión'!$C$324:$C$353,Cálculos_5!S$5)","v":0},0,0,0,0,0,0,0,0,{"$f":"'Datos 2-Potenciales calent glob'!$E$6","v":1},{"$f":"'Datos 2-Potenciales calent glob'!$E$31","v":28},{"$f":"'Datos 2-Potenciales calent glob'!$E$32","v":265},{"$f":"SUMIF('Datos 2-Potenciales calent glob'!$B$6:$B$56,Cálculos_5!F191,'Datos 2-Potenciales calent glob'!$E$6:$E$56)","v":0},{"$f":"'Datos 2-Potenciales calent glob'!$E$6","v":1},{"$f":"'Datos 2-Potenciales calent glob'!$E$6","v":1},0,0,0,0,0,0,0]
[null,"Consumo de agua","Fuente difusa","Ciclo de vida","Consumo de agua","Consumo de agua","Consumo de agua","CAPV",3,{"$f":"'Alcance 3'!D79","v":0},{"$f":"'Alcance 3'!E79","v":"m3"},null,1,null,0,{"$f":"K192","v":"m3"},{"$f":"'Datos 1-Factores emisión'!C783","v":0.34410000000000002},{"$f":"SUMIFS('Datos 1-Factores emisión'!$D$324:$D$353,'Datos 1-Factores emisión'!$B$324:$B$353,Cálculos_5!$E192,'Datos 1-Factores emisión'!$C$324:$C$353,Cálculos_5!R$5)","v":0},{"$f":"SUMIFS('Datos 1-Factores emisión'!$D$324:$D$353,'Datos 1-Factores emisión'!$B$324:$B$353,Cálculos_5!$E192,'Datos 1-Factores emisión'!$C$324:$C$353,Cálculos_5!S$5)","v":0},0,0,{"$f":"Q192*$O192","v":0},0,0,0,0,0,{"$f":"'Datos 2-Potenciales calent glob'!$E$6","v":1},{"$f":"'Datos 2-Potenciales calent glob'!$E$31","v":28},{"$f":"'Datos 2-Potenciales calent glob'!$E$32","v":265},{"$f":"SUMIF('Datos 2-Potenciales calent glob'!$B$6:$B$56,Cálculos_5!F192,'Datos 2-Potenciales calent glob'!$E$6:$E$56)","v":0},{"$f":"'Datos 2-Potenciales calent glob'!$E$6","v":1},{"$f":"'Datos 2-Potenciales calent glob'!$E$6","v":1},0,{"$f":"W192*AC192","v":0},{"$f":"X192*AD192","v":0},{"$f":"Y192*AE192","v":0},{"$f":"SUM(AH192:AK192)","v":0},{"$f":"Z192*AF192","v":0},0]
[null,"Otros","Otros","Otros",{"$f":"'Alcance 3'!C161","v":"<Tipo de emisión 1>"},null,"Consumo de bienes y servicios","CAPV",3,null,null,null,null,null,null,null,null,null,null,null,null,null,null,null,null,null,null,null,null,null,null,null,null,{"$f":"AL193","v":0},null,null,null,{"$f":"'Alcance 3'!D161","v":0},0,0]
[null,"Otros","Otros","Otros",{"$f":"'Alcance 3'!C162","v":"<Tipo de emisión 2>"},null,"Consumo de bienes y servicios","CAPV",3,null,null,null,null,null,null,null,null,null,null,null,null,null,null,null,null,null,null,null,null,null,null,null,null,{"$f":"AL194","v":0},null,null,null,{"$f":"'Alcance 3'!D162","v":0},0,0]
[null,"Otros","Otros","Otros",{"$f":"'Alcance 3'!C163","v":"<Tipo de emisión 3>"},null,"Consumo de bienes y servicios","CAPV",3,null,null,null,null,null,null,null,null,null,null,null,null,null,null,null,null,null,null,null,null,null,null,null,null,0,null,null,null,{"$f":"'Alcance 3'!D163","v":0},0,0]
[null,"Bienes y servicios","Otros","Otros",{"$f":"'Alcance 3'!C85","v":"Router internet"},{"$f":"E196","v":"Router internet"},"Consumo de bienes y servicios","CAPV",3,{"$f":"'Alcance 3'!D85","v":0},{"$f":"'Alcance 3'!E85","v":"ud"},null,1,null,{"$f":"J196*M196","v":0},{"$f":"K196","v":"ud"},{"$f":"VLOOKUP(E196,'Datos 1-Factores emisión'!$B$789:$E$803,2,FALSE)","v":26.7},0,0,0,0,{"$f":"Q196*$O196","v":0},{"$f":"R196*$O196","v":0},0,0,0,{"$f":"U196*$O196","v":0},{"$f":"'Datos 2-Potenciales calent glob'!$E$6","v":1},{"$f":"'Datos 2-Potenciales calent glob'!$E$31","v":28},{"$f":"'Datos 2-Potenciales calent glob'!$E$32","v":265},{"$f":"SUMIF('Datos 2-Potenciales calent glob'!$B$6:$B$56,Cálculos_5!E196,'Datos 2-Potenciales calent glob'!$E$6:$E$56)","v":0},{"$f":"'Datos 2-Potenciales calent glob'!$E$6","v":1},{"$f":"'Datos 2-Potenciales calent glob'!$E$6","v":1},{"$f":"V196*AB196","v":0},{"$f":"W196*AC196","v":0},0,0,{"$f":"SUM(AH196:AK196)","v":0},0,0]
[null,"Bienes y servicios","Otros","Otros",{"$f":"'Alcance 3'!C86","v":"Papel "},{"$f":"E197","v":"Papel "},"Consumo de bienes y servicios","CAPV",3,{"$f":"'Alcance 3'!D86","v":0},{"$f":"'Alcance 3'!E86","v":"kg"},null,1,null,{"$f":"J197*M197","v":0},"kg",{"$f":"VLOOKUP(E197,'Datos 1-Factores emisión'!$B$789:$E$803,2,FALSE)","v":1.21},0,0,0,0,{"$f":"Q197*$O197","v":0},0,0,0,0,0,{"$f":"'Datos 2-Potenciales calent glob'!$E$6","v":1},{"$f":"'Datos 2-Potenciales calent glob'!$E$31","v":28},{"$f":"'Datos 2-Potenciales calent glob'!$E$32","v":265},{"$f":"SUMIF('Datos 2-Potenciales calent glob'!$B$6:$B$56,Cálculos_5!E197,'Datos 2-Potenciales calent glob'!$E$6:$E$56)","v":0},{"$f":"'Datos 2-Potenciales calent glob'!$E$6","v":1},{"$f":"'Datos 2-Potenciales calent glob'!$E$6","v":1},0,0,0,0,0,0,0]
[null,"Bienes y servicios","Otros","Otros",{"$f":"'Alcance 3'!C87","v":"Ordenador portátil"},"Ordenador portátil","Consumo de bienes y servicios","CAPV",3,{"$f":"'Alcance 3'!D87","v":0},{"$f":"'Alcance 3'!E87","v":"ud"},null,1,null,0,"ud",{"$f":"VLOOKUP(E198,'Datos 1-Factores emisión'!$B$789:$E$803,2,FALSE)","v":565},0,0,0,0,0,0,0,0,0,0,{"$f":"'Datos 2-Potenciales calent glob'!$E$6","v":1},{"$f":"'Datos 2-Potenciales calent glob'!$E$31","v":28},{"$f":"'Datos 2-Potenciales calent glob'!$E$32","v":265},{"$f":"SUMIF('Datos 2-Potenciales calent glob'!$B$6:$B$56,Cálculos_5!E198,'Datos 2-Potenciales calent glob'!$E$6:$E$56)","v":0},{"$f":"'Datos 2-Potenciales calent glob'!$E$6","v":1},{"$f":"'Datos 2-Potenciales calent glob'!$E$6","v":1},0,0,0,0,0,0,0]
[null,"Bienes y servicios","Otros","Otros",{"$f":"'Alcance 3'!C88","v":"Mesa escritorio"},"Mesa escritorio","Consumo de bienes y servicios","CAPV",3,{"$f":"'Alcance 3'!D88","v":0},{"$f":"'Alcance 3'!E88","v":"ud"},null,1,null,0,"ud",{"$f":"VLOOKUP(E199,'Datos 1-Factores emisión'!$B$789:$E$803,2,FALSE)","v":47.7},0,0,0,0,0,0,0,0,0,0,{"$f":"'Datos 2-Potenciales calent glob'!$E$6","v":1},{"$f":"'Datos 2-Potenciales calent glob'!$E$31","v":28},{"$f":"'Datos 2-Potenciales calent glob'!$E$32","v":265},{"$f":"SUMIF('Datos 2-Potenciales calent glob'!$B$6:$B$56,Cálculos_5!E199,'Datos 2-Potenciales calent glob'!$E$6:$E$56)","v":0},{"$f":"'Datos 2-Potenciales calent glob'!$E$6","v":1},{"$f":"'Datos 2-Potenciales calent glob'!$E$6","v":1},0,0,0,0,0,0,0]
[null,"Bienes y servicios","Otros","Otros",{"$f":"'Alcance 3'!C89","v":"Ordenador de mesa completo"},"Ordenador de mesa completo","Consumo de bienes y servicios","CAPV",3,{"$f":"'Alcance 3'!D89","v":0},{"$f":"'Alcance 3'!E89","v":"ud"},null,1,null,0,"ud",{"$f":"VLOOKUP(E200,'Datos 1-Factores emisión'!$B$789:$E$803,2,FALSE)","v":174},0,0,0,0,0,0,0,0,0,0,{"$f":"'Datos 2-Potenciales calent glob'!$E$6","v":1},{"$f":"'Datos 2-Potenciales calent glob'!$E$31","v":28},{"$f":"'Datos 2-Potenciales calent glob'!$E$32","v":265},{"$f":"SUMIF('Datos 2-Potenciales calent glob'!$B$6:$B$56,Cálculos_5!E200,'Datos 2-Potenciales calent glob'!$E$6:$E$56)","v":0},{"$f":"'Datos 2-Potenciales calent glob'!$E$6","v":1},{"$f":"'Datos 2-Potenciales calent glob'!$E$6","v":1},0,0,0,0,0,0,0]
[null,"Bienes y servicios","Otros","Otros",{"$f":"'Alcance 3'!C90","v":"Cartucho de impresora negro"},"Cartucho de impresora negro","Consumo de bienes y servicios","CAPV",3,{"$f":"'Alcance 3'!D90","v":0},{"$f":"'Alcance 3'!E90","v":"ud"},null,1,null,0,"ud",{"$f":"VLOOKUP(E201,'Datos 1-Factores emisión'!$B$789:$E$803,2,FALSE)","v":29},0,0,0,0,0,0,0,0,0,0,{"$f":"'Datos 2-Potenciales calent glob'!$E$6","v":1},{"$f":"'Datos 2-Potenciales calent glob'!$E$31","v":28},{"$f":"'Datos 2-Potenciales calent glob'!$E$32","v":265},{"$f":"SUMIF('Datos 2-Potenciales calent glob'!$B$6:$B$56,Cálculos_5!E201,'Datos 2-Potenciales calent glob'!$E$6:$E$56)","v":0},{"$f":"'Datos 2-Potenciales calent glob'!$E$6","v":1},{"$f":"'Datos 2-Potenciales calent glob'!$E$6","v":1},0,0,0,0,0,0,0]
[null,"Bienes y servicios","Otros","Otros",{"$f":"'Alcance 3'!C91","v":"Cartucho de impresora color"},"Cartucho de impresora color","Consumo de bienes y servicios","CAPV",3,{"$f":"'Alcance 3'!D91","v":0},{"$f":"'Alcance 3'!E91","v":"ud"},null,1,null,0,"ud",{"$f":"VLOOKUP(E202,'Datos 1-Factores emisión'!$B$789:$E$803,2,FALSE)","v":30.2},0,0,0,0,0,0,0,0,0,0,{"$f":"'Datos 2-Potenciales calent glob'!$E$6","v":1},{"$f":"'Datos 2-Potenciales calent glob'!$E$31","v":28},{"$f":"'Datos 2-Potenciales calent glob'!$E$32","v":265},{"$f":"SUMIF('Datos 2-Potenciales calent glob'!$B$6:$B$56,Cálculos_5!E202,'Datos 2-Potenciales calent glob'!$E$6:$E$56)","v":0},{"$f":"'Datos 2-Potenciales calent glob'!$E$6","v":1},{"$f":"'Datos 2-Potenciales calent glob'!$E$6","v":1},0,0,0,0,0,0,0]
[null,"Bienes y servicios","Otros","Otros",{"$f":"'Alcance 3'!C92","v":"Material 1"},"Material 1","Consumo de bienes y servicios","CAPV",3,{"$f":"'Alcance 3'!D92","v":0},{"$f":"'Alcance 3'!E92","v":0},null,1,null,0,0,{"$f":"VLOOKUP(E203,'Datos 1-Factores emisión'!$B$789:$E$803,2,FALSE)","v":0},0,0,0,0,0,0,0,0,0,0,{"$f":"'Datos 2-Potenciales calent glob'!$E$6","v":1},{"$f":"'Datos 2-Potenciales calent glob'!$E$31","v":28},{"$f":"'Datos 2-Potenciales calent glob'!$E$32","v":265},{"$f":"SUMIF('Datos 2-Potenciales calent glob'!$B$6:$B$56,Cálculos_5!E203,'Datos 2-Potenciales calent glob'!$E$6:$E$56)","v":0},{"$f":"'Datos 2-Potenciales calent glob'!$E$6","v":1},{"$f":"'Datos 2-Potenciales calent glob'!$E$6","v":1},0,0,0,0,0,0,0]
[null,"Bienes y servicios","Otros","Otros",{"$f":"'Alcance 3'!C93","v":"Material 2"},"Material 2","Consumo de bienes y servicios","CAPV",3,{"$f":"'Alcance 3'!D93","v":0},{"$f":"'Alcance 3'!E93","v":0},null,1,null,0,0,{"$f":"VLOOKUP(E204,'Datos 1-Factores emisión'!$B$789:$E$803,2,FALSE)","v":0},0,0,0,0,0,0,0,0,0,0,{"$f":"'Datos 2-Potenciales calent glob'!$E$6","v":1},{"$f":"'Datos 2-Potenciales calent glob'!$E$31","v":28},{"$f":"'Datos 2-Potenciales calent glob'!$E$32","v":265},{"$f":"SUMIF('Datos 2-Potenciales calent glob'!$B$6:$B$56,Cálculos_5!E204,'Datos 2-Potenciales calent glob'!$E$6:$E$56)","v":0},{"$f":"'Datos 2-Potenciales calent glob'!$E$6","v":1},{"$f":"'Datos 2-Potenciales calent glob'!$E$6","v":1},0,0,0,0,0,0,0]
[null,"Bienes y servicios","Otros","Otros",{"$f":"'Alcance 3'!C94","v":"Material 3"},"Material 3","Consumo de bienes y servicios","CAPV",3,{"$f":"'Alcance 3'!D94","v":0},{"$f":"'Alcance 3'!E94","v":0},null,1,null,0,0,{"$f":"VLOOKUP(E205,'Datos 1-Factores emisión'!$B$789:$E$803,2,FALSE)","v":0},0,0,0,0,0,0,0,0,0,0,{"$f":"'Datos 2-Potenciales calent glob'!$E$6","v":1},{"$f":"'Datos 2-Potenciales calent glob'!$E$31","v":28},{"$f":"'Datos 2-Potenciales calent glob'!$E$32","v":265},{"$f":"SUMIF('Datos 2-Potenciales calent glob'!$B$6:$B$56,Cálculos_5!E205,'Datos 2-Potenciales calent glob'!$E$6:$E$56)","v":0},{"$f":"'Datos 2-Potenciales calent glob'!$E$6","v":1},{"$f":"'Datos 2-Potenciales calent glob'!$E$6","v":1},0,0,0,0,0,0,0]
[null,"Bienes y servicios","Otros","Otros",{"$f":"'Alcance 3'!C95","v":"Material 4"},"Material 4","Consumo de bienes y servicios","CAPV",3,{"$f":"'Alcance 3'!D95","v":0},{"$f":"'Alcance 3'!E95","v":0},null,1,null,0,0,{"$f":"VLOOKUP(E206,'Datos 1-Factores emisión'!$B$789:$E$803,2,FALSE)","v":0},0,0,0,0,0,0,0,0,0,0,{"$f":"'Datos 2-Potenciales calent glob'!$E$6","v":1},{"$f":"'Datos 2-Potenciales calent glob'!$E$31","v":28},{"$f":"'Datos 2-Potenciales calent glob'!$E$32","v":265},{"$f":"SUMIF('Datos 2-Potenciales calent glob'!$B$6:$B$56,Cálculos_5!E206,'Datos 2-Potenciales calent glob'!$E$6:$E$56)","v":0},{"$f":"'Datos 2-Potenciales calent glob'!$E$6","v":1},{"$f":"'Datos 2-Potenciales calent glob'!$E$6","v":1},0,0,0,0,0,0,0]
[null,"Bienes y servicios","Otros","Otros",{"$f":"'Alcance 3'!C96","v":"Material 5"},"Material 5","Consumo de bienes y servicios","CAPV",3,{"$f":"'Alcance 3'!D96","v":0},{"$f":"'Alcance 3'!E96","v":0},null,1,null,0,0,{"$f":"VLOOKUP(E207,'Datos 1-Factores emisión'!$B$789:$E$803,2,FALSE)","v":0},0,0,0,0,0,0,0,0,0,0,{"$f":"'Datos 2-Potenciales calent glob'!$E$6","v":1},{"$f":"'Datos 2-Potenciales calent glob'!$E$31","v":28},{"$f":"'Datos 2-Potenciales calent glob'!$E$32","v":265},{"$f":"SUMIF('Datos 2-Potenciales calent glob'!$B$6:$B$56,Cálculos_5!E207,'Datos 2-Potenciales calent glob'!$E$6:$E$56)","v":0},{"$f":"'Datos 2-Potenciales calent glob'!$E$6","v":1},{"$f":"'Datos 2-Potenciales calent glob'!$E$6","v":1},0,0,0,0,0,0,0]
[null,"Bienes y servicios","Otros","Otros",{"$f":"'Alcance 3'!C97","v":"Material 6"},"Material 6","Consumo de bienes y servicios","CAPV",3,{"$f":"'Alcance 3'!D97","v":0},{"$f":"'Alcance 3'!E97","v":0},null,1,null,0,0,{"$f":"VLOOKUP(E208,'Datos 1-Factores emisión'!$B$789:$E$803,2,FALSE)","v":0},0,0,0,0,0,0,0,0,0,0,{"$f":"'Datos 2-Potenciales calent glob'!$E$6","v":1},{"$f":"'Datos 2-Potenciales calent glob'!$E$31","v":28},{"$f":"'Datos 2-Potenciales calent glob'!$E$32","v":265},{"$f":"SUMIF('Datos 2-Potenciales calent glob'!$B$6:$B$56,Cálculos_5!E208,'Datos 2-Potenciales calent glob'!$E$6:$E$56)","v":0},{"$f":"'Datos 2-Potenciales calent glob'!$E$6","v":1},{"$f":"'Datos 2-Potenciales calent glob'!$E$6","v":1},0,0,0,0,0,0,0]
[null,"Bienes y servicios","Otros","Otros",{"$f":"'Alcance 3'!C98","v":"Material 7"},"Material 7","Consumo de bienes y servicios","CAPV",3,{"$f":"'Alcance 3'!D98","v":0},{"$f":"'Alcance 3'!E98","v":0},null,1,null,0,0,{"$f":"VLOOKUP(E209,'Datos 1-Factores emisión'!$B$789:$E$803,2,FALSE)","v":0},0,0,0,0,0,0,0,0,0,0,{"$f":"'Datos 2-Potenciales calent glob'!$E$6","v":1},{"$f":"'Datos 2-Potenciales calent glob'!$E$31","v":28},{"$f":"'Datos 2-Potenciales calent glob'!$E$32","v":265},{"$f":"SUMIF('Datos 2-Potenciales calent glob'!$B$6:$B$56,Cálculos_5!E209,'Datos 2-Potenciales calent glob'!$E$6:$E$56)","v":0},{"$f":"'Datos 2-Potenciales calent glob'!$E$6","v":1},{"$f":"'Datos 2-Potenciales calent glob'!$E$6","v":1},0,0,0,0,0,0,0]
[null,"Bienes y servicios","Otros","Otros",{"$f":"'Alcance 3'!C99","v":"Material 8"},"Material 8","Consumo de bienes y servicios","CAPV",3,{"$f":"'Alcance 3'!D99","v":0},{"$f":"'Alcance 3'!E99","v":0},null,1,null,0,0,{"$f":"VLOOKUP(E210,'Datos 1-Factores emisión'!$B$789:$E$803,2,FALSE)","v":0},0,0,0,0,0,0,0,0,0,0,{"$f":"'Datos 2-Potenciales calent glob'!$E$6","v":1},{"$f":"'Datos 2-Potenciales calent glob'!$E$31","v":28},{"$f":"'Datos 2-Potenciales calent glob'!$E$32","v":265},{"$f":"SUMIF('Datos 2-Potenciales calent glob'!$B$6:$B$56,Cálculos_5!E210,'Datos 2-Potenciales calent glob'!$E$6:$E$56)","v":0},{"$f":"'Datos 2-Potenciales calent glob'!$E$6","v":1},{"$f":"'Datos 2-Potenciales calent glob'!$E$6","v":1},0,0,0,0,0,0,0]
[null,"Bienes y servicios","Fuente móvil","Combustión",{"$f":"'Alcance 3'!C106","v":"Router internet"},{"$f":"'Alcance 3'!D106","v":"Tipo de transporte de carga"},"Transporte desde proveedor","CAPV",3,{"$f":"'Alcance 3'!E106*'Alcance 3'!E125","v":0},"tkm",null,1,null,0,"tkm",{"$f":"IFERROR(VLOOKUP($F211,'Datos 1-Factores emisión'!$B$809:$D$820,2,FALSE),0)","v":0},0,0,0,0,0,{"$f":"R211*$O211","v":0},0,0,0,0,{"$f":"'Datos 2-Potenciales calent glob'!$E$6","v":1},{"$f":"'Datos 2-Potenciales calent glob'!$E$31","v":28},{"$f":"'Datos 2-Potenciales calent glob'!$E$32","v":265},{"$f":"SUMIF('Datos 2-Potenciales calent glob'!$B$6:$B$56,Cálculos_5!E211,'Datos 2-Potenciales calent glob'!$E$6:$E$56)","v":0},{"$f":"'Datos 2-Potenciales calent glob'!$E$6","v":1},{"$f":"'Datos 2-Potenciales calent glob'!$E$6","v":1},0,0,0,0,0,0,0]
[null,"Bienes y servicios","Fuente móvil","Combustión",{"$f":"'Alcance 3'!C107","v":"Papel "},{"$f":"'Alcance 3'!D107","v":"Tipo de transporte de carga"},"Transporte desde proveedor","CAPV",3,{"$f":"'Alcance 3'!E107*'Alcance 3'!E126","v":0},"tkm",null,1,null,0,"tkm",{"$f":"IFERROR(VLOOKUP($F212,'Datos 1-Factores emisión'!$B$809:$D$820,2,FALSE),0)","v":0},0,0,0,0,0,0,0,0,0,0,{"$f":"'Datos 2-Potenciales calent glob'!$E$6","v":1},{"$f":"'Datos 2-Potenciales calent glob'!$E$31","v":28},{"$f":"'Datos 2-Potenciales calent glob'!$E$32","v":265},{"$f":"SUMIF('Datos 2-Potenciales calent glob'!$B$6:$B$56,Cálculos_5!E212,'Datos 2-Potenciales calent glob'!$E$6:$E$56)","v":0},{"$f":"'Datos 2-Potenciales calent glob'!$E$6","v":1},{"$f":"'Datos 2-Potenciales calent glob'!$E$6","v":1},{"$f":"V212*AB212","v":0},0,0,0,0,0,0]
[null,"Bienes y servicios","Fuente móvil","Combustión",{"$f":"'Alcance 3'!C108","v":"Ordenador portátil"},{"$f":"'Alcance 3'!D108","v":"Tipo de transporte de carga"},"Transporte desde proveedor","CAPV",3,{"$f":"'Alcance 3'!E108*'Alcance 3'!E127","v":0},"tkm",null,1,null,0,"tkm",{"$f":"IFERROR(VLOOKUP($F213,'Datos 1-Factores emisión'!$B$809:$D$820,2,FALSE),0)","v":0},0,0,0,0,0,0,0,0,0,0,{"$f":"'Datos 2-Potenciales calent glob'!$E$6","v":1},{"$f":"'Datos 2-Potenciales calent glob'!$E$31","v":28},{"$f":"'Datos 2-Potenciales calent glob'!$E$32","v":265},{"$f":"SUMIF('Datos 2-Potenciales calent glob'!$B$6:$B$56,Cálculos_5!E213,'Datos 2-Potenciales calent glob'!$E$6:$E$56)","v":0},{"$f":"'Datos 2-Potenciales calent glob'!$E$6","v":1},{"$f":"'Datos 2-Potenciales calent glob'!$E$6","v":1},0,0,0,0,0,0,0]
[null,"Bienes y servicios","Fuente móvil","Combustión",{"$f":"'Alcance 3'!C109","v":"Mesa escritorio"},{"$f":"'Alcance 3'!D109","v":"Tipo de transporte de carga"},"Transporte desde proveedor","CAPV",3,{"$f":"'Alcance 3'!E109*'Alcance 3'!E128","v":0},"tkm",null,1,null,0,"tkm",{"$f":"IFERROR(VLOOKUP($F214,'Datos 1-Factores emisión'!$B$809:$D$820,2,FALSE),0)","v":0},0,0,0,0,{"$f":"Q214*$O214","v":0},0,0,0,0,0,{"$f":"'Datos 2-Potenciales calent glob'!$E$6","v":1},{"$f":"'Datos 2-Potenciales calent glob'!$E$31","v":28},{"$f":"'Datos 2-Potenciales calent glob'!$E$32","v":265},{"$f":"SUMIF('Datos 2-Potenciales calent glob'!$B$6:$B$56,Cálculos_5!E214,'Datos 2-Potenciales calent glob'!$E$6:$E$56)","v":0},{"$f":"'Datos 2-Potenciales calent glob'!$E$6","v":1},{"$f":"'Datos 2-Potenciales calent glob'!$E$6","v":1},0,0,0,0,0,0,0]
[null,"Bienes y servicios","Fuente móvil","Combustión",{"$f":"'Alcance 3'!C110","v":"Ordenador de mesa completo"},{"$f":"'Alcance 3'!D110","v":"Tipo de transporte de carga"},"Transporte desde proveedor","CAPV",3,{"$f":"'Alcance 3'!E110*'Alcance 3'!E129","v":0},"tkm",null,1,null,0,"tkm",{"$f":"IFERROR(VLOOKUP($F215,'Datos 1-Factores emisión'!$B$809:$D$820,2,FALSE),0)","v":0},0,0,0,0,0,0,0,0,0,0,{"$f":"'Datos 2-Potenciales calent glob'!$E$6","v":1},{"$f":"'Datos 2-Potenciales calent glob'!$E$31","v":28},{"$f":"'Datos 2-Potenciales calent glob'!$E$32","v":265},{"$f":"SUMIF('Datos 2-Potenciales calent glob'!$B$6:$B$56,Cálculos_5!E215,'Datos 2-Potenciales calent glob'!$E$6:$E$56)","v":0},{"$f":"'Datos 2-Potenciales calent glob'!$E$6","v":1},{"$f":"'Datos 2-Potenciales calent glob'!$E$6","v":1},0,0,0,0,0,0,0]
[null,"Bienes y servicios","Fuente móvil","Combustión",{"$f":"'Alcance 3'!C111","v":"Cartucho de impresora negro"},{"$f":"'Alcance 3'!D111","v":"Tipo de transporte de carga"},"Transporte desde proveedor","CAPV",3,{"$f":"'Alcance 3'!E111*'Alcance 3'!E130","v":0},"tkm",null,1,null,0,"tkm",{"$f":"IFERROR(VLOOKUP($F216,'Datos 1-Factores emisión'!$B$809:$D$820,2,FALSE),0)","v":0},0,0,0,0,0,0,0,0,0,0,{"$f":"'Datos 2-Potenciales calent glob'!$E$6","v":1},{"$f":"'Datos 2-Potenciales calent glob'!$E$31","v":28},{"$f":"'Datos 2-Potenciales calent glob'!$E$32","v":265},{"$f":"SUMIF('Datos 2-Potenciales calent glob'!$B$6:$B$56,Cálculos_5!E216,'Datos 2-Potenciales calent glob'!$E$6:$E$56)","v":0},{"$f":"'Datos 2-Potenciales calent glob'!$E$6","v":1},{"$f":"'Datos 2-Potenciales calent glob'!$E$6","v":1},0,0,0,0,0,0,0]
[null,"Bienes y servicios","Fuente móvil","Combustión",{"$f":"'Alcance 3'!C112","v":"Cartucho de impresora color"},{"$f":"'Alcance 3'!D112","v":"Tipo de transporte de carga"},"Transporte desde proveedor","CAPV",3,{"$f":"'Alcance 3'!E112*'Alcance 3'!E131","v":0},"tkm",null,1,null,0,"tkm",{"$f":"IFERROR(VLOOKUP($F217,'Datos 1-Factores emisión'!$B$809:$D$820,2,FALSE),0)","v":0},0,0,0,0,0,0,0,0,0,0,{"$f":"'Datos 2-Potenciales calent glob'!$E$6","v":1},{"$f":"'Datos 2-Potenciales calent glob'!$E$31","v":28},{"$f":"'Datos 2-Potenciales calent glob'!$E$32","v":265},{"$f":"SUMIF('Datos 2-Potenciales calent glob'!$B$6:$B$56,Cálculos_5!E217,'Datos 2-Potenciales calent glob'!$E$6:$E$56)","v":0},{"$f":"'Datos 2-Potenciales calent glob'!$E$6","v":1},{"$f":"'Datos 2-Potenciales calent glob'!$E$6","v":1},0,0,0,0,0,0,0]
[null,"Bienes y servicios","Fuente móvil","Combustión",{"$f":"'Alcance 3'!C113","v":"Material 1"},{"$f":"'Alcance 3'!D113","v":"Tipo de transporte de carga"},"Transporte desde proveedor","CAPV",3,{"$f":"'Alcance 3'!E113*'Alcance 3'!E132","v":0},"tkm",null,1,null,0,"tkm",{"$f":"IFERROR(VLOOKUP($F218,'Datos 1-Factores emisión'!$B$809:$D$820,2,FALSE),0)","v":0},0,0,0,0,0,0,0,0,0,0,{"$f":"'Datos 2-Potenciales calent glob'!$E$6","v":1},{"$f":"'Datos 2-Potenciales calent glob'!$E$31","v":28},{"$f":"'Datos 2-Potenciales calent glob'!$E$32","v":265},{"$f":"SUMIF('Datos 2-Potenciales calent glob'!$B$6:$B$56,Cálculos_5!E218,'Datos 2-Potenciales calent glob'!$E$6:$E$56)","v":0},{"$f":"'Datos 2-Potenciales calent glob'!$E$6","v":1},{"$f":"'Datos 2-Potenciales calent glob'!$E$6","v":1},0,0,0,0,0,0,0]
[null,"Bienes y servicios","Fuente móvil","Combustión",{"$f":"'Alcance 3'!C114","v":"Material 2"},{"$f":"'Alcance 3'!D114","v":"Tipo de transporte de carga"},"Transporte desde proveedor","CAPV",3,{"$f":"'Alcance 3'!E114*'Alcance 3'!E133","v":0},"tkm",null,1,null,0,"tkm",{"$f":"IFERROR(VLOOKUP($F219,'Datos 1-Factores emisión'!$B$809:$D$820,2,FALSE),0)","v":0},0,0,0,0,0,0,0,0,0,0,{"$f":"'Datos 2-Potenciales calent glob'!$E$6","v":1},{"$f":"'Datos 2-Potenciales calent glob'!$E$31","v":28},{"$f":"'Datos 2-Potenciales calent glob'!$E$32","v":265},{"$f":"SUMIF('Datos 2-Potenciales calent glob'!$B$6:$B$56,Cálculos_5!E219,'Datos 2-Potenciales calent glob'!$E$6:$E$56)","v":0},{"$f":"'Datos 2-Potenciales calent glob'!$E$6","v":1},{"$f":"'Datos 2-Potenciales calent glob'!$E$6","v":1},0,0,0,0,0,0,0]
[null,"Bienes y servicios","Fuente móvil","Combustión",{"$f":"'Alcance 3'!C115","v":"Material 3"},{"$f":"'Alcance 3'!D115","v":"Tipo de transporte de carga"},"Transporte desde proveedor","CAPV",3,{"$f":"'Alcance 3'!E115*'Alcance 3'!E134","v":0},"tkm",null,1,null,0,"tkm",{"$f":"IFERROR(VLOOKUP($F220,'Datos 1-Factores emisión'!$B$809:$D$820,2,FALSE),0)","v":0},0,0,0,0,0,0,0,0,0,0,{"$f":"'Datos 2-Potenciales calent glob'!$E$6","v":1},{"$f":"'Datos 2-Potenciales calent glob'!$E$31","v":28},{"$f":"'Datos 2-Potenciales calent glob'!$E$32","v":265},{"$f":"SUMIF('Datos 2-Potenciales calent glob'!$B$6:$B$56,Cálculos_5!E220,'Datos 2-Potenciales calent glob'!$E$6:$E$56)","v":0},{"$f":"'Datos 2-Potenciales calent glob'!$E$6","v":1},{"$f":"'Datos 2-Potenciales calent glob'!$E$6","v":1},0,0,0,0,0,0,0]
[null,"Bienes y servicios","Fuente móvil","Combustión",{"$f":"'Alcance 3'!C116","v":"Material 4"},{"$f":"'Alcance 3'!D116","v":"Tipo de transporte de carga"},"Transporte desde proveedor","CAPV",3,{"$f":"'Alcance 3'!E116*'Alcance 3'!E135","v":0},"tkm",null,1,null,0,"tkm",{"$f":"IFERROR(VLOOKUP($F221,'Datos 1-Factores emisión'!$B$809:$D$820,2,FALSE),0)","v":0},0,0,0,0,0,0,0,0,0,0,{"$f":"'Datos 2-Potenciales calent glob'!$E$6","v":1},{"$f":"'Datos 2-Potenciales calent glob'!$E$31","v":28},{"$f":"'Datos 2-Potenciales calent glob'!$E$32","v":265},{"$f":"SUMIF('Datos 2-Potenciales calent glob'!$B$6:$B$56,Cálculos_5!E221,'Datos 2-Potenciales calent glob'!$E$6:$E$56)","v":0},{"$f":"'Datos 2-Potenciales calent glob'!$E$6","v":1},{"$f":"'Datos 2-Potenciales calent glob'!$E$6","v":1},0,0,0,0,0,0,0]
[null,"Bienes y servicios","Fuente móvil","Combustión",{"$f":"'Alcance 3'!C117","v":"Material 5"},{"$f":"'Alcance 3'!D117","v":"Tipo de transporte de carga"},"Transporte desde proveedor","CAPV",3,{"$f":"'Alcance 3'!E117*'Alcance 3'!E136","v":0},"tkm",null,1,null,0,"tkm",{"$f":"IFERROR(VLOOKUP($F222,'Datos 1-Factores emisión'!$B$809:$D$820,2,FALSE),0)","v":0},0,0,0,0,0,0,0,0,0,0,{"$f":"'Datos 2-Potenciales calent glob'!$E$6","v":1},{"$f":"'Datos 2-Potenciales calent glob'!$E$31","v":28},{"$f":"'Datos 2-Potenciales calent glob'!$E$32","v":265},{"$f":"SUMIF('Datos 2-Potenciales calent glob'!$B$6:$B$56,Cálculos_5!E222,'Datos 2-Potenciales calent glob'!$E$6:$E$56)","v":0},{"$f":"'Datos 2-Potenciales calent glob'!$E$6","v":1},{"$f":"'Datos 2-Potenciales calent glob'!$E$6","v":1},0,0,0,0,0,0,0]
[null,"Bienes y servicios","Fuente móvil","Combustión",{"$f":"'Alcance 3'!C118","v":"Material 6"},{"$f":"'Alcance 3'!D118","v":"Tipo de transporte de carga"},"Transporte desde proveedor","CAPV",3,{"$f":"'Alcance 3'!E118*'Alcance 3'!E137","v":0},"tkm",null,1,null,0,"tkm",{"$f":"IFERROR(VLOOKUP($F223,'Datos 1-Factores emisión'!$B$809:$D$820,2,FALSE),0)","v":0},0,0,0,0,0,0,0,0,0,0,{"$f":"'Datos 2-Potenciales calent glob'!$E$6","v":1},{"$f":"'Datos 2-Potenciales calent glob'!$E$31","v":28},{"$f":"'Datos 2-Potenciales calent glob'!$E$32","v":265},{"$f":"SUMIF('Datos 2-Potenciales calent glob'!$B$6:$B$56,Cálculos_5!E223,'Datos 2-Potenciales calent glob'!$E$6:$E$56)","v":0},{"$f":"'Datos 2-Potenciales calent glob'!$E$6","v":1},{"$f":"'Datos 2-Potenciales calent glob'!$E$6","v":1},0,0,0,0,0,0,0]
[null,"Bienes y servicios","Fuente móvil","Combustión",{"$f":"'Alcance 3'!C119","v":"Material 7"},{"$f":"'Alcance 3'!D119","v":"Tipo de transporte de carga"},"Transporte desde proveedor","CAPV",3,{"$f":"'Alcance 3'!E119*'Alcance 3'!E138","v":0},"tkm",null,1,null,0,"tkm",{"$f":"IFERROR(VLOOKUP($F224,'Datos 1-Factores emisión'!$B$809:$D$820,2,FALSE),0)","v":0},0,0,0,0,0,0,0,0,0,0,{"$f":"'Datos 2-Potenciales calent glob'!$E$6","v":1},{"$f":"'Datos 2-Potenciales calent glob'!$E$31","v":28},{"$f":"'Datos 2-Potenciales calent glob'!$E$32","v":265},{"$f":"SUMIF('Datos 2-Potenciales calent glob'!$B$6:$B$56,Cálculos_5!E224,'Datos 2-Potenciales calent glob'!$E$6:$E$56)","v":0},{"$f":"'Datos 2-Potenciales calent glob'!$E$6","v":1},{"$f":"'Datos 2-Potenciales calent glob'!$E$6","v":1},0,0,0,0,0,0,0]
[null,"Bienes y servicios","Fuente móvil","Combustión",{"$f":"'Alcance 3'!C120","v":"Material 8"},{"$f":"'Alcance 3'!D120","v":"Tipo de transporte de carga"},"Transporte desde proveedor","CAPV",3,{"$f":"'Alcance 3'!E120*'Alcance 3'!E139","v":0},"tkm",null,1,null,0,"tkm",{"$f":"IFERROR(VLOOKUP($F225,'Datos 1-Factores emisión'!$B$809:$D$820,2,FALSE),0)","v":0},0,0,0,0,0,0,0,0,0,0,{"$f":"'Datos 2-Potenciales calent glob'!$E$6","v":1},{"$f":"'Datos 2-Potenciales calent glob'!$E$31","v":28},{"$f":"'Datos 2-Potenciales calent glob'!$E$32","v":265},{"$f":"SUMIF('Datos 2-Potenciales calent glob'!$B$6:$B$56,Cálculos_5!E225,'Datos 2-Potenciales calent glob'!$E$6:$E$56)","v":0},{"$f":"'Datos 2-Potenciales calent glob'!$E$6","v":1},{"$f":"'Datos 2-Potenciales calent glob'!$E$6","v":1},0,{"$f":"W225*AC225","v":0},{"$f":"X225*AD225","v":0},{"$f":"Y225*AE225","v":0},0,{"$f":"AA225*AG225","v":0},{"$f":"AB225*AH225","v":0}]
[null,"Distribución de productos","Fuente móvil","Combustión",{"$f":"'Alcance 3'!C146","v":"Producto"},{"$f":"'Alcance 3'!D146","v":"Tipo de transporte de carga"},"Distribución de productos","CAPV",3,{"$f":"'Alcance 3'!E146*'Alcance 3'!E153","v":0},"tkm",null,1,null,0,"tkm",{"$f":"IFERROR(VLOOKUP($F226,'Datos 1-Factores emisión'!$B$809:$D$820,2,FALSE),0)","v":0},0,0,0,0,0,{"$f":"R226*$O226","v":0},{"$f":"S226*$O226","v":0},{"$f":"T226*$O226","v":0},{"$f":"U226*$O226","v":0},0,{"$f":"'Datos 2-Potenciales calent glob'!$E$6","v":1},{"$f":"'Datos 2-Potenciales calent glob'!$E$31","v":28},{"$f":"'Datos 2-Potenciales calent glob'!$E$32","v":265},{"$f":"SUMIF('Datos 2-Potenciales calent glob'!$B$6:$B$56,Cálculos_5!E226,'Datos 2-Potenciales calent glob'!$E$6:$E$56)","v":0},{"$f":"'Datos 2-Potenciales calent glob'!$E$6","v":1},{"$f":"'Datos 2-Potenciales calent glob'!$E$6","v":1},0,0,0,0,0,0,0]
[null,"Distribución de productos","Fuente móvil","Combustión",{"$f":"'Alcance 3'!C147","v":"Producto"},{"$f":"'Alcance 3'!D147","v":"Tipo de transporte de carga"},"Distribución de productos","CAPV",3,{"$f":"'Alcance 3'!E147*'Alcance 3'!E154","v":0},"tkm",null,1,null,0,"tkm",{"$f":"IFERROR(VLOOKUP($F227,'Datos 1-Factores emisión'!$B$809:$D$820,2,FALSE),0)","v":0},0,0,0,0,0,0,0,0,0,0,{"$f":"'Datos 2-Potenciales calent glob'!$E$6","v":1},{"$f":"'Datos 2-Potenciales calent glob'!$E$31","v":28},{"$f":"'Datos 2-Potenciales calent glob'!$E$32","v":265},{"$f":"SUMIF('Datos 2-Potenciales calent glob'!$B$6:$B$56,Cálculos_5!E227,'Datos 2-Potenciales calent glob'!$E$6:$E$56)","v":0},{"$f":"'Datos 2-Potenciales calent glob'!$E$6","v":1},{"$f":"'Datos 2-Potenciales calent glob'!$E$6","v":1},0,0,0,0,0,0,0]
[null,"Distribución de productos","Fuente móvil","Combustión",{"$f":"'Alcance 3'!C148","v":"Producto"},{"$f":"'Alcance 3'!D148","v":"Tipo de transporte de carga"},"Distribución de productos","CAPV",3,{"$f":"'Alcance 3'!E148*'Alcance 3'!E155","v":0},"tkm",null,1,null,0,"tkm",{"$f":"IFERROR(VLOOKUP($F228,'Datos 1-Factores emisión'!$B$809:$D$820,2,FALSE),0)","v":0},0,0,0,0,0,0,0,0,0,0,{"$f":"'Datos 2-Potenciales calent glob'!$E$6","v":1},{"$f":"'Datos 2-Potenciales calent glob'!$E$31","v":28},{"$f":"'Datos 2-Potenciales calent glob'!$E$32","v":265},{"$f":"SUMIF('Datos 2-Potenciales calent glob'!$B$6:$B$56,Cálculos_5!E228,'Datos 2-Potenciales calent glob'!$E$6:$E$56)","v":0},{"$f":"'Datos 2-Potenciales calent glob'!$E$6","v":1},{"$f":"'Datos 2-Potenciales calent glob'!$E$6","v":1},{"$f":"V228*AB228","v":0},0,0,0,0,0,0]
[null,null,null,null,null,null,null,null,null,null,null,null,null,null,null,null,null,null,0]
[]
[]
[]
[]
[]
[]
[]
[null,null,"Lista","Lista","Lista","Detalle 2",null,"Resultado","Lista"]
[null,"Energía","Fuente fija","Combustión","Biomasa",null,null,"CAPV",1,"Valor numérico del dato, desde las hojas de cuestionario. Las fuentes deben aparecer en las hojas de cuestionario","t",null,"Factor de conversión si se necesita. La fuente del factor debe aparecer en la pestaña de Datos. Si no es necesario, poner 1.","TJ/kg",null,"TJ","Facto emisión en UD coherentes","Facto emisión en UD coherentes","Facto emisión en UD coherentes"]
[null,"Emisiones de proceso y uso de productos","Fuente móvil","Electricidad","Carbón mineral","Movilidad de los trabajadores",null,"España",2,null,"kWh",null,null,"m3/t",null,"kWh"]
[null,"Absorciones","Fuente difusa","Fugitivas","Coque de petróleo","Viajes de trabajo ",null,"Ambos",3,null,"hab",null,null,"TJ/MJ",null,"m3"]
[null,"Residuos","Otros","Residuos","Fueloleo","Gestión de residuos",null,null,null,null,"ha",null,null,"kWh/MJ",null,"t"]
[null,"Otros",null,"Otros","Gas butano","Consumo de bienes y servicios",null,null,null,null,"cabezas",null,null,"TJ/Nm3",null,"hab"]
[null,"Consumo de agua",null,"Ciclo de vida","Gas natural","Transporte desde proveedor",null,null,null,null,"m3",null,null,"ha",null,"kg"]
[null,"Bienes y servicios",null,"Absorción","Gas propano","Distribución de productos",null,null,null,null,"MJ",null,null,null,null,"ha"]
[null,"Distribución de productos",null,null,"Gasóleo C","Consumo de agua",null,null,null,null,"kg/ha",null,null,null,null,"cabezas"]
[null,null,null,null,"GLP genérico"]
[null,null,null,null,"Queroseno"]
[null,null,null,null,"Gasolina "]
[null,null,null,null,"Gasóleo A y B"]
[null,null,null,null,"E10"]
[null,null,null,null,"E85"]
[null,null,null,null,"B30"]
[null,null,null,null,"B100"]
[null,null,null,null,"Gas Natural Comprimido"]
[null,null,null,null,"Gas Natural Licuado"]
[null,null,null,null,"GLP genérico"]
[null,null,null,null,"Lubricantes"]
[null,null,null,null,"Combustible desconocido"]

{"sheet":"Datos 1-Factores emisión","index":13,"n_rows":820,"n_cols":19,"rows_kept":820,"cut":false,"hidden":false,"merged":[[20,10,21,10],[20,11,21,11],[19,1,19,11],[767,1,767,5],[356,1,357,1],[356,2,357,2],[355,2,355,18],[356,3,356,18],[806,1,806,4],[5,1,5,9],[40,1,40,5],[6,2,6,5],[20,2,20,5],[20,6,20,9],[786,1,786,4],[780,1,780,4]]}
[null,null,{"$f":"Instrucciones!B1","v":"HERRAMIENTA DE HUELLA DE CARBONO PARA ORGANIZACIONES. Año de cálculo 2020"}]
[null,"FACTORES DE EMISIÓN"]
[]
[null,"A) ENERGÍA"]
[]
[null,"FUENTES DE EMISIÓN FIJAS"]
[null,"COMBUSTIBLE","Factor de emisión (kg/TJ)",null,null,null,"Fuente de los datos"]
[null,null,"CO2","CO2 (b)","CH4","N2O","CO2","CO2b","CH4","N2O"]
[null,"Biomasa",0,112000,300,4,"b","b","b","b"]
[null,"Carbón mineral",99420,0,10,1.5,"a","b","b","b"]
[null,"Coque de petróleo",97500,0,10,0.6,"a","b","b","b"]
[null,"Fueloleo",77400,0,10,0.6,"a","b","b","b"]
[null,"Gas butano",66200,0,5,0.1,"y","b","b","b"]
[null,"Gas natural",56130,0,5,0.1,"y","b","b","b"]
[null,"Gas propano",63600,0,5,0.1,"y","b","b","b"]
[null,"Gasóleo C",74100,0,10,0.6,"a","b","b","b"]
[null,"GLP genérico",63100,0,5,0.1,"a","b","b","b"]
[null,"Queroseno",71900,0,10,0.6,"b","b","b","b"]
[]
[null,"FUENTES DE EMISIÓN MÓVILES (POR CONSUMO DE COMBUSTIBLE)"]
[null,"COMBUSTIBLE","Combustión fija (kg/TJ)",null,null,null,"Fuente de los datos",null,null,null,"Factor emisión total (kg CO2e/ud)","Unidad"]
[null,null,"CO2","CO2 (b)","CH4","N2O","CO2","CO2b","CH4","N2O"]
[null,"B100",0,70800,3.9,3.9,"b","b","b","b",{"$f":"LOOKUP($B23,'Datos 3-Factores de convers'!$B$29:$B$51,'Datos 3-Factores de convers'!$F$29:$F$51)*(C23*'Datos 2-Potenciales calent glob'!$D$6+'Datos 1-Factores emisión'!E23*'Datos 2-Potenciales calent glob'!$D$31+'Datos 1-Factores emisión'!F23*'Datos 2-Potenciales calent glob'!$D$32)","v":2.9930472000000003E-2},"L"]
[null,"B30",{"$f":"C23*0.3+C30*0.7","v":51870},{"$f":"D23*0.3+D30*0.7","v":21240},{"$f":"E23*0.3+E30*0.7","v":3.9},3.9,"d","d","d","d",{"$f":"LOOKUP($B24,'Datos 3-Factores de convers'!$B$29:$B$51,'Datos 3-Factores de convers'!$F$29:$F$51)*(C24*'Datos 2-Potenciales calent glob'!$D$6+'Datos 1-Factores emisión'!E24*'Datos 2-Potenciales calent glob'!$D$31+'Datos 1-Factores emisión'!F24*'Datos 2-Potenciales calent glob'!$D$32)","v":1.7204317856708287},"L"]
[null,"E10",{"$f":"0.1*C$23+0.9*C$32","v":62370},{"$f":"0.1*D$23+0.9*D$32","v":7080},{"$f":"0.1*E$23+0.9*E$32","v":30.09},{"$f":"0.1*F$23+0.9*F$32","v":3.2700000000000005},"d","d","d","d",{"$f":"LOOKUP($B25,'Datos 3-Factores de convers'!$B$29:$B$51,'Datos 3-Factores de convers'!$F$29:$F$51)*(C25*'Datos 2-Potenciales calent glob'!$D$6+'Datos 1-Factores emisión'!E25*'Datos 2-Potenciales calent glob'!$D$31+'Datos 1-Factores emisión'!F25*'Datos 2-Potenciales calent glob'!$D$32)","v":2.0703112645874873},"L"]
[null,"E85",{"$f":"0.85*C$23+0.15*C$32","v":10395},{"$f":"0.85*D$23+0.15*D$32","v":60180},{"$f":"0.85*E$23+0.15*E$32","v":8.2650000000000006},{"$f":"0.85*F$23+0.15*F$32","v":3.7949999999999999},"d","d","d","d",{"$f":"LOOKUP($B26,'Datos 3-Factores de convers'!$B$29:$B$51,'Datos 3-Factores de convers'!$F$29:$F$51)*(C26*'Datos 2-Potenciales calent glob'!$D$6+'Datos 1-Factores emisión'!E26*'Datos 2-Potenciales calent glob'!$D$31+'Datos 1-Factores emisión'!F26*'Datos 2-Potenciales calent glob'!$D$32)","v":0.27434539637143818},"L"]
[null,"Gas Natural Comprimido",56100,0,92,3,"b","b","b","b",{"$f":"LOOKUP($B27,'Datos 3-Factores de convers'!$B$29:$B$51,'Datos 3-Factores de convers'!$F$29:$F$51)*(C27*'Datos 2-Potenciales calent glob'!$D$6+'Datos 1-Factores emisión'!E27*'Datos 2-Potenciales calent glob'!$D$31+'Datos 1-Factores emisión'!F27*'Datos 2-Potenciales calent glob'!$D$32)","v":2.2440170064},"Nm3"]
[null,"Gas Natural Licuado",56100,0,92,3,"b","b","b","b",{"$f":"LOOKUP($B28,'Datos 3-Factores de convers'!$B$29:$B$51,'Datos 3-Factores de convers'!$F$29:$F$51)*(C28*'Datos 2-Potenciales calent glob'!$D$6+'Datos 1-Factores emisión'!E28*'Datos 2-Potenciales calent glob'!$D$31+'Datos 1-Factores emisión'!F28*'Datos 2-Potenciales calent glob'!$D$32)","v":1.17935766},"L"]
[null,"Gasóleo A y B",{"$f":"C30*(1-LOOKUP('Datos generales organización'!$D$14,'Datos 1-Factores emisión'!$C36:$R36,'Datos 1-Factores emisión'!$C38:$R38))+C23*LOOKUP('Datos generales organización'!$D$14,'Datos 1-Factores emisión'!$C36:$R36,'Datos 1-Factores emisión'!$C38:$R38)","v":{"$error":"#N/A"}},{"$f":"D30*(1-LOOKUP('Datos generales organización'!$D$14,'Datos 1-Factores emisión'!$C36:$R36,'Datos 1-Factores emisión'!$C38:$R38))+D23*LOOKUP('Datos generales organización'!$D$14,'Datos 1-Factores emisión'!$C36:$R36,'Datos 1-Factores emisión'!$C38:$R38)","v":{"$error":"#N/A"}},{"$f":"E30*(1-LOOKUP('Datos generales organización'!$D$14,'Datos 1-Factores emisión'!$C36:$R36,'Datos 1-Factores emisión'!$C38:$R38))+E23*LOOKUP('Datos generales organización'!$D$14,'Datos 1-Factores emisión'!$C36:$R36,'Datos 1-Factores emisión'!$C38:$R38)","v":{"$error":"#N/A"}},{"$f":"F30*(1-LOOKUP('Datos generales organización'!$D$14,'Datos 1-Factores emisión'!$C36:$R36,'Datos 1-Factores emisión'!$C38:$R38))+F23*LOOKUP('Datos generales organización'!$D$14,'Datos 1-Factores emisión'!$C36:$R36,'Datos 1-Factores emisión'!$C38:$R38)","v":{"$error":"#N/A"}},"b","b","b","b",{"$f":"LOOKUP($B29,'Datos 3-Factores de convers'!$B$29:$B$51,'Datos 3-Factores de convers'!$F$29:$F$51)*(C29*'Datos 2-Potenciales calent glob'!$D$6+'Datos 1-Factores emisión'!E29*'Datos 2-Potenciales calent glob'!$D$31+'Datos 1-Factores emisión'!F29*'Datos 2-Potenciales calent glob'!$D$32)","v":{"$error":"#N/A"}},"L"]
[null,"Gasóleo A y B puro",74100,0,3.9,3.9,"b","b","b","b",null,"No aplica"]
[null,"Gasolina ",{"$f":"C32*(1-LOOKUP('Datos generales organización'!$D$14,'Datos 1-Factores emisión'!$C36:$R36,'Datos 1-Factores emisión'!$C37:$R37))+C23*LOOKUP('Datos generales organización'!$D$14,'Datos 1-Factores emisión'!$C36:$R36,'Datos 1-Factores emisión'!$C37:$R37)","v":{"$error":"#N/A"}},{"$f":"D32*(1-LOOKUP('Datos generales organización'!$D$14,'Datos 1-Factores emisión'!$C36:$R36,'Datos 1-Factores emisión'!$C37:$R37))+D23*LOOKUP('Datos generales organización'!$D$14,'Datos 1-Factores emisión'!$C36:$R36,'Datos 1-Factores emisión'!$C37:$R37)","v":{"$error":"#N/A"}},{"$f":"E32*(1-LOOKUP('Datos generales organización'!$D$14,'Datos 1-Factores emisión'!$C36:$R36,'Datos 1-Factores emisión'!$C37:$R37))+E23*LOOKUP('Datos generales organización'!$D$14,'Datos 1-Factores emisión'!$C36:$R36,'Datos 1-Factores emisión'!$C37:$R37)","v":{"$error":"#N/A"}},{"$f":"F32*(1-LOOKUP('Datos generales organización'!$D$14,'Datos 1-Factores emisión'!$C36:$R36,'Datos 1-Factores emisión'!$C37:$R37))+F23*LOOKUP('Datos generales organización'!$D$14,'Datos 1-Factores emisión'!$C36:$R36,'Datos 1-Factores emisión'!$C37:$R37)","v":{"$error":"#N/A"}},"b","b","b","b",{"$f":"LOOKUP($B31,'Datos 3-Factores de convers'!$B$29:$B$51,'Datos 3-Factores de convers'!$F$29:$F$51)*(C31*'Datos 2-Potenciales calent glob'!$D$6+'Datos 1-Factores emisión'!E31*'Datos 2-Potenciales calent glob'!$D$31+'Datos 1-Factores emisión'!F31*'Datos 2-Potenciales calent glob'!$D$32)","v":{"$error":"#N/A"}},"L"]
[null,"Gasolina pura",69300,0,33,3.2,"b","b","b","b",null,"No aplica"]
[null,"GLP genérico",63100,0,62,0.2,"b","b","b","b",{"$f":"LOOKUP($B33,'Datos 3-Factores de convers'!$B$29:$B$51,'Datos 3-Factores de convers'!$F$29:$F$51)*(C33*'Datos 2-Potenciales calent glob'!$D$6+'Datos 1-Factores emisión'!E33*'Datos 2-Potenciales calent glob'!$D$31+'Datos 1-Factores emisión'!F33*'Datos 2-Potenciales calent glob'!$D$32)","v":1.7145025944256},"L"]
[]
[]
[null,null,2005,2006,2007,2008,2009,2010,2011,2012,2013,2014,2015,2016,2017,2018,2019,2020]
[null,"% mínimo de bioetanol en la gasolina",0,0,0,1.9E-2,2.5000000000000001E-2,3.9E-2,3.9E-2,4.1000000000000002E-2,3.9E-2,3.9E-2,3.9E-2,4.2999999999999997E-2,0.05,0.06,0.06,5.0045637725729099E-2]
[null,"% mínimo de biodiésel en el gasóleo",0,0,0,1.9E-2,2.5000000000000001E-2,3.9E-2,0.06,7.0000000000000007E-2,4.1000000000000002E-2,4.1000000000000002E-2,4.1000000000000002E-2,4.2999999999999997E-2,0.05,0.06,0.06,5.0045637725729099E-2]
[null,"Fuente del dato","Sin datos","Sin datos","Sin datos","o0","o0","o0","o1","o1","o2","o2","o2","o3","o3","o3","o4","o4"]
[]
[null,"FUENTES DE EMISIÓN MÓVILES ALCANCE 1 (POR DISTANCIA RECORRIDA)"]
[null,"Tipo de vehículo","Propulsión","GEI","Factor de emisión (kg GEI/km)","Fuente del dato"]
[null,"4x4","Gasóleo A y B","CH4",4.3200000000000001E-6,"e"]
[null,"4x4","Gasóleo A y B","CO2",0.20072999999999999,"e"]
[null,"4x4","Gasóleo A y B","N2O",1.8400000000000001E-3,"e"]
[null,"4x4","Gasóleo A y B","CO2 b ",{"$f":"E44/$C$29*$D$29","v":{"$error":"#N/A"}},"t"]
[null,"4x4","B100","CH4",{"$f":"E43*$E$23/$E$29*'Datos 3-Factores de convers'!$F$44/'Datos 3-Factores de convers'!$F$29","v":{"$error":"#N/A"}},"t"]
[null,"4x4","B100","CO2",{"$f":"E44*$C$23/$C$29*'Datos 3-Factores de convers'!$F$44/'Datos 3-Factores de convers'!$F$29","v":{"$error":"#N/A"}},"t"]
[null,"4x4","B100","N2O",{"$f":"E45*$F$23/$F$29*'Datos 3-Factores de convers'!$F$44/'Datos 3-Factores de convers'!$F$29","v":{"$error":"#N/A"}},"t"]
[null,"4x4","B100","CO2 b ",{"$f":"E46*$D$23/$D$29*'Datos 3-Factores de convers'!$F$44/'Datos 3-Factores de convers'!$F$29","v":{"$error":"#N/A"}},"t"]
[null,"4x4","B30","CH4",{"$f":"E43*$E$24/$E$29*'Datos 3-Factores de convers'!$F$44/'Datos 3-Factores de convers'!$F$29","v":{"$error":"#N/A"}},"t"]
[null,"4x4","B30","CO2",{"$f":"E44*$C$24/$C$29*'Datos 3-Factores de convers'!$F$44/'Datos 3-Factores de convers'!$F$29","v":{"$error":"#N/A"}},"t"]
[null,"4x4","B30","N2O",{"$f":"E45*$F$24/$F$29*'Datos 3-Factores de convers'!$F$44/'Datos 3-Factores de convers'!$F$29","v":{"$error":"#N/A"}},"t"]
[null,"4x4","B30","CO2 b ",{"$f":"E46*$D$24/$D$29*'Datos 3-Factores de convers'!$F$44/'Datos 3-Factores de convers'!$F$29","v":{"$error":"#N/A"}},"t"]
[null,"4x4","Gasolina","CH4",3.2000000000000003E-4,"e"]
[null,"4x4","Gasolina","CO2",0.23593,"e"]
[null,"4x4","Gasolina","N2O",3.8000000000000002E-4,"e"]
[null,"4x4","Gasolina","CO2 b ",{"$f":"E56/$C$31*$D$31","v":{"$error":"#N/A"}},"t"]
[null,"4x4","E10","CH4",{"$f":"E55*$E$25/$E$31*'Datos 3-Factores de convers'!$F$44/'Datos 3-Factores de convers'!$F$29","v":{"$error":"#N/A"}},"t"]
[null,"4x4","E10","CO2",{"$f":"E56*$C$25/$C$31*'Datos 3-Factores de convers'!$F$44/'Datos 3-Factores de convers'!$F$29","v":{"$error":"#N/A"}},"t"]
[null,"4x4","E10","N2O",{"$f":"E57*$F$25/$F$31*'Datos 3-Factores de convers'!$F$44/'Datos 3-Factores de convers'!$F$29","v":{"$error":"#N/A"}},"t"]
[null,"4x4","E10","CO2 b ",{"$f":"E58*$D$25/$D$31*'Datos 3-Factores de convers'!$F$44/'Datos 3-Factores de convers'!$F$29","v":{"$error":"#N/A"}},"t"]
[null,"4x4","E85 ","CH4",{"$f":"E55*$E$26/$E$31*'Datos 3-Factores de convers'!$F$44/'Datos 3-Factores de convers'!$F$29","v":{"$error":"#N/A"}},"t"]
[null,"4x4","E85 ","CO2",{"$f":"E56*$C$26/$C$31*'Datos 3-Factores de convers'!$F$44/'Datos 3-Factores de convers'!$F$29","v":{"$error":"#N/A"}},"t"]
[null,"4x4","E85 ","N2O",{"$f":"E57*$F$26/$F$31*'Datos 3-Factores de convers'!$F$44/'Datos 3-Factores de convers'!$F$29","v":{"$error":"#N/A"}},"t"]
[null,"4x4","E85 ","CO2 b ",{"$f":"E58*$D$26/$D$31*'Datos 3-Factores de convers'!$F$44/'Datos 3-Factores de convers'!$F$29","v":{"$error":"#N/A"}},"t"]
[null,"Camión articulado (de 3,5 a 33 toneladas)","Gasóleo A y B","CH4",1.1E-4,"e"]
[null,"Camión articulado (de 3,5 a 33 toneladas)","Gasóleo A y B","CO2",0.77361999999999997,"e"]
[null,"Camión articulado (de 3,5 a 33 toneladas)","Gasóleo A y B","N2O",1.3169999999999999E-2,"e"]
[null,"Camión articulado (de 3,5 a 33 toneladas)","Gasóleo A y B","CO2 b ",{"$f":"E68/$C$29*$D$29","v":{"$error":"#N/A"}},"t"]
[null,"Camión articulado (de 3,5 a 33 toneladas)","B100","CH4",{"$f":"E67*$E$23/$E$29*'Datos 3-Factores de convers'!$F$44/'Datos 3-Factores de convers'!$F$29","v":{"$error":"#N/A"}},"t"]
[null,"Camión articulado (de 3,5 a 33 toneladas)","B100","CO2",{"$f":"E68*$C$23/$C$29*'Datos 3-Factores de convers'!$F$44/'Datos 3-Factores de convers'!$F$29","v":{"$error":"#N/A"}},"t"]
[null,"Camión articulado (de 3,5 a 33 toneladas)","B100","N2O",{"$f":"E69*$F$23/$F$29*'Datos 3-Factores de convers'!$F$44/'Datos 3-Factores de convers'!$F$29","v":{"$error":"#N/A"}},"t"]
[null,"Camión articulado (de 3,5 a 33 toneladas)","B100","CO2 b ",{"$f":"E70*$D$23/$D$29*'Datos 3-Factores de convers'!$F$44/'Datos 3-Factores de convers'!$F$29","v":{"$error":"#N/A"}},"t"]
[null,"Camión articulado (de 3,5 a 33 toneladas)","B30","CH4",{"$f":"E67*$E$24/$E$29*'Datos 3-Factores de convers'!$F$44/'Datos 3-Factores de convers'!$F$29","v":{"$error":"#N/A"}},"t"]
[null,"Camión articulado (de 3,5 a 33 toneladas)","B30","CO2",{"$f":"E68*$C$24/$C$29*'Datos 3-Factores de convers'!$F$44/'Datos 3-Factores de convers'!$F$29","v":{"$error":"#N/A"}},"t"]
[null,"Camión articulado (de 3,5 a 33 toneladas)","B30","N2O",{"$f":"E69*$F$24/$F$29*'Datos 3-Factores de convers'!$F$44/'Datos 3-Factores de convers'!$F$29","v":{"$error":"#N/A"}},"t"]
[null,"Camión articulado (de 3,5 a 33 toneladas)","B30","CO2 b ",{"$f":"E70*$D$24/$D$29*'Datos 3-Factores de convers'!$F$44/'Datos 3-Factores de convers'!$F$29","v":{"$error":"#N/A"}},"t"]
[null,"Camión articulado (más de 33 toneladas)","Gasóleo A y B","CH4",1.2999999999999999E-4,"e"]
[null,"Camión articulado (más de 33 toneladas)","Gasóleo A y B","CO2",0.92113,"e"]
[null,"Camión articulado (más de 33 toneladas)","Gasóleo A y B","N2O",1.567E-2,"e"]
[null,"Camión articulado (más de 33 toneladas)","Gasóleo A y B","CO2 b ",{"$f":"E80/$C$29*$D$29","v":{"$error":"#N/A"}},"t"]
[null,"Camión articulado (más de 33 toneladas)","B100","CH4",{"$f":"E79*$E$23/$E$29*'Datos 3-Factores de convers'!$F$44/'Datos 3-Factores de convers'!$F$29","v":{"$error":"#N/A"}},"t"]
[null,"Camión articulado (más de 33 toneladas)","B100","CO2",{"$f":"E80*$C$23/$C$29*'Datos 3-Factores de convers'!$F$44/'Datos 3-Factores de convers'!$F$29","v":{"$error":"#N/A"}},"t"]
[null,"Camión articulado (más de 33 toneladas)","B100","N2O",{"$f":"E81*$F$23/$F$29*'Datos 3-Factores de convers'!$F$44/'Datos 3-Factores de convers'!$F$29","v":{"$error":"#N/A"}},"t"]
[null,"Camión articulado (más de 33 toneladas)","B100","CO2 b ",{"$f":"E82*$D$23/$D$29*'Datos 3-Factores de convers'!$F$44/'Datos 3-Factores de convers'!$F$29","v":{"$error":"#N/A"}},"t"]
[null,"Camión articulado (más de 33 toneladas)","B30","CH4",{"$f":"E79*$E$24/$E$29*'Datos 3-Factores de convers'!$F$44/'Datos 3-Factores de convers'!$F$29","v":{"$error":"#N/A"}},"t"]
[null,"Camión articulado (más de 33 toneladas)","B30","CO2",{"$f":"E80*$C$24/$C$29*'Datos 3-Factores de convers'!$F$44/'Datos 3-Factores de convers'!$F$29","v":{"$error":"#N/A"}},"t"]
[null,"Camión articulado (más de 33 toneladas)","B30","N2O",{"$f":"E81*$F$24/$F$29*'Datos 3-Factores de convers'!$F$44/'Datos 3-Factores de convers'!$F$29","v":{"$error":"#N/A"}},"t"]
[null,"Camión articulado (más de 33 toneladas)","B30","CO2 b ",{"$f":"E82*$D$24/$D$29*'Datos 3-Factores de convers'!$F$44/'Datos 3-Factores de convers'!$F$29","v":{"$error":"#N/A"}},"t"]
[null,"Camión rígido (de 3,5 a 7,5 toneladas)","Gasóleo A y B","CH4",1.2E-4,"e"]
[null,"Camión rígido (de 3,5 a 7,5 toneladas)","Gasóleo A y B","CO2",0.48476000000000002,"e"]
[null,"Camión rígido (de 3,5 a 7,5 toneladas)","Gasóleo A y B","N2O",5.5199999999999997E-3,"e"]
[null,"Camión rígido (de 3,5 a 7,5 toneladas)","Gasóleo A y B","CO2 b ",{"$f":"E92/$C$29*$D$29","v":{"$error":"#N/A"}},"t"]
[null,"Camión rígido (de 3,5 a 7,5 toneladas)","B100","CH4",{"$f":"E91*$E$23/$E$29*'Datos 3-Factores de convers'!$F$44/'Datos 3-Factores de convers'!$F$29","v":{"$error":"#N/A"}},"t"]
[null,"Camión rígido (de 3,5 a 7,5 toneladas)","B100","CO2",{"$f":"E92*$C$23/$C$29*'Datos 3-Factores de convers'!$F$44/'Datos 3-Factores de convers'!$F$29","v":{"$error":"#N/A"}},"t"]
[null,"Camión rígido (de 3,5 a 7,5 toneladas)","B100","N2O",{"$f":"E93*$F$23/$F$29*'Datos 3-Factores de convers'!$F$44/'Datos 3-Factores de convers'!$F$29","v":{"$error":"#N/A"}},"t"]
[null,"Camión rígido (de 3,5 a 7,5 toneladas)","B100","CO2 b ",{"$f":"E94*$D$23/$D$29*'Datos 3-Factores de convers'!$F$44/'Datos 3-Factores de convers'!$F$29","v":{"$error":"#N/A"}},"t"]
[null,"Camión rígido (de 3,5 a 7,5 toneladas)","B30","CH4",{"$f":"E91*$E$24/$E$29*'Datos 3-Factores de convers'!$F$44/'Datos 3-Factores de convers'!$F$29","v":{"$error":"#N/A"}},"t"]
[null,"Camión rígido (de 3,5 a 7,5 toneladas)","B30","CO2",{"$f":"E92*$C$24/$C$29*'Datos 3-Factores de convers'!$F$44/'Datos 3-Factores de convers'!$F$29","v":{"$error":"#N/A"}},"t"]
[null,"Camión rígido (de 3,5 a 7,5 toneladas)","B30","N2O",{"$f":"E93*$F$24/$F$29*'Datos 3-Factores de convers'!$F$44/'Datos 3-Factores de convers'!$F$29","v":{"$error":"#N/A"}},"t"]
[null,"Camión rígido (de 3,5 a 7,5 toneladas)","B30","CO2 b ",{"$f":"E94*$D$24/$D$29*'Datos 3-Factores de convers'!$F$44/'Datos 3-Factores de convers'!$F$29","v":{"$error":"#N/A"}},"t"]
[null,"Camión rígido (de 7,5 a 17 toneladas)","Gasóleo A y B","CH4",1.4999999999999999E-4,"e"]
[null,"Camión rígido (de 7,5 a 17 toneladas)","Gasóleo A y B","CO2",0.59201999999999999,"e"]
[null,"Camión rígido (de 7,5 a 17 toneladas)","Gasóleo A y B","N2O",6.7299999999999999E-3,"e"]
[null,"Camión rígido (de 7,5 a 17 toneladas)","Gasóleo A y B","CO2 b ",{"$f":"E104/$C$29*$D$29","v":{"$error":"#N/A"}},"t"]
[null,"Camión rígido (de 7,5 a 17 toneladas)","B100","CH4",{"$f":"E103*$E$23/$E$29*'Datos 3-Factores de convers'!$F$44/'Datos 3-Factores de convers'!$F$29","v":{"$error":"#N/A"}},"t"]
[null,"Camión rígido (de 7,5 a 17 toneladas)","B100","CO2",{"$f":"E104*$C$23/$C$29*'Datos 3-Factores de convers'!$F$44/'Datos 3-Factores de convers'!$F$29","v":{"$error":"#N/A"}},"t"]
[null,"Camión rígido (de 7,5 a 17 toneladas)","B100","N2O",{"$f":"E105*$F$23/$F$29*'Datos 3-Factores de convers'!$F$44/'Datos 3-Factores de convers'!$F$29","v":{"$error":"#N/A"}},"t"]
[null,"Camión rígido (de 7,5 a 17 toneladas)","B100","CO2 b ",{"$f":"E106*$D$23/$D$29*'Datos 3-Factores de convers'!$F$44/'Datos 3-Factores de convers'!$F$29","v":{"$error":"#N/A"}},"t"]
[null,"Camión rígido (de 7,5 a 17 toneladas)","B30","CH4",{"$f":"E103*$E$24/$E$29*'Datos 3-Factores de convers'!$F$44/'Datos 3-Factores de convers'!$F$29","v":{"$error":"#N/A"}},"t"]
[null,"Camión rígido (de 7,5 a 17 toneladas)","B30","CO2",{"$f":"E104*$C$24/$C$29*'Datos 3-Factores de convers'!$F$44/'Datos 3-Factores de convers'!$F$29","v":{"$error":"#N/A"}},"t"]
[null,"Camión rígido (de 7,5 a 17 toneladas)","B30","N2O",{"$f":"E105*$F$24/$F$29*'Datos 3-Factores de convers'!$F$44/'Datos 3-Factores de convers'!$F$29","v":{"$error":"#N/A"}},"t"]
[null,"Camión rígido (de 7,5 a 17 toneladas)","B30","CO2 b ",{"$f":"E106*$D$24/$D$29*'Datos 3-Factores de convers'!$F$44/'Datos 3-Factores de convers'!$F$29","v":{"$error":"#N/A"}},"t"]
[null,"Camión rígido (más de 17 toneladas)","Gasóleo A y B","CH4",2.5000000000000001E-4,"e"]
[null,"Camión rígido (más de 17 toneladas)","Gasóleo A y B","CO2",0.97113000000000005,"e"]
[null,"Camión rígido (más de 17 toneladas)","Gasóleo A y B","N2O",1.106E-2,"e"]
[null,"Camión rígido (más de 17 toneladas)","Gasóleo A y B","CO2 b ",{"$f":"E116/$C$29*$D$29","v":{"$error":"#N/A"}},"t"]
[null,"Camión rígido (más de 17 toneladas)","B100","CH4",{"$f":"E115*$E$23/$E$29*'Datos 3-Factores de convers'!$F$44/'Datos 3-Factores de convers'!$F$29","v":{"$error":"#N/A"}},"t"]
[null,"Camión rígido (más de 17 toneladas)","B100","CO2",{"$f":"E116*$C$23/$C$29*'Datos 3-Factores de convers'!$F$44/'Datos 3-Factores de convers'!$F$29","v":{"$error":"#N/A"}},"t"]
[null,"Camión rígido (más de 17 toneladas)","B100","N2O",{"$f":"E117*$F$23/$F$29*'Datos 3-Factores de convers'!$F$44/'Datos 3-Factores de convers'!$F$29","v":{"$error":"#N/A"}},"t"]
[null,"Camión rígido (más de 17 toneladas)","B100","CO2 b ",{"$f":"E118*$D$23/$D$29*'Datos 3-Factores de convers'!$F$44/'Datos 3-Factores de convers'!$F$29","v":{"$error":"#N/A"}},"t"]
[null,"Camión rígido (más de 17 toneladas)","B30","CH4",{"$f":"E115*$E$24/$E$29*'Datos 3-Factores de convers'!$F$44/'Datos 3-Factores de convers'!$F$29","v":{"$error":"#N/A"}},"t"]
[null,"Camión rígido (más de 17 toneladas)","B30","CO2",{"$f":"E116*$C$24/$C$29*'Datos 3-Factores de convers'!$F$44/'Datos 3-Factores de convers'!$F$29","v":{"$error":"#N/A"}},"t"]
[null,"Camión rígido (más de 17 toneladas)","B30","N2O",{"$f":"E117*$F$24/$F$29*'Datos 3-Factores de convers'!$F$44/'Datos 3-Factores de convers'!$F$29","v":{"$error":"#N/A"}},"t"]
[null,"Camión rígido (más de 17 toneladas)","B30","CO2 b ",{"$f":"E118*$D$24/$D$29*'Datos 3-Factores de convers'!$F$44/'Datos 3-Factores de convers'!$F$29","v":{"$error":"#N/A"}},"t"]
[null,"Deportivo","Gasóleo A y B","CH4",4.3200000000000001E-6,"e"]
[null,"Deportivo","Gasóleo A y B","CO2",0.17147999999999999,"e"]
[null,"Deportivo","Gasóleo A y B","N2O",1.8400000000000001E-3,"e"]
[null,"Deportivo","Gasóleo A y B","CO2 b ",{"$f":"E128/$C$29*$D$29","v":{"$error":"#N/A"}},"t"]
[null,"Deportivo","B100","CH4",{"$f":"E127*$E$23/$E$29*'Datos 3-Factores de convers'!$F$44/'Datos 3-Factores de convers'!$F$29","v":{"$error":"#N/A"}},"t"]
[null,"Deportivo","B100","CO2",{"$f":"E128*$C$23/$C$29*'Datos 3-Factores de convers'!$F$44/'Datos 3-Factores de convers'!$F$29","v":{"$error":"#N/A"}},"t"]
[null,"Deportivo","B100","N2O",{"$f":"E129*$F$23/$F$29*'Datos 3-Factores de convers'!$F$44/'Datos 3-Factores de convers'!$F$29","v":{"$error":"#N/A"}},"t"]
[null,"Deportivo","B100","CO2 b ",{"$f":"E130*$D$23/$D$29*'Datos 3-Factores de convers'!$F$44/'Datos 3-Factores de convers'!$F$29","v":{"$error":"#N/A"}},"t"]
[null,"Deportivo","B30","CH4",{"$f":"E127*$E$24/$E$29*'Datos 3-Factores de convers'!$F$44/'Datos 3-Factores de convers'!$F$29","v":{"$error":"#N/A"}},"t"]
[null,"Deportivo","B30","CO2",{"$f":"E128*$C$24/$C$29*'Datos 3-Factores de convers'!$F$44/'Datos 3-Factores de convers'!$F$29","v":{"$error":"#N/A"}},"t"]
[null,"Deportivo","B30","N2O",{"$f":"E129*$F$24/$F$29*'Datos 3-Factores de convers'!$F$44/'Datos 3-Factores de convers'!$F$29","v":{"$error":"#N/A"}},"t"]
[null,"Deportivo","B30","CO2 b ",{"$f":"E130*$D$24/$D$29*'Datos 3-Factores de convers'!$F$44/'Datos 3-Factores de convers'!$F$29","v":{"$error":"#N/A"}},"t"]
[null,"Deportivo","Gasolina","CH4",3.2000000000000003E-4,"e"]
[null,"Deportivo","Gasolina","CO2",0.24529999999999999,"e"]
[null,"Deportivo","Gasolina","N2O",3.8000000000000002E-4,"e"]
[null,"Deportivo","Gasolina","CO2 b ",{"$f":"E140/$C$31*$D$31","v":{"$error":"#N/A"}},"t"]
[null,"Deportivo","E10","CH4",{"$f":"E139*$E$25/$E$31*'Datos 3-Factores de convers'!$F$44/'Datos 3-Factores de convers'!$F$29","v":{"$error":"#N/A"}},"t"]
[null,"Deportivo","E10","CO2",{"$f":"E140*$C$25/$C$31*'Datos 3-Factores de convers'!$F$44/'Datos 3-Factores de convers'!$F$29","v":{"$error":"#N/A"}},"t"]
[null,"Deportivo","E10","N2O",{"$f":"E141*$F$25/$F$31*'Datos 3-Factores de convers'!$F$44/'Datos 3-Factores de convers'!$F$29","v":{"$error":"#N/A"}},"t"]
[null,"Deportivo","E10","CO2 b ",{"$f":"E142*$D$25/$D$31*'Datos 3-Factores de convers'!$F$44/'Datos 3-Factores de convers'!$F$29","v":{"$error":"#N/A"}},"t"]
[null,"Deportivo","E85 ","CH4",{"$f":"E139*$E$26/$E$31*'Datos 3-Factores de convers'!$F$44/'Datos 3-Factores de convers'!$F$29","v":{"$error":"#N/A"}},"t"]
[null,"Deportivo","E85 ","CO2",{"$f":"E140*$C$26/$C$31*'Datos 3-Factores de convers'!$F$44/'Datos 3-Factores de convers'!$F$29","v":{"$error":"#N/A"}},"t"]
[null,"Deportivo","E85 ","N2O",{"$f":"E141*$F$26/$F$31*'Datos 3-Factores de convers'!$F$44/'Datos 3-Factores de convers'!$F$29","v":{"$error":"#N/A"}},"t"]
[null,"Deportivo","E85 ","CO2 b ",{"$f":"E142*$D$26/$D$31*'Datos 3-Factores de convers'!$F$44/'Datos 3-Factores de convers'!$F$29","v":{"$error":"#N/A"}},"t"]
[null,"Furgoneta","Gasóleo A y B","CH4",1.0000000000000001E-5,"e"]
[null,"Furgoneta","Gasóleo A y B","CO2",0.25028,"e"]
[null,"Furgoneta","Gasóleo A y B","N2O",1.8400000000000001E-3,"e"]
[null,"Furgoneta","Gasóleo A y B","CO2 b ",{"$f":"E152/$C$29*$D$29","v":{"$error":"#N/A"}},"t"]
[null,"Furgoneta","B100","CH4",{"$f":"E151*$E$23/$E$29*'Datos 3-Factores de convers'!$F$44/'Datos 3-Factores de convers'!$F$29","v":{"$error":"#N/A"}},"t"]
[null,"Furgoneta","B100","CO2",{"$f":"E152*$C$23/$C$29*'Datos 3-Factores de convers'!$F$44/'Datos 3-Factores de convers'!$F$29","v":{"$error":"#N/A"}},"t"]
[null,"Furgoneta","B100","N2O",{"$f":"E153*$F$23/$F$29*'Datos 3-Factores de convers'!$F$44/'Datos 3-Factores de convers'!$F$29","v":{"$error":"#N/A"}},"t"]
[null,"Furgoneta","B100","CO2 b ",{"$f":"E154*$D$23/$D$29*'Datos 3-Factores de convers'!$F$44/'Datos 3-Factores de convers'!$F$29","v":{"$error":"#N/A"}},"t"]
[null,"Furgoneta","B30","CH4",{"$f":"E151*$E$24/$E$29*'Datos 3-Factores de convers'!$F$44/'Datos 3-Factores de convers'!$F$29","v":{"$error":"#N/A"}},"t"]
[null,"Furgoneta","B30","CO2",{"$f":"E152*$C$24/$C$29*'Datos 3-Factores de convers'!$F$44/'Datos 3-Factores de convers'!$F$29","v":{"$error":"#N/A"}},"t"]
[null,"Furgoneta","B30","N2O",{"$f":"E153*$F$24/$F$29*'Datos 3-Factores de convers'!$F$44/'Datos 3-Factores de convers'!$F$29","v":{"$error":"#N/A"}},"t"]
[null,"Furgoneta","B30","CO2 b ",{"$f":"E154*$D$24/$D$29*'Datos 3-Factores de convers'!$F$44/'Datos 3-Factores de convers'!$F$29","v":{"$error":"#N/A"}},"t"]
[null,"Furgoneta","Gasolina","CH4",2.5000000000000001E-4,"e"]
[null,"Furgoneta","Gasolina","CO2",0.23549,"e"]
[null,"Furgoneta","Gasolina","N2O",7.1000000000000002E-4,"e"]
[null,"Furgoneta","Gasolina","CO2 b ",{"$f":"E164/$C$31*$D$31","v":{"$error":"#N/A"}},"t"]
[null,"Furgoneta","E10","CH4",{"$f":"E163*$E$25/$E$31*'Datos 3-Factores de convers'!$F$44/'Datos 3-Factores de convers'!$F$29","v":{"$error":"#N/A"}},"t"]
[null,"Furgoneta","E10","CO2",{"$f":"E164*$C$25/$C$31*'Datos 3-Factores de convers'!$F$44/'Datos 3-Factores de convers'!$F$29","v":{"$error":"#N/A"}},"t"]
[null,"Furgoneta","E10","N2O",{"$f":"E165*$F$25/$F$31*'Datos 3-Factores de convers'!$F$44/'Datos 3-Factores de convers'!$F$29","v":{"$error":"#N/A"}},"t"]
[null,"Furgoneta","E10","CO2 b ",{"$f":"E166*$D$25/$D$31*'Datos 3-Factores de convers'!$F$44/'Datos 3-Factores de convers'!$F$29","v":{"$error":"#N/A"}},"t"]
[null,"Furgoneta","E85 ","CH4",{"$f":"E163*$E$26/$E$31*'Datos 3-Factores de convers'!$F$44/'Datos 3-Factores de convers'!$F$29","v":{"$error":"#N/A"}},"t"]
[null,"Furgoneta","E85 ","CO2",{"$f":"E164*$C$26/$C$31*'Datos 3-Factores de convers'!$F$44/'Datos 3-Factores de convers'!$F$29","v":{"$error":"#N/A"}},"t"]
[null,"Furgoneta","E85 ","N2O",{"$f":"E165*$F$26/$F$31*'Datos 3-Factores de convers'!$F$44/'Datos 3-Factores de convers'!$F$29","v":{"$error":"#N/A"}},"t"]
[null,"Furgoneta","E85 ","CO2 b ",{"$f":"E166*$D$26/$D$31*'Datos 3-Factores de convers'!$F$44/'Datos 3-Factores de convers'!$F$29","v":{"$error":"#N/A"}},"t"]
[null,"Furgoneta","Gas Natural Comprimido","CH4",1.2700000000000001E-3,"e"]
[null,"Furgoneta","Gas Natural Comprimido","CO2",0.2457,"e"]
[null,"Furgoneta","Gas Natural Comprimido","N2O",8.4000000000000003E-4,"e"]
[null,"Furgoneta","GLP","CH4",4.0000000000000003E-5,"e"]
[null,"Furgoneta","GLP","CO2",0.27156000000000002,"e"]
[null,"Furgoneta","GLP","N2O",8.4000000000000003E-4,"e"]
[null,"Microcoche","Gasóleo A y B","CH4",4.3200000000000001E-6,"e"]
[null,"Microcoche","Gasóleo A y B","CO2",0.13264999999999999,"e"]
[null,"Microcoche","Gasóleo A y B","N2O",1.8400000000000001E-3,"e"]
[null,"Microcoche","Gasóleo A y B","CO2 b ",{"$f":"E182/$C$29*$D$29","v":{"$error":"#N/A"}},"t"]
[null,"Microcoche","B100","CH4",{"$f":"E181*$E$23/$E$29*'Datos 3-Factores de convers'!$F$44/'Datos 3-Factores de convers'!$F$29","v":{"$error":"#N/A"}},"t"]
[null,"Microcoche","B100","CO2",{"$f":"E182*$C$23/$C$29*'Datos 3-Factores de convers'!$F$44/'Datos 3-Factores de convers'!$F$29","v":{"$error":"#N/A"}},"t"]
[null,"Microcoche","B100","N2O",{"$f":"E183*$F$23/$F$29*'Datos 3-Factores de convers'!$F$44/'Datos 3-Factores de convers'!$F$29","v":{"$error":"#N/A"}},"t"]
[null,"Microcoche","B100","CO2 b ",{"$f":"E184*$D$23/$D$29*'Datos 3-Factores de convers'!$F$44/'Datos 3-Factores de convers'!$F$29","v":{"$error":"#N/A"}},"t"]
[null,"Microcoche","B30","CH4",{"$f":"E181*$E$24/$E$29*'Datos 3-Factores de convers'!$F$44/'Datos 3-Factores de convers'!$F$29","v":{"$error":"#N/A"}},"t"]
[null,"Microcoche","B30","CO2",{"$f":"E182*$C$24/$C$29*'Datos 3-Factores de convers'!$F$44/'Datos 3-Factores de convers'!$F$29","v":{"$error":"#N/A"}},"t"]
[null,"Microcoche","B30","N2O",{"$f":"E183*$F$24/$F$29*'Datos 3-Factores de convers'!$F$44/'Datos 3-Factores de convers'!$F$29","v":{"$error":"#N/A"}},"t"]
[null,"Microcoche","B30","CO2 b ",{"$f":"E184*$D$24/$D$29*'Datos 3-Factores de convers'!$F$44/'Datos 3-Factores de convers'!$F$29","v":{"$error":"#N/A"}},"t"]
[null,"Motocicleta","Gasolina","CH4",1.7799999999999999E-3,"e"]
[null,"Motocicleta","Gasolina","CO2",0.11314,"e"]
[null,"Motocicleta","Gasolina","N2O",5.9000000000000003E-4,"e"]
[null,"Motocicleta","Gasolina","CO2 b ",{"$f":"E194/$C$31*$D$31","v":{"$error":"#N/A"}},"t"]
[null,"Motocicleta","E10","CH4",{"$f":"E193*$E$25/$E$31*'Datos 3-Factores de convers'!$F$44/'Datos 3-Factores de convers'!$F$29","v":{"$error":"#N/A"}},"t"]
[null,"Motocicleta","E10","CO2",{"$f":"E194*$C$25/$C$31*'Datos 3-Factores de convers'!$F$44/'Datos 3-Factores de convers'!$F$29","v":{"$error":"#N/A"}},"t"]
[null,"Motocicleta","E10","N2O",{"$f":"E195*$F$25/$F$31*'Datos 3-Factores de convers'!$F$44/'Datos 3-Factores de convers'!$F$29","v":{"$error":"#N/A"}},"t"]
[null,"Motocicleta","E10","CO2 b ",{"$f":"E196*$D$25/$D$31*'Datos 3-Factores de convers'!$F$44/'Datos 3-Factores de convers'!$F$29","v":{"$error":"#N/A"}},"t"]
[null,"Motocicleta","E85 ","CH4",{"$f":"E193*$E$26/$E$31*'Datos 3-Factores de convers'!$F$44/'Datos 3-Factores de convers'!$F$29","v":{"$error":"#N/A"}},"t"]
[null,"Motocicleta","E85 ","CO2",{"$f":"E194*$C$26/$C$31*'Datos 3-Factores de convers'!$F$44/'Datos 3-Factores de convers'!$F$29","v":{"$error":"#N/A"}},"t"]
[null,"Motocicleta","E85 ","N2O",{"$f":"E195*$F$26/$F$31*'Datos 3-Factores de convers'!$F$44/'Datos 3-Factores de convers'!$F$29","v":{"$error":"#N/A"}},"t"]
[null,"Motocicleta","E85 ","CO2 b ",{"$f":"E196*$D$26/$D$31*'Datos 3-Factores de convers'!$F$44/'Datos 3-Factores de convers'!$F$29","v":{"$error":"#N/A"}},"t"]
[null,"Turismo grande","Gasóleo A y B","CH4",4.3200000000000001E-6,"e"]
[null,"Turismo grande","Gasóleo A y B","CO2",0.20763000000000001,"e"]
[null,"Turismo grande","Gasóleo A y B","N2O",1.8400000000000001E-3,"e"]
[null,"Turismo grande","Gasolina","CH4",3.2000000000000003E-4,"e"]
[null,"Turismo grande","Gasolina","CO2",0.28225,"e"]
[null,"Turismo grande","Gasolina","N2O",3.8000000000000002E-4,"e"]
[null,"Turismo grande","Gasolina","CO2 b ",{"$f":"E209/$C$31*$D$31","v":{"$error":"#N/A"}},"t"]
[null,"Turismo grande","E10","CH4",{"$f":"E208*$E$25/$E$31*'Datos 3-Factores de convers'!$F$44/'Datos 3-Factores de convers'!$F$29","v":{"$error":"#N/A"}},"t"]
[null,"Turismo grande","E10","CO2",{"$f":"E209*$C$25/$C$31*'Datos 3-Factores de convers'!$F$44/'Datos 3-Factores de convers'!$F$29","v":{"$error":"#N/A"}},"t"]
[null,"Turismo grande","E10","N2O",{"$f":"E210*$F$25/$F$31*'Datos 3-Factores de convers'!$F$44/'Datos 3-Factores de convers'!$F$29","v":{"$error":"#N/A"}},"t"]
[null,"Turismo grande","E10","CO2 b ",{"$f":"E211*$D$25/$D$31*'Datos 3-Factores de convers'!$F$44/'Datos 3-Factores de convers'!$F$29","v":{"$error":"#N/A"}},"t"]
[null,"Turismo grande","E85 ","CH4",{"$f":"E208*$E$26/$E$31*'Datos 3-Factores de convers'!$F$44/'Datos 3-Factores de convers'!$F$29","v":{"$error":"#N/A"}},"t"]
[null,"Turismo grande","E85 ","CO2",{"$f":"E209*$C$26/$C$31*'Datos 3-Factores de convers'!$F$44/'Datos 3-Factores de convers'!$F$29","v":{"$error":"#N/A"}},"t"]
[null,"Turismo grande","E85 ","N2O",{"$f":"E210*$F$26/$F$31*'Datos 3-Factores de convers'!$F$44/'Datos 3-Factores de convers'!$F$29","v":{"$error":"#N/A"}},"t"]
[null,"Turismo grande","E85 ","CO2 b ",{"$f":"E211*$D$26/$D$31*'Datos 3-Factores de convers'!$F$44/'Datos 3-Factores de convers'!$F$29","v":{"$error":"#N/A"}},"t"]
[null,"Turismo grande","Híbrido","CH4",9.0000000000000006E-5,"e"]
[null,"Turismo grande","Híbrido","CO2",0.13022,"e"]
[null,"Turismo grande","Híbrido","N2O",1.4599999999999999E-3,"e"]
[null,"Turismo grande","Híbrido","CO2 b ",{"$f":"E221/$C$31*$D$31","v":{"$error":"#N/A"}},"t"]
[null,"Turismo grande","Gas Natural Comprimido","CO2",0.23530999999999999,"e"]
[null,"Turismo grande","Gas Natural Comprimido","N2O",4.4999999999999999E-4,"e"]
[null,"Turismo grande","GLP","CH4",5.0000000000000002E-5,"e"]
[null,"Turismo grande","GLP","CO2",0.26540999999999998,"e"]
[null,"Turismo grande","GLP","N2O",4.4999999999999999E-4,"e"]
[null,"Turismo medio","Gasóleo A y B","CH4",4.3200000000000001E-6,"e"]
[null,"Turismo medio","Gasóleo A y B","CO2",0.16877,"e"]
[null,"Turismo medio","Gasóleo A y B","N2O",1.8400000000000001E-3,"e"]
[null,"Turismo medio","Gasóleo A y B","CO2 b ",{"$f":"E230/$C$29*$D$29","v":{"$error":"#N/A"}},"t"]
[null,"Turismo medio","B100","CH4",{"$f":"E229*$E$23/$E$29*'Datos 3-Factores de convers'!$F$44/'Datos 3-Factores de convers'!$F$29","v":{"$error":"#N/A"}},"t"]
[null,"Turismo medio","B100","CO2",{"$f":"E230*$C$23/$C$29*'Datos 3-Factores de convers'!$F$44/'Datos 3-Factores de convers'!$F$29","v":{"$error":"#N/A"}},"t"]
[null,"Turismo medio","B100","N2O",{"$f":"E231*$F$23/$F$29*'Datos 3-Factores de convers'!$F$44/'Datos 3-Factores de convers'!$F$29","v":{"$error":"#N/A"}},"t"]
[null,"Turismo medio","B100","CO2 b ",{"$f":"E232*$D$23/$D$29*'Datos 3-Factores de convers'!$F$44/'Datos 3-Factores de convers'!$F$29","v":{"$error":"#N/A"}},"t"]
[null,"Turismo medio","B30","CH4",{"$f":"E229*$E$24/$E$29*'Datos 3-Factores de convers'!$F$44/'Datos 3-Factores de convers'!$F$29","v":{"$error":"#N/A"}},"t"]
[null,"Turismo medio","B30","CO2",{"$f":"E230*$C$24/$C$29*'Datos 3-Factores de convers'!$F$44/'Datos 3-Factores de convers'!$F$29","v":{"$error":"#N/A"}},"t"]
[null,"Turismo medio","B30","N2O",{"$f":"E231*$F$24/$F$29*'Datos 3-Factores de convers'!$F$44/'Datos 3-Factores de convers'!$F$29","v":{"$error":"#N/A"}},"t"]
[null,"Turismo medio","B30","CO2 b ",{"$f":"E232*$D$24/$D$29*'Datos 3-Factores de convers'!$F$44/'Datos 3-Factores de convers'!$F$29","v":{"$error":"#N/A"}},"t"]
[null,"Turismo medio","Gasolina","CH4",3.2000000000000003E-4,"e"]
[null,"Turismo medio","Gasolina","CO2",0.19158,"e"]
[null,"Turismo medio","Gasolina","N2O",3.8000000000000002E-4,"e"]
[null,"Turismo medio","Gasolina","CO2 b ",{"$f":"E242/$C$31*$D$31","v":{"$error":"#N/A"}},"t"]
[null,"Turismo medio","E10","CH4",{"$f":"E241*$E$25/$E$31*'Datos 3-Factores de convers'!$F$44/'Datos 3-Factores de convers'!$F$29","v":{"$error":"#N/A"}},"t"]
[null,"Turismo medio","E10","CO2",{"$f":"E242*$C$25/$C$31*'Datos 3-Factores de convers'!$F$44/'Datos 3-Factores de convers'!$F$29","v":{"$error":"#N/A"}},"t"]
[null,"Turismo medio","E10","N2O",{"$f":"E243*$F$25/$F$31*'Datos 3-Factores de convers'!$F$44/'Datos 3-Factores de convers'!$F$29","v":{"$error":"#N/A"}},"t"]
[null,"Turismo medio","E10","CO2 b ",{"$f":"E244*$D$25/$D$31*'Datos 3-Factores de convers'!$F$44/'Datos 3-Factores de convers'!$F$29","v":{"$error":"#N/A"}},"t"]
[null,"Turismo medio","E85 ","CH4",{"$f":"E241*$E$26/$E$31*'Datos 3-Factores de convers'!$F$44/'Datos 3-Factores de convers'!$F$29","v":{"$error":"#N/A"}},"t"]
[null,"Turismo medio","E85 ","CO2",{"$f":"E242*$C$26/$C$31*'Datos 3-Factores de convers'!$F$44/'Datos 3-Factores de convers'!$F$29","v":{"$error":"#N/A"}},"t"]
[null,"Turismo medio","E85 ","N2O",{"$f":"E243*$F$26/$F$31*'Datos 3-Factores de convers'!$F$44/'Datos 3-Factores de convers'!$F$29","v":{"$error":"#N/A"}},"t"]
[null,"Turismo medio","E85 ","CO2 b ",{"$f":"E244*$D$26/$D$31*'Datos 3-Factores de convers'!$F$44/'Datos 3-Factores de convers'!$F$29","v":{"$error":"#N/A"}},"t"]
[null,"Turismo medio","Híbrido","CH4",1.4999999999999999E-4,"e"]
[null,"Turismo medio","Híbrido","CO2",0.10764,"e"]
[null,"Turismo medio","Híbrido","N2O",1.16E-3,"e"]
[null,"Turismo medio","Híbrido","CO2 b ",{"$f":"E254/$C$31*$D$31","v":{"$error":"#N/A"}},"t"]
[null,"Turismo medio","Gas Natural Comprimido","CH4",1.5900000000000001E-3,"e"]
[null,"Turismo medio","Gas Natural Comprimido","CO2",0.15972,"e"]
[null,"Turismo medio","Gas Natural Comprimido","N2O",4.4999999999999999E-4,"e"]
[null,"Turismo medio","GLP","CH4",5.0000000000000002E-5,"e"]
[null,"Turismo medio","GLP","CO2",0.18015999999999999,"e"]
[null,"Turismo medio","GLP","N2O",4.4999999999999999E-4,"e"]
[null,"Turismo pequeño","Gasóleo A y B","CH4",3.9999999999999998E-6,"e"]
[null,"Turismo pequeño","Gasóleo A y B","CO2",0.14024,"e"]
[null,"Turismo pequeño","Gasóleo A y B","N2O",1.8400000000000001E-3,"e"]
[null,"Turismo pequeño","Gasóleo A y B","CO2 b ",{"$f":"E264/$C$29*$D$29","v":{"$error":"#N/A"}},"t"]
[null,"Turismo pequeño","B100","CH4",{"$f":"E263*$E$23/$E$29*'Datos 3-Factores de convers'!$F$44/'Datos 3-Factores de convers'!$F$29","v":{"$error":"#N/A"}},"t"]
[null,"Turismo pequeño","B100","CO2",{"$f":"E264*$C$23/$C$29*'Datos 3-Factores de convers'!$F$44/'Datos 3-Factores de convers'!$F$29","v":{"$error":"#N/A"}},"t"]
[null,"Turismo pequeño","B100","N2O",{"$f":"E265*$F$23/$F$29*'Datos 3-Factores de convers'!$F$44/'Datos 3-Factores de convers'!$F$29","v":{"$error":"#N/A"}},"t"]
[null,"Turismo pequeño","B100","CO2 b ",{"$f":"E266*$D$23/$D$29*'Datos 3-Factores de convers'!$F$44/'Datos 3-Factores de convers'!$F$29","v":{"$error":"#N/A"}},"t"]
[null,"Turismo pequeño","B30","CH4",{"$f":"E263*$E$24/$E$29*'Datos 3-Factores de convers'!$F$44/'Datos 3-Factores de convers'!$F$29","v":{"$error":"#N/A"}},"t"]
[null,"Turismo pequeño","B30","CO2",{"$f":"E264*$C$24/$C$29*'Datos 3-Factores de convers'!$F$44/'Datos 3-Factores de convers'!$F$29","v":{"$error":"#N/A"}},"t"]
[null,"Turismo pequeño","B30","N2O",{"$f":"E265*$F$24/$F$29*'Datos 3-Factores de convers'!$F$44/'Datos 3-Factores de convers'!$F$29","v":{"$error":"#N/A"}},"t"]
[null,"Turismo pequeño","B30","CO2 b ",{"$f":"E266*$D$24/$D$29*'Datos 3-Factores de convers'!$F$44/'Datos 3-Factores de convers'!$F$29","v":{"$error":"#N/A"}},"t"]
[null,"Turismo pequeño","Gasolina","CH4",3.2000000000000003E-4,"e"]
[null,"Turismo pequeño","Gasolina","CO2",0.15301000000000001,"e"]
[null,"Turismo pequeño","Gasolina","N2O",3.8000000000000002E-4,"e"]
[null,"Turismo pequeño","Gasolina","CO2 b ",{"$f":"E276/$C$31*$D$31","v":{"$error":"#N/A"}},"t"]
[null,"Turismo pequeño","E10","CH4",{"$f":"E275*$E$25/$E$31*'Datos 3-Factores de convers'!$F$44/'Datos 3-Factores de convers'!$F$29","v":{"$error":"#N/A"}},"t"]
[null,"Turismo pequeño","E10","CO2",{"$f":"E276*$C$25/$C$31*'Datos 3-Factores de convers'!$F$44/'Datos 3-Factores de convers'!$F$29","v":{"$error":"#N/A"}},"t"]
[null,"Turismo pequeño","E10","N2O",{"$f":"E277*$F$25/$F$31*'Datos 3-Factores de convers'!$F$44/'Datos 3-Factores de convers'!$F$29","v":{"$error":"#N/A"}},"t"]
[null,"Turismo pequeño","E10","CO2 b ",{"$f":"E278*$D$25/$D$31*'Datos 3-Factores de convers'!$F$44/'Datos 3-Factores de convers'!$F$29","v":{"$error":"#N/A"}},"t"]
[null,"Turismo pequeño","E85 ","CH4",{"$f":"E275*$E$26/$E$31*'Datos 3-Factores de convers'!$F$44/'Datos 3-Factores de convers'!$F$29","v":{"$error":"#N/A"}},"t"]
[null,"Turismo pequeño","E85 ","CO2",{"$f":"E276*$C$26/$C$31*'Datos 3-Factores de convers'!$F$44/'Datos 3-Factores de convers'!$F$29","v":{"$error":"#N/A"}},"t"]
[null,"Turismo pequeño","E85 ","N2O",{"$f":"E277*$F$26/$F$31*'Datos 3-Factores de convers'!$F$44/'Datos 3-Factores de convers'!$F$29","v":{"$error":"#N/A"}},"t"]
[null,"Turismo pequeño","E85 ","CO2 b ",{"$f":"E278*$D$26/$D$31*'Datos 3-Factores de convers'!$F$44/'Datos 3-Factores de convers'!$F$29","v":{"$error":"#N/A"}},"t"]
[null,"Turismo pequeño","Híbrido","CH4",2.1000000000000001E-4,"e"]
[null,"Turismo pequeño","Híbrido","CO2",0.10409,"e"]
[null,"Turismo pequeño","Híbrido","N2O",8.9999999999999998E-4,"e"]
[null,"Turismo pequeño","Híbrido","CO2 b ",{"$f":"E288/$C$31*$D$31","v":{"$error":"#N/A"}},"t"]
[null,"Turismo pequeño","Gas Natural Comprimido","CH4",3.3333333333333335E-5,"f "]
[null,"Turismo pequeño","Gas Natural Comprimido","CO2",0.16289999999999999,"f "]
[null,"Turismo pequeño","Gas Natural Comprimido","N2O",3.9999999999999998E-6,"f "]
[null,"Turismo pequeño","GLP","CH4",1.761904761904762E-5,"f "]
[null,"Turismo pequeño","GLP","CO2",0.18267,"f "]
[null,"Turismo pequeño","GLP","N2O",3.9999999999999998E-6,"f "]
[null,"Bus","Gasóleo A y B","CH4",{"$f":"0.00003*12.24","v":3.6720000000000004E-4},"f "]
[null,"Bus","Gasóleo A y B","CO2",{"$f":"0.10391*12.24","v":1.2718583999999999},"f "]
[null,"Bus","Gasóleo A y B","N2O",{"$f":"0.00077*12.24","v":9.4247999999999988E-3},"f "]
[null,"Bus","Gasóleo A y B","CO2 b ",{"$f":"E298/$C$29*$D$29","v":{"$error":"#N/A"}},"t"]
[null,"Bus","B100","CH4",{"$f":"E297*$E$23/$E$29*'Datos 3-Factores de convers'!$F$44/'Datos 3-Factores de convers'!$F$29","v":{"$error":"#N/A"}},"t"]
[null,"Bus","B100","CO2",{"$f":"E298*$C$23/$C$29*'Datos 3-Factores de convers'!$F$44/'Datos 3-Factores de convers'!$F$29","v":{"$error":"#N/A"}},"t"]
[null,"Bus","B100","N2O",{"$f":"E299*$F$23/$F$29*'Datos 3-Factores de convers'!$F$44/'Datos 3-Factores de convers'!$F$29","v":{"$error":"#N/A"}},"t"]
[null,"Bus","B100","CO2 b ",{"$f":"E300*$D$23/$D$29*'Datos 3-Factores de convers'!$F$44/'Datos 3-Factores de convers'!$F$29","v":{"$error":"#N/A"}},"t"]
[null,"Bus","B30","CH4",{"$f":"E297*$E$24/$E$29*'Datos 3-Factores de convers'!$F$44/'Datos 3-Factores de convers'!$F$29","v":{"$error":"#N/A"}},"t"]
[null,"Bus","B30","CO2",{"$f":"E298*$C$24/$C$29*'Datos 3-Factores de convers'!$F$44/'Datos 3-Factores de convers'!$F$29","v":{"$error":"#N/A"}},"t"]
[null,"Bus","B30","N2O",{"$f":"E299*$F$24/$F$29*'Datos 3-Factores de convers'!$F$44/'Datos 3-Factores de convers'!$F$29","v":{"$error":"#N/A"}},"t"]
[null,"Bus","B30","CO2 b ",{"$f":"E300*$D$24/$D$29*'Datos 3-Factores de convers'!$F$44/'Datos 3-Factores de convers'!$F$29","v":{"$error":"#N/A"}},"t"]
[null,"Turismo pequeño","GLP","N2O",3.9999999999999998E-6,"f "]
[null,"Turismo pequeño","Híbrido enchufable","CH4",9.0000000000000006E-5,"e"]
[null,"Turismo pequeño","Híbrido enchufable","CO2",2.9180000000000001E-2,"e"]
[null,"Turismo pequeño","Híbrido enchufable","N2O",8.0000000000000007E-5,"e"]
[null,"Turismo pequeño","Híbrido enchufable","CO2 b ",{"$f":"E311/$C$31*$D$31","v":{"$error":"#N/A"}},"t"]
[null,"Turismo medio","Híbrido enchufable","CH4",2.1000000000000001E-4,"e"]
[null,"Turismo medio","Híbrido enchufable","CO2",7.0400000000000004E-2,"e"]
[null,"Turismo medio","Híbrido enchufable","N2O",2.2000000000000001E-4,"e"]
[null,"Turismo medio","Híbrido enchufable","CO2 b ",{"$f":"E315/$C$31*$D$31","v":{"$error":"#N/A"}},"t"]
[null,"Turismo grande","Híbrido enchufable","CH4",2.4000000000000001E-4,"e"]
[null,"Turismo grande","Híbrido enchufable","CO2",7.6850000000000002E-2,"e"]
[null,"Turismo grande","Híbrido enchufable","N2O",2.2000000000000001E-4,"e"]
[null,"Turismo grande","Híbrido enchufable","CO2 b ",{"$f":"E319/$C$31*$D$31","v":{"$error":"#N/A"}},"t"]
[]
[null,"Tipo de vehículo","GEI","Factor de emisión","Fuente del dato"]
[null,"Autobús larga distancia","CH4",3.0000000000000001E-5,"e"]
[null,"Autobús larga distancia","CO2",0.10391,"e"]
[null,"Autobús larga distancia","N2O",7.6999999999999996E-4,"e"]
[null,"Autobús urbano","CH4",2.0000000000000002E-5,"e"]
[null,"Autobús urbano","CO2",2.7279999999999999E-2,"e"]
[null,"Autobús urbano","N2O",4.8999999999999998E-4,"e"]
[null,"Ferry","CH4",3.3000000000000003E-5,"e"]
[null,"Ferry","CO2",0.111313,"e"]
[null,"Ferry","N2O",1.5169999999999999E-3,"e"]
[null,"Metro","CH4",8.0000000000000007E-5,"e"]
[null,"Metro","CO2",3.0589999999999999E-2,"e"]
[null,"Metro","N2O",1.7000000000000001E-4,"e"]
[null,"Taxis","CH4",4.3200000000000001E-6,"e"]
[null,"Taxis","CO2",0.2084,"e"]
[null,"Taxis","N2O",1.8400000000000001E-3,"e"]
[null,"Tranvía","CH4",9.0000000000000006E-5,"e"]
[null,"Tranvía","CO2",3.4799999999999998E-2,"e"]
[null,"Tranvía","N2O",1.9000000000000001E-4,"e"]
[null,"Tren","CH4",6.9999999999999994E-5,"e"]
[null,"Tren","CO2",4.0770000000000001E-2,"e"]
[null,"Tren","N2O",3.1E-4,"e"]
[null,"Vuelo corta distancia < 3 h","CH4",1.0000000000000001E-5,"e"]
[null,"Vuelo corta distancia < 3 h","CO2",0.15753,"e"]
[null,"Vuelo corta distancia < 3 h","N2O",7.7999999999999999E-4,"e"]
[null,"Vuelo doméstico","CH4",1.2E-4,"e"]
[null,"Vuelo doméstico","CO2",0.25355,"e"]
[null,"Vuelo doméstico","N2O",1.2600000000000001E-3,"e"]
[null,"Vuelos larga distancia > 3h ","CH4",1.0000000000000001E-5,"e"]
[null,"Vuelos larga distancia > 3h ","CO2",0.19464000000000001,"e"]
[null,"Vuelos larga distancia > 3h ","N2O",9.7000000000000005E-4,"e"]
[]
[]
[null,"ELECTRICIDAD (kg CO2/kWh)"]
[null,"Compañía suministradora","Fuente","Año"]
[1,null,null,2005,2006,2007,2008,2009,2010,2011,2012,2013,2014,2015,2016,2017,2018,2019,2020]
[2,"24-7 UTILITIES, S.L.U.","s: 2005 y 2006; p: resto","No aplica","No aplica","No aplica","No aplica","No aplica","No aplica","No aplica","No aplica","No aplica","No aplica","No aplica","No aplica","No aplica",0,0,"No aplica"]
[3,"A-DOS ENERGÍA, S.L.","s: 2005 y 2006; p: resto","No aplica","No aplica","No aplica","No aplica","No aplica","No aplica","No aplica","No aplica","No aplica","No aplica","No aplica","No aplica",0.34,"No aplica","No aplica","No aplica"]
[4,"ACCIÓN ENERGÍA COMERCIALIZADORA, S.L.","s: 2005 y 2006; p: resto","No aplica","No aplica","No aplica","No aplica","No aplica","No aplica","No aplica","No aplica","No aplica","No aplica","No aplica",0,7.0000000000000007E-2,0,0,0]
[5,"ACCIONA GREEN ENERGY DEVELOPMENTS, S.L.","s: 2005 y 2006; p: resto",0.46400000000000002,0.42899999999999999,0,0,0,0,0,0,0,0,0,0,0,0,0,0]
[6,"ACSOL ENERGÍA GLOBAL, S.A.","s: 2005 y 2006; p: resto","No aplica","No aplica","No aplica","No aplica","No aplica","No aplica","No aplica","No aplica","No aplica","No aplica","No aplica","No aplica",0.43,0.40999999642372131,0.28999999165535001,0]
[7,"ACTIVA COMERCIALIZADORA DE ENERGÍA, S.L.","s: 2005 y 2006; p: resto","No aplica","No aplica","No aplica","No aplica","No aplica","No aplica","No aplica","No aplica","No aplica","No aplica","No aplica","No aplica","No aplica","No aplica","No aplica",0]
[8,"ADEINNOVA ENERGÍA S.L.U.","s: 2005 y 2006; p: resto","No aplica","No aplica","No aplica","No aplica","No aplica","No aplica","No aplica","No aplica","No aplica","No aplica","No aplica",0.33,0.39,0.31000000238418579,0.119999997317791,0]
[9,"ADELFAS ENERGIA, S.L.","s: 2005 y 2006; p: resto","No aplica","No aplica","No aplica","No aplica","No aplica","No aplica","No aplica","No aplica","No aplica","No aplica","No aplica","No aplica","No aplica",0.34999999403953552,3.9999999105930301E-2,0]
[10,"ADS ENERGY 8,0, S.L.","s: 2005 y 2006; p: resto","No aplica","No aplica","No aplica","No aplica","No aplica","No aplica","No aplica","No aplica","No aplica","No aplica","No aplica","No aplica","No aplica","No aplica","No aplica",0]
[11,"ADURIZ ENERGÍA, S.L.U.","s: 2005 y 2006; p: resto","No aplica","No aplica","No aplica","No aplica","No aplica","No aplica","No aplica","No aplica","No aplica","No aplica","No aplica","No aplica","No aplica","No aplica","No aplica",0]
[12,"AE3000 AGENT COMERCIALITZADOR, S.L.","s: 2005 y 2006; p: resto",0.46400000000000002,0.42899999999999999,"No aplica","No aplica","No aplica","No aplica",0.36,"No aplica","No aplica","No aplica","No aplica","No aplica","No aplica","No aplica","No aplica","No aplica"]
[13,"AGENTE DEL MERCADO ELÉCTRICO, S.A.","s: 2005 y 2006; p: resto",0.46400000000000002,0.42899999999999999,"No aplica","No aplica","No aplica","No aplica","No aplica","No aplica","No aplica",0.37000000476837158,"No aplica","No aplica",0.42,0.36000001430511475,0.270000010728836,0.18]
[14,"AGRI-ENERGÍA, S.A.","s: 2005 y 2006; p: resto","No aplica","No aplica","No aplica","No aplica","No aplica","No aplica","No aplica","No aplica","No aplica","No aplica","No aplica",0,0,0,0,0]
[15,"AGUAS DE BARBASTRO ENERGÍA, S.L.","s: 2005 y 2006; p: resto","No aplica","No aplica","No aplica","No aplica","No aplica","No aplica","No aplica","No aplica","No aplica","No aplica","No aplica","No aplica","No aplica",0.40999999642372131,0.31000000238418601,0.25]
[16,"AHORRELUZ SERVICIOS ONLINE S.L","s: 2005 y 2006; p: resto","No aplica","No aplica","No aplica","No aplica","No aplica","No aplica","No aplica","No aplica","No aplica","No aplica","No aplica","No aplica","No aplica","No aplica",0,0]
[17,"AHORRO ENERGÍA HOGAR INVESTMENTS, S.L.","s: 2005 y 2006; p: resto","No aplica","No aplica","No aplica","No aplica","No aplica","No aplica","No aplica","No aplica","No aplica","No aplica","No aplica","No aplica","No aplica","No aplica",0.31000000238418601,0.22]
[18,"AIRE COMERCIALIZADORA, S.L.","s: 2005 y 2006; p: resto","No aplica","No aplica","No aplica","No aplica","No aplica","No aplica","No aplica","No aplica","No aplica","No aplica","No aplica","No aplica","No aplica","No aplica","No aplica",0]
[19,"AIRE LIMPIO, S.L.","s: 2005 y 2006; p: resto","No aplica","No aplica","No aplica","No aplica","No aplica","No aplica","No aplica","No aplica","No aplica","No aplica","No aplica","No aplica","No aplica","No aplica","No aplica",0]
[20,"ALCANZIA ENERGÍA, S.L.","s: 2005 y 2006; p: resto","No aplica","No aplica","No aplica","No aplica","No aplica","No aplica","No aplica","No aplica","No aplica","No aplica","No aplica",0.3,0.32,0.30000001192092896,0,0]
[21,"ALDRO ENERGÍA Y SOLUCIONES, S.L.U.","s: 2005 y 2006; p: resto",0.46400000000000002,0.42899999999999999,"No aplica","No aplica","No aplica","No aplica","No aplica","No aplica","No aplica","No aplica",0.40000000596046448,0.36,0.42,0.40000000596046448,0.30000001192092901,0]
[22,"ALILUZ MEDITERRANEA, S.L.","s: 2005 y 2006; p: resto","No aplica","No aplica","No aplica","No aplica","No aplica","No aplica","No aplica","No aplica","No aplica","No aplica","No aplica","No aplica","No aplica",0,"No aplica","No aplica"]
[23,"ALPEX IBERICA DE ENERGÍA, S.L.U.","s: 2005 y 2006; p: resto","No aplica","No aplica","No aplica","No aplica","No aplica","No aplica","No aplica","No aplica","No aplica","No aplica","No aplica","No aplica","No aplica","No aplica","No aplica",0]
[24,"ALPIQ ENERGÍA ESPAÑA, S.A.U.","s: 2005 y 2006; p: resto",0.46400000000000002,0.42899999999999999,"No aplica","No aplica","No aplica","No aplica",0.35,0.38999998569488525,0.25,"No aplica","No aplica","No aplica",0.06,0.11999999731779099,0.18000000715255701,0.14000000000000001]
[25,"ALSET COMERCIALIZADORA, S.L.","s: 2005 y 2006; p: resto","No aplica","No aplica","No aplica","No aplica","No aplica","No aplica","No aplica","No aplica","No aplica","No aplica","No aplica","No aplica","No aplica","No aplica","No aplica",0]
[26,"ANOTHER ENERGY OPTION, S.L.","s: 2005 y 2006; p: resto",0.46400000000000002,0.42899999999999999,"No aplica","No aplica","No aplica","No aplica","No aplica","No aplica","No aplica","No aplica",0,0,0.02,0.34999999403953552,0,0]
[27,"APELES ELCTRICIDAD, S.L.","s: 2005 y 2006; p: resto","No aplica","No aplica","No aplica","No aplica","No aplica","No aplica","No aplica","No aplica","No aplica","No aplica","No aplica","No aplica",0,"No aplica","No aplica","No aplica"]
[28,"AQUÍ ENERGÍA S.L.","s: 2005 y 2006; p: resto","No aplica","No aplica","No aplica","No aplica","No aplica","No aplica","No aplica","No aplica","No aplica","No aplica","No aplica",0,0,0,0,0]
[29,"ARACÁN ENERGÍA, S.L.","s: 2005 y 2006; p: resto","No aplica","No aplica","No aplica","No aplica","No aplica","No aplica","No aplica","No aplica","No aplica","No aplica","No aplica","No aplica","No aplica","No aplica","No aplica",0.24]
[30,"ARSUS ENERGÍA, S.L.","s: 2005 y 2006; p: resto","No aplica","No aplica","No aplica","No aplica","No aplica","No aplica","No aplica","No aplica","No aplica","No aplica","No aplica","No aplica","No aplica","No aplica","No aplica",0.25]
[31,"ASAL DE ENERGÍA, S.L.","s: 2005 y 2006; p: resto","No aplica","No aplica","No aplica","No aplica","No aplica","No aplica","No aplica","No aplica","No aplica","No aplica","No aplica","No aplica",0,0,0,0]
[32,"ATENCO ENERGÍA, S.L.","s: 2005 y 2006; p: resto","No aplica","No aplica","No aplica","No aplica","No aplica","No aplica","No aplica","No aplica","No aplica","No aplica","No aplica","No aplica","No aplica","No aplica","No aplica",0]
[33,"ATLAS ENERGÍA COMERCIAL, S.L.","s: 2005 y 2006; p: resto","No aplica","No aplica","No aplica","No aplica","No aplica","No aplica","No aplica","No aplica","No aplica","No aplica","No aplica","No aplica","No aplica","No aplica",0.28000000119209301,0.21]
[34,"AUDAX ENERGÍA, S.L.U.","s: 2005 y 2006; p: resto",0.46400000000000002,0.42899999999999999,"No aplica","No aplica","No aplica","No aplica","No aplica","No aplica","No aplica","No aplica",0.40000000596046448,0.36,0.41,0.28999999165534973,0,0]
[35,"AURA ENERGÍA, S.L.","s: 2005 y 2006; p: resto",0.46400000000000002,0.42899999999999999,"No aplica","No aplica","No aplica","No aplica","No aplica","No aplica","No aplica",0.28999999165534973,0,0,0,0,0,0]
[36,"AUSARTA PRIMA, S.L.","s: 2005 y 2006; p: resto","No aplica","No aplica","No aplica","No aplica","No aplica","No aplica","No aplica","No aplica","No aplica","No aplica","No aplica","No aplica",0,0,0,0]
[37,"AVANZALIA ENERGÍA COMERCIALIZADORA, S.A.","s: 2005 y 2006; p: resto",0.46400000000000002,0.42899999999999999,"No aplica","No aplica","No aplica","No aplica","No aplica","No aplica","No aplica",0,0.25,0.15,0.11,0.25,0.18999999761581399,0.2]
[38,"AXPO IBERIA, S.L.","s: 2005 y 2006; p: resto",0.46400000000000002,0.42899999999999999,"No aplica","No aplica","No aplica","No aplica","No aplica","No aplica",2.9999999329447746E-2,0,0,0,0,0,0,0]
[39,"BASSOLS ENERGÍA COMERCIAL, S.L.","s: 2005 y 2006; p: resto",0.46400000000000002,0.42899999999999999,"No aplica","No aplica","No aplica","No aplica","No aplica","No aplica","No aplica","No aplica",0.38999998569488525,0,0,0,0,0]
[40,"BETA RENOWABLE GROUP, S.A.","s: 2005 y 2006; p: resto","No aplica","No aplica","No aplica","No aplica","No aplica","No aplica","No aplica","No aplica","No aplica","No aplica","No aplica",0,"No aplica","No aplica","No aplica","No aplica"]
[41,"BEYOND SUN SL","s: 2005 y 2006; p: resto","No aplica","No aplica","No aplica","No aplica","No aplica","No aplica","No aplica","No aplica","No aplica","No aplica","No aplica","No aplica","No aplica","No aplica",0,0]
[42,"BIROU GAS, S.L.","s: 2005 y 2006; p: resto","No aplica","No aplica","No aplica","No aplica","No aplica","No aplica","No aplica","No aplica","No aplica","No aplica","No aplica","No aplica","No aplica","No aplica","No aplica",0.24]
[43,"BON PREU, S.A.U.","s: 2005 y 2006; p: resto","No aplica","No aplica","No aplica","No aplica","No aplica","No aplica","No aplica","No aplica","No aplica","No aplica","No aplica","No aplica","No aplica","No aplica","No aplica",0]
[44,"BSG ENERGÍA S.L.","s: 2005 y 2006; p: resto","No aplica","No aplica","No aplica","No aplica","No aplica","No aplica","No aplica","No aplica","No aplica","No aplica","No aplica","No aplica","No aplica","No aplica",0.28999999165535001,"No aplica"]
[45,"BULB ENERGÍA IBERICA, S.L.","s: 2005 y 2006; p: resto","No aplica","No aplica","No aplica","No aplica","No aplica","No aplica","No aplica","No aplica","No aplica","No aplica","No aplica","No aplica","No aplica","No aplica",0,0]
[46,"BY ENERGYC ENERGÍA EFICIENTE, S.L.","s: 2005 y 2006; p: resto","No aplica","No aplica","No aplica","No aplica","No aplica","No aplica","No aplica","No aplica","No aplica","No aplica","No aplica","No aplica","No aplica","No aplica","No aplica",0]
[47,"CATGAS ENERGÍA, S.A.","s: 2005 y 2006; p: resto","No aplica","No aplica","No aplica","No aplica","No aplica","No aplica","No aplica","No aplica","No aplica","No aplica","No aplica","No aplica","No aplica",0.40000000596046448,0,0]
[48,"CEMOI ELECTRICITE, S.L.","s: 2005 y 2006; p: resto","No aplica","No aplica","No aplica","No aplica","No aplica","No aplica","No aplica","No aplica","No aplica","No aplica","No aplica",0.18,"No aplica",0.37999999523162842,"No aplica","No aplica"]
[49,"CENTRICA ENERGIA, S.L.U.","s: 2005 y 2006; p: resto",0.46400000000000002,0.42899999999999999,0,0,0,"No aplica","No aplica","No aplica","No aplica","No aplica","No aplica","No aplica","No aplica","No aplica","No aplica","No aplica"]
[50,"CEPSA COMERCIAL PETRÓLEO,\r\nS.A.U.","s: 2005 y 2006; p: resto","No aplica","No aplica","No aplica","No aplica","No aplica","No aplica","No aplica","No aplica","No aplica","No aplica","No aplica","No aplica","No aplica",0,0,0]
[51,"CEPSA GAS Y ELECTRICIDAD","s: 2005 y 2006; p: resto",0.46400000000000002,0.42899999999999999,"No aplica","No aplica","No aplica","No aplica","No aplica","No aplica",0,0,0,0,0,0,0,0]
[52,"CHITAHI ENERGY, S.L.","s: 2005 y 2006; p: resto","No aplica","No aplica","No aplica","No aplica","No aplica","No aplica","No aplica","No aplica","No aplica","No aplica","No aplica","No aplica","No aplica",0,"No aplica",0.25]
[53,"CIDE HCENERGÍA S.A.","s: 2005 y 2006; p: resto",0.46400000000000002,0.42899999999999999,"No aplica","No aplica","No aplica","No aplica","No aplica","No aplica","No aplica",0.37000000476837158,"No aplica","No aplica","No aplica","No aplica",0.31000000238418601,0.25]
[54,"CLIDOM ENERGY, S.L.","s: 2005 y 2006; p: resto",0.46400000000000002,0.42899999999999999,"No aplica","No aplica","No aplica","No aplica","No aplica","No aplica",0,0,0,0,0,0,0,"No aplica"]
[55,"COMERCIALIZADORA DE ELECTRICIDAD Y GAS DEL MEDITERRÁNEO, S.L.","s: 2005 y 2006; p: resto","No aplica","No aplica","No aplica","No aplica","No aplica","No aplica","No aplica","No aplica","No aplica","No aplica","No aplica","No aplica","No aplica",0,0,0]
[56,"COMERCIALIZADORA DE ENERGÍA DIRECTA, S.L.","s: 2005 y 2006; p: resto","No aplica","No aplica","No aplica","No aplica","No aplica","No aplica","No aplica","No aplica","No aplica","No aplica","No aplica","No aplica","No aplica",0,"No aplica",0]
[57,"COMERCIALIZADORA ELÉCTRICA DE CÁDIZ, S.A.","s: 2005 y 2006; p: resto","No aplica","No aplica","No aplica","No aplica","No aplica","No aplica","No aplica","No aplica","No aplica","No aplica","No aplica",0,0,0,0,0]
[58,"COMERCIALIZADORA ELÉCTRICA PENINSULAR, S.L.","s: 2005 y 2006; p: resto",null,null,null,null,null,null,null,null,null,null,null,null,null,null,null,0]
[59,"COMERCIALIZADORA ELÉCTRICA TALAYUELAS, S.L.","s: 2005 y 2006; p: resto","No aplica","No aplica","No aplica","No aplica","No aplica","No aplica","No aplica","No aplica","No aplica","No aplica","No aplica","No aplica",0,0,7.0000000298023196E-2,0]
[60,"COMERCIALIZADORA ENERGÉTICA SOSTENIBLE, S.A.U.","s: 2005 y 2006; p: resto","No aplica","No aplica","No aplica","No aplica","No aplica","No aplica","No aplica","No aplica","No aplica","No aplica","No aplica","No aplica","No aplica","No aplica",0,0]
[61,"COMERCIALIZADORA LERSA , S.L.","s: 2005 y 2006; p: resto",0.46400000000000002,0.42899999999999999,"No aplica","No aplica","No aplica","No aplica",0.36,0.40000000596046448,0.34999999403953552,0.36000001430511475,0.40000000596046448,0.05,0,0,9.9999997764825804E-3,0]
[62,"COMERCIALIZADORA SIN GDO's","s: 2005 y 2006; p: resto",0.46400000000000002,0.42899999999999999,0.45,0.38,0.33,0.31,0.36,0.4,0.36,0.37,0.40000000596046448,0.36,0.43,0.40999999642372131,0.31000000238418601,0.25]
[63,"COMERCIALIZADORA TORRES ENERGÍA, S.L.","s: 2005 y 2006; p: resto","No aplica","No aplica","No aplica","No aplica","No aplica","No aplica","No aplica","No aplica","No aplica","No aplica","No aplica","No aplica","No aplica","No aplica","No aplica",0]
[64,"COMERCIALIZADORA ZERO ELECTRUM, S.L.","s: 2005 y 2006; p: resto",0.46400000000000002,0.42899999999999999,"No aplica","No aplica","No aplica","No aplica","No aplica","No aplica","No aplica","No aplica",0.40000000596046448,"No aplica","No aplica","No aplica","No aplica","No aplica"]
[65,"COMPAÑÍA ESCANDINAVA DE ELECTRICIDAD EN ESPAÑA, S.L.","s: 2005 y 2006; p: resto",0.46400000000000002,0.42899999999999999,"No aplica","No aplica","No aplica","No aplica","No aplica","No aplica","No aplica","No aplica",0,0,0,0,0,0]
[66,"COMPAÑÍA LUMISA ENERGÍA S.L.","s: 2005 y 2006; p: resto","No aplica","No aplica","No aplica","No aplica","No aplica","No aplica","No aplica","No aplica","No aplica","No aplica","No aplica",0.02,"No aplica","No aplica","No aplica","No aplica"]
[67,"CONECTA ENERGÍA VERDE, S.L.","s: 2005 y 2006; p: resto","No aplica","No aplica","No aplica","No aplica","No aplica","No aplica","No aplica","No aplica","No aplica","No aplica","No aplica","No aplica","No aplica","No aplica","No aplica",0]
[68,"COOPERATIVA ELÉCTRICA BENÉFICA ALBATERENSE, COOP. V.","s: 2005 y 2006; p: resto","No aplica","No aplica","No aplica","No aplica","No aplica","No aplica","No aplica","No aplica","No aplica","No aplica","No aplica",0,0,0,0,0]
[69,"COOPERATIVA ELÉCTRICA BENÉFICA CATRALENSE, COOP. V.","s: 2005 y 2006; p: resto","No aplica","No aplica","No aplica","No aplica","No aplica","No aplica","No aplica","No aplica","No aplica","No aplica","No aplica",0,0,0,0,0]
[70,"COOPERATIVA ELÉCTRICA BENÉFICA SAN FRANCISCO DE ASÍS, COOP. V.","s: 2005 y 2006; p: resto","No aplica","No aplica","No aplica","No aplica","No aplica","No aplica","No aplica","No aplica","No aplica","No aplica","No aplica",0,0,0,9.9999997764825804E-3,0]
[71,"COOPERATIVA ELÉCTRICA DE CASTELLAR, S.C.V.","s: 2005 y 2006; p: resto",0.46400000000000002,0.42899999999999999,"No aplica","No aplica","No aplica","No aplica","No aplica","No aplica","No aplica","No aplica",0,0,0,0,0,0]
[72,"COOPERATIVA VALENCIANA ELECTRODISTRIBUIDORA DE FUERZA Y ALUMBRADO SERRALLO, S.Coop.V.","s: 2005 y 2006; p: resto","No aplica","No aplica","No aplica","No aplica","No aplica","No aplica","No aplica","No aplica","No aplica","No aplica","No aplica","No aplica",0,0,0,0]
[73,"CORPOLUX, S.L.","s: 2005 y 2006; p: resto","No aplica","No aplica","No aplica","No aplica","No aplica","No aplica","No aplica","No aplica","No aplica","No aplica","No aplica","No aplica","No aplica","No aplica","No aplica",0.19]
[74,"CORPORACIÓN ALIMENTARIA GUISSONA, S.A.","s: 2005 y 2006; p: resto","No aplica","No aplica","No aplica","No aplica","No aplica","No aplica","No aplica","No aplica","No aplica","No aplica","No aplica","No aplica","No aplica","No aplica","No aplica",0.28999999999999998]
[75,"COX ENERGÍA COMERCIALIZADORA ESPAÑA, S.L.U.","s: 2005 y 2006; p: resto","No aplica","No aplica","No aplica","No aplica","No aplica","No aplica","No aplica","No aplica","No aplica","No aplica","No aplica","No aplica",0,0,0,0]
[76,"CYE ENERGIA, S.L.","s: 2005 y 2006; p: resto",0.46400000000000002,0.42899999999999999,"No aplica","No aplica","No aplica","No aplica","No aplica","No aplica","No aplica",0,2.9999999329447746E-2,0,0,9.9999997764825821E-3,0,0]
[77,"DAIMUZ ENERGÍA, S.L.","s: 2005 y 2006; p: resto","No aplica","No aplica","No aplica","No aplica","No aplica","No aplica","No aplica","No aplica","No aplica","No aplica","No aplica",0.36,0,0,0,0]
[78,"DERIVADOS ENERGÉTICOS PARA EL TRANSPORTE Y LA INDUSTRIA, S.A. (DETISA)","s: 2005 y 2006; p: resto",0.46400000000000002,0.42899999999999999,0.38,0.38,0.34000000357627869,0.33,0.16,0.31000000238418601,"No aplica","No aplica","No aplica","No aplica","No aplica","No aplica","No aplica","No aplica"]
[79,"DISA ENERGÍA ELÉCTRICA, S.L.U.","s: 2005 y 2006; p: resto","No aplica","No aplica","No aplica","No aplica","No aplica","No aplica","No aplica","No aplica","No aplica","No aplica","No aplica","No aplica",0,0,0,0]
[80,"DOMÉSTICA GAS Y ELECTRICIDAD, S.L.U.","s: 2005 y 2006; p: resto","No aplica","No aplica","No aplica","No aplica","No aplica","No aplica","No aplica","No aplica","No aplica","No aplica","No aplica","No aplica","No aplica","No aplica","No aplica",0]
[81,"DREUE ELECTRIC, S.L.","s: 2005 y 2006; p: resto",0.46400000000000002,0.42899999999999999,"No aplica","No aplica","No aplica","No aplica","No aplica","No aplica","No aplica","No aplica",1.9999999552965164E-2,0,0.26,0.40000000596046448,0.28000000119209301,0.21]
[82,"DRK ENERGY, S.L.","s: 2005 y 2006; p: resto","No aplica","No aplica","No aplica","No aplica","No aplica","No aplica","No aplica","No aplica","No aplica","No aplica","No aplica",0,0.02,0,0.230000004172325,0]
[83,"DUFENERGY TRADING, S.A.","s: 2005 y 2006; p: resto","No aplica","No aplica","No aplica","No aplica","No aplica","No aplica","No aplica","No aplica","No aplica","No aplica","No aplica","No aplica","No aplica","No aplica","No aplica",0]
[84,"E.ON ENERGIA, S.L.","s: 2005 y 2006; p: resto",0.46400000000000002,0.42899999999999999,"No aplica",0,0.17000000178813934,0.13,0.21,0.30000001192092896,0.25,0.27000001072883606,0.34000000357627869,"No aplica","No aplica","No aplica","No aplica","No aplica"]
[85,"ECOEQ ENERGÉTICA, S.L.","s: 2005 y 2006; p: resto","No aplica","No aplica","No aplica","No aplica","No aplica","No aplica","No aplica","No aplica","No aplica","No aplica","No aplica","No aplica","No aplica",0.40000000596046448,0.15999999642372131,0.24]
[86,"ECOFUTURA LUZ ENERGÍA, S.L.","s: 2005 y 2006; p: resto","No aplica","No aplica","No aplica","No aplica","No aplica","No aplica","No aplica","No aplica","No aplica","No aplica","No aplica","No aplica",0,0.15000000596046448,0.30000001192092896,0.25]
[87,"ECONACTIVA, S. COOP DE C-LM","s: 2005 y 2006; p: resto","No aplica","No aplica","No aplica","No aplica","No aplica","No aplica","No aplica","No aplica","No aplica","No aplica","No aplica","No aplica","No aplica",0,0,0]
[88,"EDP CLIENTES, S.A.U.","s: 2005 y 2006; p: resto","No aplica","No aplica","No aplica","No aplica","No aplica","No aplica","No aplica","No aplica","No aplica","No aplica","No aplica","No aplica","No aplica","No aplica","No aplica",0.12]
[89,"EDP COMERCIALIZADORA S.A.U.","s: 2005 y 2006; p: resto",0.46400000000000002,0.42899999999999999,"No aplica","No aplica","No aplica","No aplica","No aplica","No aplica","No aplica","No aplica",0.23000000417232513,0.24,0.26,0.23000000417232513,0.23000000417232513,0.21]
[90,"EDP ENERGIA S.A.U.","s: 2005 y 2006; p: resto",0.46400000000000002,0.42899999999999999,"No aplica","No aplica","No aplica","No aplica","No aplica","No aplica","No aplica","No aplica",0.23000000417232513,0.24,0.25,0.23000000417232513,0.11999999731779099,0.22]
[91,"EGL ENERGIA IBERIA, S.L.","s: 2005 y 2006; p: resto",0.46400000000000002,0.42899999999999999,"No aplica","No aplica","No aplica","No aplica",0,0,"No aplica","No aplica","No aplica","No aplica","No aplica","No aplica","No aplica","No aplica"]
[92,"ELECNOVA SIGLO XXI, S.L.","s: 2005 y 2006; p: resto","No aplica","No aplica","No aplica","No aplica","No aplica","No aplica","No aplica","No aplica","No aplica","No aplica","No aplica",0,0,0.34999999403953552,0,0.23]
[93,"ELECTRA ALTO MIÑO COMERCIALIZADORA DE ENERGIA, S.L.U.","s: 2005 y 2006; p: resto","No aplica","No aplica","No aplica","No aplica","No aplica","No aplica","No aplica","No aplica","No aplica","No aplica","No aplica","No aplica","No aplica",0.40999999642372131,"No aplica","No aplica"]
[94,"ELECTRA AVELLANA COMERCIAL, S.L.","s: 2005 y 2006; p: resto","No aplica","No aplica","No aplica","No aplica","No aplica","No aplica","No aplica","No aplica","No aplica","No aplica","No aplica","No aplica","No aplica","No aplica","No aplica",0]
[95,"ELECTRA CALDENSE ENERGÍA, S.L.","s: 2005 y 2006; p: resto","No aplica","No aplica","No aplica","No aplica","No aplica","No aplica","No aplica","No aplica","No aplica","No aplica","No aplica","No aplica",0,0,0,0]
[96,"ELECTRA CUNTIENSE COMERCIALIZADORA, S.L.U.","s: 2005 y 2006; p: resto","No aplica","No aplica","No aplica","No aplica","No aplica","No aplica","No aplica","No aplica","No aplica","No aplica","No aplica","No aplica","No aplica",0.40999999642372131,"No aplica","No aplica"]
[97,"ELECTRA DEL CARDENER ENERGÍA, S.A.","s: 2005 y 2006; p: resto","No aplica","No aplica","No aplica","No aplica","No aplica","No aplica","No aplica","No aplica","No aplica","No aplica","No aplica",0,0,0,0,0]
[98,"ELECTRA ENERGIA, S.A.U.","s: 2005 y 2006; p: resto","No aplica","No aplica","No aplica","No aplica","No aplica","No aplica","No aplica","No aplica","No aplica","No aplica","No aplica","No aplica","No aplica",0.37000000476837158,0,0]
[99,"ELECTRA NORTE ENERGÍA, S.A.U.","s: 2005 y 2006; p: resto","No aplica","No aplica","No aplica","No aplica","No aplica","No aplica","No aplica","No aplica","No aplica","No aplica","No aplica","No aplica","No aplica",0.40999999642372131,0.28999999165534973,0.23]
[100,"ELECTRACOMERCIAL CENTELLES, S.L.","s: 2005 y 2006; p: resto","No aplica","No aplica","No aplica","No aplica","No aplica","No aplica","No aplica","No aplica","No aplica","No aplica","No aplica","No aplica","No aplica","No aplica","No aplica",0]
[101,"ELÉCTRICA ALBATERENSE, S.L.","s: 2005 y 2006; p: resto","No aplica","No aplica","No aplica","No aplica","No aplica","No aplica","No aplica","No aplica","No aplica","No aplica","No aplica",0,0,0,0,0]
[102,"ELÉCTRICA ALGIMIA DE ALFARA, S.COOP.V.","s: 2005 y 2006; p: resto","No aplica","No aplica","No aplica","No aplica","No aplica","No aplica","No aplica","No aplica","No aplica","No aplica","No aplica",0,"No aplica","No aplica","No aplica","No aplica"]
[103,"ELÉCTRICA CATRALENSE, S.L.","s: 2005 y 2006; p: resto","No aplica","No aplica","No aplica","No aplica","No aplica","No aplica","No aplica","No aplica","No aplica","No aplica","No aplica",0.03,0,0,0,0]
[104,"ELÉCTRICA DE CHERA, S.C.V.","s: 2005 y 2006; p: resto",0.46400000000000002,0.42899999999999999,"No aplica","No aplica","No aplica","No aplica","No aplica","No aplica","No aplica","No aplica",0,0,0,0,0,0]
[105,"ELÉCTRICA DE GUADASSUAR COOP. V.","s: 2005 y 2006; p: resto",0.46400000000000002,0.42899999999999999,"No aplica","No aplica","No aplica","No aplica","No aplica","No aplica","No aplica","No aplica",0,0,0,0,0,0]
[106,"ELÉCTRICA DE GUIXES ENERGÍA, S.L.","s: 2005 y 2006; p: resto","No aplica","No aplica","No aplica","No aplica","No aplica","No aplica","No aplica","No aplica","No aplica","No aplica","No aplica","No aplica",0.3,0.34999999403953552,0.18000000715255737,0.17]
[107,"ELÉCTRICA DE MELIANA, S.C.V.","s: 2005 y 2006; p: resto",0.46400000000000002,0.42899999999999999,"No aplica","No aplica","No aplica","No aplica","No aplica","No aplica","No aplica","No aplica",0,0,0,0,0,0]
[108,"ELÉCTRICA DE SOT DE CHERA S. COOP.V.","s: 2005 y 2006; p: resto",0.46400000000000002,0.42899999999999999,"No aplica","No aplica","No aplica","No aplica","No aplica","No aplica","No aplica","No aplica",0,0,0,0,0,0]
[109,"ELÉCTRICA DE VINALESA, S.L.U.","s: 2005 y 2006; p: resto",0.46400000000000002,0.42899999999999999,"No aplica","No aplica","No aplica","No aplica","No aplica","No aplica","No aplica","No aplica",0.20999999344348907,0.04,0.06,0,0,0]
[110,"ELECTRICA DEL POZO, S.COOP.MAD.","s: 2005 y 2006; p: resto","No aplica","No aplica","No aplica","No aplica","No aplica","No aplica","No aplica","No aplica","No aplica","No aplica","No aplica",0,"No aplica","No aplica","No aplica","No aplica"]
[111,"ELÉCTRICA DIRECTA ENERGÍA, S.L.","s: 2005 y 2006; p: resto","No aplica","No aplica","No aplica","No aplica","No aplica","No aplica","No aplica","No aplica","No aplica","No aplica","No aplica",0,0.06,0,"No aplica","No aplica"]
[112,"ELÉCTRICA NTRA. SRA. DE GRACIA SDAD. COOP. VALENCIANA","s: 2005 y 2006; p: resto","No aplica","No aplica","No aplica","No aplica","No aplica","No aplica","No aplica","No aplica","No aplica","No aplica","No aplica",0,"No aplica",0.37000000476837158,"No aplica","No aplica"]
[113,"ELECTRICA SEROSENSE, S.L.","s: 2005 y 2006; p: resto","No aplica","No aplica","No aplica","No aplica","No aplica","No aplica","No aplica","No aplica","No aplica","No aplica","No aplica","No aplica","No aplica",0.38999998569488525,0.28999999165534973,"No aplica"]
[114,"ELECTRICA SOLLERENSE, S.A.","s: 2005 y 2006; p: resto",0.46400000000000002,0.42899999999999999,"No aplica","No aplica","No aplica","No aplica","No aplica","No aplica",0,0.25999999046325684,0.33000001311302185,0,0,0,0,0]
[115,"ELECTRICA VAQUER ENERGIA, S.A.","s: 2005 y 2006; p: resto","No aplica","No aplica","No aplica","No aplica","No aplica","No aplica","No aplica","No aplica","No aplica","No aplica","No aplica","No aplica","No aplica",0,0,0]
[116,"ELÉCTRICAS HIDROBESORA, S.L.","s: 2005 y 2006; p: resto","No aplica","No aplica","No aplica","No aplica","No aplica","No aplica","No aplica","No aplica","No aplica","No aplica","No aplica","No aplica","No aplica","No aplica",0,"No aplica"]
[117,"ELECTRICIDAD ELEIA S.L.","s: 2005 y 2006; p: resto","No aplica","No aplica","No aplica","No aplica","No aplica","No aplica","No aplica","No aplica","No aplica","No aplica","No aplica","No aplica","No aplica","No aplica",0,0.17]
[118,"ELECTRODISTRIBUIDORA DE FUERZA Y ALUMBRADO CASABLANCA, S.A.","s: 2005 y 2006; p: resto","No aplica","No aplica","No aplica","No aplica","No aplica","No aplica","No aplica","No aplica","No aplica","No aplica","No aplica",0,"No aplica","No aplica","No aplica","No aplica"]
[119,"ELEGA ENERGÍA, S.L.","s: 2005 y 2006; p: resto","No aplica","No aplica","No aplica","No aplica","No aplica","No aplica","No aplica","No aplica","No aplica","No aplica","No aplica","No aplica","No aplica","No aplica","No aplica",0]
[120,"ELEKTRIZITÄTS-GESELLSCHAFT LAUFENBURG ESPAÑA, S.L.","s: 2005 y 2006; p: resto",0.46400000000000002,0.42899999999999999,"No aplica","No aplica",9.9999997764825821E-3,0,"No aplica","No aplica","No aplica","No aplica","No aplica","No aplica","No aplica","No aplica","No aplica","No aplica"]
[121,"ELEKTRON COMERCIALIZADORA DE ENERGÍA, S.L.","s: 2005 y 2006; p: resto","No aplica","No aplica","No aplica","No aplica","No aplica","No aplica","No aplica","No aplica","No aplica","No aplica","No aplica","No aplica","No aplica","No aplica",0.239999994635582,0.21]
[122,"ELEVA 2 COMERCIALIZADORA, S.L.","s: 2005 y 2006; p: resto","No aplica","No aplica","No aplica","No aplica","No aplica","No aplica","No aplica","No aplica","No aplica","No aplica","No aplica","No aplica","No aplica","No aplica",0,0]
[123,"ELYGAS POWER, S.L.","s: 2005 y 2006; p: resto","No aplica","No aplica","No aplica","No aplica","No aplica","No aplica","No aplica","No aplica","No aplica","No aplica","No aplica",0,"No aplica","No aplica","No aplica","No aplica"]
[124,"EMASP, S. COOP.","s: 2005 y 2006; p: resto",0.46400000000000002,0.42899999999999999,"No aplica","No aplica","No aplica","No aplica","No aplica","No aplica","No aplica","No aplica",0,0,0,0,0,0]
[125,"EMPRESA DE ALUMBRADO ELÉCTRICO DE CEUTA, S.A.","s: 2005 y 2006; p: resto","No aplica","No aplica","No aplica","No aplica","No aplica","No aplica","No aplica","No aplica","No aplica","No aplica","No aplica","No aplica",0.42,0.40999999642372131,"No aplica",0.25]
[126,"ENARA GESTIÓN Y MEDIACIÓN, S.L.","s: 2005 y 2006; p: resto",0.46400000000000002,0.42899999999999999,"No aplica","No aplica","No aplica","No aplica",0.19,0,0,0,0,0,0,0,0,0]
[127,"ENDESA ENERGIA, S.A.","s: 2005 y 2006; p: resto",0.46400000000000002,0.42899999999999999,0.37,0.37,0.2800000011920929,0.26,0.33,0.37000000476837158,0.31000000238418579,0.33000001311302185,0.37999999523162842,0.34,0.39,0.37999999523162842,0.27000001072883606,0.2]
[128,"ENDESA ENERGÍA RENOVABLE, S.L.","s: 2005 y 2006; p: resto","No aplica","No aplica","No aplica","No aplica","No aplica","No aplica","No aplica","No aplica","No aplica","No aplica","No aplica","No aplica","No aplica","No aplica","No aplica",0]
[129,"ENDESA GENERACIÓN, S.A.","s: 2005 y 2006; p: resto",0.46400000000000002,0.42899999999999999,"No aplica","No aplica","No aplica","No aplica","No aplica","No aplica",0.2800000011920929,0,"No aplica","No aplica","No aplica",0,0.31000000238418601,"No aplica"]
[130,"ENDI ENERGY TRADING, S.L.","s: 2005 y 2006; p: resto","No aplica","No aplica","No aplica","No aplica","No aplica","No aplica","No aplica","No aplica","No aplica","No aplica","No aplica","No aplica","No aplica","No aplica",0,0]
[131,"ENEL GREEN POWER ESPAÑA, S.L.","s: 2005 y 2006; p: resto",0.46400000000000002,0.42899999999999999,"No aplica","No aplica","No aplica","No aplica","No aplica","No aplica","No aplica",0,"No aplica","No aplica","No aplica","No aplica","No aplica","No aplica"]
[132,"ENEL VIESGO ENERGIA, S.L.","s: 2005 y 2006; p: resto",0.46400000000000002,0.42899999999999999,0.18,"No aplica","No aplica","No aplica","No aplica","No aplica","No aplica","No aplica","No aplica","No aplica","No aplica","No aplica","No aplica","No aplica"]
[133,"ENELUZ 2025, S.L.","s: 2005 y 2006; p: resto","No aplica","No aplica","No aplica","No aplica","No aplica","No aplica","No aplica","No aplica","No aplica","No aplica","No aplica","No aplica","No aplica","No aplica",0,0]
[134,"ENERCOLUZ ENERGÍA, S.L.","s: 2005 y 2006; p: resto",0.46400000000000002,0.42899999999999999,"No aplica","No aplica","No aplica","No aplica","No aplica","No aplica",0.36000001430511475,0.31000000238418579,0.33000001311302185,0.3,0,0.15999999642372131,0.259999990463257,0.21]
[135,"ENERGÉTICA DEL ESTE, S.L.","s: 2005 y 2006; p: resto","No aplica","No aplica","No aplica","No aplica","No aplica","No aplica","No aplica","No aplica","No aplica","No aplica","No aplica","No aplica","No aplica","No aplica",0,"No aplica"]
[136,"ENERGEA SAVING ENERGY, S.L.","s: 2005 y 2006; p: resto","No aplica","No aplica","No aplica","No aplica","No aplica","No aplica","No aplica","No aplica","No aplica","No aplica","No aplica",0,0,0,"No aplica","No aplica"]
[137,"ENERGÍA COLECTIVA, S.L.","s: 2005 y 2006; p: resto",0.46400000000000002,0.42899999999999999,"No aplica","No aplica","No aplica","No aplica","No aplica","No aplica","No aplica","No aplica",0,0,0,0,0,0]
[138,"ENERGÍA COSTA DORADA, S.L.","s: 2005 y 2006; p: resto","No aplica","No aplica","No aplica","No aplica","No aplica","No aplica","No aplica","No aplica","No aplica","No aplica","No aplica","No aplica","No aplica","No aplica","No aplica",0]
[139,"ENERGÍA DLR COMERCIALIZADORA, S.L.","s: 2005 y 2006; p: resto","No aplica","No aplica","No aplica","No aplica","No aplica","No aplica","No aplica","No aplica","No aplica","No aplica","No aplica",0.36,0.43,0.40999999642372131,0.30000001192092896,0.22]
[140,"ENERGÍA ELÉCTRICA EFICIENTE, S.L","s: 2005 y 2006; p: resto","No aplica","No aplica","No aplica","No aplica","No aplica","No aplica","No aplica","No aplica","No aplica","No aplica","No aplica","No aplica","No aplica",0,0,0]
[141,"ENERGÍA NARANJA, S.L.","s: 2005 y 2006; p: resto","No aplica","No aplica","No aplica","No aplica","No aplica","No aplica","No aplica","No aplica","No aplica","No aplica","No aplica",0,"No aplica",0.25,0,"No aplica"]
[142,"ENERGÍA NÓRDICA, GAS Y ELECTRICIDAD, S.L.","s: 2005 y 2006; p: resto","No aplica","No aplica","No aplica","No aplica","No aplica","No aplica","No aplica","No aplica","No aplica","No aplica","No aplica","No aplica","No aplica","No aplica","No aplica",0]
[143,"ENERGÍA NUFRI, S.L.U.","s: 2005 y 2006; p: resto","No aplica","No aplica","No aplica","No aplica","No aplica","No aplica","No aplica","No aplica","No aplica","No aplica","No aplica","No aplica","No aplica",0,0.25999999046325684,0.25]
[144,"ENERGÍA RÍO EZKA-EZKA IBAIA ENERGÍA, S.L.","s: 2005 y 2006; p: resto","No aplica","No aplica","No aplica","No aplica","No aplica","No aplica","No aplica","No aplica","No aplica","No aplica","No aplica","No aplica","No aplica","No aplica","No aplica",0.03]
[145,"ENERGÍA VIVA SPAIN, S.L.","s: 2005 y 2006; p: resto","No aplica","No aplica","No aplica","No aplica","No aplica","No aplica","No aplica","No aplica","No aplica","No aplica","No aplica","No aplica","No aplica","No aplica",0.27000001072883606,0]
[146,"ENERGÍAS DE ESCARRILLA, S.L.","s: 2005 y 2006; p: resto","No aplica","No aplica","No aplica","No aplica","No aplica","No aplica","No aplica","No aplica","No aplica","No aplica","No aplica","No aplica","No aplica","No aplica","No aplica",0]
[147,"ENERGÍAS DE PANTICOSA COMERCIALIZADORA, S.L.","s: 2005 y 2006; p: resto","No aplica","No aplica","No aplica","No aplica","No aplica","No aplica","No aplica","No aplica","No aplica","No aplica","No aplica","No aplica","No aplica","No aplica","No aplica",0]
[148,"ENERGY BY COGEN, S.L.","s: 2005 y 2006; p: resto",0.46400000000000002,0.42899999999999999,"No aplica","No aplica","No aplica","No aplica","No aplica","No aplica",0.31999999284744263,"No aplica","No aplica","No aplica","No aplica","No aplica","No aplica",0.26]
[149,"ENERGY STROM XXI, S.L.","s: 2005 y 2006; p: resto",0.46400000000000002,0.42899999999999999,"No aplica","No aplica","No aplica","No aplica","No aplica","No aplica","No aplica","No aplica",0.40000000596046448,0.32,0.37,0.20000000298023224,0.10000000149011612,0]
[150,"ENERGY TRADER SOLUTIONS, S.L.","s: 2005 y 2006; p: resto","No aplica","No aplica","No aplica","No aplica","No aplica","No aplica","No aplica","No aplica","No aplica","No aplica","No aplica",0.34,"No aplica",0.40999999642372131,"No aplica","No aplica"]
[151,"ENERGYA VM GESTIÓN DE ENERGÍA, S.L.U.","s: 2005 y 2006; p: resto",0.46400000000000002,0.42899999999999999,"No aplica","No aplica","No aplica",0,0,0,0,0,0,0,0,0.14000000059604645,0.17000000178813934,0.2]
[152,"ENERKIA ENERGÍA, S.L","s: 2005 y 2006; p: resto","No aplica","No aplica","No aplica","No aplica","No aplica","No aplica","No aplica","No aplica","No aplica","No aplica","No aplica","No aplica","No aplica",0,"No aplica","No aplica"]
[153,"ENERPLUS ENERGÍA, S.A.","s: 2005 y 2006; p: resto",0.46400000000000002,0.42899999999999999,"No aplica","No aplica","No aplica","No aplica","No aplica","No aplica","No aplica","No aplica",9.9999997764825821E-3,0,0.33,0.2800000011920929,0,0.23]
[154,"ENGIE ESPAÑA, S.L.U.","s: 2005 y 2006; p: resto","No aplica","No aplica","No aplica","No aplica","No aplica","No aplica","No aplica","No aplica","No aplica","No aplica","No aplica",0.34,0.38,0.34999999403953552,0.25999999046325684,0.2]
[155,"ENSTROGA, S.L.","s: 2005 y 2006; p: resto","No aplica","No aplica","No aplica","No aplica","No aplica","No aplica","No aplica","No aplica","No aplica","No aplica","No aplica","No aplica","No aplica",0.40000000596046448,0.30000001192092896,0.24]
[156,"EPRESA ENERGÍA, S.A.U.","s: 2005 y 2006; p: resto","No aplica","No aplica","No aplica","No aplica","No aplica","No aplica","No aplica","No aplica","No aplica","No aplica","No aplica",0,"No aplica",0,"No aplica",0]
[157,"ESTABANELL Y PAHISA MERCATOR, S.A.","s: 2005 y 2006; p: resto","No aplica","No aplica","No aplica","No aplica","No aplica","No aplica","No aplica","No aplica","No aplica","No aplica","No aplica",0,0,0,0,0]
[158,"ESTRATEGIAS ELÉCTRICAS INTEGRALES, S.A.","s: 2005 y 2006; p: resto","No aplica","No aplica","No aplica","No aplica","No aplica","No aplica","No aplica","No aplica","No aplica","No aplica","No aplica",0.28000000000000003,0.32,7.9999998211860657E-2,0.17,0.18]
[159,"ETERNAL ENERGY, S.L.","s: 2005 y 2006; p: resto","No aplica","No aplica","No aplica","No aplica","No aplica","No aplica","No aplica","No aplica","No aplica","No aplica","No aplica","No aplica","No aplica","No aplica","No aplica",0]
[160,"EVERGREEN ELÉCTRICA, S.L.","s: 2005 y 2006; p: resto","No aplica","No aplica","No aplica","No aplica","No aplica","No aplica","No aplica","No aplica","No aplica","No aplica","No aplica","No aplica","No aplica",0.40000000596046448,0.31,0.25]
[161,"EXPORT INNOVATION GROUP, S.L.","s: 2005 y 2006; p: resto","No aplica","No aplica","No aplica","No aplica","No aplica","No aplica","No aplica","No aplica","No aplica","No aplica","No aplica",0,"No aplica","No aplica","No aplica","No aplica"]
[162,"FACTOR ENERGÍA, S.A.","s: 2005 y 2006; p: resto",0.46400000000000002,0.42899999999999999,"No aplica","No aplica",0.25999999046325684,0.21,0.23,0.25,0.23999999463558197,0.27000001072883606,0.31000000238418579,0.28999999999999998,0.32,0.2800000011920929,0.20999999344348907,0.16]
[163,"FACTOR INTEGRAL TRADING SERVICES, S.A.U.","s: 2005 y 2006; p: resto","No aplica","No aplica","No aplica","No aplica","No aplica","No aplica","No aplica","No aplica","No aplica","No aplica","No aplica","No aplica","No aplica","No aplica","No aplica",0]
[164,"FAIN Energía S.L.","s: 2005 y 2006; p: resto","No aplica","No aplica","No aplica","No aplica","No aplica","No aplica","No aplica","No aplica","No aplica","No aplica","No aplica","No aplica","No aplica","No aplica",0,0]
[165,"FENIE ENERGIA, S.A.","s: 2005 y 2006; p: resto",0.46400000000000002,0.42899999999999999,"No aplica","No aplica","No aplica","No aplica","No aplica","No aplica",0.34999999403953552,0.31999999284744263,0.36000001430511475,0,0,0,0,0]
[166,"FLUIDO ELÉCTRICO MUSEROS, SCV","s: 2005 y 2006; p: resto","No aplica","No aplica","No aplica","No aplica","No aplica","No aplica","No aplica","No aplica","No aplica","No aplica","No aplica",0,"No aplica","No aplica","No aplica","No aplica"]
[167,"FOENER COMERCIALIZACIÓN, S.L.U.","s: 2005 y 2006; p: resto","No aplica","No aplica","No aplica","No aplica","No aplica","No aplica","No aplica","No aplica","No aplica","No aplica","No aplica",0.36,0.36,0.36000001430511475,0.2800000011920929,0.21]
[168,"FORTIA ENERGÍA, S.L.","s: 2005 y 2006; p: resto","No aplica","No aplica","No aplica","No aplica","No aplica","No aplica","No aplica","No aplica","No aplica","No aplica","No aplica","No aplica","No aplica","No aplica","No aplica",0.24]
[169,"FORZA VSUNAIR, S.L.","s: 2005 y 2006; p: resto","No aplica","No aplica","No aplica","No aplica","No aplica","No aplica","No aplica","No aplica","No aplica","No aplica","No aplica","No aplica","No aplica",9.0000003576278687E-2,0,0]
[170,"FOX ENERGÍA, S.A.","s: 2005 y 2006; p: resto","No aplica","No aplica","No aplica","No aplica","No aplica","No aplica","No aplica","No aplica","No aplica","No aplica","No aplica","No aplica","No aplica","No aplica",0.31000000238418579,0.31]
[171,"FUSIONA COMERCIALIZADORA, S.A.","s: 2005 y 2006; p: resto","No aplica","No aplica","No aplica","No aplica","No aplica","No aplica","No aplica","No aplica","No aplica","No aplica","No aplica",0,"No aplica",0,0,0]
[172,"GAIA GLOBAL ENERGY SOCIEDAD LIMITADA","s: 2005 y 2006; p: resto","No aplica","No aplica","No aplica","No aplica","No aplica","No aplica","No aplica","No aplica","No aplica","No aplica","No aplica","No aplica","No aplica","No aplica",0,0]
[173,"GALP ENERGÍA ESPAÑA, S.A.U.","s: 2005 y 2006; p: resto","No aplica","No aplica","No aplica","No aplica","No aplica","No aplica","No aplica","No aplica","No aplica","No aplica","No aplica","No aplica",0.41,0.34999999403953552,0.27000001072883606,0.24]
[174,"GAOLANIA SERVICIOS, S.L.","s: 2005 y 2006; p: resto","No aplica","No aplica","No aplica","No aplica","No aplica","No aplica","No aplica","No aplica","No aplica","No aplica","No aplica",0.34,0,0,0,0]
[175,"GASILUZ ECO ENERGÍA, S.L.","s: 2005 y 2006; p: resto","No aplica","No aplica","No aplica","No aplica","No aplica","No aplica","No aplica","No aplica","No aplica","No aplica","No aplica","No aplica","No aplica","No aplica","No aplica",0]
[176,"GAS NATURAL COMERCIALIZADORA, S.A.","s: 2005 y 2006; p: resto",0.46400000000000002,0.42899999999999999,0.22,0.42,0.14000000059604645,0.06,0.08,0.14000000059604645,0.23000000417232513,0.28999999165534973,0.34999999403953552,0.28999999999999998,0.35,0.25,0.20999999344348907,0.14000000000000001]
[177,"GAS NATURAL FENOSA RENOVABLES, S.L.U.","s: 2005 y 2006; p: resto","No aplica","No aplica","No aplica","No aplica","No aplica","No aplica","No aplica","No aplica","No aplica","No aplica","No aplica","No aplica",0,0,"No aplica","No aplica"]
[178,"GAS NATURAL SERVICIOS SDG, S.A.","s: 2005 y 2006; p: resto",0.46400000000000002,0.42899999999999999,0.21,0.19,0.14000000059604645,0.05,0.08,0.12999999523162842,0.23000000417232513,0.28999999165534973,0.36000001430511475,0.28999999999999998,0.39,0.40999999642372131,"No aplica","No aplica"]
[179,"GAS NATURAL SUR SDG, S.A","s: 2005 y 2006; p: resto",0.46400000000000002,0.42899999999999999,"No aplica","No aplica",0.27000001072883606,"No aplica","No aplica","No aplica","No aplica","No aplica","No aplica","No aplica","No aplica","No aplica","No aplica","No aplica"]
[180,"GDF SUEZ ESPAÑA, S.A.U.","s: 2005 y 2006; p: resto",0.46400000000000002,0.42899999999999999,"No aplica","No aplica","No aplica","No aplica",0,9.9999997764825821E-3,0.31999999284744263,0.34000000357627869,0.34999999403953552,"No aplica","No aplica","No aplica","No aplica","No aplica"]
[181,"GEO ALTERNATIVA, S.L.","s: 2005 y 2006; p: resto","No aplica","No aplica","No aplica","No aplica","No aplica","No aplica","No aplica","No aplica","No aplica","No aplica","No aplica",0,0,0,0,0]
[182,"GEOATLANTER, S.L.","s: 2005 y 2006; p: resto",0.46400000000000002,0.42899999999999999,"No aplica","No aplica","No aplica","No aplica","No aplica",0,0,0,0.14000000059604645,0,0,0,0,0]
[183,"GERENTA ENERGÍA, S.L.U","s: 2005 y 2006; p: resto","No aplica","No aplica","No aplica","No aplica","No aplica","No aplica","No aplica","No aplica","No aplica","No aplica","No aplica","No aplica","No aplica",0,0,0]
[184,"GESTERNOVA, S.A.","s: 2005 y 2006; p: resto",0.46400000000000002,0.42899999999999999,"No aplica","No aplica",0,0,0,0,0,0,0,0,0,0,0,0]
[185,"GESTINER INGENIEROS, S.L.","s: 2005 y 2006; p: resto","No aplica","No aplica","No aplica","No aplica","No aplica","No aplica","No aplica","No aplica","No aplica","No aplica","No aplica","No aplica","No aplica","No aplica","No aplica",0]
[186,"GIGABUSINESS, S.L.","s: 2005 y 2006; p: resto","No aplica","No aplica","No aplica","No aplica","No aplica","No aplica","No aplica","No aplica","No aplica","No aplica","No aplica",7.0000000000000007E-2,0,"No aplica","No aplica","No aplica"]
[187,"GLOBAL BIOSFERA PROTEC, S.L.","s: 2005 y 2006; p: resto","No aplica","No aplica","No aplica","No aplica","No aplica","No aplica","No aplica","No aplica","No aplica","No aplica","No aplica",0.32,"No aplica",0,0,0]
[188,"GLOBELIGHT ENERGY S.L","s: 2005 y 2006; p: resto","No aplica","No aplica","No aplica","No aplica","No aplica","No aplica","No aplica","No aplica","No aplica","No aplica","No aplica","No aplica","No aplica","No aplica",0.2199999988079071,0.23]
[189,"GNERA ENERGIA Y TECNOLOGIA, S.L.","s: 2005 y 2006; p: resto",0.46400000000000002,0.42899999999999999,"No aplica","No aplica","No aplica","No aplica","No aplica","No aplica","No aplica","No aplica",0,0,0,0,0,0]
[190,"GOIENER S.COOP","s: 2005 y 2006; p: resto",0.46400000000000002,0.42899999999999999,"No aplica","No aplica","No aplica","No aplica","No aplica","No aplica",0,0,9.9999997764825821E-3,0,0,0,0,0]
[191,"GRUPO ENERGALICIA, S.A.","s: 2005 y 2006; p: resto","No aplica","No aplica","No aplica","No aplica","No aplica","No aplica","No aplica","No aplica","No aplica","No aplica","No aplica","No aplica","No aplica","No aplica","No aplica",0]
[192,"GRUPO IBERSOGAS ENERGÍA, S.L.","s: 2005 y 2006; p: resto","No aplica","No aplica","No aplica","No aplica","No aplica","No aplica","No aplica","No aplica","No aplica","No aplica","No aplica","No aplica","No aplica",0.41,0.31000000238418579,0.25]
[193,"HANWHA ENERGY RETAIL SPAIN, S.L.","s: 2005 y 2006; p: resto","No aplica","No aplica","No aplica","No aplica","No aplica","No aplica","No aplica","No aplica","No aplica","No aplica","No aplica","No aplica","No aplica","No aplica","No aplica",0]
[194,"HELIA COOP V","s: 2005 y 2006; p: resto","No aplica","No aplica","No aplica","No aplica","No aplica","No aplica","No aplica","No aplica","No aplica","No aplica","No aplica","No aplica","No aplica",0,0,0]
[195,"HELIOELEC ENERGIA ELECTRICA, S.L.","s: 2005 y 2006; p: resto","No aplica","No aplica","No aplica","No aplica","No aplica","No aplica","No aplica","No aplica","No aplica","No aplica","No aplica","No aplica","No aplica",0,0,0]
[196,"HIDROCANTABRICO ENERGÍA S.A.","s: 2005 y 2006; p: resto",0.46400000000000002,0.42899999999999999,0.4,"No aplica","No aplica","No aplica","No aplica","No aplica","No aplica","No aplica",0.23,"No aplica","No aplica","No aplica","No aplica","No aplica"]
[197,"HIDROCANTABRICO ENERGIA, S.A. Unipersonal","s: 2005 y 2006; p: resto",0.46400000000000002,0.42899999999999999,0.35,0.34,0.23999999463558197,0.21,0.23,0.23999999463558197,0.17000000178813934,0.18999999761581421,"No aplica","No aplica","No aplica","No aplica","No aplica","No aplica"]
[198,"HIDROELECTRICA DEL VALIRA, S.L.","s: 2005 y 2006; p: resto",0.46400000000000002,0.42899999999999999,"No aplica","No aplica","No aplica","No aplica","No aplica","No aplica",0.14000000059604645,0.14000000059604645,0.30000001192092896,0,0,0,0,0]
[199,"HIDROELÉCTRICA DEL CANTÁBRICO, S.A.","s: 2005 y 2006; p: resto","No aplica","No aplica","No aplica","No aplica","No aplica","No aplica","No aplica","No aplica","No aplica","No aplica","No aplica","No aplica","No aplica","No aplica","No aplica",0.25]
[200,"HIDROELÉCTRICA EL CARMEN ENERGÍA, S.L.","s: 2005 y 2006; p: resto",0.46400000000000002,0.42899999999999999,"No aplica","No aplica","No aplica",0.28000000000000003,0.33,0,0,0,0,0,0,0,0,0]
[201,"HIDROELÉCTRICA LUMYMEY, S.L.","s: 2005 y 2006; p: resto","No aplica","No aplica","No aplica","No aplica","No aplica","No aplica","No aplica","No aplica","No aplica","No aplica","No aplica","No aplica","No aplica","No aplica","No aplica",0]
[202,"HISPAELEC ENERGIA, S.A","s: 2005 y 2006; p: resto",0.46400000000000002,0.42899999999999999,"No aplica","No aplica","No aplica",0,"No aplica","No aplica","No aplica","No aplica","No aplica","No aplica","No aplica","No aplica","No aplica","No aplica"]
[203,"HOLALUZ-CLIDOM, S.A.","s: 2005 y 2006; p: resto","No aplica","No aplica","No aplica","No aplica","No aplica","No aplica","No aplica","No aplica","No aplica","No aplica","No aplica","No aplica","No aplica","No aplica","No aplica",0]
[204,"IBERCOEN ENERGÍA, S.A.","s: 2005 y 2006; p: resto","No aplica","No aplica","No aplica","No aplica","No aplica","No aplica","No aplica","No aplica","No aplica","No aplica","No aplica","No aplica","No aplica","No aplica",0,0]
[205,"IBERDROLA , S.A.","s: 2005 y 2006; p: resto",0.46400000000000002,0.42899999999999999,0,0.04,"No aplica","No aplica","No aplica","No aplica","No aplica","No aplica","No aplica","No aplica","No aplica","No aplica","No aplica","No aplica"]
[206,"IBERDROLA CLIENTES, S.A.U.","s: 2005 y 2006; p: resto",0.46400000000000002,0.42899999999999999,"No aplica","No aplica","No aplica","No aplica","No aplica","No aplica","No aplica",0.12,0.20999999344348907,0.15,0.28000000000000003,0.27000001072883606,0.20000000298023224,0.15]
[207,"IBERDROLA GENERACION, S.A.U.","s: 2005 y 2006; p: resto",0.46400000000000002,0.42899999999999999,"No aplica","No aplica",0.12999999523162842,0.1,0.17,0.23999999463558197,0.15999999642372131,"No aplica","No aplica","No aplica","No aplica",0,0,"No aplica"]
[208,"IBERDROLA SERVICIOS ENERGETICOS, S.A.U.","s: 2005 y 2006; p: resto","No aplica","No aplica","No aplica","No aplica","No aplica","No aplica","No aplica","No aplica","No aplica","No aplica","No aplica","No aplica","No aplica",0,0,0]
[209,"IBERELECTRICA COMERCIALIZADORA, S.L.","s: 2005 y 2006; p: resto","No aplica","No aplica","No aplica","No aplica","No aplica","No aplica","No aplica","No aplica","No aplica","No aplica","No aplica","No aplica","No aplica",0.41,0.31000000238418579,"No aplica"]
[210,"IM3 ENERGÍA, S.L.","s: 2005 y 2006; p: resto","No aplica","No aplica","No aplica","No aplica","No aplica","No aplica","No aplica","No aplica","No aplica","No aplica","No aplica","No aplica",0,0.31000000238418579,0,0]
[211,"INDEXO ENERGIA, S.L.","s: 2005 y 2006; p: resto",0.46400000000000002,0.42899999999999999,"No aplica","No aplica","No aplica","No aplica","No aplica","No aplica","No aplica","No aplica",0.10000000149011612,0.11,0.23,0.31000000238418579,0.12999999523162842,0.04]
[212,"INER ENERGIA CASTILLA LA MANCHA, S.L.","s: 2005 y 2006; p: resto","No aplica","No aplica","No aplica","No aplica","No aplica","No aplica","No aplica","No aplica","No aplica","No aplica","No aplica","No aplica","No aplica",0.40999999642372131,0.28999999165534973,0]
[213,"INICIATIVA E. NOVA, S.L.","s: 2005 y 2006; p: resto",0.46400000000000002,0.42899999999999999,"No aplica","No aplica","No aplica","No aplica","No aplica","No aplica","No aplica","No aplica",0,0,0.01,0,0,0]
[214,"INNOVA DESARROLLO Y EFICIENCIA ENERGÉTICA, S.L.","s: 2005 y 2006; p: resto","No aplica","No aplica","No aplica","No aplica","No aplica","No aplica","No aplica","No aplica","No aplica","No aplica","No aplica","No aplica","No aplica","No aplica",0,0]
[215,"INSIGNIA ENERGÍA, S.L.","s: 2005 y 2006; p: resto","No aplica","No aplica","No aplica","No aplica","No aplica","No aplica","No aplica","No aplica","No aplica","No aplica","No aplica","No aplica","No aplica","No aplica","No aplica",0.25]
[216,"INTEGRACIÓN EUROPEA DE ENERGÍA SUR, S.L.","s: 2005 y 2006; p: resto","No aplica","No aplica","No aplica","No aplica","No aplica","No aplica","No aplica","No aplica","No aplica","No aplica","No aplica","No aplica",0.43,0.40999999642372131,0.30000001192092896,0.25]
[217,"INTEGRACIÓN EUROPEA DE ENERGÍA, S.A.U.","s: 2005 y 2006; p: resto","No aplica","No aplica","No aplica","No aplica","No aplica","No aplica","No aplica","No aplica","No aplica","No aplica","No aplica",0.36,0.43,0.40999999642372131,0.31000000238418579,0.05]
[218,"INTELIGENCIA PARA EL AHORRO ENERGÉTICO, S.L.","s: 2005 y 2006; p: resto","No aplica","No aplica","No aplica","No aplica","No aplica","No aplica","No aplica","No aplica","No aplica","No aplica","No aplica","No aplica","No aplica","No aplica","No aplica",0]
[219,"KILOWATIOS VERDES, S.L.","s: 2005 y 2006; p: resto","No aplica","No aplica","No aplica","No aplica","No aplica","No aplica","No aplica","No aplica","No aplica","No aplica","No aplica","No aplica",0.12,9.9999997764825821E-3,0.10999999940395355,0]
[220,"KIPIN ENERGY, S.L.","s: 2005 y 2006; p: resto","No aplica","No aplica","No aplica","No aplica","No aplica","No aplica","No aplica","No aplica","No aplica","No aplica","No aplica","No aplica","No aplica","No aplica","No aplica",0]
[221,"KISHOA, S.L.","s: 2005 y 2006; p: resto","No aplica","No aplica","No aplica","No aplica","No aplica","No aplica","No aplica","No aplica","No aplica","No aplica","No aplica","No aplica","No aplica","No aplica",0,0]
[222,"LA CORRIENTE SOCIEDAD COOPERATIVA","s: 2005 y 2006; p: resto","No aplica","No aplica","No aplica","No aplica","No aplica","No aplica","No aplica","No aplica","No aplica","No aplica","No aplica","No aplica","No aplica","No aplica",0,0]
[223,"LA UNION ELECTRO INDUSTRIAL, S.L.U.","s: 2005 y 2006; p: resto",0.46400000000000002,0.42899999999999999,"No aplica","No aplica","No aplica","No aplica","No aplica",0.34999999403953552,0,3.9999999105930328E-2,0,0,0,0,0,0]
[224,"LEDESMA COMERCIALIZADORA ELÉCTRICA, S.L.","s: 2005 y 2006; p: resto","No aplica","No aplica","No aplica","No aplica","No aplica","No aplica","No aplica","No aplica","No aplica","No aplica","No aplica","No aplica","No aplica",0,"No aplica","No aplica"]
[225,"LIGHT UP, S.L.","s: 2005 y 2006; p: resto",0.46400000000000002,0.42899999999999999,"No aplica","No aplica","No aplica","No aplica","No aplica","No aplica","No aplica","No aplica",0,"No aplica","No aplica","No aplica","No aplica","No aplica"]
[226,"LONJAS TECNOLOGÍA, S.A.","s: 2005 y 2006; p: resto","No aplica","No aplica","No aplica","No aplica","No aplica","No aplica","No aplica","No aplica","No aplica","No aplica","No aplica",0.28999999999999998,0.31,0.34000000357627869,0.25,0.21]
[227,"LOOP ELECTRICIDAD Y GAS, S.L.","s: 2005 y 2006; p: resto","No aplica","No aplica","No aplica","No aplica","No aplica","No aplica","No aplica","No aplica","No aplica","No aplica","No aplica","No aplica","No aplica","No aplica","No aplica",0]
[228,"LOVE ENERGY, S.L.","s: 2005 y 2006; p: resto","No aplica","No aplica","No aplica","No aplica","No aplica","No aplica","No aplica","No aplica","No aplica","No aplica","No aplica","No aplica","No aplica","No aplica","No aplica",0]
[229,"LUBALOO, S.L.","s: 2005 y 2006; p: resto","No aplica","No aplica","No aplica","No aplica","No aplica","No aplica","No aplica","No aplica","No aplica","No aplica","No aplica","No aplica",0,0,0,"No aplica"]
[230,"LUCE CAPITAL GROUP, S.L.","s: 2005 y 2006; p: resto","No aplica","No aplica","No aplica","No aplica","No aplica","No aplica","No aplica","No aplica","No aplica","No aplica","No aplica","No aplica","No aplica","No aplica","No aplica",0]
[231,"LUCI MUNDI ENERGÍA, S.L.","s: 2005 y 2006; p: resto",0.46400000000000002,0.42899999999999999,"No aplica","No aplica","No aplica","No aplica","No aplica","No aplica","No aplica","No aplica",0.17000000178813934,"No aplica","No aplica","No aplica","No aplica","No aplica"]
[232,"LUVON ENERGÍA, S.L.","s: 2005 y 2006; p: resto","No aplica","No aplica","No aplica","No aplica","No aplica","No aplica","No aplica","No aplica","No aplica","No aplica","No aplica",0,"No aplica","No aplica","No aplica","No aplica"]
[233,"LUX FORUM SL","s: 2005 y 2006; p: resto","No aplica","No aplica","No aplica","No aplica","No aplica","No aplica","No aplica","No aplica","No aplica","No aplica","No aplica","No aplica","No aplica","No aplica",0.2800000011920929,0.2]
[234,"LUZ SOLIDARIA, S.L.","s: 2005 y 2006; p: resto","No aplica","No aplica","No aplica","No aplica","No aplica","No aplica","No aplica","No aplica","No aplica","No aplica","No aplica","No aplica","No aplica","No aplica","No aplica",0]
[235,"MASQLUZ 2020, S.L.","s: 2005 y 2006; p: resto","No aplica","No aplica","No aplica","No aplica","No aplica","No aplica","No aplica","No aplica","No aplica","No aplica","No aplica","No aplica","No aplica","No aplica","No aplica",0]
[236,"MEGARA ENERGÍA SOCIEDAD COOPERATIVA CYL","s: 2005 y 2006; p: resto","No aplica","No aplica","No aplica","No aplica","No aplica","No aplica","No aplica","No aplica","No aplica","No aplica","No aplica","No aplica","No aplica",0,0,0]
[237,"MENTA ENERGÍA COMERCIALIZADORA, S.L.","s: 2005 y 2006; p: resto","No aplica","No aplica","No aplica","No aplica","No aplica","No aplica","No aplica","No aplica","No aplica","No aplica","No aplica","No aplica","No aplica","No aplica","No aplica",0]
[238,"MULTIENERGÍA VERDE, S.L.","s: 2005 y 2006; p: resto","No aplica","No aplica","No aplica","No aplica","No aplica","No aplica","No aplica","No aplica","No aplica","No aplica","No aplica","No aplica","No aplica",2.9999999329447746E-2,0,0]
[239,"NABALIA ENERGÍA 2000, S.A.","s: 2005 y 2006; p: resto","No aplica","No aplica","No aplica","No aplica","No aplica","No aplica","No aplica","No aplica","No aplica","No aplica","No aplica","No aplica",0.34,0.31000000238418579,0.14000000059604645,0]
[240,"NATURGAS ENERGÍA COMERCIALIZADORA, S.A.U.","s: 2005 y 2006; p: resto",0.46400000000000002,0.42899999999999999,0.35,0.35,0.28999999165534973,0.23,0.26,0.25,0.20999999344348907,0.20000000298023224,"No aplica","No aplica","No aplica","No aplica","No aplica","No aplica"]
[241,"NATURGY IBERIA, S.A.","s: 2005 y 2006; p: resto","No aplica","No aplica","No aplica","No aplica","No aplica","No aplica","No aplica","No aplica","No aplica","No aplica","No aplica","No aplica","No aplica","No aplica",0.30000001192092896,0.25]
[242,"NATURGY RENOVABLES, S.L.U.","s: 2005 y 2006; p: resto","No aplica","No aplica","No aplica","No aplica","No aplica","No aplica","No aplica","No aplica","No aplica","No aplica","No aplica","No aplica","No aplica","No aplica",0,0]
[243,"NEOELECTRA ENERGÍA, S.A.U.","s: 2005 y 2006; p: resto","No aplica","No aplica","No aplica","No aplica","No aplica","No aplica","No aplica","No aplica","No aplica","No aplica","No aplica","No aplica","No aplica","No aplica","No aplica",0.24]
[244,"NEOWATIO, S.L.","s: 2005 y 2006; p: resto","No aplica","No aplica","No aplica","No aplica","No aplica","No aplica","No aplica","No aplica","No aplica","No aplica","No aplica","No aplica","No aplica","No aplica",0,0]
[245,"NEXUS ENERGIA, S.A.","s: 2005 y 2006; p: resto",0.46400000000000002,0.42899999999999999,0.4,"No aplica",0.27000001072883606,0.28000000000000003,0.36,0.30000001192092896,0.11999999731779099,0.12999999523162842,0.11999999731779099,0.02,0,0,0,0]
[246,"NEXUS RENOVABLES, S.L.","s: 2005 y 2006; p: resto",0.46400000000000002,0.42899999999999999,"No aplica","No aplica","No aplica",0,0,9.9999997764825821E-3,0,0,1.9999999552965164E-2,0,"No aplica","No aplica","No aplica","No aplica"]
[247,"NINOBE SERVICIOS ENERGÉTICOS, S.L.","s: 2005 y 2006; p: resto","No aplica","No aplica","No aplica","No aplica","No aplica","No aplica","No aplica","No aplica","No aplica","No aplica","No aplica",0.27,0.4,0.37000000476837158,0.28999999165534973,0]
[248,"NOBE SOLUCIONES Y ENERGÍA","s: 2005 y 2006; p: resto","No aplica","No aplica","No aplica","No aplica","No aplica","No aplica","No aplica","No aplica","No aplica","No aplica","No aplica",0,0,0,0,0]
[249,"NOSA ENERXIA SOCIEDADE COOP GALEGA","s: 2005 y 2006; p: resto","No aplica","No aplica","No aplica","No aplica","No aplica","No aplica","No aplica","No aplica","No aplica","No aplica","No aplica",0,0,0,0,0]
[250,"NUEVA COMERCIALIZADORA ESPAÑOLA, S.L.","s: 2005 y 2006; p: resto","No aplica","No aplica","No aplica","No aplica","No aplica","No aplica","No aplica","No aplica","No aplica","No aplica","No aplica","No aplica",0.4,"No aplica","No aplica",0.02]
[251,"ODF ENERGÍA LIBRE COMERCIALIZADORA, S.L.","s: 2005 y 2006; p: resto","No aplica","No aplica","No aplica","No aplica","No aplica","No aplica","No aplica","No aplica","No aplica","No aplica","No aplica",0,0,0,0,0]
[252,"OLTEN-LLUM, S.L.","s: 2005 y 2006; p: resto",0.46400000000000002,0.42899999999999999,"No aplica","No aplica","No aplica","No aplica","No aplica","No aplica",0.34000000357627869,0.34000000357627869,"No aplica","No aplica","No aplica","No aplica","No aplica","No aplica"]
[253,"ON DEMAND FACILITIES, S.L.","s: 2005 y 2006; p: resto",0.46400000000000002,0.42899999999999999,"No aplica","No aplica","No aplica","No aplica","No aplica","No aplica","No aplica",0.37000000476837158,3.9999999105930328E-2,0,0.06,0,0,0]
[254,"OVO ENERGY SPAIN, S.L.","s: 2005 y 2006; p: resto","No aplica","No aplica","No aplica","No aplica","No aplica","No aplica","No aplica","No aplica","No aplica","No aplica","No aplica","No aplica","No aplica","No aplica",0,0]
[255,"PEPEENERGY","s: 2005 y 2006; p: resto","No aplica","No aplica","No aplica","No aplica","No aplica","No aplica","No aplica","No aplica","No aplica","No aplica","No aplica",0,0,0,0,0]
[256,"PETRO NAVARRA, S.L.","s: 2005 y 2006; p: resto","No aplica","No aplica","No aplica","No aplica","No aplica","No aplica","No aplica","No aplica","No aplica","No aplica","No aplica","No aplica",0,0,0,0.22]
[257,"PETRONIEVES ENERGÍA 1, S.L.","s: 2005 y 2006; p: resto","No aplica","No aplica","No aplica","No aplica","No aplica","No aplica","No aplica","No aplica","No aplica","No aplica","No aplica",0.26,0.39,0.38999998569488525,"No aplica",0.24]
[258,"PHOTON GESTION","s: 2005 y 2006; p: resto","No aplica","No aplica","No aplica","No aplica","No aplica","No aplica","No aplica","No aplica","No aplica","No aplica","No aplica",0,0,0,0,"No aplica"]
[259,"POTENZIA COMERCIALIZADORA, S.L.","s: 2005 y 2006; p: resto","No aplica","No aplica","No aplica","No aplica","No aplica","No aplica","No aplica","No aplica","No aplica","No aplica","No aplica","No aplica","No aplica","No aplica",0,0]
[260,"PROT ENERGÍA COMERCIALIZACIÓN, S.L.","s: 2005 y 2006; p: resto",0.46400000000000002,0.42899999999999999,"No aplica","No aplica","No aplica","No aplica","No aplica","No aplica","No aplica","No aplica",0,0,0,0,0,0]
[261,"PULSAR SERVICIOS ENERGÉTICOS","s: 2005 y 2006; p: resto","No aplica","No aplica","No aplica","No aplica","No aplica","No aplica","No aplica","No aplica","No aplica","No aplica","No aplica",0,0,0,0,0]
[262,"RA&AN ELÉCTRICA, S.L.","s: 2005 y 2006; p: resto","No aplica","No aplica","No aplica","No aplica","No aplica","No aplica","No aplica","No aplica","No aplica","No aplica","No aplica","No aplica","No aplica","No aplica","No aplica",0]
[263,"REMICA COMERCIALIZADORA, S.A.U.","s: 2005 y 2006; p: resto","No aplica","No aplica","No aplica","No aplica","No aplica","No aplica","No aplica","No aplica","No aplica","No aplica","No aplica","No aplica","No aplica",0.23999999463558197,0.20999999344348907,"No aplica"]
[264,"RENEWABLE VENTURES, S.L.","s: 2005 y 2006; p: resto",0.46400000000000002,0.42899999999999999,"No aplica","No aplica","No aplica","No aplica","No aplica","No aplica","No aplica","No aplica",0,0,0,0,0,0]
[265,"REPSOL COMERCIALIZADORA DE ELECTRICIDAD Y GAS, S.L.U.","s: 2005 y 2006; p: resto","No aplica","No aplica","No aplica","No aplica","No aplica","No aplica","No aplica","No aplica","No aplica","No aplica","No aplica","No aplica","No aplica","No aplica",1.9999999552965164E-2,0]
[266,"RESPIRA ENERGIA, S.A.","s: 2005 y 2006; p: resto","No aplica","No aplica","No aplica","No aplica","No aplica","No aplica","No aplica","No aplica","No aplica","No aplica","No aplica","No aplica","No aplica",2.9999999329447746E-2,5.000000074505806E-2,0.02]
[267,"RESPIRA ENERGÍA ESPAÑA, S.L. ","s: 2005 y 2006; p: resto","No aplica","No aplica","No aplica","No aplica","No aplica","No aplica","No aplica","No aplica","No aplica","No aplica","No aplica","No aplica","No aplica",0.37000000476837158,0.31000000238418579,0.01]
[268,"RTOTAL GAS Y ELECTRICIDAD ESPA¿A,\nS.A.U.","s: 2005 y 2006; p: resto","No aplica","No aplica","No aplica","No aplica","No aplica","No aplica","No aplica","No aplica","No aplica","No aplica","No aplica","No aplica","No aplica",0.36000001430511475,"No aplica","No aplica"]
[269,"REYSE ENERGÍA, S.L.","s: 2005 y 2006; p: resto","No aplica","No aplica","No aplica","No aplica","No aplica","No aplica","No aplica","No aplica","No aplica","No aplica","No aplica",7.0000000000000007E-2,"No aplica","No aplica","No aplica","No aplica"]
[270,"ROFEICA ENERGÍA, S.A","s: 2005 y 2006; p: resto","No aplica","No aplica","No aplica","No aplica","No aplica","No aplica","No aplica","No aplica","No aplica","No aplica","No aplica","No aplica","No aplica","No aplica",0.30000001192092896,0.21]
[271,"RONDA OESTE ENERGÍA, S.L.","s: 2005 y 2006; p: resto","No aplica","No aplica","No aplica","No aplica","No aplica","No aplica","No aplica","No aplica","No aplica","No aplica","No aplica",0,"No aplica","No aplica",0.28999999165534973,0.24]
[272,"SAMPOL INGENIERÍA Y OBRAS, S.A.","s: 2005 y 2006; p: resto",0.46400000000000002,0.42899999999999999,"No aplica","No aplica","No aplica","No aplica","No aplica","No aplica","No aplica","No aplica",0.31000000238418579,0.3,0.32,0.33000001311302185,0.18000000715255737,0.05]
[273,"SHELL ESPAÑA, S.A.","s: 2005 y 2006; p: resto","No aplica","No aplica","No aplica","No aplica","No aplica","No aplica","No aplica","No aplica","No aplica","No aplica","No aplica","No aplica","No aplica",0,0,0]
[274,"SIMPLES ENERGÍA DE ESPAÑA, S.L.","s: 2005 y 2006; p: resto","No aplica","No aplica","No aplica","No aplica","No aplica","No aplica","No aplica","No aplica","No aplica","No aplica","No aplica","No aplica","No aplica","No aplica","No aplica",0.24]
[275,"SISTEMAS URBANOS DE ENERGÍAS RENOVABLES S.L.","s: 2005 y 2006; p: resto","No aplica","No aplica","No aplica","No aplica","No aplica","No aplica","No aplica","No aplica","No aplica","No aplica","No aplica","No aplica","No aplica","No aplica","No aplica",0.2]
[276,"SOLABRIA, S.COOP","s: 2005 y 2006; p: resto","No aplica","No aplica","No aplica","No aplica","No aplica","No aplica","No aplica","No aplica","No aplica","No aplica","No aplica","No aplica","No aplica","No aplica","No aplica",0]
[277,"SOLELEC IBÉRICA, S.L.","s: 2005 y 2006; p: resto","No aplica","No aplica","No aplica","No aplica","No aplica","No aplica","No aplica","No aplica","No aplica","No aplica","No aplica","No aplica","No aplica","No aplica","No aplica",0.25]
[278,"SOM ENERGÍA, S.C.C.L.","s: 2005 y 2006; p: resto",0.46400000000000002,0.42899999999999999,"No aplica","No aplica","No aplica","No aplica",0,0,0,0,0,0,0,0,0,0]
[279,"STIN, S.A.","s: 2005 y 2006; p: resto","No aplica","No aplica","No aplica","No aplica","No aplica","No aplica","No aplica","No aplica","No aplica","No aplica","No aplica","No aplica","No aplica",0.38999998569488525,0.23999999463558197,0.23]
[280,"SUMINISTRADORA ELÉCTRICA VIENTOS ALISIOS DE LAZAROTE, S.L.","s: 2005 y 2006; p: resto","No aplica","No aplica","No aplica","No aplica","No aplica","No aplica","No aplica","No aplica","No aplica","No aplica","No aplica","No aplica",0,0,0,"No aplica"]
[281,"SUMINISTROS ESPECIALES ALGINETENSES COOP. V.","s: 2005 y 2006; p: resto",0.46400000000000002,0.42899999999999999,"No aplica","No aplica","No aplica","No aplica","No aplica","No aplica","No aplica","No aplica",0,0,0,0,0,0]
[282,"SUNAIR ONE CANARIAS, S.L.","s: 2005 y 2006; p: resto","No aplica","No aplica","No aplica","No aplica","No aplica","No aplica","No aplica","No aplica","No aplica","No aplica","No aplica","No aplica","No aplica","No aplica","No aplica",0]
[283,"SUNAIR ONE ENERGY, S.L.","s: 2005 y 2006; p: resto","No aplica","No aplica","No aplica","No aplica","No aplica","No aplica","No aplica","No aplica","No aplica","No aplica","No aplica",0.31,"No aplica",0.37999999523162842,0,0]
[284,"SUNAIR ONE HOME, S.L.","s: 2005 y 2006; p: resto","No aplica","No aplica","No aplica","No aplica","No aplica","No aplica","No aplica","No aplica","No aplica","No aplica","No aplica","No aplica","No aplica",0.2,0,0]
[285,"SWAP ENERGÍA, S.A.","s: 2005 y 2006; p: resto","No aplica","No aplica","No aplica","No aplica","No aplica","No aplica","No aplica","No aplica","No aplica","No aplica","No aplica","No aplica",0.39,"No aplica","No aplica","No aplica"]
[286,"SYDER COMERCIALIZADORA VERDE, S.L.","s: 2005 y 2006; p: resto",0.46400000000000002,0.42899999999999999,"No aplica","No aplica","No aplica","No aplica","No aplica","No aplica","No aplica","No aplica",0,0,0,0,0,0]
[287,"TELEFÓNICA SOLUCIONES DE INFORMÁTICA Y COMUNICACIONES DE ESPAÑA, S.A.U.","s: 2005 y 2006; p: resto",0.46400000000000002,0.42899999999999999,"No aplica","No aplica","No aplica","No aplica","No aplica","No aplica","No aplica","No aplica",5.000000074505806E-2,0,0,0.20000000298023224,0,0]
[288,"TENSINA DE ENERGÍA Y SERVICIOS, S.L.","s: 2005 y 2006; p: resto","No aplica","No aplica","No aplica","No aplica","No aplica","No aplica","No aplica","No aplica","No aplica","No aplica","No aplica","No aplica","No aplica","No aplica","No aplica",0]
[289,"TERUGAS ENERGY, S.L.","s: 2005 y 2006; p: resto","No aplica","No aplica","No aplica","No aplica","No aplica","No aplica","No aplica","No aplica","No aplica","No aplica","No aplica","No aplica","No aplica","No aplica",0,"No aplica"]
[290,"THE ENERGY HOUSE GROUP, S.L.","s: 2005 y 2006; p: resto","No aplica","No aplica","No aplica","No aplica","No aplica","No aplica","No aplica","No aplica","No aplica","No aplica","No aplica","No aplica","No aplica","No aplica",0,"No aplica"]
[291,"THE YELLOW ENERGY, S.L.","s: 2005 y 2006; p: resto",0.46400000000000002,0.42899999999999999,"No aplica","No aplica","No aplica","No aplica","No aplica","No aplica","No aplica",0,0,0,0,0,0,0]
[292,"TOTAL GAS Y ELECTRICIDAD ESPAÑA S.A.U.","s: 2005 y 2006; p: resto","No aplica","No aplica","No aplica","No aplica","No aplica","No aplica","No aplica","No aplica","No aplica","No aplica","No aplica","No aplica","No aplica",0.37999999523162842,0.30000001192092896,0.19]
[293,"TRACTAMENT I SELECCIO DE RESIDUS, S.A.","s: 2005 y 2006; p: resto","No aplica","No aplica","No aplica","No aplica","No aplica","No aplica","No aplica","No aplica","No aplica","No aplica","No aplica","No aplica","No aplica",0,0,0]
[294,"TRADE UNIVERSAL ENERGY, S.A.","s: 2005 y 2006; p: resto","No aplica","No aplica","No aplica","No aplica","No aplica","No aplica","No aplica","No aplica","No aplica","No aplica","No aplica",0,0,0,0,0]
[295,"UMEME ENERGÍA, S.L.","s: 2005 y 2006; p: resto","No aplica","No aplica","No aplica","No aplica","No aplica","No aplica","No aplica","No aplica","No aplica","No aplica","No aplica","No aplica","No aplica","No aplica","No aplica",0.19]
[296,"UNIC GLOBAL-LOGISTICS, S.L.","s: 2005 y 2006; p: resto","No aplica","No aplica","No aplica","No aplica","No aplica","No aplica","No aplica","No aplica","No aplica","No aplica","No aplica",0,"No aplica","No aplica","No aplica","No aplica"]
[297,"UNIELÉCTRICA ENERGÍA, S.L.","s: 2005 y 2006; p: resto",0.46400000000000002,0.42899999999999999,"No aplica","No aplica","No aplica","No aplica","No aplica","No aplica",0,0,0,0,0,0,0,0]
[298,"UNION FENOSA COMERCIAL, S.L.","s: 2005 y 2006; p: resto",0.46400000000000002,0.42899999999999999,0.31,0.36,0.30000001192092896,0.26,0.33,0.38999998569488525,0.36000001430511475,"No aplica","No aplica","No aplica","No aplica","No aplica","No aplica","No aplica"]
[299,"V3J INGENIERÍA Y SERVICIOS, S.L.","s: 2005 y 2006; p: resto","No aplica","No aplica","No aplica","No aplica","No aplica","No aplica","No aplica","No aplica","No aplica","No aplica","No aplica",0.28000000000000003,0.37,0.30000001192092896,0.05,0.01]
[300,"VERTSEL ENERGIA, S.L.U.","s: 2005 y 2006; p: resto",0.46400000000000002,0.42899999999999999,"No aplica","No aplica","No aplica","No aplica","No aplica","No aplica","No aplica",1.9999999552965164E-2,0,"No aplica","No aplica","No aplica","No aplica","No aplica"]
[301,"VIESGO ENERGÍA, S.L.","s: 2005 y 2006; p: resto","No aplica","No aplica","No aplica","No aplica","No aplica","No aplica","No aplica","No aplica","No aplica","No aplica","No aplica",0.26,0.32,0.20999999344348907,"No aplica","No aplica"]
[302,"VILLAR MIR ENERGÍA, S.L.","s: 2005 y 2006; p: resto","No aplica","No aplica","No aplica","No aplica","No aplica","No aplica","No aplica","No aplica","No aplica","No aplica","No aplica","No aplica","No aplica","No aplica","No aplica",0.24]
[303,"VIRTUS GLOBAL ENERGY SL","s: 2005 y 2006; p: resto","No aplica","No aplica","No aplica","No aplica","No aplica","No aplica","No aplica","No aplica","No aplica","No aplica","No aplica","No aplica","No aplica",0,0,0]
[304,"VISALIA ENERGÍA, S.L.","s: 2005 y 2006; p: resto","No aplica","No aplica","No aplica","No aplica","No aplica","No aplica","No aplica","No aplica","No aplica","No aplica","No aplica","No aplica","No aplica","No aplica","No aplica",0.2]
[305,"VITA CAPITAL TRADING, S.L.","s: 2005 y 2006; p: resto","No aplica","No aplica","No aplica","No aplica","No aplica","No aplica","No aplica","No aplica","No aplica","No aplica","No aplica","No aplica","No aplica","No aplica","No aplica",0]
[306,"VIVE ENERGÍA ELÉCTRICA, S.A","s: 2005 y 2006; p: resto","No aplica","No aplica","No aplica","No aplica","No aplica","No aplica","No aplica","No aplica","No aplica","No aplica","No aplica","No aplica","No aplica",0.40999999642372131,0,0]
[307,"VIVO ENERGÍA FUTURA, S.A.","s: 2005 y 2006; p: resto","No aplica","No aplica","No aplica","No aplica","No aplica","No aplica","No aplica","No aplica","No aplica","No aplica","No aplica","No aplica","No aplica","No aplica",0,0]
[308,"VÓLTICO ENERGÍA, S.L.","s: 2005 y 2006; p: resto","No aplica","No aplica","No aplica","No aplica","No aplica","No aplica","No aplica","No aplica","No aplica","No aplica","No aplica","No aplica","No aplica","No aplica",0,0]
[309,"WATIO WHOLESALE, S.L.","s: 2005 y 2006; p: resto","No aplica","No aplica","No aplica","No aplica","No aplica","No aplica","No aplica","No aplica","No aplica","No aplica","No aplica","No aplica","No aplica",0.38999998569488525,0.27000001072883606,0.17]
[310,"WATIUM, S.L.","s: 2005 y 2006; p: resto",0.46400000000000002,0.42899999999999999,"No aplica","No aplica","No aplica","No aplica","No aplica","No aplica","No aplica","No aplica",0,0,0,0.34999999403953552,0.2800000011920929,0.25]
[311,"WIND TO MARKET, S.A.","s: 2005 y 2006; p: resto","No aplica","No aplica","No aplica","No aplica","No aplica","No aplica","No aplica","No aplica","No aplica","No aplica","No aplica",0,0.18,0.20000000298023224,0.20999999344348907,0.16]
[312,"ZENCER, S. COOP. AND","s: 2005 y 2006; p: resto",0.46400000000000002,0.42899999999999999,"No aplica","No aplica","No aplica","No aplica","No aplica",0,0,0.15999999642372131,0,0,"No aplica","No aplica","No aplica","No aplica"]
[313,"ZULUX ENERGÍA, S.L.","s: 2005 y 2006; p: resto","No aplica","No aplica","No aplica","No aplica","No aplica","No aplica","No aplica","No aplica","No aplica","No aplica","No aplica","No aplica","No aplica","No aplica","No aplica",0.24]
[]
[null,"ABSORCIONES"]
[null,"Especie","Factor de absorción anual CO2","Unidad","Fuente dato"]
[null,"Abies alba",3.1772408058067998,"kg CO2/año y pie","r"]
[null,"Abies pinsapo",10.96954854239571,"kg CO2/año y pie","r"]
[null,"Acacia spp.",1.5274431310354604,"kg CO2/año y pie","r"]
[null,"Acer spp.",7.4877680651170682,"kg CO2/año y pie","r"]
[null,"Ailanthus altissima",1.5274431310354604,"kg CO2/año y pie","r"]
[null,"Alnus spp.",5.4639403243265612,"kg CO2/año y pie","r"]
[null,"Amelanchier ovalis",6.8388617226212753,"kg CO2/año y pie","r"]
[null,"Arbutus unedo",2.9802258656182734,"kg CO2/año y pie","r"]
[null,"Betula spp.",3.1139114485025972,"kg CO2/año y pie","r"]
[null,"Carpinus betulus",3.1139114485025972,"kg CO2/año y pie","r"]
[null,"Castanea sativa",6.2059076975914902,"kg CO2/año y pie","r"]
[null,"Ceratonia siliqua",3.0980229224587688,"kg CO2/año y pie","r"]
[null,"Cedrus atlantica",43.215604411883824,"kg CO2/año y pie","r"]
[null,"Celtis australis",33.54816511050106,"kg CO2/año y pie","r"]
[null,"Chamaecyparis lawsoniana",0.36451014816266286,"kg CO2/año y pie","r"]
[null,"Cornus sanguinea",6.8388617226212753,"kg CO2/año y pie","r"]
[null,"Corylus avellana",3.9176100218165013,"kg CO2/año y pie","r"]
[null,"Crataegus spp.",6.8388617226212753,"kg CO2/año y pie","r"]
[null,"Cupressus arizonica",1.9326280185357239,"kg CO2/año y pie","r"]
[null,"Cupressus macrocarpa",1.9326280185357239,"kg CO2/año y pie","r"]
[null,"Cupressus sempervirens",1.9326280185357239,"kg CO2/año y pie","r"]
[null,"Erica arborea",6.8388617226212753,"kg CO2/año y pie","r"]
[null,"Eucalyptus camaldulensis",52.194267408741631,"kg CO2/año y pie","r"]
[null,"Eucalyptus globulus",67.870994677230485,"kg CO2/año y pie","r"]
[null,"Fagus sylvatica",0.9069668055751493,"kg CO2/año y pie","r"]
[null,"Fraxinus spp.",6.1568550562671884,"kg CO2/año y pie","r"]
[null,"Ilex aquifolium",1.5935674438940231,"kg CO2/año y pie","r"]
[null,"Ilex canariensis",1.7947778277173432,"kg CO2/año y pie","r"]
[null,"Juglans regia",6.2059076975914902,"kg CO2/año y pie","r"]
[null,"Juniperus oxycedrus, J. communis",0.56923772177230947,"kg CO2/año y pie","r"]
[null,"Juniperus phoenicea",0.94277066105405549,"kg CO2/año y pie","r"]
[null,"Juniperus thurifera",0.69711873280079795,"kg CO2/año y pie","r"]
[null,"Larix spp.",17.191216576532284,"kg CO2/año y pie","r"]
[null,"Laurus azorica",6.8388617226212753,"kg CO2/año y pie","r"]
[null,"Laurus nobilis",6.8388617226212753,"kg CO2/año y pie","r"]
[null,"Malus sylvestris",7.4877680651170682,"kg CO2/año y pie","r"]
[null,"Myrica faya",6.8388617226212753,"kg CO2/año y pie","r"]
[null,"Myrtus communis",6.8388617226212753,"kg CO2/año y pie","r"]
[null,"Olea europaea",2.8027299826087879,"kg CO2/año y pie","r"]
[null,"Phillyrea latifolia",2.9786645246888788,"kg CO2/año y pie","r"]
[null,"Phoenix spp.",29.855313544367842,"kg CO2/año y pie","r"]
[null,"Picea abies",43.215604411883824,"kg CO2/año y pie","r"]
[null,"Pinus canariensis",4.5116335469456423,"kg CO2/año y pie","r"]
[null,"Pinus halepensis",2.7396409014675265,"kg CO2/año y pie","r"]
[null,"Pinus nigra Sistema Ibérico",1.707884856498515,"kg CO2/año y pie","r"]
[null,"Pinus nigra (Resto)",2.6399271233093504,"kg CO2/año y pie","r"]
[null,"Pinus pinaster ssp. atlantica Zona Norte interior",19.416497876984124,"kg CO2/año y pie","r"]
[null,"Pinus pinaster ssp. atlantica Zona Norte costera",23.040528217655929,"kg CO2/año y pie","r"]
[null,"Pinus pinaster ssp. mesogeensis Sistema Central",5.9914245101205994,"kg CO2/año y pie","r"]
[null,"Pinus pinaster (Resto)",1.1282045142491459,"kg CO2/año y pie","r"]
[null,"Pinus pinea",5.5869000612925124,"kg CO2/año y pie","r"]
[null,"Pinus radiata",38.837192462473482,"kg CO2/año y pie","r"]
[null,"Pinus sylvestris Sistema Central",2.0341483274480723,"kg CO2/año y pie","r"]
[null,"Pinus sylvestris Sistema Ibérico",1.5819644153320491,"kg CO2/año y pie","r"]
[null,"Pinus sylvestris Pirineos",2.1817713128270504,"kg CO2/año y pie","r"]
[null,"Pinus sylvestris (Resto)",1.9326280185357239,"kg CO2/año y pie","r"]
[null,"Pinus uncinata",3.0046801095706153,"kg CO2/año y pie","r"]
[null,"Pistacia terebinthus",6.8388617226212753,"kg CO2/año y pie","r"]
[null,"Platanus hispanica",22.388426654141334,"kg CO2/año y pie","r"]
[null,"Populus alba",22.388426654141334,"kg CO2/año y pie","r"]
[null,"Populus nigra",33.54816511050106,"kg CO2/año y pie","r"]
[null,"Populus x canadensis",39.246727504175098,"kg CO2/año y pie","r"]
[null,"Prunus spp.",7.4877680651170682,"kg CO2/año y pie","r"]
[null,"Pseudotsuga menziesii",43.215604411883824,"kg CO2/año y pie","r"]
[null,"Pyrus spp.",7.4877680651170682,"kg CO2/año y pie","r"]
[null,"Quercus canariensis",4.2404885182243426,"kg CO2/año y pie","r"]
[null,"Quercus faginea",3.2518891322263328,"kg CO2/año y pie","r"]
[null,"Quercus ilex",2.4045190789989985,"kg CO2/año y pie","r"]
[null,"Quercus petraea",5.9666879957040377,"kg CO2/año y pie","r"]
[null,"Quercus pubescens",4.9185979668704967,"kg CO2/año y pie","r"]
[null,"Quercus pyrenaica",4.9310644038237283,"kg CO2/año y pie","r"]
[null,"Quercus robur",6.415655592075364,"kg CO2/año y pie","r"]
[null,"Quercus rubra",7.3846859261478635,"kg CO2/año y pie","r"]
[null,"Quercus suber",3.7055579179222637,"kg CO2/año y pie","r"]
[null,"Rhamnus alaternus",6.8388617226212753,"kg CO2/año y pie","r"]
[null,"Robinia pseudacacia",6.3715179137139337,"kg CO2/año y pie","r"]
[null,"Salix spp.",29.855313544367842,"kg CO2/año y pie","r"]
[null,"Sorbus spp.",8.2572717408149465,"kg CO2/año y pie","r"]
[null,"Tamarix spp.",2.664728979500588,"kg CO2/año y pie","r"]
[null,"Taxus baccata",1.9326280185357239,"kg CO2/año y pie","r"]
[null,"Tetraclinis articulata",2.664728979500588,"kg CO2/año y pie","r"]
[null,"Thuja spp.",0.56923772177230947,"kg CO2/año y pie","r"]
[null,"Tilia spp.",2.9163008532261041,"kg CO2/año y pie","r"]
[null,"Ulmus spp.",9.0164800000000014,"kg CO2/año y pie","r"]
[]
[null,"B) USO DE PRODUCTOS"]
[]
[null,"EMISIONES DE USO DE PRODUCTOS"]
[null,"Concepto","Factor de emisión  CO2","Unidad","Fuente dato"]
[null,"Emisiones de grasas",{"$f":"20*0.05*44/12*1000","v":3666.6666666666665},"kg/TJ","q"]
[null,"Emisiones de aceites lubricantes",{"$f":"20*0.2*44/12*1000","v":14666.666666666666},"kg/TJ","q"]
[]
[null,"C) RESIDUOS"]
[]
[null,"EMISIONES DE GESTIÓN DE RESIDUOS"]
[null,"Concepto","Tipo de gestión","Factor de emisión  CO2","Unidad","Fuente dato"]
[null,"Residuos comerciales e industriales","Incineración",21.353999999999999,"kg CO2e/t","e"]
[null,"Residuos comerciales e industriales","Vertedero",99.759200000000007,"kg CO2e/t","e"]
[null,"Residuos domiciliarios","Incineración",21.353999999999999,"kg CO2e/t","e"]
[null,"Residuos domiciliarios","Vertedero",586.51379999999995,"kg CO2e/t","e"]
[null,"Fracción orgánica","Compostaje",10.204000000000001,"kg CO2e/t","e"]
[null,"Vidrio","Reciclaje",21.353999999999999,"kg CO2e/t","e"]
[null,"Envases","Reciclaje",21.353999999999999,"kg CO2e/t","e"]
[null,"Papel y cartón","Reciclaje",21.353999999999999,"kg CO2e/t","e"]
[]
[null,"D) AGUAS"]
[]
[null,"EMISIÓN DE SUMINISTRO DE AGUA"]
[null,"Concepto","Factor de emisión  CO2","Unidad","Fuente dato"]
[null,"Consumo de agua",0.34410000000000002,"kg CO2e/m3","e"]
[]
[null,"F) BIENES Y SERVICIOS"]
[]
[null,"EMISIÓN DE MATERIAS"]
[null,"Concepto","Factor de emisión  CO2","Unidad","Fuente dato"]
[null,"Router internet",26.7,"kg CO2e/unidad","v"]
[null,"Papel ",1.21,"kg CO2e/kg","v"]
[null,"Ordenador portátil",565,"kg CO2e/unidad","v"]
[null,"Mesa escritorio",47.7,"kg CO2e/unidad","w"]
[null,"Ordenador de mesa completo",174,"kg CO2/unidad","v"]
[null,"Cartucho de impresora negro",29,"k CO2e/unidad","v"]
[null,"Cartucho de impresora color",30.2,"kg CO2e/unidad","v"]
[null,"Material 1"]
[null,"Material 2"]
[null,"Material 3"]
[null,"Material 4"]
[null,"Material 5"]
[null,"Material 6"]
[null,"Material 7"]
[null,"Material 8"]
[]
[null,"G) TRANSPORTE DE CARGA"]
[]
[null,"EMISIÓN DE TRANSPORTE"]
[null,"Concepto","Factor de emisión  CO2","Unidad","Fuente dato"]
[null,"Tren de carga",5.3421344505067352E-2,"kg CO2e/tkm","v"]
[null,"Camión 3,5 - 7,5 ton EURO 5",0.49202575789244957,"kg CO2e/tkm","v"]
[null,"Camión 3,5 - 7,5 ton EURO 4",0.48726226417134938,"kg CO2e/tkm","v"]
[null,"Camión 7,5-16 ton EURO 5",0.23149452030611531,"kg CO2e/tkm","v"]
[null,"Camión 7,5-16 ton EURO 4",0.22854620026303657,"kg CO2e/tkm","v"]
[null,"Camión 16 - 32 ton EURO 5",0.17400663205043546,"kg CO2e/tkm","v"]
[null,"Camión 16 - 32 ton EURO 4",0.17178312342880334,"kg CO2e/tkm","v"]
[null,"Camión >32 ton EURO 5",0.11193660095548531,"kg CO2e/tkm","v"]
[null,"Camión >32 ton EURO 4",0.1105933810107961,"kg CO2e/tkm","v"]
[null,"Buque de carga transoceánico",1.1551003342668226E-2,"kg CO2e/tkm","v"]
[null,"Buque de carga de navegación interior ",5.2905772480621456E-2,"kg CO2e/tkm","v"]
[null,"Avión de carga",1.1264393892166551,"kg CO2e/tkm","v"]

{"sheet":"Datos 3-Factores de convers","index":14,"n_rows":58,"n_cols":7,"rows_kept":58,"cut":false,"hidden":false,"merged":[[26,1,26,6],[10,1,10,4],[52,1,52,5]]}
[null,null,{"$f":"Instrucciones!B1","v":"HERRAMIENTA DE HUELLA DE CARBONO PARA ORGANIZACIONES. Año de cálculo 2020"}]
[null,"FACTORES DE CONVERSIÓN"]
[]
[null,"VEHÍCULOS ELÉCTRICOS"]
[null,"Tipo vehículo","Consumo (kWh/100 km)","Fuente"]
[null,"Híbrido enchufable",{"$f":"AVERAGE(16.56,21.16,25.15)","v":20.956666666666667},"u"]
[null,"Furgoneta pequeña (tipo QUICC)",14,"h"]
[null,"Otro",{"$f":"AVERAGE(10.74,11.7,14.89)","v":12.443333333333333},"u"]
[null,"Turismo (tipo REVAi o EV11 )",11,"h"]
[]
[null,"FACTORES DE CONVERSIÓN DE DENSIDADES "]
[null,"Tipo combustible"," Densidad ","Unidades","Fuente"]
[null,"Biodiesel",0.88,"kg/L","ñ"]
[null,"Bioetanol",0.8,"kg/L","i"]
[null,"Fueloleo",0.78,"kg/L","i"]
[null,"Gas butano",0.56000000000000005,"kg/L","n"]
[null,"Gas natural",0.78,"kg/Nm3","k"]
[null,"Gas Natural Licuado",0.45,"kg/L","k"]
[null,"Gas propano",0.51849999999999996,"kg/L","n"]
[null,"Gasóleo A y B",832.5,"kg/m3","j"]
[null,"Gasóleo C",900,"kg/m3","j"]
[null,"Gasolina",747.5,"kg/m3","j"]
[null,"GLP genérico",0.56000000000000005,"kg/L","j"]
[null,"Lubricantes",0.89,"kg/L","i"]
[null,"Queroseno",0.8,"kg/L","i"]
[]
[null,"PODER CALORÍFICO INFERIOR"]
[null,"Tipo combustible","Poder calorífico inferior","Unidades","Fuente","Poder calorífico inferior","Unidades"]
[null,"B100",null,null,null,{"$f":"F31","v":2.3760000000000003E-5},"TJ/L"]
[null,"B30",null,null,null,{"$f":"0.3*F31+0.7*$F$46","v":3.23817334875E-5},"TJ/L"]
[null,"Biodiesel",27,"TJ/Gg","l",{"$f":"C31*C13/1000000","v":2.3760000000000003E-5},"TJ/L"]
[null,"Bioetanol",27,"TJ/Gg","l",{"$f":"C32*C14/1000000","v":2.16E-5},"TJ/L"]
[null,"Biomasa",15.6,"TJ/Gg","l",{"$f":"C33/1000000","v":1.56E-5},"TJ/kg"]
[null,"Carbón mineral",0.60099999999999998,"tep/t","m",{"$f":"C34*$D$56*1000/1000000","v":2.5163869999999999E-5},"TJ/kg"]
[null,"Coque de petróleo",0.83499999999999996,"tep/t","m",{"$f":"C35*$D$56*1000/1000000","v":3.4961449999999997E-5},"TJ/kg"]
[null,"E10",null,null,null,{"$f":"0.1*$F$32+0.9*$F$48","v":3.2299805475000003E-5},"TJ/L"]
[null,"E85",null,null,null,{"$f":"0.85*$F$32+0.15*$F$48","v":2.3383300912499999E-5},"TJ/L"]
[null,"Fueloleo",0.96,"tep/t","m",{"$f":"C38*$D$56*C15*1000/1000000","v":3.1352255999999994E-5},"TJ/L"]
[null,"Gas butano",1.1299999999999999,"tep/t","m",{"$f":"C39*$D$56*C16*1000/1000000","v":2.6495335999999999E-5},"TJ/L"]
[null,"Gas natural",48.52,"TJ/Gg","y",{"$f":"C40*C17/1000000","v":3.7845600000000002E-5},"TJ/Nm3"]
[null,"Gas Natural Comprimido",{"$f":"48","v":48},"TJ/Gg","l",{"$f":"F40","v":3.7845600000000002E-5},{"$f":"G40","v":"TJ/Nm3"}]
[null,"Gas Natural Licuado",44.2,"TJ/Gg","l",{"$f":"C42*C18/1000000","v":1.9890000000000001E-5},"TJ/L"]
[null,"Gas propano",1.1299999999999999,"tep/t","m",{"$f":"C43*$D$56*C19*1000/1000000","v":2.453184234999999E-5},"TJ/L"]
[null,"Gasóleo A y B",1.0349999999999999,"tep/t","m",{"$f":"F46*(1-LOOKUP('Datos generales organización'!$D$14,'Datos 1-Factores emisión'!$C92:$L92,'Datos 1-Factores emisión'!$C103:$L103))+F31*LOOKUP('Datos generales organización'!$D$14,'Datos 1-Factores emisión'!$C92:$L92,'Datos 1-Factores emisión'!$C103:$L103)","v":{"$error":"#N/A"}},"TJ/L"]
[null,"Gasóleo C",1.0349999999999999,"tep/t","m",{"$f":"C45*C21/1000*$D$56*1000/1000000","v":3.9001904999999983E-5},"TJ/L"]
[null,"Gasóleo puro",1.0349999999999999,"tep/t","m",{"$f":"C46*C20/1000*$D$56*1000/1000000","v":3.6076762124999995E-5},"TJ/L"]
[null,"Gasolina  ",null,null,null,{"$f":"F48*(1-LOOKUP('Datos generales organización'!$D$14,'Datos 1-Factores emisión'!$C93:$L93,'Datos 1-Factores emisión'!$C103:$L103))+F32*LOOKUP('Datos generales organización'!$D$14,'Datos 1-Factores emisión'!$C93:$L93,'Datos 1-Factores emisión'!$C103:$L103)","v":{"$error":"#N/A"}},"TJ/L"]
[null,"Gasolina pura",1.07,"tep/t","m",{"$f":"C48*C22/1000*$D$56*1000/1000000","v":3.3488672749999997E-5},"TJ/L"]
[null,"GLP genérico",1.1299999999999999,"tep/t","m",{"$f":"C49*C23*$D$56*1000/1000000","v":2.6495336000000002E-5},"TJ/L"]
[null,"Lubricantes",40.200000000000003,"TJ/Gg","l",{"$f":"C50*C24/1000000","v":3.5778000000000009E-5},"TJ/L"]
[null,"Queroseno",1.0649999999999999,"tep/t","m",{"$f":"C51*$D$56*C25*1000/1000000","v":3.5673239999999992E-5},"TJ/L"]
[]
[null,"FACTORES DE CONVERSIÓN DE UNIDADES"]
[null,"Valor","Unidad 1","Valor","Unidad 2","Fuente"]
[null,1,"tep",41.87,"GJ","m"]
[null,1,"tep",{"$f":"D55/1000","v":4.1869999999999997E-2},"TJ","m"]
[null,1,"MJ",0.28000000000000003,"kWh","m"]
[null,1,"kWh",860,"kcal"]

{"sheet":"Datos 2-Potenciales calent glob","index":15,"n_rows":575,"n_cols":18,"rows_kept":575,"cut":false,"hidden":false,"merged":[[56,1,56,2]]}
[null,null,{"$f":"Instrucciones!B1","v":"HERRAMIENTA DE HUELLA DE CARBONO PARA ORGANIZACIONES. Año de cálculo 2020"}]
[null,"POTENCIALES DE CALENTAMIENTO GLOBAL"]
[]
[null,"Potencial Calentamiento Global (PCA) a 100 años"]
[null,"Nombre común","Fórmula","AR4\nPCA -100","AR5\nPCA -100"]
[null,"Dióxido de carbono  ","CO2  ",1,1]
[null,"HFC-125","C2HF5",3500,3170]
[null,"HFC-134","C2H2F4",1100,1200]
[null,"HFC-134a","CH2FCF3",1430,1300]
[null,"HFC-143","C2H3F3-",353,328]
[null,"HFC-143a","C2H3F3",4470,4800]
[null,"HFC-152","CH2FCH2F",53,16]
[null,"HFC-152a","C2H4F2",124,138]
[null,"HFC-161","C2H2F",12,4]
[null,"HFC-227ea","C3HF7",3220,3350]
[null,"HFC-23","CH2F3",14800,12400]
[null,"HFC-236cb","CH2FCF2CF3",1340,1210]
[null,"HFC-236ea","CHF2CHFCF3",1370,1330]
[null,"HFC-236fa","C3H2F6",9810,8060]
[null,"HFC-245ca","C3H3F5",693,716]
[null,"HFC-32","CH2F2",675,677]
[null,"HFC-41","CH3F",92,116]
[null,"HFC-43-10mee","C5H2F10",1640,1650]
[null,"PFC-218","C3F8",8830,8900]
[null,"R-600","CH3CH2CH2CH3",4,4]
[null,"R-600a","CH(CH3)2CH3",3,3]
[null,"R-601","CH3CH2CH2CH2CH3",5,5]
[null,"R-601a","(CH3)2CHCH2CH3",5,5]
[null,"R-290","CH2CH2CH3",3,3]
[null,"HFO-1234yf","CF3CF3=CH2",4,4]
[null,"Metano","CH4  ",25,28]
[null,"Óxido nitroso  ","N2O  ",298,265]
[null,"SF6","SF6",22800,23500]
[null,"R-407A","R-32/125/134a (20/40/40)",{"$f":"D21*20%+D7*40%+D9*40%","v":2107},{"$f":"E21*20%+E7*40%+E9*40%","v":1923.4}]
[null,"R-407B","R-32/125/134a (10/70/20)  ",{"$f":"D21*10%+D7*70%+D9*20%","v":2803.5},{"$f":"E21*10%+E7*70%+E9*20%","v":2546.6999999999998}]
[null,"R-407C","R-32/125/134a (23/25/52)",{"$f":"D21*23%+D7*25%+D9*52%","v":1773.85},{"$f":"E21*23%+E7*25%+E9*52%","v":1624.21}]
[null,"R-407F","R-32/125/134a (30/30/40)",{"$f":"D21*30%+D7*30%+D9*40%","v":1824.5},{"$f":"E21*30%+E7*30%+E9*40%","v":1674.1}]
[null,"R-410A","R-32/125 (50/50) ",{"$f":"D21*50%+D7*50%","v":2087.5},{"$f":"E21*50%+E7*50%","v":1923.5}]
[null,"R-410B","R-32/125 (45/55) ",{"$f":"D21*45%+D7*55%","v":2228.75},{"$f":"E21*45%+E7*55%","v":2048.15}]
[null,"R-413A","R-218/134a/600a (9/88/3)",{"$f":"D24*9%+D9*88%+D26*3%","v":2053.19},{"$f":"E24*9%+E9*88%+E26*3%","v":1945.09}]
[null,"R-417A","R-125/134a/600 (46,6/50/3,4)",{"$f":"D7*46.6%+D9*50%+D25*3.4%","v":2346.136},{"$f":"E7*46.6%+E9*50%+E25*3.4%","v":2127.3560000000002}]
[null,"R-417B","R-125/134a/600 (79/18,25/2,75)",{"$f":"D7*79%+D9*18.25%+D25*2.75%","v":3026.085},{"$f":"E7*79%+E9*18.25%+E25*2.75%","v":2741.6600000000003}]
[null,"R-422A","R-125/134a/600a (85,1/11,5/3,4)",{"$f":"D7*85.1%+D9*11.5%+D26*3.4%","v":3143.0519999999997},{"$f":"E7*85.1%+E9*11.5%+E26*3.4%","v":2847.2719999999999}]
[null,"R-422D","R-125/134a/600a (65,1/31,5/3,4)",{"$f":"D7*65.1%+D9*31.5%+D26*3.4%","v":2729.0519999999992},{"$f":"E7*65.1%+E9*31.5%+E26*3.4%","v":2473.2719999999995}]
[null,"R-424A","R-125/134a/600a/600/601a (50,5/47/0,9/1/0)",{"$f":"D7*50.5%+D9*47%+D26*0.9%+D25*1%+D28*0%","v":2439.6669999999999},{"$f":"E7*50.5%+E9*47%+E26*0.9%+E25*1%+E28*0%","v":2211.9169999999999}]
[null,"R-426A","R-134a/125/600/601a (93/5,1/1,3/0,6)",{"$f":"D9*93%+D7*5.1%+D25*1.3%+D28*0.6%","v":1508.482},{"$f":"E9*93%+E7*5.1%+E25*1.3%+E28*0.6%","v":1370.752}]
[null,"R-427A","R-32/125/143a/134a (15/25/10/50)",{"$f":"D21*15%+D7*25%+D11*10%+D9*50%","v":2138.25},{"$f":"E21*15%+E7*25%+E11*10%+E9*50%","v":2024.05}]
[null,"R-428A","R-125/143a/600a/290 (77,5/20/1,9/06)              ",{"$f":"D7*77.5%+D11*20%+D26*1.9%+D29*0.6%","v":3606.5749999999998},{"$f":"E7*77.5%+E11*20%+E26*1.9%+E29*0.6%","v":3416.8249999999998}]
[null,"R-434A","R-125/143a/134a/600a (63,2/18/16/2,8)",{"$f":"D7*63.2%+D11*18%+D9*16%+D26*2.8%","v":3245.4839999999999},{"$f":"E7*63.2%+E11*18%+E9*16%+E26*2.8%","v":3075.5239999999999}]
[null,"R-437A","R-125/134a/600/601 (19,5/78,5/1,4/06)",{"$f":"D7*19.5%+D9*78.5%+D25*1.4%+D27*0.6%","v":1805.136},{"$f":"E7*19.5%+E9*78.5%+E25*1.4%+E27*0.6%","v":1638.7360000000001}]
[null,"R-438A","R-32/125/134a/600/601a (8,5/45/44,2/1,7/0,6)",{"$f":"D21*8.5%+D7*45%+D9*44.2%+D25*1.7%+D28*0.6%","v":2264.5330000000004},{"$f":"E21*8.5%+E7*45%+E9*44.2%+E25*1.7%+E28*0.6%","v":2058.7430000000004}]
[null,"R-442A","R-32/125/134a/152a/227ea (31/31/30/3/5)",{"$f":"D21*31%+D7*31%+D9*30%+D13*3%+D15*5%","v":1887.97},{"$f":"E21*31%+E7*31%+E9*30%+E13*3%+E15*5%","v":1754.2100000000003}]
[null,"R-449A","R-32/R-125/HFO-1234yf/R-134a (24,3/24,7/25,3/25,7)",{"$f":"D21*24.3%+D7*24.7%+D30*25.3%+D9*25.7%","v":1397.047},{"$f":"E21*24.3%+E7*24.7%+E30*25.3%+E9*25.7%","v":1282.6129999999998}]
[null,"R-452A","R-125/R-32/HFO-1234yf (59/11/30)",{"$f":"D7*59%+D21*11%+D30*30%","v":2140.4499999999998},{"$f":"E7*59%+E21*11%+E30*30%","v":1945.97}]
[null,"R-453A","R-134a/125/32/227ea/600/601a (53,8/20/20/5/0,6/0,6)",{"$f":"D9*53.8%+D7*20%+D21*20%+D15*5%+D25*0.6%+D28*0.6%","v":1765.3939999999998},{"$f":"E9*53.8%+E7*20%+E21*20%+E15*5%+E25*0.6%+E28*0.6%","v":1636.3539999999998}]
[null,"R-507A","R-125/143a (50/50)",{"$f":"D7*50%+D11*50%","v":3985},{"$f":"E7*50%+E11*50%","v":3985}]
[null,"Fuente:",null,"g","x"]
[]
[]
[]
[]
[]
[]
[]
[]
[]
[]
[]
[]
[]
[]
[]
[]
[]
[]
[]
[]
[]
[]
[]
[]
[]
[]
[]
[]
[]
[]
[]
[]
[]
[]
[]
[]
[]
[]
[]
[]
[]
[]
[]
[]
[]
[]
[]
[]
[]
[]
[]
[]
[]
[]
[]
[]
[]
[]
[]
[]
[]
[]
[]
[]
[]
[]
[]
[]
[]
[]
[]
[]
[]
[]
[]
[]
[]
[]
[]
[]
[]
[]
[]
[]
[]
[]
[]
[]
[]
[]
[]
[]
[]
[]
[]
[]
[]
[]
[]
[]
[]
[]
[]
[]
[]
[]
[]
[]
[]
[]
[]
[]
[]
[]
[]
[]
[]
[]
[]
[]
[]
[]
[]
[]
[]
[]
[]
[]
[]
[]
[]
[]
[]
[]
[]
[]
[]
[]
[]
[]
[]
[]
[]
[]
[]
[]
[]
[]
[]
[]
[]
[]
[]
[]
[]
[]
[]
[]
[]
[]
[]
[]
[]
[]
[]
[]
[]
[]
[]
[]
[]
[]
[]
[]
[]
[]
[]
[]
[]
[]
[]
[]
[]
[]
[]
[]
[]
[]
[]
[]
[]
[]
[]
[]
[]
[]
[]
[]
[]
[]
[]
[]
[]
[]
[]
[]
[]
[]
[]
[]
[]
[]
[]
[]
[]
[]
[]
[]
[]
[]
[]
[]
[]
[]
[]
[]
[]
[]
[]
[]
[]
[]
[]
[]
[]
[]
[]
[]
[]
[]
[]
[]
[]
[]
[]
[]
[]
[]
[]
[]
[]
[]
[]
[]
[]
[]
[]
[]
[]
[]
[]
[]
[]
[]
[]
[]
[]
[]
[]
[]
[]
[]
[]
[]
[]
[]
[]
[]
[]
[]
[]
[]
[]
[]
[]
[]
[]
[]
[]
[]
[]
[]
[]
[]
[]
[]
[]
[]
[]
[]
[]
[]
[]
[]
[]
[]
[]
[]
[]
[]
[]
[]
[]
[]
[]
[]
[]
[]
[]
[]
[]
[]
[]
[]
[]
[]
[]
[]
[]
[]
[]
[]
[]
[]
[]
[]
[]
[]
[]
[]
[]
[]
[]
[]
[]
[]
[]
[null,null,null,null,null,null,null,null,null,null,null,null,null,null,null,null,null,"No aplica"]
[]
[]
[]
[]
[]
[]
[]
[]
[null,null,null,null,null,null,null,null,null,null,null,null,null,null,null,null,null,0]
[]
[]
[]
[]
[]
[]
[]
[]
[]
[]
[]
[]
[]
[]
[]
[]
[]
[]
[null,null,null,null,null,null,null,null,null,null,null,null,null,null,null,null,null,"No aplica"]
[]
[null,null,null,null,null,null,null,null,null,null,null,null,null,null,null,null,null,"No aplica"]
[]
[]
[]
[]
[]
[]
[]
[]
[]
[]
[]
[]
[]
[null,null,null,null,null,null,null,null,null,null,null,null,null,null,null,null,null,"No aplica"]
[null,null,null,null,null,null,null,null,null,null,null,null,null,null,null,null,null,"No aplica"]
[]
[]
[]
[]
[]
[]
[]
[null,null,null,null,null,null,null,null,null,null,null,null,null,null,null,null,null,"No aplica"]
[]
[]
[]
[]
[]
[]
[null,null,null,null,null,null,null,null,null,null,null,null,null,null,null,null,null,"No aplica"]
[]
[]
[]
[]
[]
[]
[]
[]
[]
[]
[]
[]
[]
[]
[]
[]
[]
[]
[]
[]
[]
[]
[]
[]
[]
[]
[]
[]
[]
[]
[]
[]
[]
[]
[]
[]
[]
[]
[]
[]
[]
[]
[]
[]
[]
[]
[]
[]
[]
[]
[]
[]
[]
[]
[]
[]
[]
[]
[]
[]
[]
[]
[]
[]
[]
[]
[]
[]
[]
[]
[]
[]
[]
[]
[]
[]
[]
[]
[]
[]
[]
[]
[]
[]
[]
[]
[]
[]
[]
[]
[]
[]
[]
[]
[]
[]
[]
[]
[]
[]
[]
[]
[]
[]
[]
[]
[]
[]
[]
[null,null,null,null,null,null,null,null,null,null,null,null,null,null,null,null,null,0.05]

{"sheet":"Fuentes de datos","index":16,"n_rows":33,"n_cols":4,"rows_kept":33,"cut":false,"hidden":false,"merged":[]}
[null,null,{"$f":"Instrucciones!B1","v":"HERRAMIENTA DE HUELLA DE CARBONO PARA ORGANIZACIONES. Año de cálculo 2020"}]
[null,"FUENTES DE DATOS"]
[]
[null,"a","MITECO, 2021- España, Informe de inventario nacional de gases de efecto invernadero (Marzo de 2021). Anexo 7."]
[null,"b","IPCC, 2006 - Directrices del IPCC de 2006 para los inventarios nacionales de gases de efecto invernadero, Vol 2, Cap 2, tablas 2.2-2.5 y Cap 3, tablas 3.2.1 "]
[null,"c","Dato no disponible, se asimila al GLP"]
[null,"d","Calculado a partir de la mezcla"]
[null,"e","DEFRA, 2019. Government conversion factors for company reporting. Greenhouse Gas Conversion Factor Repository 2019. https://www.gov.uk/government/publications/greenhouse-gas-reporting-conversion-factors-2019"]
[null,"f","Sin datos, se asimila a coche tamaño medio"]
[null,"g","Comisión Europea, 2014. REGLAMENTO (UE) No 517/2014 DEL PARLAMENTO EUROPEO Y DEL CONSEJO de 16 de abril de 2014 sobre los gases fluorados de efecto invernadero y por el que se deroga el Reglamento (CE) n o 842/2006. Datos basados en IPCC AR4."]
[null,"h","European Association for Battery Electric Vehicles, ? - Energy consumption, CO2 emissions and other considerations related to Battery Electric Vehicles","European Assocation for Battery Electric Vehicles - Energy consumption, CO2 emissions and other considerations related to Battery Electric Vehicles"]
[null,"i","Internal Labour Organization. Fichas Internacionales de Seguridad Química (https://www.ilo.org/dyn/icsc/showcard.listCards3)"]
[null,"j","MINISTERIO DE INDUSTRIA, TURISMO Y COMERCIO, 2010-  RD  1088/2010  de 3 de septiembre, por el que se modifica el Real Decreto 61/2006, de 31 de enero, en lo relativo a las especificaciones técnicas de gasolinas, gasóleos, utilización de biocarburantes y contenido de azufre de  los combustibles para uso marítimo. "]
[null,"k ","Comisión Nacional de la Energía, 1999 - El gas natural. http://www.cne.es/cne/doc/publicaciones/informe_sectores/1999/gas/chap2.pdf"]
[null,"l","IPCC, 2006- Directrices del IPCC de 2006 para los inventarios nacionales de gases de efecto invernadero, Vol 2, Cap 1, tabla 1.2"]
[null,"m","EVE, 2020- Euskadi Energía 2019. Datos energéticos. Anexo 3. https://www.eve.eus/CMSPages/GetFile.aspx?guid=3eca933e-baa4-44ba-b6ab-7a9b8cef49cb"]
[null,"n","MINISTERIO DE INDUSTRIA, TURISMO Y COMERCIO, 2003 - RD 1700/2003, de 15 de diciembre, por el que se fijan las especificaciones de gasolinas, gasóleos, fuelóleos y gases licuados del petróleo, y el uso de bio- carburantes."]
[null,"ñ","AENOR, 2013 - Norma UNE EN14214:2013 V2 - Productos petrolíferos líquidos. Ésteres metílicos de ácidos grasos (FAME) para motores diesel y equipos de calefacción. Requisitos y métodos de ensayo."]
[null,"o0","MINISTERIO DE INDUSTRIA, TURISMO Y COMERCIO, 2008-  ORDEN ITC/2877/2008, de 9 de octubre, por la que se establece un mecanismo de fomento del uso de biocarburantes y otros combustibles  renovables con fines de transporte."]
[null,"o1","MINISTERIO DE INDUSTRIA, TURISMO Y COMERCIO, 2010-  RD  459/2011  de 1 de abril, por el que se fijan los objetivos obligatorios de biocarburantes para los años 2011, 2012 y 2013."]
[null,"o2","MINISTERIO DE INDUSTRIA, TURISMO Y COMERCIO, 2013-  Ley 11/2013, de 26 de julio, de medidas de apoyo al emprendedor y de estímulo del crecimiento y de la creación de empleo"]
[null,"o3","MINISTERIO DE INDUSTRIA, TURISMO Y COMERCIO, 2015-  Real Decreto 1085/2015, de 4 de diciembre, de fomento de los Biocarburantes."]
[null,"o4","Comisión Nacional de los Mercados y la Competencia, CNMC. Estadística de biocarburantes. https://www.cnmc.es/estadistica/estadistica-de-biocarburantes"]
[null,"p","Comisión Nacional de los Mercados y la Competencia, 2020 -  Informes anuales de Etiquetado de la Electricidad. Ultimo informe: https://gdo.cnmc.es/CNE/resumenGdo.do?anio=2020"]
[null,"q","IPCC, 2006- Directrices del IPCC de 2006 para los inventarios nacionales de gases de efecto invernadero, Vol 3, Cap 5, tabla 5.2\n"]
[null,"r","IHOBE, 2020, Calculadora de absorciones EXANTE de CO2 de la CAPV"]
[null,"s","IDAE, 2014- Factores de Emisión de CO2 y coeficientes de paso a energía primaria de diferentes fuentes de energía final consumidas en el sector edificios en España"]
[null,"t","Estimado IDOM a partir de otros factores de emisión y factores de conversión"]
[null,"u","Comparativa ambiental entre diferentes alternativas de vehículos. Eléctrico, híbrido y combustión. Informe de análisis de ciclo de vida, 2020. Basque Ecodesign Center. https://www.ihobe.eus/publicaciones/comparativa-ambiental-entre-diferentes-alternativas-vehiculos-electrico-hibrido-y-combustion-2"]
[null,"v","Ecoinvent 3.01 - Software SimaPro"]
[null,"w","Environdec - https://gryphon4.environdec.com/system/data/files/6/13053/epd1075_Narbutas_Desk%20Nova%20U%20-%20PDNA%20160_2017.pdf"]
[null,"x","Quinto informe de evaluación del IPCC (AR5)"]
[null,"y","Herramienta HdC publicada por MITECO"]

{"sheet":"Actualizaciones","index":17,"n_rows":39,"n_cols":5,"rows_kept":39,"cut":false,"hidden":false,"merged":[[3,1,3,4]]}
[null,null,{"$f":"Instrucciones!B1","v":"HERRAMIENTA DE HUELLA DE CARBONO PARA ORGANIZACIONES. Año de cálculo 2020"}]
[null,"ACTUALIZACIONES DE LA HERRAMIENTA DE HUELLA DE CARBONO PARA ORGANIZACIONES"]
[]
[null,"REGISTRO DE LAS ACTUALIZACIONES REALIZADAS SOBRE LA HERRAMIENTA DE HUELLA DE CARBONO PARA ORGANIZACIONES"]
[null,"Nº","Fecha de modificación","Nombre del responsable","Actualización o modificación realizada"]
[null,1,"2020-10-01","Elena Gómez - IDOM","Se actualiza al tabla de especies arbóreas de acuerdo con los Factores de Absorción incluidos en la herramienta de absorciones de MITECO"]
[null,2,"2020-10-01","Amaia de Vega - IDOM","Los resultados de emisiones en CO2eq de la pestaña \"Result - SGMA\" se muestran empleando los Potenciales de Calentamiento Global (PCG) del Quinto Informe de Evaluación del IPCC (AR5). Se incluye una pestaña \"Cálculos_5\" para poder realizar los cálculos para esta pestaña empleando los PCG del Quinto Informe.\nSe mantienen los resultados de emisiones en CO2eq utilizando los PCG del Cuarto Informe (AR4) para las pestañas \"Result -RVHdC Declarac\", \"Result - RVHdC Detalle\" y \"Result - REHdC\"."]
[null,3,"2020-10-01","Elena Gómez - IDOM","Se modifican los FE a los mismos que emplea la Herramienta de MITECO, la cual está alineada con el Inventario Nacional de Emisiones de GEI, a excepción de los datos específicos de los que dispone Euskadi."]
[null,4,"2020-10-01","Sara del Hoyo - IDOM","Actualización de los FE de movilidad correspondientes a CO2/km a la versión de 2019 publicada por DEFRA. "]
[null,5,"2020-10-01","Elena Gómez - IDOM","Actualización de los FE de electricidad incluyendo nuevas comercializadoras."]
[null,6,"2021-01-13","Elena Gómez - IDOM","Se corrigen las emisiones de CO2(b) en la pestaña de \"Cálculos\"."]
[null,7,"2021-01-13","IHOBE","Se corrigen las emisiones estimadas para Biomasa"]
[null,8,"2021-05-21","Amaia de Vega - IDOM","Se corrige la fórmula de cálculo de la pestaña \"Result-RVHdC Detalle\" en la sección B) para la electricidad"]
[null,9,"2021-05-03","Amaia de Vega - IDOM","Actualización de los FE de electricidad incluyendo nuevas comercializadoras."]
[null,10,"2021-05-03","Amaia de Vega - IDOM","Se actualizan los FE y los factores de conversión específicos de país según los valores reportados en el Inventario Nacional y en la Herramienta de MITECO"]
[null,11,"2021-05-03","Amaia de Vega - IDOM","Se corrige el valor del FE para CH4 del Queroseno y el carbón mineral"]
[null,12,"2021-05-21","Amaia de Vega - IDOM","Se incluye la pestaña \"Modificaciones\" para recoger la información sobre las modificaciones y actualizaciones realizadas en la Herramienta de HdC de Organizaciones"]
[null,13]
[null,14]
[null,15]
[null,16]
[null,17]
[null,18]
[null,19]
[null,20]
[null,21]
[null,22]
[null,23]
[null,24]
[null,25]
[null,26]
[null,27]
[null,28]
[null,29]
[null,30]
[null,31]
[null,32]
[null,33]
[null,34]

{"sheet":"Acrónimos","index":18,"n_rows":7,"n_cols":3,"rows_kept":7,"cut":false,"hidden":false,"merged":[]}
[null,null,{"$f":"Instrucciones!B1","v":"HERRAMIENTA DE HUELLA DE CARBONO PARA ORGANIZACIONES. Año de cálculo 2020"}]
[null,"ACRÓNIMOS"]
[]
[null,"B100","Biodiésel 30% - Gasóleo A y B 70%"]
[null,"B30","Biodiésel 100%"]
[null,"E10","Etanol 10% - Gasolina 90%"]
[null,"E85","Etanol 85% - Gasolina 15%"]